{"text_format":"1","workbook":"xlsx","n_sheets":2,"sheets":["Verlauf relative Häufigkeit","Urliste"],"not_rendered":{"charts":1,"images":0,"macros":1,"external_links":0,"defined_names":6,"comments":0,"pivot_tables":0},"unopened":[],"bounds":{"document_bytes":16777216,"sheet_cells":100000,"rows_first":2000,"rows_last":500,"rows_between":2000,"halvings":0,"cell_chars":16384,"cell_head_chars":4096},"cells_cut":0,"cells_raw":0,"read":"whole","date_system":"1900"}

{"sheet":"Verlauf relative Häufigkeit","index":0,"n_rows":10126,"n_cols":13,"rows_kept":4500,"cut":true,"hidden":false,"merged":[[2,7,2,11]],"bounds":{"rows_first":2000,"rows_last":500,"rows_between":2000,"halvings":0}}
[null,"Empirisches Gesetz der großen Zahlen"]
[]
[null,"Anzahl der Würfe:",null,null,"n =",10000,null,{"$f":"IF(F3<>\"\",HYPERLINK(\"#B\"&MATCH(F3,B22:B10115,0)+21,\"(Klick hier: Diese Zeile unten anzeigen!)\"),\"\")","v":"(Klick hier: Diese Zeile unten anzeigen!)"}]
[]
[]
[]
[]
[]
[]
[]
[]
[]
[]
[]
[]
[]
[]
[]
[]
[]
[null,"n","Würfel-\nergebnis","Hn(1)","hn(1)","Hn(2)","hn(2)","Hn(3)","hn(3)","Hn(4,5,6)","hn(4,5,6)"]
[null,1,{"$f":"Urliste!C4","v":1},{"$f":"IF(C22=1,1,0)","v":1},{"$f":"D22/B22","v":1},{"$f":"IF(C22=2,1,0)","v":0},{"$f":"F22/B22","v":0},{"$f":"IF(C22=3,1,0)","v":0},{"$f":"H22/B22","v":0},{"$f":"IF(C22>3,1,0)","v":0},{"$f":"J22/B22","v":0},{"$f":"SUM(D22,J22,H22,F22)","v":1},{"$f":"SUM(K22,I22,G22,E22)","v":1}]
[null,2,{"$f":"Urliste!C5","v":1},{"$f":"IF(C23=1,D22+1,D22)","v":2},{"$f":"D23/B23","v":1},{"$f":"IF(C23=2,F22+1,F22)","v":0},{"$f":"F23/B23","v":0},{"$f":"IF(C23=3,H22+1,H22)","v":0},{"$f":"H23/B23","v":0},{"$f":"IF(C23>3,J22+1,J22)","v":0},{"$f":"J23/B23","v":0},{"$f":"SUM(D23,J23,H23,F23)","v":2},{"$f":"SUM(K23,I23,G23,E23)","v":1}]
[null,3,{"$f":"Urliste!C6","v":1},{"$f":"IF(C24=1,D23+1,D23)","v":3},1,{"$f":"IF(C24=2,F23+1,F23)","v":0},{"$f":"F24/B24","v":0},{"$f":"IF(C24=3,H23+1,H23)","v":0},{"$f":"H24/B24","v":0},{"$f":"IF(C24>3,J23+1,J23)","v":0},{"$f":"J24/B24","v":0},3,1]
[null,4,{"$f":"Urliste!C7","v":3},3,0.75,0,0,1,0.25,0,0,4,1]
[null,5,{"$f":"Urliste!C8","v":5},3,0.6,0,0,{"$f":"IF(C26=3,H25+1,H25)","v":1},{"$f":"H26/B26","v":0.2},{"$f":"IF(C26>3,J25+1,J25)","v":1},{"$f":"J26/B26","v":0.2},{"$f":"SUM(D26,J26,H26,F26)","v":5},{"$f":"SUM(K26,I26,G26,E26)","v":1}]
[null,6,{"$f":"Urliste!C9","v":6},3,0.5,0,0,1,0.16666666666666666,2,0.33333333333333331,6,1]
[null,7,{"$f":"Urliste!C10","v":6},3,0.42857142857142855,0,0,1,0.14285714285714285,3,0.42857142857142855,7,1]
[null,8,{"$f":"Urliste!C11","v":6},3,0.375,0,0,1,0.125,4,0.5,8,1]
[null,9,{"$f":"Urliste!C12","v":2},3,0.33333333333333331,1,0.1111111111111111,1,0.1111111111111111,4,0.44444444444444442,9,1]
[null,10,{"$f":"Urliste!C13","v":2},3,0.3,2,0.2,1,0.1,4,0.4,10,1]
[null,11,{"$f":"Urliste!C14","v":6},3,0.27272727272727271,2,0.18181818181818182,1,9.0909090909090912E-2,5,0.45454545454545453,11,1]
[null,12,{"$f":"Urliste!C15","v":1},4,0.33333333333333331,2,0.16666666666666666,1,8.3333333333333329E-2,5,0.41666666666666669,12,1]
[null,13,{"$f":"Urliste!C16","v":1},5,0.38461538461538464,2,0.15384615384615385,1,7.6923076923076927E-2,5,0.38461538461538464,13,1]
[null,14,{"$f":"Urliste!C17","v":3},5,0.35714285714285715,2,0.14285714285714285,2,0.14285714285714285,5,0.35714285714285715,14,1]
[null,15,{"$f":"Urliste!C18","v":5},5,0.33333333333333331,2,0.13333333333333333,2,0.13333333333333333,6,0.4,15,1]
[null,16,{"$f":"Urliste!C19","v":5},5,0.3125,2,0.125,2,0.125,7,0.4375,16,1]
[null,17,{"$f":"Urliste!C20","v":2},{"$f":"IF(C38=1,D37+1,D37)","v":5},0.29411764705882354,3,0.17647058823529413,2,0.11764705882352941,7,0.41176470588235292,17,1]
[null,18,{"$f":"Urliste!C21","v":1},6,0.33333333333333331,3,0.16666666666666666,2,0.1111111111111111,7,0.3888888888888889,18,1]
[null,19,{"$f":"Urliste!C22","v":6},6,0.31578947368421051,3,0.15789473684210525,2,0.10526315789473684,8,0.42105263157894735,19,0.99999999999999989]
[null,20,{"$f":"Urliste!C23","v":1},7,0.35,3,0.15,2,0.1,8,0.4,20,1]
[null,21,{"$f":"Urliste!C24","v":4},7,0.33333333333333331,3,0.14285714285714285,2,9.5238095238095233E-2,9,0.42857142857142855,21,0.99999999999999978]
[null,22,{"$f":"Urliste!C25","v":2},7,0.31818181818181818,4,0.18181818181818182,2,9.0909090909090912E-2,9,0.40909090909090912,22,1]
[null,23,{"$f":"Urliste!C26","v":2},7,0.30434782608695654,5,0.21739130434782608,2,8.6956521739130432E-2,9,0.39130434782608697,23,1]
[null,24,{"$f":"Urliste!C27","v":6},7,0.29166666666666669,5,0.20833333333333334,2,8.3333333333333329E-2,10,0.41666666666666669,24,1]
[null,25,{"$f":"Urliste!C28","v":3},7,0.28000000000000003,5,0.2,3,0.12,10,0.4,25,1]
[null,26,{"$f":"Urliste!C29","v":3},7,0.26923076923076922,5,0.19230769230769232,4,0.15384615384615385,10,0.38461538461538464,26,1]
[null,27,{"$f":"Urliste!C30","v":4},7,0.25925925925925924,5,0.18518518518518517,4,0.14814814814814814,11,0.40740740740740738,27,1]
[null,28,{"$f":"Urliste!C31","v":4},7,0.25,5,0.17857142857142858,4,0.14285714285714285,12,0.42857142857142855,28,1]
[null,29,{"$f":"Urliste!C32","v":4},7,0.2413793103448276,5,0.17241379310344829,4,0.13793103448275862,13,0.44827586206896552,29,1]
[null,30,{"$f":"Urliste!C33","v":5},7,0.23333333333333334,5,0.16666666666666666,4,0.13333333333333333,14,0.46666666666666667,30,1]
[null,31,{"$f":"Urliste!C34","v":3},7,0.22580645161290322,5,0.16129032258064516,5,0.16129032258064516,14,0.45161290322580644,31,1]
[null,32,{"$f":"Urliste!C35","v":3},7,0.21875,5,0.15625,6,0.1875,14,0.4375,32,1]
[null,33,{"$f":"Urliste!C36","v":3},7,0.21212121212121213,5,0.15151515151515152,7,0.21212121212121213,14,0.42424242424242425,33,1]
[null,34,{"$f":"Urliste!C37","v":2},7,0.20588235294117646,6,0.17647058823529413,7,0.20588235294117646,14,0.41176470588235292,34,1]
[null,35,{"$f":"Urliste!C38","v":4},7,0.2,6,0.17142857142857143,7,0.2,15,0.42857142857142855,35,1]
[null,36,{"$f":"Urliste!C39","v":5},7,0.19444444444444445,6,0.16666666666666666,7,0.19444444444444445,16,0.44444444444444442,36,0.99999999999999989]
[null,37,{"$f":"Urliste!C40","v":5},7,0.1891891891891892,6,0.16216216216216217,7,0.1891891891891892,17,0.45945945945945948,37,1]
[null,38,{"$f":"Urliste!C41","v":2},7,0.18421052631578946,7,0.18421052631578946,7,0.18421052631578946,17,0.44736842105263158,38,1]
[null,39,{"$f":"Urliste!C42","v":2},7,0.17948717948717949,8,0.20512820512820512,7,0.17948717948717949,17,0.4358974358974359,39,1]
[null,40,{"$f":"Urliste!C43","v":5},7,0.17499999999999999,8,0.2,7,0.17499999999999999,18,0.45,40,1]
[null,41,{"$f":"Urliste!C44","v":1},8,0.1951219512195122,8,0.1951219512195122,7,0.17073170731707318,18,0.43902439024390244,41,1]
[null,42,{"$f":"Urliste!C45","v":1},9,0.21428571428571427,8,0.19047619047619047,7,0.16666666666666666,18,0.42857142857142855,42,1]
[null,43,{"$f":"Urliste!C46","v":3},9,0.20930232558139536,8,0.18604651162790697,8,0.18604651162790697,18,0.41860465116279072,43,1]
[null,44,{"$f":"Urliste!C47","v":6},9,0.20454545454545456,8,0.18181818181818182,8,0.18181818181818182,19,0.43181818181818182,44,1]
[null,45,{"$f":"Urliste!C48","v":6},9,0.2,8,0.17777777777777778,8,0.17777777777777778,20,0.44444444444444442,45,1]
[null,46,{"$f":"Urliste!C49","v":1},10,0.21739130434782608,8,0.17391304347826086,8,0.17391304347826086,20,0.43478260869565216,46,1]
[null,47,{"$f":"Urliste!C50","v":3},10,0.21276595744680851,8,0.1702127659574468,9,0.19148936170212766,20,0.42553191489361702,47,1]
[null,48,{"$f":"Urliste!C51","v":1},11,0.22916666666666666,8,0.16666666666666666,9,0.1875,20,0.41666666666666669,48,1]
[null,49,{"$f":"Urliste!C52","v":3},11,0.22448979591836735,8,0.16326530612244897,10,0.20408163265306123,20,0.40816326530612246,49,1]
[null,50,{"$f":"Urliste!C53","v":4},11,0.22,8,0.16,10,0.2,21,0.42,50,1]
[null,51,{"$f":"Urliste!C54","v":3},11,0.21568627450980393,8,0.15686274509803921,11,0.21568627450980393,21,0.41176470588235292,51,1]
[null,52,{"$f":"Urliste!C55","v":1},12,0.23076923076923078,8,0.15384615384615385,11,0.21153846153846154,21,0.40384615384615385,52,1]
[null,53,{"$f":"Urliste!C56","v":4},12,0.22641509433962265,8,0.15094339622641509,11,0.20754716981132076,22,0.41509433962264153,53,1]
[null,54,{"$f":"Urliste!C57","v":1},13,0.24074074074074073,8,0.14814814814814814,11,0.20370370370370369,22,0.40740740740740738,54,0.99999999999999989]
[null,55,{"$f":"Urliste!C58","v":1},14,0.25454545454545452,8,0.14545454545454545,11,0.2,22,0.4,55,1]
[null,56,{"$f":"Urliste!C59","v":4},14,0.25,8,0.14285714285714285,11,0.19642857142857142,23,0.4107142857142857,56,1]
[null,57,{"$f":"Urliste!C60","v":2},14,0.24561403508771928,9,0.15789473684210525,11,0.19298245614035087,23,0.40350877192982454,57,0.99999999999999989]
[null,58,{"$f":"Urliste!C61","v":5},14,0.2413793103448276,9,0.15517241379310345,11,0.18965517241379309,24,0.41379310344827586,58,1]
[null,59,{"$f":"Urliste!C62","v":1},15,0.25423728813559321,9,0.15254237288135594,11,0.1864406779661017,24,0.40677966101694918,59,1]
[null,60,{"$f":"Urliste!C63","v":1},16,0.26666666666666666,9,0.15,11,0.18333333333333332,24,0.4,60,1]
[null,61,{"$f":"Urliste!C64","v":1},17,0.27868852459016391,9,0.14754098360655737,11,0.18032786885245902,24,0.39344262295081966,61,0.99999999999999989]
[null,62,{"$f":"Urliste!C65","v":4},17,0.27419354838709675,9,0.14516129032258066,11,0.17741935483870969,25,0.40322580645161288,62,0.99999999999999989]
[null,63,{"$f":"Urliste!C66","v":4},17,0.26984126984126983,9,0.14285714285714285,11,0.17460317460317459,26,0.41269841269841268,63,0.99999999999999978]
[null,64,{"$f":"Urliste!C67","v":1},18,0.28125,9,0.140625,11,0.171875,26,0.40625,64,1]
[null,65,{"$f":"Urliste!C68","v":6},18,0.27692307692307694,9,0.13846153846153847,11,0.16923076923076924,27,0.41538461538461541,65,1]
[null,66,{"$f":"Urliste!C69","v":5},18,{"$f":"D87/B87","v":0.27272727272727271},9,0.13636363636363635,11,0.16666666666666666,28,0.42424242424242425,66,1]
[null,67,{"$f":"Urliste!C70","v":5},18,0.26865671641791045,{"$f":"IF(C88=2,F87+1,F87)","v":9},{"$f":"F88/B88","v":0.13432835820895522},11,0.16417910447761194,29,0.43283582089552236,67,0.99999999999999989]
[null,68,{"$f":"Urliste!C71","v":4},18,0.26470588235294118,9,0.13235294117647059,11,0.16176470588235295,30,0.44117647058823528,68,1]
[null,69,{"$f":"Urliste!C72","v":2},18,0.2608695652173913,10,0.14492753623188406,{"$f":"IF(C90=3,H89+1,H89)","v":11},{"$f":"H90/B90","v":0.15942028985507245},{"$f":"IF(C90>3,J89+1,J89)","v":30},{"$f":"J90/B90","v":0.43478260869565216},{"$f":"SUM(D90,J90,H90,F90)","v":69},{"$f":"SUM(K90,I90,G90,E90)","v":1}]
[null,70,{"$f":"Urliste!C73","v":2},18,0.25714285714285712,11,0.15714285714285714,11,0.15714285714285714,30,0.42857142857142855,70,0.99999999999999989]
[null,71,{"$f":"Urliste!C74","v":3},18,0.25352112676056338,11,0.15492957746478872,12,0.16901408450704225,30,0.42253521126760563,71,1]
[null,72,{"$f":"Urliste!C75","v":5},18,0.25,11,0.15277777777777779,12,0.16666666666666666,31,0.43055555555555558,72,1]
[null,73,{"$f":"Urliste!C76","v":4},18,0.24657534246575341,11,0.15068493150684931,12,0.16438356164383561,32,0.43835616438356162,73,0.99999999999999989]
[null,74,{"$f":"Urliste!C77","v":4},18,0.24324324324324326,11,0.14864864864864866,12,0.16216216216216217,33,0.44594594594594594,74,1]
[null,75,{"$f":"Urliste!C78","v":2},18,0.24,12,0.16,12,0.16,33,0.44,75,1]
[null,76,{"$f":"Urliste!C79","v":6},18,0.23684210526315788,12,0.15789473684210525,12,0.15789473684210525,34,0.44736842105263158,76,0.99999999999999989]
[null,77,{"$f":"Urliste!C80","v":1},19,0.24675324675324675,12,0.15584415584415584,12,0.15584415584415584,34,0.44155844155844154,77,1]
[null,78,{"$f":"Urliste!C81","v":2},19,0.24358974358974358,13,0.16666666666666666,12,0.15384615384615385,34,0.4358974358974359,78,1]
[null,79,{"$f":"Urliste!C82","v":1},20,0.25316455696202533,13,0.16455696202531644,12,0.15189873417721519,34,0.43037974683544306,79,1]
[null,80,{"$f":"Urliste!C83","v":5},20,0.25,13,0.16250000000000001,12,0.15,35,0.4375,80,1]
[null,81,{"$f":"Urliste!C84","v":6},{"$f":"IF(C102=1,D101+1,D101)","v":20},0.24691358024691357,13,0.16049382716049382,12,0.14814814814814814,36,0.44444444444444442,81,1]
[null,82,{"$f":"Urliste!C85","v":4},20,0.24390243902439024,13,0.15853658536585366,12,0.14634146341463414,37,0.45121951219512196,82,1]
[null,83,{"$f":"Urliste!C86","v":2},20,0.24096385542168675,14,0.16867469879518071,12,0.14457831325301204,37,0.44578313253012047,83,1]
[null,84,{"$f":"Urliste!C87","v":2},20,0.23809523809523808,15,0.17857142857142858,12,0.14285714285714285,37,0.44047619047619047,84,1]
[null,85,{"$f":"Urliste!C88","v":1},21,0.24705882352941178,15,0.17647058823529413,12,0.14117647058823529,37,0.43529411764705883,85,1]
[null,86,{"$f":"Urliste!C89","v":2},21,0.2441860465116279,16,0.18604651162790697,12,0.13953488372093023,37,0.43023255813953487,86,1]
[null,87,{"$f":"Urliste!C90","v":5},21,0.2413793103448276,16,0.18390804597701149,12,0.13793103448275862,38,0.43678160919540232,87,1]
[null,88,{"$f":"Urliste!C91","v":3},21,0.23863636363636365,16,0.18181818181818182,13,0.14772727272727273,38,0.43181818181818182,88,1]
[null,89,{"$f":"Urliste!C92","v":5},21,0.23595505617977527,16,0.1797752808988764,13,0.14606741573033707,39,0.43820224719101125,89,1]
[null,90,{"$f":"Urliste!C93","v":6},21,0.23333333333333334,16,0.17777777777777778,13,0.14444444444444443,40,0.44444444444444442,90,1]
[null,91,{"$f":"Urliste!C94","v":6},21,0.23076923076923078,16,0.17582417582417584,13,0.14285714285714285,41,0.45054945054945056,91,1]
[null,92,{"$f":"Urliste!C95","v":3},21,0.22826086956521738,16,0.17391304347826086,14,0.15217391304347827,41,0.44565217391304346,92,1]
[null,93,{"$f":"Urliste!C96","v":6},{"$f":"IF(C114=1,D113+1,D113)","v":21},0.22580645161290322,16,0.17204301075268819,14,0.15053763440860216,42,0.45161290322580644,93,1]
[null,94,{"$f":"Urliste!C97","v":2},{"$f":"IF(C115=1,D114+1,D114)","v":21},0.22340425531914893,17,0.18085106382978725,14,0.14893617021276595,42,0.44680851063829785,94,1]
[null,95,{"$f":"Urliste!C98","v":3},21,0.22105263157894736,17,0.17894736842105263,15,0.15789473684210525,42,0.44210526315789472,95,1]
[null,96,{"$f":"Urliste!C99","v":3},21,0.21875,17,0.17708333333333334,16,0.16666666666666666,42,0.4375,96,1]
[null,97,{"$f":"Urliste!C100","v":1},22,0.22680412371134021,17,0.17525773195876287,16,0.16494845360824742,42,0.4329896907216495,97,0.99999999999999989]
[null,98,{"$f":"Urliste!C101","v":1},23,0.23469387755102042,17,0.17346938775510204,16,0.16326530612244897,42,0.42857142857142855,98,1]
[null,99,{"$f":"Urliste!C102","v":6},{"$f":"IF(C120=1,D119+1,D119)","v":23},0.23232323232323232,17,0.17171717171717171,16,0.16161616161616163,43,0.43434343434343436,99,1]
[null,100,{"$f":"Urliste!C103","v":5},{"$f":"IF(C121=1,D120+1,D120)","v":23},0.23,17,0.17,16,0.16,44,0.44,100,1]
[null,101,{"$f":"Urliste!C104","v":6},{"$f":"IF(C122=1,D121+1,D121)","v":23},{"$f":"D122/B122","v":0.22772277227722773},{"$f":"IF(C122=2,F121+1,F121)","v":17},{"$f":"F122/B122","v":0.16831683168316833},16,0.15841584158415842,45,0.44554455445544555,101,1]
[null,102,{"$f":"Urliste!C105","v":1},24,0.23529411764705882,17,0.16666666666666666,16,0.15686274509803921,45,0.44117647058823528,102,1]
[null,103,{"$f":"Urliste!C106","v":1},25,0.24271844660194175,17,0.1650485436893204,16,0.1553398058252427,45,0.43689320388349512,103,1]
[null,104,{"$f":"Urliste!C107","v":1},26,0.25,17,0.16346153846153846,16,0.15384615384615385,45,0.43269230769230771,104,1]
[null,105,{"$f":"Urliste!C108","v":3},26,0.24761904761904763,17,0.16190476190476191,17,0.16190476190476191,45,0.42857142857142855,105,1]
[null,106,{"$f":"Urliste!C109","v":1},27,0.25471698113207547,17,0.16037735849056603,17,0.16037735849056603,45,0.42452830188679247,106,1]
[null,107,{"$f":"Urliste!C110","v":4},27,0.25233644859813081,17,0.15887850467289719,17,0.15887850467289719,46,0.42990654205607476,107,1]
[null,108,{"$f":"Urliste!C111","v":5},27,0.25,17,0.15740740740740741,17,0.15740740740740741,47,0.43518518518518517,108,1]
[null,109,{"$f":"Urliste!C112","v":4},27,0.24770642201834864,17,0.15596330275229359,17,0.15596330275229359,48,0.44036697247706424,109,1]
[null,110,{"$f":"Urliste!C113","v":3},27,0.24545454545454545,17,0.15454545454545454,18,0.16363636363636364,48,0.43636363636363634,110,1]
[null,111,{"$f":"Urliste!C114","v":4},27,0.24324324324324326,17,0.15315315315315314,18,0.16216216216216217,49,0.44144144144144143,111,1]
[null,112,{"$f":"Urliste!C115","v":2},27,0.24107142857142858,18,0.16071428571428573,18,0.16071428571428573,49,0.4375,112,1]
[null,113,{"$f":"Urliste!C116","v":1},28,0.24778761061946902,18,0.15929203539823009,18,0.15929203539823009,49,0.4336283185840708,113,1]
[null,114,{"$f":"Urliste!C117","v":3},28,0.24561403508771928,18,0.15789473684210525,19,0.16666666666666666,49,0.42982456140350878,114,0.99999999999999989]
[null,115,{"$f":"Urliste!C118","v":6},28,0.24347826086956523,18,0.15652173913043479,19,0.16521739130434782,50,0.43478260869565216,115,1]
[null,116,{"$f":"Urliste!C119","v":6},28,0.2413793103448276,18,0.15517241379310345,19,0.16379310344827586,51,0.43965517241379309,116,1]
[null,117,{"$f":"Urliste!C120","v":2},28,0.23931623931623933,19,0.1623931623931624,19,0.1623931623931624,51,0.4358974358974359,117,1]
[null,118,{"$f":"Urliste!C121","v":2},28,0.23728813559322035,20,0.16949152542372881,19,0.16101694915254236,51,0.43220338983050849,118,1]
[null,119,{"$f":"Urliste!C122","v":2},28,0.23529411764705882,21,0.17647058823529413,19,0.15966386554621848,51,0.42857142857142855,119,1]
[null,120,{"$f":"Urliste!C123","v":4},28,0.23333333333333334,21,0.17499999999999999,19,0.15833333333333333,52,0.43333333333333335,120,1]
[null,121,{"$f":"Urliste!C124","v":3},28,0.23140495867768596,21,0.17355371900826447,20,0.16528925619834711,52,0.42975206611570249,121,1]
[null,122,{"$f":"Urliste!C125","v":2},28,0.22950819672131148,22,0.18032786885245902,20,0.16393442622950818,52,0.42622950819672129,122,1]
[null,123,{"$f":"Urliste!C126","v":2},28,0.22764227642276422,23,0.18699186991869918,20,0.16260162601626016,52,0.42276422764227645,123,1]
[null,124,{"$f":"Urliste!C127","v":5},28,0.22580645161290322,23,0.18548387096774194,20,0.16129032258064516,53,0.42741935483870969,124,1]
[null,125,{"$f":"Urliste!C128","v":4},28,0.224,23,0.184,20,0.16,54,0.432,125,1]
[null,126,{"$f":"Urliste!C129","v":4},28,0.22222222222222221,23,0.18253968253968253,20,0.15873015873015872,55,0.43650793650793651,126,1]
[null,127,{"$f":"Urliste!C130","v":2},28,0.22047244094488189,24,0.1889763779527559,20,0.15748031496062992,55,0.43307086614173229,127,1]
[null,128,{"$f":"Urliste!C131","v":6},28,0.21875,24,0.1875,20,0.15625,56,0.4375,128,1]
[null,129,{"$f":"Urliste!C132","v":2},28,0.21705426356589147,25,0.19379844961240311,20,0.15503875968992248,56,0.43410852713178294,129,1]
[null,130,{"$f":"Urliste!C133","v":6},28,0.2153846153846154,25,0.19230769230769232,20,0.15384615384615385,57,0.43846153846153846,130,1]
[null,131,{"$f":"Urliste!C134","v":1},29,0.22137404580152673,25,0.19083969465648856,20,0.15267175572519084,57,0.4351145038167939,131,1]
[null,132,{"$f":"Urliste!C135","v":3},29,0.2196969696969697,25,0.18939393939393939,21,0.15909090909090909,57,0.43181818181818182,132,1]
[null,133,{"$f":"Urliste!C136","v":3},29,0.21804511278195488,25,0.18796992481203006,{"$f":"IF(C154=3,H153+1,H153)","v":22},{"$f":"H154/B154","v":0.16541353383458646},{"$f":"IF(C154>3,J153+1,J153)","v":57},{"$f":"J154/B154","v":0.42857142857142855},{"$f":"SUM(D154,J154,H154,F154)","v":133},{"$f":"SUM(K154,I154,G154,E154)","v":1}]
[null,134,{"$f":"Urliste!C137","v":4},29,0.21641791044776118,25,0.18656716417910449,22,0.16417910447761194,58,0.43283582089552236,134,0.99999999999999989]
[null,135,{"$f":"Urliste!C138","v":3},29,0.21481481481481482,25,0.18518518518518517,23,0.17037037037037037,58,0.42962962962962964,135,1]
[null,136,{"$f":"Urliste!C139","v":2},29,0.21323529411764705,26,0.19117647058823528,23,0.16911764705882354,58,0.4264705882352941,136,1]
[null,137,{"$f":"Urliste!C140","v":1},30,0.21897810218978103,26,0.18978102189781021,23,0.16788321167883211,58,0.42335766423357662,137,1]
[null,138,{"$f":"Urliste!C141","v":5},30,0.21739130434782608,26,0.18840579710144928,23,0.16666666666666666,59,0.42753623188405798,138,0.99999999999999989]
[null,139,{"$f":"Urliste!C142","v":2},30,0.21582733812949639,27,0.19424460431654678,23,0.16546762589928057,59,0.42446043165467628,139,1]
[null,140,{"$f":"Urliste!C143","v":4},30,0.21428571428571427,27,0.19285714285714287,23,0.16428571428571428,60,0.42857142857142855,140,1]
[null,141,{"$f":"Urliste!C144","v":5},30,0.21276595744680851,27,0.19148936170212766,23,0.16312056737588654,61,0.43262411347517732,141,0.99999999999999989]
[null,142,{"$f":"Urliste!C145","v":3},30,0.21126760563380281,27,0.19014084507042253,24,0.16901408450704225,61,0.42957746478873238,142,1]
[null,143,{"$f":"Urliste!C146","v":5},30,0.20979020979020979,27,0.1888111888111888,24,0.16783216783216784,62,0.43356643356643354,143,1]
[null,144,{"$f":"Urliste!C147","v":3},30,0.20833333333333334,27,0.1875,25,0.1736111111111111,62,0.43055555555555558,144,1]
[null,145,{"$f":"Urliste!C148","v":6},30,0.20689655172413793,27,0.18620689655172415,25,0.17241379310344829,63,0.43448275862068964,145,1]
[null,146,{"$f":"Urliste!C149","v":2},30,0.20547945205479451,28,0.19178082191780821,25,0.17123287671232876,63,0.4315068493150685,146,1]
[null,147,{"$f":"Urliste!C150","v":1},31,0.21088435374149661,28,0.19047619047619047,25,0.17006802721088435,63,0.42857142857142855,147,1]
[null,148,{"$f":"Urliste!C151","v":5},31,0.20945945945945946,28,0.1891891891891892,25,0.16891891891891891,64,0.43243243243243246,148,1]
[null,149,{"$f":"Urliste!C152","v":5},31,0.20805369127516779,28,0.18791946308724833,25,0.16778523489932887,65,0.43624161073825501,149,1]
[null,150,{"$f":"Urliste!C153","v":4},31,0.20666666666666667,28,0.18666666666666668,25,0.16666666666666666,66,0.44,150,1]
[null,151,{"$f":"Urliste!C154","v":5},31,0.20529801324503311,28,0.18543046357615894,25,0.16556291390728478,67,0.44370860927152317,151,1]
[null,152,{"$f":"Urliste!C155","v":4},31,0.20394736842105263,28,0.18421052631578946,25,0.16447368421052633,68,0.44736842105263158,152,1]
[null,153,{"$f":"Urliste!C156","v":3},31,0.20261437908496732,28,0.18300653594771241,26,0.16993464052287582,68,0.44444444444444442,153,1]
[null,154,{"$f":"Urliste!C157","v":4},31,0.20129870129870131,28,0.18181818181818182,26,0.16883116883116883,69,0.44805194805194803,154,1]
[null,155,{"$f":"Urliste!C158","v":4},31,0.2,28,0.18064516129032257,26,0.16774193548387098,70,0.45161290322580644,155,1]
[null,156,{"$f":"Urliste!C159","v":1},32,0.20512820512820512,28,0.17948717948717949,26,0.16666666666666666,70,0.44871794871794873,156,1]
[null,157,{"$f":"Urliste!C160","v":4},32,0.20382165605095542,28,0.17834394904458598,26,0.16560509554140126,71,0.45222929936305734,157,1]
[null,158,{"$f":"Urliste!C161","v":2},32,0.20253164556962025,29,0.18354430379746836,26,0.16455696202531644,71,0.44936708860759494,158,0.99999999999999989]
[null,159,{"$f":"Urliste!C162","v":2},32,0.20125786163522014,30,0.18867924528301888,26,0.16352201257861634,71,0.44654088050314467,159,1]
[null,160,{"$f":"Urliste!C163","v":6},32,0.2,30,0.1875,26,0.16250000000000001,72,0.45,160,1]
[null,161,{"$f":"Urliste!C164","v":4},32,0.19875776397515527,30,0.18633540372670807,26,0.16149068322981366,73,0.453416149068323,161,1]
[null,162,{"$f":"Urliste!C165","v":5},32,0.19753086419753085,30,0.18518518518518517,26,0.16049382716049382,74,0.4567901234567901,162,1]
[null,163,{"$f":"Urliste!C166","v":5},32,0.19631901840490798,30,0.18404907975460122,26,0.15950920245398773,75,0.46012269938650308,163,1]
[null,164,{"$f":"Urliste!C167","v":6},32,0.1951219512195122,30,0.18292682926829268,26,0.15853658536585366,76,0.46341463414634149,164,1]
[null,165,{"$f":"Urliste!C168","v":1},{"$f":"IF(C186=1,D185+1,D185)","v":33},{"$f":"D186/B186","v":0.2},{"$f":"IF(C186=2,F185+1,F185)","v":30},{"$f":"F186/B186","v":0.18181818181818182},26,0.15757575757575756,76,0.46060606060606063,165,1]
[null,166,{"$f":"Urliste!C169","v":2},33,0.19879518072289157,31,0.18674698795180722,26,0.15662650602409639,76,0.45783132530120479,166,1]
[null,167,{"$f":"Urliste!C170","v":3},33,0.19760479041916168,31,0.18562874251497005,27,0.16167664670658682,76,0.45508982035928142,167,1]
[null,168,{"$f":"Urliste!C171","v":3},33,0.19642857142857142,31,0.18452380952380953,28,0.16666666666666666,76,0.45238095238095238,168,1]
[null,169,{"$f":"Urliste!C172","v":5},33,0.19526627218934911,31,0.18343195266272189,28,0.16568047337278108,77,0.45562130177514792,169,1]
[null,170,{"$f":"Urliste!C173","v":5},33,0.19411764705882353,31,0.18235294117647058,28,0.16470588235294117,78,0.45882352941176469,170,1]
[null,171,{"$f":"Urliste!C174","v":5},33,0.19298245614035087,31,0.18128654970760233,28,0.16374269005847952,79,0.46198830409356723,171,1]
[null,172,{"$f":"Urliste!C175","v":1},34,0.19767441860465115,31,0.18023255813953487,28,0.16279069767441862,79,0.45930232558139533,172,1]
[null,173,{"$f":"Urliste!C176","v":6},34,0.19653179190751446,31,0.1791907514450867,28,0.16184971098265896,80,0.46242774566473988,173,1]
[null,174,{"$f":"Urliste!C177","v":4},34,0.19540229885057472,31,0.17816091954022989,28,0.16091954022988506,81,0.46551724137931033,174,0.99999999999999989]
[null,175,{"$f":"Urliste!C178","v":1},35,0.2,31,0.17714285714285713,28,0.16,81,0.46285714285714286,175,1]
[null,176,{"$f":"Urliste!C179","v":5},35,0.19886363636363635,31,0.17613636363636365,28,0.15909090909090909,82,0.46590909090909088,176,1]
[null,177,{"$f":"Urliste!C180","v":4},35,0.19774011299435029,31,0.1751412429378531,28,0.15819209039548024,83,0.46892655367231639,177,1]
[null,178,{"$f":"Urliste!C181","v":1},36,0.20224719101123595,31,0.17415730337078653,28,0.15730337078651685,83,0.46629213483146065,178,1]
[null,179,{"$f":"Urliste!C182","v":1},37,0.20670391061452514,31,0.17318435754189945,28,0.15642458100558659,83,0.46368715083798884,179,1]
[null,180,{"$f":"Urliste!C183","v":5},37,0.20555555555555555,31,0.17222222222222222,28,0.15555555555555556,84,0.46666666666666667,180,1]
[null,181,{"$f":"Urliste!C184","v":2},37,0.20441988950276244,32,0.17679558011049723,28,0.15469613259668508,84,0.46408839779005523,181,1]
[null,182,{"$f":"Urliste!C185","v":5},37,0.2032967032967033,32,0.17582417582417584,28,0.15384615384615385,85,0.46703296703296704,182,1]
[null,183,{"$f":"Urliste!C186","v":2},37,0.20218579234972678,33,0.18032786885245902,28,0.15300546448087432,85,0.46448087431693991,183,1]
[null,184,{"$f":"Urliste!C187","v":1},38,0.20652173913043478,33,0.17934782608695651,28,0.15217391304347827,85,0.46195652173913043,184,1]
[null,185,{"$f":"Urliste!C188","v":4},38,0.20540540540540542,33,0.17837837837837839,28,0.15135135135135136,86,0.46486486486486489,185,1]
[null,186,{"$f":"Urliste!C189","v":1},39,0.20967741935483872,33,0.17741935483870969,28,0.15053763440860216,86,0.46236559139784944,186,1]
[null,187,{"$f":"Urliste!C190","v":2},39,0.20855614973262032,34,0.18181818181818182,28,0.1497326203208556,86,0.45989304812834225,187,1]
[null,188,{"$f":"Urliste!C191","v":3},39,0.20744680851063829,34,0.18085106382978725,29,0.15425531914893617,86,0.45744680851063829,188,1]
[null,189,{"$f":"Urliste!C192","v":4},39,0.20634920634920634,34,0.17989417989417988,29,0.15343915343915343,87,0.46031746031746029,189,1]
[null,190,{"$f":"Urliste!C193","v":1},40,0.21052631578947367,34,0.17894736842105263,29,0.15263157894736842,87,0.45789473684210524,190,1]
[null,191,{"$f":"Urliste!C194","v":5},40,0.20942408376963351,34,0.17801047120418848,29,0.15183246073298429,88,0.4607329842931937,191,0.99999999999999989]
[null,192,{"$f":"Urliste!C195","v":4},40,0.20833333333333334,34,0.17708333333333334,29,0.15104166666666666,89,0.46354166666666669,192,1]
[null,193,{"$f":"Urliste!C196","v":5},40,0.20725388601036268,34,0.17616580310880828,29,0.15025906735751296,90,0.46632124352331605,193,0.99999999999999989]
[null,194,{"$f":"Urliste!C197","v":6},40,0.20618556701030927,34,0.17525773195876287,29,0.14948453608247422,91,0.46907216494845361,194,1]
[null,195,{"$f":"Urliste!C198","v":1},41,0.21025641025641026,34,0.17435897435897435,29,0.14871794871794872,91,0.46666666666666667,195,1]
[null,196,{"$f":"Urliste!C199","v":3},41,0.20918367346938777,34,0.17346938775510204,30,0.15306122448979592,91,0.4642857142857143,196,1]
[null,197,{"$f":"Urliste!C200","v":4},41,0.20812182741116753,34,0.17258883248730963,{"$f":"IF(C218=3,H217+1,H217)","v":30},{"$f":"H218/B218","v":0.15228426395939088},{"$f":"IF(C218>3,J217+1,J217)","v":92},{"$f":"J218/B218","v":0.46700507614213199},{"$f":"SUM(D218,J218,H218,F218)","v":197},{"$f":"SUM(K218,I218,G218,E218)","v":1}]
[null,198,{"$f":"Urliste!C201","v":1},42,0.21212121212121213,34,0.17171717171717171,30,0.15151515151515152,92,0.46464646464646464,198,1]
[null,199,{"$f":"Urliste!C202","v":5},42,0.21105527638190955,34,0.17085427135678391,30,0.15075376884422109,93,0.46733668341708545,199,1]
[null,200,{"$f":"Urliste!C203","v":5},42,0.21,34,0.17,30,0.15,94,0.47,200,1]
[null,201,{"$f":"Urliste!C204","v":6},42,0.20895522388059701,34,0.1691542288557214,30,0.14925373134328357,95,0.47263681592039802,201,1]
[null,202,{"$f":"Urliste!C205","v":6},42,0.20792079207920791,34,0.16831683168316833,30,0.14851485148514851,96,0.47524752475247523,202,1]
[null,203,{"$f":"Urliste!C206","v":5},42,0.20689655172413793,34,0.16748768472906403,30,0.14778325123152711,97,0.47783251231527096,203,1]
[null,204,{"$f":"Urliste!C207","v":5},42,0.20588235294117646,34,0.16666666666666666,30,0.14705882352941177,98,0.48039215686274511,204,1]
[null,205,{"$f":"Urliste!C208","v":5},42,0.20487804878048779,34,0.16585365853658537,30,0.14634146341463414,99,0.48292682926829267,205,1]
[null,206,{"$f":"Urliste!C209","v":2},42,0.20388349514563106,35,0.16990291262135923,30,0.14563106796116504,99,0.48058252427184467,206,1]
[null,207,{"$f":"Urliste!C210","v":3},42,0.20289855072463769,35,0.16908212560386474,31,0.14975845410628019,99,0.47826086956521741,207,1]
[null,208,{"$f":"Urliste!C211","v":5},42,0.20192307692307693,35,0.16826923076923078,31,0.14903846153846154,100,0.48076923076923078,208,1]
[null,209,{"$f":"Urliste!C212","v":3},42,0.20095693779904306,35,0.1674641148325359,32,0.15311004784688995,100,0.4784688995215311,209,1]
[null,210,{"$f":"Urliste!C213","v":6},42,0.2,35,0.16666666666666666,32,0.15238095238095239,101,0.48095238095238096,210,1]
[null,211,{"$f":"Urliste!C214","v":1},43,0.20379146919431279,35,0.16587677725118483,32,0.15165876777251186,101,0.47867298578199052,211,1]
[null,212,{"$f":"Urliste!C215","v":6},43,0.20283018867924529,35,0.1650943396226415,32,0.15094339622641509,102,0.48113207547169812,212,1]
[null,213,{"$f":"Urliste!C216","v":4},43,0.20187793427230047,35,0.16431924882629109,32,0.15023474178403756,103,0.48356807511737088,213,1]
[null,214,{"$f":"Urliste!C217","v":4},43,0.20093457943925233,35,0.16355140186915887,32,0.14953271028037382,104,0.48598130841121495,214,0.99999999999999989]
[null,215,{"$f":"Urliste!C218","v":2},43,0.2,36,0.16744186046511628,32,0.14883720930232558,104,0.48372093023255813,215,1]
[null,216,{"$f":"Urliste!C219","v":4},43,0.19907407407407407,36,0.16666666666666666,32,0.14814814814814814,105,0.4861111111111111,216,1]
[null,217,{"$f":"Urliste!C220","v":5},43,0.19815668202764977,36,0.16589861751152074,32,0.14746543778801843,106,0.48847926267281105,217,1]
[null,218,{"$f":"Urliste!C221","v":1},44,0.20183486238532111,36,0.16513761467889909,32,0.14678899082568808,106,0.48623853211009177,218,1]
[null,219,{"$f":"Urliste!C222","v":6},44,0.20091324200913241,36,0.16438356164383561,32,0.14611872146118721,107,0.48858447488584472,219,1]
[null,220,{"$f":"Urliste!C223","v":5},44,0.2,36,0.16363636363636364,32,0.14545454545454545,108,0.49090909090909091,220,1]
[null,221,{"$f":"Urliste!C224","v":2},44,0.19909502262443438,37,0.167420814479638,32,0.14479638009049775,108,0.48868778280542985,221,0.99999999999999989]
[null,222,{"$f":"Urliste!C225","v":2},44,0.1981981981981982,38,0.17117117117117117,32,0.14414414414414414,108,0.48648648648648651,222,1]
[null,223,{"$f":"Urliste!C226","v":2},44,0.19730941704035873,39,0.17488789237668162,32,0.14349775784753363,108,0.48430493273542602,223,1]
[null,224,{"$f":"Urliste!C227","v":1},45,0.20089285714285715,39,0.17410714285714285,32,0.14285714285714285,108,0.48214285714285715,224,1]
[null,225,{"$f":"Urliste!C228","v":6},45,0.2,39,0.17333333333333334,32,0.14222222222222222,109,0.48444444444444446,225,1]
[null,226,{"$f":"Urliste!C229","v":6},45,0.19911504424778761,39,0.17256637168141592,32,0.1415929203539823,110,0.48672566371681414,226,1]
[null,227,{"$f":"Urliste!C230","v":4},45,0.19823788546255505,39,0.17180616740088106,32,0.14096916299559473,111,0.48898678414096919,227,1]
[null,228,{"$f":"Urliste!C231","v":1},46,0.20175438596491227,39,0.17105263157894737,32,0.14035087719298245,111,0.48684210526315791,228,1]
[null,229,{"$f":"Urliste!C232","v":3},{"$f":"IF(C250=1,D249+1,D249)","v":46},{"$f":"D250/B250","v":0.20087336244541484},{"$f":"IF(C250=2,F249+1,F249)","v":39},{"$f":"F250/B250","v":0.1703056768558952},33,0.14410480349344978,111,0.48471615720524019,229,1]
[null,230,{"$f":"Urliste!C233","v":3},46,0.2,39,0.16956521739130434,34,0.14782608695652175,111,0.4826086956521739,230,1]
[null,231,{"$f":"Urliste!C234","v":2},46,0.19913419913419914,40,0.17316017316017315,34,0.1471861471861472,111,0.48051948051948051,231,1]
[null,232,{"$f":"Urliste!C235","v":6},46,0.19827586206896552,40,0.17241379310344829,34,0.14655172413793102,112,0.48275862068965519,232,1]
[null,233,{"$f":"Urliste!C236","v":4},46,0.19742489270386265,40,0.17167381974248927,34,0.14592274678111589,113,0.48497854077253216,233,1]
[null,234,{"$f":"Urliste!C237","v":3},46,0.19658119658119658,40,0.17094017094017094,35,0.14957264957264957,113,0.48290598290598291,234,1]
[null,235,{"$f":"Urliste!C238","v":2},46,0.19574468085106383,41,0.17446808510638298,35,0.14893617021276595,113,0.48085106382978721,235,1]
[null,236,{"$f":"Urliste!C239","v":2},46,0.19491525423728814,42,0.17796610169491525,35,0.14830508474576271,113,0.4788135593220339,236,1]
[null,237,{"$f":"Urliste!C240","v":3},46,0.1940928270042194,42,0.17721518987341772,36,0.15189873417721519,113,0.47679324894514769,237,0.99999999999999989]
[null,238,{"$f":"Urliste!C241","v":1},47,0.19747899159663865,42,0.17647058823529413,36,0.15126050420168066,113,0.47478991596638653,238,1]
[null,239,{"$f":"Urliste!C242","v":5},47,0.19665271966527198,42,0.17573221757322174,36,0.15062761506276151,114,0.47698744769874479,239,1]
[null,240,{"$f":"Urliste!C243","v":6},47,0.19583333333333333,42,0.17499999999999999,36,0.15,115,0.47916666666666669,240,1]
[null,241,{"$f":"Urliste!C244","v":3},47,0.19502074688796681,42,0.17427385892116182,37,0.15352697095435686,115,0.47717842323651455,241,1]
[null,242,{"$f":"Urliste!C245","v":6},47,0.19421487603305784,42,0.17355371900826447,37,0.15289256198347106,116,0.47933884297520662,242,1]
[null,243,{"$f":"Urliste!C246","v":3},47,0.19341563786008231,42,0.1728395061728395,38,0.15637860082304528,116,0.47736625514403291,243,1]
[null,244,{"$f":"Urliste!C247","v":3},47,0.19262295081967212,42,0.1721311475409836,39,0.1598360655737705,116,0.47540983606557374,244,1]
[null,245,{"$f":"Urliste!C248","v":2},47,0.19183673469387755,43,0.17551020408163265,39,0.15918367346938775,116,0.47346938775510206,245,1]
[null,246,{"$f":"Urliste!C249","v":6},47,0.1910569105691057,43,0.17479674796747968,39,0.15853658536585366,117,0.47560975609756095,246,1]
[null,247,{"$f":"Urliste!C250","v":5},47,0.19028340080971659,43,0.17408906882591094,39,0.15789473684210525,118,0.47773279352226722,247,1]
[null,248,{"$f":"Urliste!C251","v":5},47,0.18951612903225806,43,0.17338709677419356,39,0.15725806451612903,119,0.47983870967741937,248,1]
[null,249,{"$f":"Urliste!C252","v":6},47,0.18875502008032127,43,0.17269076305220885,39,0.15662650602409639,120,0.48192771084337349,249,1]
[null,250,{"$f":"Urliste!C253","v":2},47,0.188,44,0.17599999999999999,39,0.156,120,0.48,250,1]
[null,251,{"$f":"Urliste!C254","v":5},47,0.18725099601593626,44,0.1752988047808765,39,0.15537848605577689,121,0.48207171314741037,251,1]
[null,252,{"$f":"Urliste!C255","v":6},47,0.18650793650793651,44,0.17460317460317459,39,0.15476190476190477,122,0.48412698412698413,252,1]
[null,253,{"$f":"Urliste!C256","v":4},47,0.1857707509881423,44,0.17391304347826086,39,0.1541501976284585,123,0.48616600790513836,253,1]
[null,254,{"$f":"Urliste!C257","v":3},47,0.18503937007874016,44,0.17322834645669291,40,0.15748031496062992,123,0.48425196850393698,254,1]
[null,255,{"$f":"Urliste!C258","v":2},47,0.18431372549019609,45,0.17647058823529413,40,0.15686274509803921,123,0.4823529411764706,255,1]
[null,256,{"$f":"Urliste!C259","v":1},48,0.1875,45,0.17578125,40,0.15625,123,0.48046875,256,1]
[null,257,{"$f":"Urliste!C260","v":1},49,0.19066147859922178,45,0.17509727626459143,40,0.1556420233463035,123,0.47859922178988329,257,1]
[null,258,{"$f":"Urliste!C261","v":4},49,0.18992248062015504,45,0.1744186046511628,40,0.15503875968992248,124,0.48062015503875971,258,1]
[null,259,{"$f":"Urliste!C262","v":4},49,0.1891891891891892,45,0.17374517374517376,40,0.15444015444015444,125,0.4826254826254826,259,1]
[null,260,{"$f":"Urliste!C263","v":4},49,0.18846153846153846,45,0.17307692307692307,40,0.15384615384615385,126,0.48461538461538461,260,1]
[null,261,{"$f":"Urliste!C264","v":6},49,0.18773946360153257,45,0.17241379310344829,{"$f":"IF(C282=3,H281+1,H281)","v":40},{"$f":"H282/B282","v":0.1532567049808429},{"$f":"IF(C282>3,J281+1,J281)","v":127},{"$f":"J282/B282","v":0.48659003831417624},{"$f":"SUM(D282,J282,H282,F282)","v":261},{"$f":"SUM(K282,I282,G282,E282)","v":1}]
[null,262,{"$f":"Urliste!C265","v":5},49,0.18702290076335878,45,0.1717557251908397,40,0.15267175572519084,128,0.48854961832061067,262,1]
[null,263,{"$f":"Urliste!C266","v":1},50,0.19011406844106463,45,0.17110266159695817,40,0.15209125475285171,128,0.48669201520912547,263,1]
[null,264,{"$f":"Urliste!C267","v":6},50,0.18939393939393939,45,0.17045454545454544,40,0.15151515151515152,129,0.48863636363636365,264,1]
[null,265,{"$f":"Urliste!C268","v":5},50,0.18867924528301888,45,0.16981132075471697,40,0.15094339622641509,130,0.49056603773584906,265,1]
[null,266,{"$f":"Urliste!C269","v":4},50,0.18796992481203006,45,0.16917293233082706,40,0.15037593984962405,131,0.4924812030075188,266,1]
[null,267,{"$f":"Urliste!C270","v":1},51,0.19101123595505617,45,0.16853932584269662,40,0.14981273408239701,131,0.49063670411985016,267,1]
[null,268,{"$f":"Urliste!C271","v":1},52,0.19402985074626866,45,0.16791044776119404,40,0.14925373134328357,131,0.48880597014925375,268,1]
[null,269,{"$f":"Urliste!C272","v":6},52,0.19330855018587362,45,0.16728624535315986,40,0.14869888475836432,132,0.49070631970260226,269,1]
[null,270,{"$f":"Urliste!C273","v":2},52,0.19259259259259259,46,0.17037037037037037,40,0.14814814814814814,132,0.48888888888888887,270,1]
[null,271,{"$f":"Urliste!C274","v":2},52,0.1918819188191882,47,0.17343173431734318,40,0.14760147601476015,132,0.4870848708487085,271,1]
[null,272,{"$f":"Urliste!C275","v":4},52,0.19117647058823528,47,0.17279411764705882,40,0.14705882352941177,133,0.4889705882352941,272,1]
[null,273,{"$f":"Urliste!C276","v":2},52,0.19047619047619047,48,0.17582417582417584,40,0.14652014652014653,133,0.48717948717948717,273,1]
[null,274,{"$f":"Urliste!C277","v":6},52,0.18978102189781021,48,0.17518248175182483,40,0.145985401459854,134,0.48905109489051096,274,1]
[null,275,{"$f":"Urliste!C278","v":5},52,0.18909090909090909,48,0.17454545454545456,40,0.14545454545454545,135,0.49090909090909091,275,1]
[null,276,{"$f":"Urliste!C279","v":4},52,0.18840579710144928,48,0.17391304347826086,40,0.14492753623188406,136,0.49275362318840582,276,1]
[null,277,{"$f":"Urliste!C280","v":1},53,0.19133574007220217,48,0.17328519855595667,40,0.1444043321299639,136,0.49097472924187724,277,1]
[null,278,{"$f":"Urliste!C281","v":5},53,0.1906474820143885,48,0.17266187050359713,40,0.14388489208633093,137,0.49280575539568344,278,1]
[null,279,{"$f":"Urliste!C282","v":6},53,0.18996415770609318,48,0.17204301075268819,40,0.14336917562724014,138,0.4946236559139785,279,1]
[null,280,{"$f":"Urliste!C283","v":2},53,0.18928571428571428,49,0.17499999999999999,40,0.14285714285714285,138,0.49285714285714288,280,1]
[null,281,{"$f":"Urliste!C284","v":6},53,0.18861209964412812,49,0.17437722419928825,40,0.14234875444839859,139,0.49466192170818507,281,1]
[null,282,{"$f":"Urliste!C285","v":3},53,0.18794326241134751,49,0.17375886524822695,41,0.1453900709219858,139,0.49290780141843971,282,1]
[null,283,{"$f":"Urliste!C286","v":2},53,0.1872791519434629,50,0.17667844522968199,41,0.14487632508833923,139,0.49116607773851589,283,1]
[null,284,{"$f":"Urliste!C287","v":4},53,0.18661971830985916,50,0.176056338028169,41,0.14436619718309859,140,0.49295774647887325,284,1]
[null,285,{"$f":"Urliste!C288","v":3},53,0.18596491228070175,50,0.17543859649122806,42,0.14736842105263157,140,0.49122807017543857,285,1]
[null,286,{"$f":"Urliste!C289","v":5},53,0.18531468531468531,50,0.17482517482517482,42,0.14685314685314685,141,0.49300699300699302,286,1]
[null,287,{"$f":"Urliste!C290","v":4},53,0.18466898954703834,50,0.17421602787456447,42,0.14634146341463414,142,0.49477351916376305,287,1]
[null,288,{"$f":"Urliste!C291","v":2},53,0.18402777777777779,51,0.17708333333333334,42,0.14583333333333334,142,0.49305555555555558,288,1]
[null,289,{"$f":"Urliste!C292","v":2},53,0.18339100346020762,52,0.17993079584775087,42,0.1453287197231834,142,0.49134948096885811,289,1]
[null,290,{"$f":"Urliste!C293","v":6},53,0.18275862068965518,52,0.1793103448275862,42,0.14482758620689656,143,0.49310344827586206,290,1]
[null,291,{"$f":"Urliste!C294","v":2},53,0.18213058419243985,53,0.18213058419243985,42,0.14432989690721648,143,0.49140893470790376,291,1]
[null,292,{"$f":"Urliste!C295","v":4},53,0.1815068493150685,53,0.1815068493150685,42,0.14383561643835616,144,0.49315068493150682,292,1]
[null,293,{"$f":"Urliste!C296","v":2},{"$f":"IF(C314=1,D313+1,D313)","v":53},{"$f":"D314/B314","v":0.18088737201365188},{"$f":"IF(C314=2,F313+1,F313)","v":54},{"$f":"F314/B314","v":0.18430034129692832},42,0.14334470989761092,144,0.49146757679180886,293,1]
[null,294,{"$f":"Urliste!C297","v":2},53,0.18027210884353742,55,0.1870748299319728,42,0.14285714285714285,144,0.48979591836734693,294,1]
[null,295,{"$f":"Urliste!C298","v":4},53,0.17966101694915254,55,0.1864406779661017,42,0.14237288135593221,145,0.49152542372881358,295,1]
[null,296,{"$f":"Urliste!C299","v":1},54,0.18243243243243243,55,0.1858108108108108,42,0.14189189189189189,145,0.48986486486486486,296,1]
[null,297,{"$f":"Urliste!C300","v":5},54,0.18181818181818182,55,0.18518518518518517,42,0.14141414141414141,146,0.49158249158249157,297,1]
[null,298,{"$f":"Urliste!C301","v":3},54,0.18120805369127516,55,0.18456375838926176,43,0.14429530201342283,146,0.48993288590604028,298,1]
[null,299,{"$f":"Urliste!C302","v":2},54,0.1806020066889632,56,0.18729096989966554,43,0.14381270903010032,146,0.48829431438127091,299,1]
[null,300,{"$f":"Urliste!C303","v":5},54,0.18,56,0.18666666666666668,43,0.14333333333333334,147,0.49,300,1]
[null,301,{"$f":"Urliste!C304","v":6},54,0.17940199335548174,56,0.18604651162790697,43,0.14285714285714285,148,0.49169435215946844,301,1]
[null,302,{"$f":"Urliste!C305","v":4},54,0.17880794701986755,56,0.18543046357615894,43,0.14238410596026491,149,0.49337748344370863,302,1]
[null,303,{"$f":"Urliste!C306","v":4},54,0.17821782178217821,56,0.18481848184818481,43,0.14191419141914191,150,0.49504950495049505,303,1]
[null,304,{"$f":"Urliste!C307","v":3},54,0.17763157894736842,56,0.18421052631578946,44,0.14473684210526316,150,0.49342105263157893,304,1]
[null,305,{"$f":"Urliste!C308","v":4},54,0.17704918032786884,56,0.18360655737704917,44,0.14426229508196722,151,0.49508196721311476,305,1]
[null,306,{"$f":"Urliste!C309","v":6},54,0.17647058823529413,56,0.18300653594771241,44,0.1437908496732026,152,0.49673202614379086,306,1]
[null,307,{"$f":"Urliste!C310","v":1},55,0.17915309446254071,56,0.18241042345276873,44,0.14332247557003258,152,0.49511400651465798,307,1]
[null,308,{"$f":"Urliste!C311","v":6},55,0.17857142857142858,56,0.18181818181818182,44,0.14285714285714285,153,0.49675324675324678,308,1]
[null,309,{"$f":"Urliste!C312","v":5},55,0.17799352750809061,56,0.18122977346278318,44,0.14239482200647249,154,0.49838187702265374,309,1]
[null,310,{"$f":"Urliste!C313","v":1},56,0.18064516129032257,56,0.18064516129032257,44,0.14193548387096774,154,0.49677419354838709,310,1]
[null,311,{"$f":"Urliste!C314","v":5},56,0.18006430868167203,56,0.18006430868167203,44,0.14147909967845659,155,0.49839228295819937,311,1]
[null,312,{"$f":"Urliste!C315","v":1},57,0.18269230769230768,56,0.17948717948717949,44,0.14102564102564102,155,0.49679487179487181,312,1]
[null,313,{"$f":"Urliste!C316","v":1},58,0.1853035143769968,56,0.17891373801916932,44,0.14057507987220447,155,0.49520766773162939,313,0.99999999999999989]
[null,314,{"$f":"Urliste!C317","v":4},58,0.18471337579617833,56,0.17834394904458598,44,0.14012738853503184,156,0.49681528662420382,314,0.99999999999999989]
[null,315,{"$f":"Urliste!C318","v":5},58,0.18412698412698414,56,0.17777777777777778,44,0.13968253968253969,157,0.49841269841269842,315,1]
[null,316,{"$f":"Urliste!C319","v":6},58,0.18354430379746836,56,0.17721518987341772,44,0.13924050632911392,158,0.5,316,0.99999999999999989]
[null,317,{"$f":"Urliste!C320","v":2},58,0.18296529968454259,57,0.17981072555205047,44,0.13880126182965299,158,0.49842271293375395,317,1]
[null,318,{"$f":"Urliste!C321","v":3},58,0.18238993710691823,57,0.17924528301886791,45,0.14150943396226415,158,0.49685534591194969,318,0.99999999999999989]
[null,319,{"$f":"Urliste!C322","v":6},58,0.18181818181818182,57,0.17868338557993729,45,0.14106583072100312,159,0.49843260188087773,319,1]
[null,320,{"$f":"Urliste!C323","v":2},58,0.18124999999999999,58,0.18124999999999999,45,0.140625,159,0.49687500000000001,320,1]
[null,321,{"$f":"Urliste!C324","v":1},59,0.18380062305295949,58,0.18068535825545171,45,0.14018691588785046,159,0.49532710280373832,321,1]
[null,322,{"$f":"Urliste!C325","v":6},59,0.18322981366459629,58,0.18012422360248448,45,0.13975155279503104,160,0.49689440993788819,322,1]
[null,323,{"$f":"Urliste!C326","v":6},59,0.1826625386996904,58,0.17956656346749225,45,0.13931888544891641,161,0.49845201238390091,323,1]
[null,324,{"$f":"Urliste!C327","v":1},60,0.18518518518518517,58,0.17901234567901234,45,0.1388888888888889,161,0.49691358024691357,324,1]
[null,325,{"$f":"Urliste!C328","v":6},60,0.18461538461538463,58,0.17846153846153845,{"$f":"IF(C346=3,H345+1,H345)","v":45},{"$f":"H346/B346","v":0.13846153846153847},{"$f":"IF(C346>3,J345+1,J345)","v":162},{"$f":"J346/B346","v":0.49846153846153846},{"$f":"SUM(D346,J346,H346,F346)","v":325},{"$f":"SUM(K346,I346,G346,E346)","v":1}]
[null,326,{"$f":"Urliste!C329","v":5},60,0.18404907975460122,58,0.17791411042944785,45,0.13803680981595093,163,0.5,326,1]
[null,327,{"$f":"Urliste!C330","v":5},60,0.1834862385321101,58,0.17737003058103976,45,0.13761467889908258,164,0.50152905198776754,327,1]
[null,328,{"$f":"Urliste!C331","v":5},60,0.18292682926829268,58,0.17682926829268292,45,0.13719512195121952,165,0.50304878048780488,328,1]
[null,329,{"$f":"Urliste!C332","v":5},60,0.18237082066869301,58,0.17629179331306991,45,0.13677811550151975,166,0.50455927051671734,329,1]
[null,330,{"$f":"Urliste!C333","v":2},60,0.18181818181818182,59,0.1787878787878788,45,0.13636363636363635,166,0.50303030303030305,330,1]
[null,331,{"$f":"Urliste!C334","v":4},60,0.18126888217522658,59,0.1782477341389728,45,0.13595166163141995,167,0.50453172205438068,331,1]
[null,332,{"$f":"Urliste!C335","v":4},60,0.18072289156626506,59,0.17771084337349397,45,0.13554216867469879,168,0.50602409638554213,332,1]
[null,333,{"$f":"Urliste!C336","v":2},60,0.18018018018018017,60,0.18018018018018017,45,0.13513513513513514,168,0.50450450450450446,333,0.99999999999999978]
[null,334,{"$f":"Urliste!C337","v":4},60,0.17964071856287425,60,0.17964071856287425,45,0.1347305389221557,169,0.50598802395209586,334,1]
[null,335,{"$f":"Urliste!C338","v":4},60,0.17910447761194029,60,0.17910447761194029,45,0.13432835820895522,170,0.5074626865671642,335,1]
[null,336,{"$f":"Urliste!C339","v":4},60,0.17857142857142858,60,0.17857142857142858,45,0.13392857142857142,171,0.5089285714285714,336,1]
[null,337,{"$f":"Urliste!C340","v":5},60,0.17804154302670624,60,0.17804154302670624,45,0.13353115727002968,172,0.51038575667655783,337,1]
[null,338,{"$f":"Urliste!C341","v":3},60,0.17751479289940827,60,0.17751479289940827,46,0.13609467455621302,172,0.50887573964497046,338,1]
[null,339,{"$f":"Urliste!C342","v":3},60,0.17699115044247787,60,0.17699115044247787,47,0.13864306784660768,172,0.50737463126843663,339,1.0000000000000002]
[null,340,{"$f":"Urliste!C343","v":5},60,0.17647058823529413,60,0.17647058823529413,47,0.13823529411764707,173,0.50882352941176467,340,1]
[null,341,{"$f":"Urliste!C344","v":1},61,0.17888563049853373,60,0.17595307917888564,47,0.1378299120234604,173,0.50733137829912023,341,1]
[null,342,{"$f":"Urliste!C345","v":2},61,0.17836257309941519,61,0.17836257309941519,47,0.13742690058479531,173,0.50584795321637432,342,1]
[null,343,{"$f":"Urliste!C346","v":1},62,0.18075801749271136,61,0.17784256559766765,47,0.13702623906705538,173,0.50437317784256563,343,1]
[null,344,{"$f":"Urliste!C347","v":5},62,0.18023255813953487,61,0.17732558139534885,47,0.13662790697674418,174,0.5058139534883721,344,1]
[null,345,{"$f":"Urliste!C348","v":5},62,0.17971014492753623,61,0.17681159420289855,47,0.13623188405797101,175,0.50724637681159424,345,1]
[null,346,{"$f":"Urliste!C349","v":3},62,0.1791907514450867,61,0.17630057803468208,48,0.13872832369942195,175,0.5057803468208093,346,0.99999999999999989]
[null,347,{"$f":"Urliste!C350","v":1},63,0.18155619596541786,61,0.17579250720461095,48,0.13832853025936601,175,0.50432276657060515,347,0.99999999999999989]
[null,348,{"$f":"Urliste!C351","v":5},63,0.18103448275862069,61,0.17528735632183909,48,0.13793103448275862,176,0.50574712643678166,348,1.0000000000000002]
[null,349,{"$f":"Urliste!C352","v":2},63,0.18051575931232092,62,0.17765042979942694,48,0.13753581661891118,176,0.50429799426934097,349,1]
[null,350,{"$f":"Urliste!C353","v":4},63,0.18,62,0.17714285714285713,48,0.13714285714285715,177,0.50571428571428567,350,1]
[null,351,{"$f":"Urliste!C354","v":3},63,0.17948717948717949,62,0.17663817663817663,49,0.1396011396011396,177,0.50427350427350426,351,1]
[null,352,{"$f":"Urliste!C355","v":5},63,0.17897727272727273,62,0.17613636363636365,49,0.13920454545454544,178,0.50568181818181823,352,1]
[null,353,{"$f":"Urliste!C356","v":6},63,0.17847025495750707,62,0.17563739376770537,49,0.13881019830028329,179,0.50708215297450421,353,1]
[null,354,{"$f":"Urliste!C357","v":4},63,0.17796610169491525,62,0.1751412429378531,49,0.1384180790960452,180,0.50847457627118642,354,1]
[null,355,{"$f":"Urliste!C358","v":4},63,0.17746478873239438,62,0.17464788732394365,49,0.13802816901408452,181,0.50985915492957745,355,1]
[null,356,{"$f":"Urliste!C359","v":3},63,0.17696629213483145,62,0.17415730337078653,50,0.1404494382022472,181,0.5084269662921348,356,1]
[null,357,{"$f":"Urliste!C360","v":4},{"$f":"IF(C378=1,D377+1,D377)","v":63},{"$f":"D378/B378","v":0.17647058823529413},{"$f":"IF(C378=2,F377+1,F377)","v":62},{"$f":"F378/B378","v":0.17366946778711484},50,0.14005602240896359,182,0.50980392156862742,357,1]
[null,358,{"$f":"Urliste!C361","v":5},63,0.17597765363128492,62,0.17318435754189945,50,0.13966480446927373,183,0.51117318435754189,358,1]
[null,359,{"$f":"Urliste!C362","v":2},63,0.17548746518105848,63,0.17548746518105848,50,0.1392757660167131,183,0.50974930362116988,359,1]
[null,360,{"$f":"Urliste!C363","v":2},63,0.17499999999999999,64,0.17777777777777778,50,0.1388888888888889,183,0.5083333333333333,360,1]
[null,361,{"$f":"Urliste!C364","v":1},64,0.17728531855955679,64,0.17728531855955679,50,0.13850415512465375,183,0.50692520775623273,361,1]
[null,362,{"$f":"Urliste!C365","v":4},64,0.17679558011049723,64,0.17679558011049723,50,0.13812154696132597,184,0.50828729281767959,362,1]
[null,363,{"$f":"Urliste!C366","v":3},64,0.17630853994490359,64,0.17630853994490359,51,0.14049586776859505,184,0.50688705234159781,363,1]
[null,364,{"$f":"Urliste!C367","v":3},64,0.17582417582417584,64,0.17582417582417584,52,0.14285714285714285,184,0.50549450549450547,364,1]
[null,365,{"$f":"Urliste!C368","v":6},64,0.17534246575342466,64,0.17534246575342466,52,0.14246575342465753,185,0.50684931506849318,365,1]
[null,366,{"$f":"Urliste!C369","v":3},64,0.17486338797814208,64,0.17486338797814208,53,0.1448087431693989,185,0.50546448087431695,366,1]
[null,367,{"$f":"Urliste!C370","v":5},64,0.17438692098092642,64,0.17438692098092642,53,0.1444141689373297,186,0.50681198910081748,367,1]
[null,368,{"$f":"Urliste!C371","v":3},64,0.17391304347826086,64,0.17391304347826086,54,0.14673913043478262,186,0.50543478260869568,368,1]
[null,369,{"$f":"Urliste!C372","v":6},64,0.17344173441734417,64,0.17344173441734417,54,0.14634146341463414,187,0.50677506775067749,369,1]
[null,370,{"$f":"Urliste!C373","v":2},64,0.17297297297297298,65,0.17567567567567569,54,0.14594594594594595,187,0.50540540540540535,370,1]
[null,371,{"$f":"Urliste!C374","v":1},65,0.17520215633423181,65,0.17520215633423181,54,0.14555256064690028,187,0.50404312668463613,371,1]
[null,372,{"$f":"Urliste!C375","v":2},65,0.17473118279569894,66,0.17741935483870969,54,0.14516129032258066,187,0.50268817204301075,372,1]
[null,373,{"$f":"Urliste!C376","v":1},66,0.17694369973190349,66,0.17694369973190349,54,0.1447721179624665,187,0.50134048257372654,373,1]
[null,374,{"$f":"Urliste!C377","v":3},66,0.17647058823529413,66,0.17647058823529413,55,0.14705882352941177,187,0.5,374,1]
[null,375,{"$f":"Urliste!C378","v":3},66,0.17599999999999999,66,0.17599999999999999,56,0.14933333333333335,187,0.49866666666666665,375,1]
[null,376,{"$f":"Urliste!C379","v":6},66,0.17553191489361702,66,0.17553191489361702,56,0.14893617021276595,188,0.5,376,1]
[null,377,{"$f":"Urliste!C380","v":5},66,0.17506631299734748,66,0.17506631299734748,56,0.14854111405835543,189,0.50132625994694957,377,1]
[null,378,{"$f":"Urliste!C381","v":1},67,0.17724867724867724,66,0.17460317460317459,56,0.14814814814814814,189,0.5,378,1]
[null,379,{"$f":"Urliste!C382","v":6},67,0.17678100263852242,66,0.17414248021108181,56,0.14775725593667546,190,0.50131926121372028,379,1]
[null,380,{"$f":"Urliste!C383","v":5},67,0.1763157894736842,66,0.1736842105263158,56,0.14736842105263157,191,0.50263157894736843,380,1]
[null,381,{"$f":"Urliste!C384","v":3},67,0.17585301837270342,66,0.17322834645669291,57,0.14960629921259844,191,0.50131233595800528,381,1.0000000000000002]
[null,382,{"$f":"Urliste!C385","v":1},68,0.17801047120418848,66,0.17277486910994763,57,0.14921465968586387,191,0.5,382,1]
[null,383,{"$f":"Urliste!C386","v":1},69,0.18015665796344649,66,0.17232375979112272,57,0.14882506527415143,191,0.49869451697127937,383,1]
[null,384,{"$f":"Urliste!C387","v":3},69,0.1796875,66,0.171875,58,0.15104166666666666,191,0.49739583333333331,384,1]
[null,385,{"$f":"Urliste!C388","v":4},69,0.17922077922077922,66,0.17142857142857143,58,0.15064935064935064,192,0.4987012987012987,385,1]
[null,386,{"$f":"Urliste!C389","v":2},69,0.17875647668393782,67,0.17357512953367876,58,0.15025906735751296,192,0.49740932642487046,386,1]
[null,387,{"$f":"Urliste!C390","v":4},69,0.17829457364341086,67,0.1731266149870801,58,0.14987080103359174,193,0.49870801033591733,387,0.99999999999999989]
[null,388,{"$f":"Urliste!C391","v":4},69,0.17783505154639176,67,0.17268041237113402,58,0.14948453608247422,194,0.5,388,1]
[null,389,{"$f":"Urliste!C392","v":1},70,0.17994858611825193,67,0.17223650385604114,{"$f":"IF(C410=3,H409+1,H409)","v":58},{"$f":"H410/B410","v":0.14910025706940874},{"$f":"IF(C410>3,J409+1,J409)","v":194},{"$f":"J410/B410","v":0.49871465295629819},{"$f":"SUM(D410,J410,H410,F410)","v":389},{"$f":"SUM(K410,I410,G410,E410)","v":1}]
[null,390,{"$f":"Urliste!C393","v":5},70,0.17948717948717949,67,0.1717948717948718,58,0.14871794871794872,195,0.5,390,1]
[null,391,{"$f":"Urliste!C394","v":4},70,0.17902813299232737,67,0.17135549872122763,58,0.14833759590792839,196,0.50127877237851659,391,1]
[null,392,{"$f":"Urliste!C395","v":6},70,0.17857142857142858,67,0.17091836734693877,58,0.14795918367346939,197,0.50255102040816324,392,1]
[null,393,{"$f":"Urliste!C396","v":1},71,0.1806615776081425,67,0.17048346055979643,58,0.1475826972010178,197,0.50127226463104324,393,1]
[null,394,{"$f":"Urliste!C397","v":2},71,0.1802030456852792,68,0.17258883248730963,58,0.14720812182741116,197,0.5,394,1]
[null,395,{"$f":"Urliste!C398","v":3},71,0.17974683544303796,68,0.17215189873417722,59,0.14936708860759493,197,0.49873417721518987,395,1]
[null,396,{"$f":"Urliste!C399","v":3},71,0.17929292929292928,68,0.17171717171717171,60,0.15151515151515152,197,0.49747474747474746,396,1]
[null,397,{"$f":"Urliste!C400","v":6},71,0.17884130982367757,68,0.1712846347607053,60,0.15113350125944586,198,0.4987405541561713,397,1]
[null,398,{"$f":"Urliste!C401","v":4},71,0.17839195979899497,68,0.17085427135678391,60,0.15075376884422109,199,0.5,398,1]
[null,399,{"$f":"Urliste!C402","v":3},71,0.17794486215538846,68,0.17042606516290726,61,0.15288220551378445,199,0.49874686716791977,399,1]
[null,400,{"$f":"Urliste!C403","v":1},72,0.18,68,0.17,61,0.1525,199,0.4975,400,1]
[null,401,{"$f":"Urliste!C404","v":4},72,0.17955112219451372,68,0.16957605985037408,61,0.15211970074812967,200,0.49875311720698257,401,1]
[null,402,{"$f":"Urliste!C405","v":6},72,0.17910447761194029,68,0.1691542288557214,61,0.15174129353233831,201,0.5,402,1]
[null,403,{"$f":"Urliste!C406","v":2},72,0.17866004962779156,69,0.17121588089330025,61,0.15136476426799009,201,0.4987593052109181,403,1]
[null,404,{"$f":"Urliste!C407","v":2},72,0.17821782178217821,70,0.17326732673267325,61,0.15099009900990099,201,0.49752475247524752,404,1]
[null,405,{"$f":"Urliste!C408","v":4},72,0.17777777777777778,70,0.1728395061728395,61,0.1506172839506173,202,0.49876543209876545,405,1]
[null,406,{"$f":"Urliste!C409","v":4},72,0.17733990147783252,70,0.17241379310344829,61,0.15024630541871922,203,0.5,406,1]
[null,407,{"$f":"Urliste!C410","v":1},73,0.17936117936117937,70,0.171990171990172,61,0.14987714987714987,203,0.49877149877149879,407,1]
[null,408,{"$f":"Urliste!C411","v":1},74,0.18137254901960784,70,0.17156862745098039,61,0.14950980392156862,203,0.49754901960784315,408,1]
[null,409,{"$f":"Urliste!C412","v":3},74,0.18092909535452323,70,0.17114914425427874,62,0.15158924205378974,203,0.49633251833740832,409,1]
[null,410,{"$f":"Urliste!C413","v":2},74,0.18048780487804877,71,0.17317073170731706,62,0.15121951219512195,203,0.49512195121951219,410,1]
[null,411,{"$f":"Urliste!C414","v":3},74,0.18004866180048662,71,0.17274939172749393,63,0.15328467153284672,203,0.49391727493917276,411,1]
[null,412,{"$f":"Urliste!C415","v":6},74,0.1796116504854369,71,0.17233009708737865,63,0.15291262135922329,204,0.49514563106796117,412,1]
[null,413,{"$f":"Urliste!C416","v":2},74,0.1791767554479419,72,0.17433414043583534,63,0.15254237288135594,204,0.49394673123486682,413,0.99999999999999989]
[null,414,{"$f":"Urliste!C417","v":5},74,0.17874396135265699,72,0.17391304347826086,63,0.15217391304347827,205,0.49516908212560384,414,1]
[null,415,{"$f":"Urliste!C418","v":3},74,0.1783132530120482,72,0.17349397590361446,64,0.15421686746987953,205,0.49397590361445781,415,1]
[null,416,{"$f":"Urliste!C419","v":2},74,0.17788461538461539,73,0.17548076923076922,64,0.15384615384615385,205,0.49278846153846156,416,1]
[null,417,{"$f":"Urliste!C420","v":3},74,0.17745803357314149,73,0.1750599520383693,65,0.15587529976019185,205,0.49160671462829736,417,1]
[null,418,{"$f":"Urliste!C421","v":1},75,0.17942583732057416,73,0.17464114832535885,65,0.15550239234449761,205,0.49043062200956938,418,1]
[null,419,{"$f":"Urliste!C422","v":6},75,0.17899761336515513,73,0.17422434367541767,65,0.15513126491646778,206,0.49164677804295942,419,1]
[null,420,{"$f":"Urliste!C423","v":4},75,0.17857142857142858,73,0.1738095238095238,65,0.15476190476190477,207,0.49285714285714288,420,1]
[null,421,{"$f":"Urliste!C424","v":1},{"$f":"IF(C442=1,D441+1,D441)","v":76},{"$f":"D442/B442","v":0.18052256532066507},{"$f":"IF(C442=2,F441+1,F441)","v":73},{"$f":"F442/B442","v":0.17339667458432304},65,0.15439429928741091,207,0.49168646080760092,421,1]
[null,422,{"$f":"Urliste!C425","v":6},76,0.18009478672985782,73,0.17298578199052134,65,0.15402843601895735,208,0.49289099526066349,422,0.99999999999999989]
[null,423,{"$f":"Urliste!C426","v":3},76,0.17966903073286053,73,0.17257683215130024,66,0.15602836879432624,208,0.49172576832151299,423,1]
[null,424,{"$f":"Urliste!C427","v":4},76,0.17924528301886791,73,0.17216981132075471,66,0.15566037735849056,209,0.49292452830188677,424,0.99999999999999989]
[null,425,{"$f":"Urliste!C428","v":3},76,0.17882352941176471,73,0.17176470588235293,67,0.15764705882352942,209,0.49176470588235294,425,1]
[null,426,{"$f":"Urliste!C429","v":3},76,0.17840375586854459,73,0.17136150234741784,68,0.15962441314553991,209,0.49061032863849763,426,1]
[null,427,{"$f":"Urliste!C430","v":6},76,0.17798594847775176,73,0.17096018735362997,68,0.15925058548009369,210,0.49180327868852458,427,1]
[null,428,{"$f":"Urliste!C431","v":2},76,0.17757009345794392,74,0.17289719626168223,68,0.15887850467289719,210,0.49065420560747663,428,1]
[null,429,{"$f":"Urliste!C432","v":6},76,0.17715617715617715,74,0.17249417249417248,68,0.1585081585081585,211,0.49184149184149184,429,1]
[null,430,{"$f":"Urliste!C433","v":5},76,0.17674418604651163,74,0.17209302325581396,68,0.15813953488372093,212,0.49302325581395351,430,1]
[null,431,{"$f":"Urliste!C434","v":3},76,0.17633410672853828,74,0.1716937354988399,69,0.16009280742459397,212,0.49187935034802782,431,1]
[null,432,{"$f":"Urliste!C435","v":4},76,0.17592592592592593,74,0.17129629629629631,69,0.15972222222222221,213,0.49305555555555558,432,1]
[null,433,{"$f":"Urliste!C436","v":3},76,0.17551963048498845,74,0.17090069284064666,70,0.16166281755196305,213,0.49191685912240185,433,1]
[null,434,{"$f":"Urliste!C437","v":5},76,0.17511520737327188,74,0.17050691244239632,70,0.16129032258064516,214,0.49308755760368661,434,1]
[null,435,{"$f":"Urliste!C438","v":4},76,0.17471264367816092,74,0.17011494252873563,70,0.16091954022988506,215,0.4942528735632184,435,1]
[null,436,{"$f":"Urliste!C439","v":6},76,0.1743119266055046,74,0.16972477064220184,70,0.16055045871559634,216,0.49541284403669728,436,1]
[null,437,{"$f":"Urliste!C440","v":5},76,0.17391304347826086,74,0.16933638443935928,70,0.16018306636155608,217,0.49656750572082381,437,1]
[null,438,{"$f":"Urliste!C441","v":6},76,0.17351598173515981,74,0.16894977168949771,70,0.15981735159817351,218,0.49771689497716892,438,0.99999999999999989]
[null,439,{"$f":"Urliste!C442","v":6},76,0.17312072892938496,74,0.16856492027334852,70,0.15945330296127563,219,0.49886104783599089,439,1]
[null,440,{"$f":"Urliste!C443","v":6},76,0.17272727272727273,74,0.16818181818181818,70,0.15909090909090909,220,0.5,440,1]
[null,441,{"$f":"Urliste!C444","v":5},76,0.17233560090702948,74,0.16780045351473924,70,0.15873015873015872,221,0.50113378684807253,441,1]
[null,442,{"$f":"Urliste!C445","v":2},76,0.17194570135746606,75,0.16968325791855204,70,0.15837104072398189,221,0.5,442,1]
[null,443,{"$f":"Urliste!C446","v":5},76,0.17155756207674944,75,0.16930022573363432,70,0.1580135440180587,222,0.50112866817155755,443,1]
[null,444,{"$f":"Urliste!C447","v":2},76,0.17117117117117117,76,0.17117117117117117,70,0.15765765765765766,222,0.5,444,1]
[null,445,{"$f":"Urliste!C448","v":5},76,0.17078651685393259,76,0.17078651685393259,70,0.15730337078651685,223,0.50112359550561802,445,1.0000000000000002]
[null,446,{"$f":"Urliste!C449","v":6},76,0.17040358744394618,76,0.17040358744394618,70,0.15695067264573992,224,0.50224215246636772,446,1]
[null,447,{"$f":"Urliste!C450","v":6},76,0.17002237136465326,76,0.17002237136465326,70,0.15659955257270694,225,0.50335570469798663,447,1]
[null,448,{"$f":"Urliste!C451","v":4},76,0.16964285714285715,76,0.16964285714285715,70,0.15625,226,0.5044642857142857,448,1]
[null,449,{"$f":"Urliste!C452","v":5},76,0.16926503340757237,76,0.16926503340757237,70,0.15590200445434299,227,0.50556792873051226,449,1]
[null,450,{"$f":"Urliste!C453","v":5},76,0.16888888888888889,76,0.16888888888888889,70,0.15555555555555556,228,0.50666666666666671,450,1]
[null,451,{"$f":"Urliste!C454","v":4},76,0.16851441241685144,76,0.16851441241685144,70,0.15521064301552107,229,0.5077605321507761,451,1]
[null,452,{"$f":"Urliste!C455","v":4},76,0.16814159292035399,76,0.16814159292035399,70,0.15486725663716813,230,0.50884955752212391,452,1]
[null,453,{"$f":"Urliste!C456","v":6},76,0.16777041942604856,76,0.16777041942604856,{"$f":"IF(C474=3,H473+1,H473)","v":70},{"$f":"H474/B474","v":0.1545253863134658},{"$f":"IF(C474>3,J473+1,J473)","v":231},{"$f":"J474/B474","v":0.50993377483443714},{"$f":"SUM(D474,J474,H474,F474)","v":453},{"$f":"SUM(K474,I474,G474,E474)","v":1}]
[null,454,{"$f":"Urliste!C457","v":6},76,0.16740088105726872,76,0.16740088105726872,70,0.15418502202643172,232,0.51101321585903081,454,0.99999999999999989]
[null,455,{"$f":"Urliste!C458","v":3},76,0.16703296703296702,76,0.16703296703296702,71,0.15604395604395604,232,0.50989010989010985,455,0.99999999999999989]
[null,456,{"$f":"Urliste!C459","v":5},76,0.16666666666666666,76,0.16666666666666666,71,0.15570175438596492,233,0.51096491228070173,456,0.99999999999999989]
[null,457,{"$f":"Urliste!C460","v":3},76,0.16630196936542668,76,0.16630196936542668,72,0.1575492341356674,233,0.50984682713347917,457,0.99999999999999978]
[null,458,{"$f":"Urliste!C461","v":3},76,0.16593886462882096,76,0.16593886462882096,73,0.15938864628820962,233,0.50873362445414849,458,1]
[null,459,{"$f":"Urliste!C462","v":4},76,0.16557734204793029,76,0.16557734204793029,73,0.15904139433551198,234,0.50980392156862742,459,1]
[null,460,{"$f":"Urliste!C463","v":2},76,0.16521739130434782,77,0.16739130434782609,73,0.15869565217391304,234,0.50869565217391299,460,1]
[null,461,{"$f":"Urliste!C464","v":4},76,0.16485900216919741,77,0.16702819956616052,73,0.15835140997830802,235,0.50976138828633411,461,1]
[null,462,{"$f":"Urliste!C465","v":2},76,0.16450216450216451,78,0.16883116883116883,73,0.15800865800865802,235,0.5086580086580087,462,1]
[null,463,{"$f":"Urliste!C466","v":2},76,0.16414686825053995,79,0.17062634989200864,73,0.15766738660907129,235,0.50755939524838012,463,1]
[null,464,{"$f":"Urliste!C467","v":3},76,0.16379310344827586,79,0.17025862068965517,74,0.15948275862068967,235,0.50646551724137934,464,1]
[null,465,{"$f":"Urliste!C468","v":4},76,0.16344086021505377,79,0.16989247311827957,74,0.15913978494623657,236,0.50752688172043015,465,1]
[null,466,{"$f":"Urliste!C469","v":2},76,0.1630901287553648,80,0.17167381974248927,74,0.15879828326180256,236,0.50643776824034337,466,1]
[null,467,{"$f":"Urliste!C470","v":6},76,0.16274089935760172,80,0.17130620985010706,74,0.15845824411134904,237,0.50749464668094213,467,0.99999999999999989]
[null,468,{"$f":"Urliste!C471","v":5},76,0.1623931623931624,80,0.17094017094017094,74,0.15811965811965811,238,0.50854700854700852,468,0.99999999999999989]
[null,469,{"$f":"Urliste!C472","v":5},76,0.16204690831556504,80,0.17057569296375266,74,0.15778251599147122,239,0.50959488272921105,469,0.99999999999999989]
[null,470,{"$f":"Urliste!C473","v":1},77,0.16382978723404254,80,0.1702127659574468,74,0.1574468085106383,239,0.50851063829787235,470,1]
[null,471,{"$f":"Urliste!C474","v":1},78,0.16560509554140126,80,0.16985138004246284,74,0.15711252653927812,239,0.50743099787685775,471,0.99999999999999989]
[null,472,{"$f":"Urliste!C475","v":2},78,0.1652542372881356,81,0.17161016949152541,74,0.15677966101694915,239,0.50635593220338981,472,1]
[null,473,{"$f":"Urliste!C476","v":3},78,0.16490486257928119,81,0.17124735729386892,75,0.15856236786469344,239,0.5052854122621564,473,0.99999999999999989]
[null,474,{"$f":"Urliste!C477","v":3},78,0.16455696202531644,81,0.17088607594936708,76,0.16033755274261605,239,0.50421940928270037,474,1]
[null,475,{"$f":"Urliste!C478","v":1},79,0.16631578947368422,81,0.17052631578947369,76,0.16,239,0.50315789473684214,475,1]
[null,476,{"$f":"Urliste!C479","v":1},80,0.16806722689075632,81,0.17016806722689076,76,0.15966386554621848,239,0.50210084033613445,476,1]
[null,477,{"$f":"Urliste!C480","v":5},80,0.16771488469601678,81,0.16981132075471697,76,0.15932914046121593,240,0.50314465408805031,477,1]
[null,478,{"$f":"Urliste!C481","v":5},80,0.16736401673640167,81,0.16945606694560669,76,0.15899581589958159,241,0.50418410041841,478,0.99999999999999989]
[null,479,{"$f":"Urliste!C482","v":4},80,0.16701461377870563,81,0.16910229645093947,76,0.15866388308977036,242,0.50521920668058451,479,1]
[null,480,{"$f":"Urliste!C483","v":6},80,0.16666666666666666,81,0.16875000000000001,76,0.15833333333333333,243,0.50624999999999998,480,0.99999999999999989]
[null,481,{"$f":"Urliste!C484","v":5},80,0.16632016632016633,81,0.16839916839916841,76,0.15800415800415801,244,0.5072765072765073,481,1]
[null,482,{"$f":"Urliste!C485","v":1},81,0.16804979253112035,81,0.16804979253112035,76,0.15767634854771784,244,0.50622406639004147,482,1]
[null,483,{"$f":"Urliste!C486","v":5},81,0.16770186335403728,81,0.16770186335403728,76,0.15734989648033126,245,0.50724637681159424,483,1]
[null,484,{"$f":"Urliste!C487","v":6},81,0.16735537190082644,81,0.16735537190082644,76,0.15702479338842976,246,0.50826446280991733,484,1]
[null,485,{"$f":"Urliste!C488","v":6},{"$f":"IF(C506=1,D505+1,D505)","v":81},{"$f":"D506/B506","v":0.1670103092783505},{"$f":"IF(C506=2,F505+1,F505)","v":81},{"$f":"F506/B506","v":0.1670103092783505},76,0.15670103092783505,247,0.50927835051546388,485,0.99999999999999989]
[null,486,{"$f":"Urliste!C489","v":2},81,0.16666666666666666,82,0.16872427983539096,76,0.15637860082304528,247,0.50823045267489708,486,0.99999999999999989]
[null,487,{"$f":"Urliste!C490","v":2},81,0.16632443531827515,83,0.17043121149897331,76,0.15605749486652978,247,0.50718685831622179,487,1]
[null,488,{"$f":"Urliste!C491","v":2},81,0.16598360655737704,84,0.1721311475409836,76,0.15573770491803279,247,0.50614754098360659,488,1]
[null,489,{"$f":"Urliste!C492","v":2},81,0.16564417177914109,85,0.17382413087934559,76,0.15541922290388549,247,0.50511247443762786,489,1]
[null,490,{"$f":"Urliste!C493","v":6},81,0.1653061224489796,85,0.17346938775510204,76,0.15510204081632653,248,0.5061224489795918,490,0.99999999999999989]
[null,491,{"$f":"Urliste!C494","v":3},81,0.164969450101833,85,0.17311608961303462,77,0.15682281059063136,248,0.50509164969450104,491,1]
[null,492,{"$f":"Urliste!C495","v":5},81,0.16463414634146342,85,0.17276422764227642,77,0.1565040650406504,249,0.50609756097560976,492,1]
[null,493,{"$f":"Urliste!C496","v":4},81,0.1643002028397566,85,0.17241379310344829,77,0.15618661257606492,250,0.50709939148073024,493,1]
[null,494,{"$f":"Urliste!C497","v":6},81,0.16396761133603238,85,0.17206477732793521,77,0.15587044534412955,251,0.5080971659919028,494,1]
[null,495,{"$f":"Urliste!C498","v":2},81,0.16363636363636364,86,0.17373737373737375,77,0.15555555555555556,251,0.50707070707070712,495,1]
[null,496,{"$f":"Urliste!C499","v":1},82,0.16532258064516128,86,0.17338709677419356,77,0.15524193548387097,251,0.50604838709677424,496,1]
[null,497,{"$f":"Urliste!C500","v":5},82,0.16498993963782696,86,0.17303822937625754,77,0.15492957746478872,252,0.50704225352112675,497,1]
[null,498,{"$f":"Urliste!C501","v":3},82,0.1646586345381526,86,0.17269076305220885,78,0.15662650602409639,252,0.50602409638554213,498,1]
[null,499,{"$f":"Urliste!C502","v":2},82,0.16432865731462926,87,0.17434869739478959,78,0.15631262525050099,252,0.50501002004008011,499,1]
[null,500,{"$f":"Urliste!C503","v":6},82,0.16400000000000001,87,0.17399999999999999,78,0.156,253,0.50600000000000001,500,1]
[null,501,{"$f":"Urliste!C504","v":2},82,0.16367265469061876,88,0.17564870259481039,78,0.15568862275449102,253,0.50499001996007986,501,1]
[null,502,{"$f":"Urliste!C505","v":2},82,0.16334661354581673,89,0.17729083665338646,78,0.15537848605577689,253,0.50398406374501992,502,0.99999999999999989]
[null,503,{"$f":"Urliste!C506","v":2},82,0.16302186878727634,90,0.17892644135188868,78,0.15506958250497019,253,0.50298210735586479,503,0.99999999999999989]
[null,504,{"$f":"Urliste!C507","v":1},83,0.16468253968253968,90,0.17857142857142858,78,0.15476190476190477,253,0.50198412698412698,504,1]
[null,505,{"$f":"Urliste!C508","v":1},84,0.16633663366336635,90,0.17821782178217821,78,0.15445544554455445,253,0.50099009900990099,505,1]
[null,506,{"$f":"Urliste!C509","v":6},84,0.16600790513833993,90,0.17786561264822134,78,0.1541501976284585,254,0.50197628458498023,506,1]
[null,507,{"$f":"Urliste!C510","v":4},84,0.16568047337278108,90,0.17751479289940827,78,0.15384615384615385,255,0.50295857988165682,507,1]
[null,508,{"$f":"Urliste!C511","v":4},84,0.16535433070866143,90,0.17716535433070865,78,0.15354330708661418,256,0.50393700787401574,508,1]
[null,509,{"$f":"Urliste!C512","v":3},84,0.16502946954813361,90,0.17681728880157171,79,0.15520628683693516,256,0.50294695481335949,509,1]
[null,510,{"$f":"Urliste!C513","v":1},85,0.16666666666666666,90,0.17647058823529413,79,0.15490196078431373,256,0.50196078431372548,510,1]
[null,511,{"$f":"Urliste!C514","v":2},85,0.16634050880626222,91,0.17808219178082191,79,0.15459882583170254,256,0.50097847358121328,511,1]
[null,512,{"$f":"Urliste!C515","v":2},85,0.166015625,92,0.1796875,79,0.154296875,256,0.5,512,1]
[null,513,{"$f":"Urliste!C516","v":3},85,0.16569200779727095,92,0.17933723196881091,80,0.15594541910331383,256,0.49902534113060426,513,1]
[null,514,{"$f":"Urliste!C517","v":2},85,0.16536964980544747,93,0.18093385214007782,80,0.1556420233463035,256,0.49805447470817121,514,1]
[null,515,{"$f":"Urliste!C518","v":5},85,0.1650485436893204,93,0.18058252427184465,80,0.1553398058252427,257,0.49902912621359224,515,1]
[null,516,{"$f":"Urliste!C519","v":3},85,0.16472868217054262,93,0.18023255813953487,81,0.15697674418604651,257,0.49806201550387597,516,1]
[null,517,{"$f":"Urliste!C520","v":4},85,0.16441005802707931,93,0.17988394584139264,{"$f":"IF(C538=3,H537+1,H537)","v":81},{"$f":"H538/B538","v":0.15667311411992263},{"$f":"IF(C538>3,J537+1,J537)","v":258},{"$f":"J538/B538","v":0.49903288201160539},{"$f":"SUM(D538,J538,H538,F538)","v":517},{"$f":"SUM(K538,I538,G538,E538)","v":1}]
[null,518,{"$f":"Urliste!C521","v":6},85,0.1640926640926641,93,0.17953667953667954,81,0.15637065637065636,259,0.5,518,1]
[null,519,{"$f":"Urliste!C522","v":2},85,0.16377649325626203,94,0.1811175337186898,81,0.15606936416184972,259,0.49903660886319845,519,1]
[null,520,{"$f":"Urliste!C523","v":2},85,0.16346153846153846,95,0.18269230769230768,81,0.15576923076923077,259,0.49807692307692308,520,1]
[null,521,{"$f":"Urliste!C524","v":3},85,0.16314779270633398,95,0.18234165067178504,82,0.15738963531669867,259,0.49712092130518232,521,0.99999999999999989]
[null,522,{"$f":"Urliste!C525","v":2},85,0.16283524904214558,96,0.18390804597701149,82,0.15708812260536398,259,0.49616858237547895,522,1]
[null,523,{"$f":"Urliste!C526","v":6},85,0.16252390057361377,96,0.1835564053537285,82,0.15678776290630975,260,0.49713193116634802,523,1]
[null,524,{"$f":"Urliste!C527","v":2},85,0.16221374045801526,97,0.1851145038167939,82,0.15648854961832062,260,0.49618320610687022,524,1]
[null,525,{"$f":"Urliste!C528","v":6},85,0.16190476190476191,97,0.18476190476190477,82,0.15619047619047619,261,0.49714285714285716,525,1]
[null,526,{"$f":"Urliste!C529","v":5},85,0.16159695817490494,97,0.18441064638783269,82,0.155893536121673,262,0.49809885931558934,526,1]
[null,527,{"$f":"Urliste!C530","v":5},85,0.16129032258064516,97,0.18406072106261859,82,0.15559772296015181,263,0.49905123339658441,527,1]
[null,528,{"$f":"Urliste!C531","v":2},85,0.16098484848484848,98,0.18560606060606061,82,0.1553030303030303,263,0.49810606060606061,528,1]
[null,529,{"$f":"Urliste!C532","v":2},85,0.16068052930056712,99,0.18714555765595464,82,0.15500945179584122,263,0.49716446124763702,529,1]
[null,530,{"$f":"Urliste!C533","v":6},85,0.16037735849056603,99,0.18679245283018867,82,0.15471698113207547,264,0.49811320754716981,530,0.99999999999999989]
[null,531,{"$f":"Urliste!C534","v":3},85,0.160075329566855,99,0.1864406779661017,83,0.15630885122410546,264,0.49717514124293788,531,1]
[null,532,{"$f":"Urliste!C535","v":1},86,0.16165413533834586,99,0.18609022556390978,83,0.15601503759398497,264,0.49624060150375937,532,0.99999999999999989]
[null,533,{"$f":"Urliste!C536","v":4},86,0.16135084427767354,99,0.18574108818011256,83,0.15572232645403378,265,0.49718574108818009,533,1]
[null,534,{"$f":"Urliste!C537","v":5},86,0.16104868913857678,99,0.1853932584269663,83,0.15543071161048688,266,0.49812734082397003,534,1]
[null,535,{"$f":"Urliste!C538","v":2},86,0.16074766355140188,100,0.18691588785046728,83,0.15514018691588785,266,0.49719626168224301,535,1]
[null,536,{"$f":"Urliste!C539","v":3},86,0.16044776119402984,100,0.18656716417910449,84,0.15671641791044777,266,0.4962686567164179,536,1]
[null,537,{"$f":"Urliste!C540","v":2},86,0.16014897579143389,101,0.18808193668528864,84,0.15642458100558659,266,0.49534450651769085,537,1]
[null,538,{"$f":"Urliste!C541","v":5},86,0.15985130111524162,101,0.18773234200743494,84,0.15613382899628253,267,0.49628252788104088,538,0.99999999999999989]
[null,539,{"$f":"Urliste!C542","v":5},86,0.15955473098330242,101,0.18738404452690166,84,0.15584415584415584,268,0.49721706864564008,539,1]
[null,540,{"$f":"Urliste!C543","v":6},86,0.15925925925925927,101,0.18703703703703703,84,0.15555555555555556,269,0.49814814814814817,540,1]
[null,541,{"$f":"Urliste!C544","v":6},86,0.15896487985212571,101,0.1866913123844732,84,0.15526802218114602,270,0.49907578558225507,541,1]
[null,542,{"$f":"Urliste!C545","v":2},86,0.15867158671586715,102,0.18819188191881919,84,0.15498154981549817,270,0.49815498154981552,542,1]
[null,543,{"$f":"Urliste!C546","v":3},86,0.15837937384898712,102,0.18784530386740331,85,0.15653775322283608,270,0.49723756906077349,543,1]
[null,544,{"$f":"Urliste!C547","v":3},86,0.15808823529411764,102,0.1875,86,0.15808823529411764,270,0.49632352941176472,544,1]
[null,545,{"$f":"Urliste!C548","v":6},86,0.15779816513761469,102,0.1871559633027523,86,0.15779816513761469,271,0.49724770642201838,545,1]
[null,546,{"$f":"Urliste!C549","v":2},86,0.1575091575091575,103,0.18864468864468864,86,0.1575091575091575,271,0.49633699633699635,546,1]
[null,547,{"$f":"Urliste!C550","v":6},86,0.15722120658135283,103,0.1882998171846435,86,0.15722120658135283,272,0.49725776965265084,547,1]
[null,548,{"$f":"Urliste!C551","v":2},86,0.15693430656934307,104,0.18978102189781021,86,0.15693430656934307,272,0.49635036496350365,548,1]
[null,549,{"$f":"Urliste!C552","v":3},{"$f":"IF(C570=1,D569+1,D569)","v":86},{"$f":"D570/B570","v":0.15664845173041894},{"$f":"IF(C570=2,F569+1,F569)","v":104},{"$f":"F570/B570","v":0.18943533697632059},87,0.15846994535519127,272,0.49544626593806923,549,1]
[null,550,{"$f":"Urliste!C553","v":6},86,0.15636363636363637,104,0.18909090909090909,87,0.15818181818181817,273,0.49636363636363634,550,1]
[null,551,{"$f":"Urliste!C554","v":2},86,0.1560798548094374,105,0.19056261343012704,87,0.15789473684210525,273,0.49546279491833028,551,1]
[null,552,{"$f":"Urliste!C555","v":4},86,0.15579710144927536,105,0.19021739130434784,87,0.15760869565217392,274,0.49637681159420288,552,1]
[null,553,{"$f":"Urliste!C556","v":5},86,0.15551537070524413,105,0.189873417721519,87,0.15732368896925858,275,0.49728752260397829,553,1]
[null,554,{"$f":"Urliste!C557","v":1},87,0.15703971119133575,105,0.18953068592057762,87,0.15703971119133575,275,0.49638989169675091,554,1]
[null,555,{"$f":"Urliste!C558","v":6},87,0.15675675675675677,105,0.1891891891891892,87,0.15675675675675677,276,0.49729729729729732,555,1]
[null,556,{"$f":"Urliste!C559","v":2},87,0.15647482014388489,106,0.1906474820143885,87,0.15647482014388489,276,0.49640287769784175,556,1]
[null,557,{"$f":"Urliste!C560","v":1},88,0.15798922800718132,106,0.19030520646319568,87,0.15619389587073609,276,0.49551166965888688,557,1]
[null,558,{"$f":"Urliste!C561","v":2},88,0.15770609318996415,107,0.1917562724014337,87,0.15591397849462366,276,0.4946236559139785,558,1]
[null,559,{"$f":"Urliste!C562","v":5},88,0.15742397137745975,107,0.19141323792486584,87,0.15563506261180679,277,0.49552772808586765,559,1]
[null,560,{"$f":"Urliste!C563","v":2},88,0.15714285714285714,108,0.19285714285714287,87,0.15535714285714286,277,0.49464285714285716,560,1]
[null,561,{"$f":"Urliste!C564","v":5},88,0.15686274509803921,108,0.19251336898395721,87,0.15508021390374332,278,0.49554367201426025,561,1]
[null,562,{"$f":"Urliste!C565","v":2},88,0.15658362989323843,109,0.19395017793594305,87,0.15480427046263345,278,0.49466192170818507,562,1]
[null,563,{"$f":"Urliste!C566","v":5},88,0.15630550621669628,109,0.19360568383658969,87,0.15452930728241562,279,0.49555950266429838,563,1]
[null,564,{"$f":"Urliste!C567","v":5},88,0.15602836879432624,109,0.19326241134751773,87,0.15425531914893617,280,0.49645390070921985,564,1]
[null,565,{"$f":"Urliste!C568","v":4},88,0.15575221238938053,109,0.1929203539823009,87,0.15398230088495576,281,0.49734513274336284,565,1]
[null,566,{"$f":"Urliste!C569","v":6},88,0.15547703180212014,109,0.19257950530035337,87,0.15371024734982333,282,0.49823321554770317,566,1]
[null,567,{"$f":"Urliste!C570","v":6},88,0.15520282186948853,109,0.19223985890652556,87,0.15343915343915343,283,0.49911816578483242,567,1]
[null,568,{"$f":"Urliste!C571","v":1},89,0.15669014084507044,109,0.19190140845070422,87,0.15316901408450703,283,0.49823943661971831,568,1]
[null,569,{"$f":"Urliste!C572","v":1},90,0.15817223198594024,109,0.19156414762741653,87,0.15289982425307558,283,0.49736379613356768,569,1]
[null,570,{"$f":"Urliste!C573","v":4},90,0.15789473684210525,109,0.19122807017543861,87,0.15263157894736842,284,0.49824561403508771,570,1]
[null,571,{"$f":"Urliste!C574","v":3},90,0.15761821366024517,109,0.19089316987740806,88,0.15411558669001751,284,0.49737302977232922,571,1]
[null,572,{"$f":"Urliste!C575","v":3},90,0.15734265734265734,109,0.19055944055944055,89,0.1555944055944056,284,0.49650349650349651,572,1]
[null,573,{"$f":"Urliste!C576","v":3},90,0.15706806282722513,109,0.19022687609075042,90,0.15706806282722513,284,0.49563699825479929,573,1]
[null,574,{"$f":"Urliste!C577","v":2},90,0.156794425087108,110,0.19163763066202091,90,0.156794425087108,284,0.49477351916376305,574,1]
[null,575,{"$f":"Urliste!C578","v":3},90,0.15652173913043479,110,0.19130434782608696,91,0.1582608695652174,284,0.49391304347826087,575,1]
[null,576,{"$f":"Urliste!C579","v":5},90,0.15625,110,0.19097222222222221,91,0.1579861111111111,285,0.49479166666666669,576,1]
[null,577,{"$f":"Urliste!C580","v":2},90,0.15597920277296359,111,0.1923743500866551,91,0.15771230502599654,285,0.49393414211438474,577,1]
[null,578,{"$f":"Urliste!C581","v":2},90,0.15570934256055363,112,0.19377162629757785,91,0.157439446366782,285,0.49307958477508651,578,1]
[null,579,{"$f":"Urliste!C582","v":3},90,0.15544041450777202,112,0.19343696027633853,92,0.15889464594127806,285,0.49222797927461137,579,1]
[null,580,{"$f":"Urliste!C583","v":5},90,0.15517241379310345,112,0.19310344827586207,92,0.15862068965517243,286,0.49310344827586206,580,1]
[null,581,{"$f":"Urliste!C584","v":5},90,0.1549053356282272,112,0.19277108433734941,{"$f":"IF(C602=3,H601+1,H601)","v":92},{"$f":"H602/B602","v":0.15834767641996558},{"$f":"IF(C602>3,J601+1,J601)","v":287},{"$f":"J602/B602","v":0.49397590361445781},{"$f":"SUM(D602,J602,H602,F602)","v":581},{"$f":"SUM(K602,I602,G602,E602)","v":0.99999999999999989}]
[null,582,{"$f":"Urliste!C585","v":3},90,0.15463917525773196,112,0.19243986254295534,93,0.15979381443298968,287,0.49312714776632305,582,1]
[null,583,{"$f":"Urliste!C586","v":4},90,0.15437392795883362,112,0.19210977701543738,93,0.15951972555746141,288,0.49399656946826759,583,1]
[null,584,{"$f":"Urliste!C587","v":5},90,0.1541095890410959,112,0.19178082191780821,93,0.15924657534246575,289,0.49486301369863012,584,1]
[null,585,{"$f":"Urliste!C588","v":2},90,0.15384615384615385,113,0.19316239316239317,93,0.15897435897435896,289,0.49401709401709404,585,1]
[null,586,{"$f":"Urliste!C589","v":4},90,0.15358361774744028,113,0.19283276450511946,93,0.15870307167235495,290,0.4948805460750853,586,1]
[null,587,{"$f":"Urliste!C590","v":4},90,0.15332197614991483,113,0.19250425894378195,93,0.15843270868824533,291,0.49574105621805792,587,1]
[null,588,{"$f":"Urliste!C591","v":5},90,0.15306122448979592,113,0.19217687074829931,93,0.15816326530612246,292,0.49659863945578231,588,1]
[null,589,{"$f":"Urliste!C592","v":3},90,0.15280135823429541,113,0.19185059422750425,94,0.15959252971137522,292,0.49575551782682514,589,1]
[null,590,{"$f":"Urliste!C593","v":3},90,0.15254237288135594,113,0.19152542372881357,95,0.16101694915254236,292,0.49491525423728816,590,1]
[null,591,{"$f":"Urliste!C594","v":2},90,0.15228426395939088,114,0.19289340101522842,95,0.16074450084602368,292,0.49407783417935702,591,1]
[null,592,{"$f":"Urliste!C595","v":6},90,0.15202702702702703,114,0.19256756756756757,95,0.16047297297297297,293,0.49493243243243246,592,1]
[null,593,{"$f":"Urliste!C596","v":4},90,0.15177065767284992,114,0.19224283305227655,95,0.16020236087689713,294,0.49578414839797641,593,1]
[null,594,{"$f":"Urliste!C597","v":5},90,0.15151515151515152,114,0.19191919191919191,95,0.15993265993265993,295,0.49663299663299665,594,1]
[null,595,{"$f":"Urliste!C598","v":1},91,0.15294117647058825,114,0.1915966386554622,95,0.15966386554621848,295,0.49579831932773111,595,1]
[null,596,{"$f":"Urliste!C599","v":1},92,0.15436241610738255,114,0.1912751677852349,95,0.15939597315436241,295,0.49496644295302011,596,1]
[null,597,{"$f":"Urliste!C600","v":5},92,0.1541038525963149,114,0.19095477386934673,95,0.15912897822445563,296,0.49581239530988275,597,0.99999999999999989]
[null,598,{"$f":"Urliste!C601","v":4},92,0.15384615384615385,114,0.19063545150501673,95,0.15886287625418061,297,0.49665551839464883,598,1]
[null,599,{"$f":"Urliste!C602","v":3},92,0.15358931552587646,114,0.19031719532554256,96,0.16026711185308848,297,0.4958263772954925,599,1]
[null,600,{"$f":"Urliste!C603","v":1},93,0.155,114,0.19,96,0.16,297,0.495,600,1]
[null,601,{"$f":"Urliste!C604","v":5},93,0.15474209650582363,114,0.18968386023294509,96,0.15973377703826955,298,0.49584026622296173,601,0.99999999999999989]
[null,602,{"$f":"Urliste!C605","v":4},93,0.15448504983388706,114,0.18936877076411959,96,0.15946843853820597,299,0.49667774086378735,602,1]
[null,603,{"$f":"Urliste!C606","v":6},93,0.15422885572139303,114,0.1890547263681592,96,0.15920398009950248,300,0.49751243781094528,603,1]
[null,604,{"$f":"Urliste!C607","v":1},94,0.15562913907284767,114,0.18874172185430463,96,0.15894039735099338,300,0.49668874172185429,604,1]
[null,605,{"$f":"Urliste!C608","v":1},95,0.15702479338842976,114,0.1884297520661157,96,0.15867768595041323,300,0.49586776859504134,605,1]
[null,606,{"$f":"Urliste!C609","v":6},95,0.15676567656765678,114,0.18811881188118812,96,0.15841584158415842,301,0.49669966996699672,606,1]
[null,607,{"$f":"Urliste!C610","v":4},95,0.15650741350906094,114,0.18780889621087316,96,0.15815485996705106,302,0.49752883031301481,607,1]
[null,608,{"$f":"Urliste!C611","v":6},95,0.15625,114,0.1875,96,0.15789473684210525,303,0.49835526315789475,608,1]
[null,609,{"$f":"Urliste!C612","v":5},95,0.15599343185550082,114,0.18719211822660098,96,0.15763546798029557,304,0.49917898193760263,609,1]
[null,610,{"$f":"Urliste!C613","v":2},95,0.15573770491803279,115,0.18852459016393441,96,0.15737704918032788,304,0.49836065573770494,610,1]
[null,611,{"$f":"Urliste!C614","v":5},95,0.15548281505728315,115,0.18821603927986907,96,0.15711947626841244,305,0.49918166939443537,611,1]
[null,612,{"$f":"Urliste!C615","v":4},95,0.15522875816993464,115,0.18790849673202614,96,0.15686274509803921,306,0.5,612,1]
[null,613,{"$f":"Urliste!C616","v":5},{"$f":"IF(C634=1,D633+1,D633)","v":95},{"$f":"D634/B634","v":0.15497553017944535},{"$f":"IF(C634=2,F633+1,F633)","v":115},{"$f":"F634/B634","v":0.18760195758564438},96,0.15660685154975529,307,0.50081566068515493,613,0.99999999999999989]
[null,614,{"$f":"Urliste!C617","v":4},95,0.15472312703583063,115,0.18729641693811075,96,0.15635179153094461,308,0.50162866449511401,614,1]
[null,615,{"$f":"Urliste!C618","v":2},95,0.15447154471544716,116,0.1886178861788618,96,0.15609756097560976,308,0.50081300813008134,615,1]
[null,616,{"$f":"Urliste!C619","v":2},95,0.15422077922077923,117,0.18993506493506493,96,0.15584415584415584,308,0.5,616,1]
[null,617,{"$f":"Urliste!C620","v":6},95,0.1539708265802269,117,0.18962722852512157,96,0.15559157212317667,309,0.50081037277147489,617,1]
[null,618,{"$f":"Urliste!C621","v":1},96,0.1553398058252427,117,0.18932038834951456,96,0.1553398058252427,309,0.5,618,1]
[null,619,{"$f":"Urliste!C622","v":2},96,0.15508885298869143,118,0.19063004846526657,96,0.15508885298869143,309,0.49919224555735059,619,1]
[null,620,{"$f":"Urliste!C623","v":2},96,0.15483870967741936,119,0.19193548387096773,96,0.15483870967741936,309,0.49838709677419357,620,1]
[null,621,{"$f":"Urliste!C624","v":4},96,0.15458937198067632,119,0.19162640901771336,96,0.15458937198067632,310,0.49919484702093397,621,1]
[null,622,{"$f":"Urliste!C625","v":3},96,0.15434083601286175,119,0.19131832797427653,97,0.15594855305466238,310,0.49839228295819937,622,1]
[null,623,{"$f":"Urliste!C626","v":2},96,0.15409309791332262,120,0.1926163723916533,97,0.15569823434991975,310,0.49759229534510435,623,1]
[null,624,{"$f":"Urliste!C627","v":5},96,0.15384615384615385,120,0.19230769230769232,97,0.15544871794871795,311,0.4983974358974359,624,1]
[null,625,{"$f":"Urliste!C628","v":2},96,0.15359999999999999,121,0.19359999999999999,97,0.1552,311,0.49759999999999999,625,1]
[null,626,{"$f":"Urliste!C629","v":3},96,0.15335463258785942,121,0.19329073482428116,98,0.15654952076677317,311,0.49680511182108628,626,1]
[null,627,{"$f":"Urliste!C630","v":5},96,0.15311004784688995,121,0.19298245614035087,98,0.15629984051036683,312,0.49760765550239233,627,0.99999999999999989]
[null,628,{"$f":"Urliste!C631","v":3},96,0.15286624203821655,121,0.1926751592356688,99,0.15764331210191082,312,0.49681528662420382,628,1]
[null,629,{"$f":"Urliste!C632","v":4},96,0.15262321144674085,121,0.19236883942766295,99,0.15739268680445151,313,0.49761526232114467,629,1]
[null,630,{"$f":"Urliste!C633","v":2},96,0.15238095238095239,122,0.19365079365079366,99,0.15714285714285714,313,0.49682539682539684,630,1]
[null,631,{"$f":"Urliste!C634","v":2},96,0.15213946117274169,123,0.19492868462757529,99,0.15689381933438987,313,0.49603803486529319,631,1]
[null,632,{"$f":"Urliste!C635","v":5},96,0.15189873417721519,123,0.19462025316455697,99,0.15664556962025317,314,0.49683544303797467,632,1]
[null,633,{"$f":"Urliste!C636","v":4},96,0.15165876777251186,123,0.19431279620853081,99,0.15639810426540285,315,0.49763033175355448,633,1]
[null,634,{"$f":"Urliste!C637","v":2},96,0.15141955835962145,124,0.19558359621451105,99,0.15615141955835962,315,0.49684542586750791,634,1]
[null,635,{"$f":"Urliste!C638","v":1},97,0.15275590551181104,124,0.1952755905511811,99,0.15590551181102363,315,0.49606299212598426,635,1]
[null,636,{"$f":"Urliste!C639","v":4},97,0.15251572327044025,124,0.19496855345911951,99,0.15566037735849056,316,0.49685534591194969,636,1]
[null,637,{"$f":"Urliste!C640","v":4},97,0.15227629513343799,124,0.19466248037676609,99,0.15541601255886969,317,0.4976452119309262,637,1]
[null,638,{"$f":"Urliste!C641","v":2},97,0.15203761755485892,125,0.19592476489028213,99,0.15517241379310345,317,0.49686520376175547,638,0.99999999999999989]
[null,639,{"$f":"Urliste!C642","v":3},97,0.15179968701095461,125,0.19561815336463223,100,0.1564945226917058,317,0.49608763693270735,639,1]
[null,640,{"$f":"Urliste!C643","v":1},98,0.15312500000000001,125,0.1953125,100,0.15625,317,0.49531249999999999,640,1]
[null,641,{"$f":"Urliste!C644","v":2},98,0.15288611544461778,126,0.19656786271450857,100,0.15600624024960999,317,0.49453978159126366,641,1]
[null,642,{"$f":"Urliste!C645","v":4},98,0.15264797507788161,126,0.19626168224299065,100,0.1557632398753894,318,0.49532710280373832,642,1]
[null,643,{"$f":"Urliste!C646","v":3},98,0.15241057542768274,126,0.19595645412130638,101,0.15707620528771385,318,0.49455676516329705,643,1]
[null,644,{"$f":"Urliste!C647","v":2},98,0.15217391304347827,127,0.19720496894409939,101,0.15683229813664595,318,0.49378881987577639,644,1]
[null,645,{"$f":"Urliste!C648","v":6},98,0.15193798449612403,127,0.19689922480620156,{"$f":"IF(C666=3,H665+1,H665)","v":101},{"$f":"H666/B666","v":0.15658914728682172},{"$f":"IF(C666>3,J665+1,J665)","v":319},{"$f":"J666/B666","v":0.49457364341085269},{"$f":"SUM(D666,J666,H666,F666)","v":645},{"$f":"SUM(K666,I666,G666,E666)","v":1}]
[null,646,{"$f":"Urliste!C649","v":2},98,0.15170278637770898,128,0.19814241486068113,101,0.15634674922600619,319,0.4938080495356037,646,1]
[null,647,{"$f":"Urliste!C650","v":5},98,0.15146831530139104,128,0.19783616692426584,101,0.15610510046367851,320,0.49459041731066461,647,1]
[null,648,{"$f":"Urliste!C651","v":2},98,0.15123456790123457,129,0.19907407407407407,101,0.1558641975308642,320,0.49382716049382713,648,1]
[null,649,{"$f":"Urliste!C652","v":2},98,0.15100154083204931,130,0.20030816640986132,101,0.15562403697996918,320,0.49306625577812019,649,1]
[null,650,{"$f":"Urliste!C653","v":2},98,0.15076923076923077,131,0.20153846153846153,101,0.15538461538461537,320,0.49230769230769234,650,1]
[null,651,{"$f":"Urliste!C654","v":2},98,0.15053763440860216,132,0.20276497695852536,101,0.15514592933947774,320,0.49155145929339478,651,1]
[null,652,{"$f":"Urliste!C655","v":5},98,0.15030674846625766,132,0.20245398773006135,101,0.15490797546012269,321,0.49233128834355827,652,1]
[null,653,{"$f":"Urliste!C656","v":6},98,0.15007656967840735,132,0.20214395099540583,101,0.15467075038284839,322,0.49310872894333846,653,1]
[null,654,{"$f":"Urliste!C657","v":4},98,0.14984709480122324,132,0.20183486238532111,101,0.15443425076452599,323,0.49388379204892968,654,1]
[null,655,{"$f":"Urliste!C658","v":2},98,0.14961832061068703,133,0.20305343511450383,101,0.15419847328244274,323,0.49312977099236643,655,1]
[null,656,{"$f":"Urliste!C659","v":1},99,0.15091463414634146,133,0.2027439024390244,101,0.15396341463414634,323,0.4923780487804878,656,1]
[null,657,{"$f":"Urliste!C660","v":1},100,0.15220700152207001,133,0.20243531202435311,101,0.15372907153729071,323,0.49162861491628612,657,1]
[null,658,{"$f":"Urliste!C661","v":1},101,0.15349544072948329,133,0.20212765957446807,101,0.15349544072948329,323,0.49088145896656538,658,1]
[null,659,{"$f":"Urliste!C662","v":6},101,0.15326251896813353,133,0.20182094081942337,101,0.15326251896813353,324,0.49165402124430957,659,1]
[null,660,{"$f":"Urliste!C663","v":5},101,0.15303030303030302,133,0.20151515151515151,101,0.15303030303030302,325,0.49242424242424243,660,1]
[null,661,{"$f":"Urliste!C664","v":2},101,0.15279878971255673,134,0.20272314674735251,101,0.15279878971255673,325,0.49167927382753401,661,1]
[null,662,{"$f":"Urliste!C665","v":2},101,0.15256797583081572,135,0.2039274924471299,101,0.15256797583081572,325,0.49093655589123869,662,1]
[null,663,{"$f":"Urliste!C666","v":5},101,0.15233785822021115,135,0.20361990950226244,101,0.15233785822021115,326,0.49170437405731521,663,0.99999999999999989]
[null,664,{"$f":"Urliste!C667","v":6},101,0.15210843373493976,135,0.2033132530120482,101,0.15210843373493976,327,0.49246987951807231,664,1]
[null,665,{"$f":"Urliste!C668","v":1},102,0.15338345864661654,135,0.20300751879699247,101,0.15187969924812031,327,0.49172932330827068,665,1]
[null,666,{"$f":"Urliste!C669","v":3},102,0.15315315315315314,135,0.20270270270270271,102,0.15315315315315314,327,0.49099099099099097,666,1]
[null,667,{"$f":"Urliste!C670","v":4},102,0.15292353823088456,135,0.20239880059970014,102,0.15292353823088456,328,0.49175412293853071,667,1]
[null,668,{"$f":"Urliste!C671","v":6},102,0.15269461077844312,135,0.20209580838323354,102,0.15269461077844312,329,0.49251497005988026,668,1]
[null,669,{"$f":"Urliste!C672","v":5},102,0.15246636771300448,135,0.20179372197309417,102,0.15246636771300448,330,0.49327354260089684,669,1]
[null,670,{"$f":"Urliste!C673","v":3},102,0.15223880597014924,135,0.20149253731343283,103,0.15373134328358209,330,0.4925373134328358,670,1]
[null,671,{"$f":"Urliste!C674","v":1},103,0.15350223546944858,135,0.20119225037257824,103,0.15350223546944858,330,0.49180327868852458,671,1]
[null,672,{"$f":"Urliste!C675","v":2},103,0.15327380952380953,136,0.20238095238095238,103,0.15327380952380953,330,0.49107142857142855,672,1]
[null,673,{"$f":"Urliste!C676","v":1},104,0.15453194650817237,136,0.20208023774145617,103,0.15304606240713226,330,0.49034175334323921,673,0.99999999999999989]
[null,674,{"$f":"Urliste!C677","v":4},104,0.1543026706231454,136,0.20178041543026706,103,0.15281899109792285,331,0.49109792284866471,674,1]
[null,675,{"$f":"Urliste!C678","v":6},104,0.15407407407407409,136,0.20148148148148148,103,0.15259259259259259,332,0.49185185185185187,675,1]
[null,676,{"$f":"Urliste!C679","v":4},104,0.15384615384615385,136,0.20118343195266272,103,0.15236686390532544,333,0.49260355029585801,676,1]
[null,677,{"$f":"Urliste!C680","v":5},{"$f":"IF(C698=1,D697+1,D697)","v":104},{"$f":"D698/B698","v":0.15361890694239291},{"$f":"IF(C698=2,F697+1,F697)","v":136},{"$f":"F698/B698","v":0.20088626292466766},103,0.15214180206794684,334,0.49335302806499259,677,0.99999999999999989]
[null,678,{"$f":"Urliste!C681","v":3},104,0.15339233038348082,136,0.20058997050147492,104,0.15339233038348082,334,0.49262536873156343,678,1]
[null,679,{"$f":"Urliste!C682","v":4},104,0.15316642120765833,136,0.20029455081001474,104,0.15316642120765833,335,0.49337260677466865,679,1]
[null,680,{"$f":"Urliste!C683","v":4},104,0.15294117647058825,136,0.2,104,0.15294117647058825,336,0.49411764705882355,680,1]
[null,681,{"$f":"Urliste!C684","v":4},104,0.1527165932452276,136,0.19970631424375918,104,0.1527165932452276,337,0.49486049926578562,681,1]
[null,682,{"$f":"Urliste!C685","v":6},104,0.15249266862170088,136,0.19941348973607037,104,0.15249266862170088,338,0.49560117302052786,682,0.99999999999999989]
[null,683,{"$f":"Urliste!C686","v":2},104,0.15226939970717424,137,0.20058565153733529,104,0.15226939970717424,338,0.49487554904831627,683,1]
[null,684,{"$f":"Urliste!C687","v":6},104,0.15204678362573099,137,0.20029239766081872,104,0.15204678362573099,339,0.49561403508771928,684,1]
[null,685,{"$f":"Urliste!C688","v":4},104,0.15182481751824817,137,0.2,104,0.15182481751824817,340,0.49635036496350365,685,1]
[null,686,{"$f":"Urliste!C689","v":6},104,0.15160349854227406,137,0.19970845481049562,104,0.15160349854227406,341,0.49708454810495628,686,1]
[null,687,{"$f":"Urliste!C690","v":6},104,0.15138282387190685,137,0.19941775836972345,104,0.15138282387190685,342,0.49781659388646288,687,1]
[null,688,{"$f":"Urliste!C691","v":6},104,0.15116279069767441,137,0.19912790697674418,104,0.15116279069767441,343,0.49854651162790697,688,1]
[null,689,{"$f":"Urliste!C692","v":6},104,0.15094339622641509,137,0.19883889695210449,104,0.15094339622641509,344,0.49927431059506533,689,1]
[null,690,{"$f":"Urliste!C693","v":5},104,0.15072463768115943,137,0.19855072463768117,104,0.15072463768115943,345,0.5,690,1]
[null,691,{"$f":"Urliste!C694","v":3},104,0.15050651230101303,137,0.19826338639652677,105,0.15195369030390737,345,0.4992764109985528,691,1]
[null,692,{"$f":"Urliste!C695","v":1},105,0.15173410404624277,137,0.19797687861271676,105,0.15173410404624277,345,0.49855491329479767,692,1]
[null,693,{"$f":"Urliste!C696","v":2},105,0.15151515151515152,138,0.19913419913419914,105,0.15151515151515152,345,0.49783549783549785,693,1]
[null,694,{"$f":"Urliste!C697","v":1},106,0.15273775216138327,138,0.19884726224783861,105,0.15129682997118155,345,0.49711815561959655,694,1]
[null,695,{"$f":"Urliste!C698","v":4},106,0.15251798561151078,138,0.19856115107913669,105,0.15107913669064749,346,0.49784172661870502,695,0.99999999999999989]
[null,696,{"$f":"Urliste!C699","v":3},106,0.15229885057471265,138,0.19827586206896552,106,0.15229885057471265,346,0.49712643678160917,696,1]
[null,697,{"$f":"Urliste!C700","v":2},106,0.15208034433285508,139,0.19942611190817791,106,0.15208034433285508,346,0.4964131994261119,697,1]
[null,698,{"$f":"Urliste!C701","v":6},106,0.15186246418338109,139,0.1991404011461318,106,0.15186246418338109,347,0.49713467048710602,698,1]
[null,699,{"$f":"Urliste!C702","v":3},106,0.15164520743919885,139,0.19885550786838341,107,0.1530758226037196,347,0.49642346208869814,699,0.99999999999999989]
[null,700,{"$f":"Urliste!C703","v":5},106,0.15142857142857144,139,0.19857142857142857,107,0.15285714285714286,348,0.49714285714285716,700,1]
[null,701,{"$f":"Urliste!C704","v":3},106,0.15121255349500715,139,0.19828815977175462,108,0.15406562054208273,348,0.49643366619115548,701,1]
[null,702,{"$f":"Urliste!C705","v":1},107,0.15242165242165243,139,0.19800569800569801,108,0.15384615384615385,348,0.49572649572649574,702,1]
[null,703,{"$f":"Urliste!C706","v":5},107,0.15220483641536273,139,0.19772403982930298,108,0.15362731152204837,349,0.49644381223328593,703,1]
[null,704,{"$f":"Urliste!C707","v":6},107,0.15198863636363635,139,0.19744318181818182,108,0.15340909090909091,350,0.49715909090909088,704,0.99999999999999989]
[null,705,{"$f":"Urliste!C708","v":2},107,0.15177304964539007,140,0.19858156028368795,108,0.15319148936170213,350,0.49645390070921985,705,1]
[null,706,{"$f":"Urliste!C709","v":4},107,0.15155807365439095,140,0.19830028328611898,108,0.15297450424929179,351,0.49716713881019831,706,1]
[null,707,{"$f":"Urliste!C710","v":5},107,0.15134370579915135,140,0.19801980198019803,108,0.15275813295615276,352,0.49787835926449786,707,1]
[null,708,{"$f":"Urliste!C711","v":2},107,0.15112994350282485,141,0.19915254237288135,108,0.15254237288135594,352,0.49717514124293788,708,1]
[null,709,{"$f":"Urliste!C712","v":2},107,0.15091678420310295,142,0.2002820874471086,{"$f":"IF(C730=3,H729+1,H729)","v":108},{"$f":"H730/B730","v":0.15232722143864599},{"$f":"IF(C730>3,J729+1,J729)","v":352},{"$f":"J730/B730","v":0.49647390691114246},{"$f":"SUM(D730,J730,H730,F730)","v":709},{"$f":"SUM(K730,I730,G730,E730)","v":1}]
[null,710,{"$f":"Urliste!C713","v":5},107,0.15070422535211267,142,0.2,108,0.15211267605633802,353,0.4971830985915493,710,1]
[null,711,{"$f":"Urliste!C714","v":6},107,0.15049226441631505,142,0.19971870604781997,108,0.15189873417721519,354,0.49789029535864981,711,1]
[null,712,{"$f":"Urliste!C715","v":4},107,0.1502808988764045,142,0.199438202247191,108,0.15168539325842698,355,0.49859550561797755,712,1]
[null,713,{"$f":"Urliste!C716","v":5},107,0.15007012622720897,142,0.19915848527349228,108,0.1514726507713885,356,0.49929873772791022,713,0.99999999999999989]
[null,714,{"$f":"Urliste!C717","v":5},107,0.14985994397759103,142,0.19887955182072828,108,0.15126050420168066,357,0.5,714,1]
[null,715,{"$f":"Urliste!C718","v":6},107,0.14965034965034965,142,0.19860139860139861,108,0.15104895104895105,358,0.50069930069930069,715,1]
[null,716,{"$f":"Urliste!C719","v":4},107,0.1494413407821229,142,0.19832402234636873,108,0.15083798882681565,359,0.50139664804469275,716,1]
[null,717,{"$f":"Urliste!C720","v":3},107,0.14923291492329149,142,0.19804741980474197,109,0.15202231520223153,359,0.50069735006973504,717,1]
[null,718,{"$f":"Urliste!C721","v":5},107,0.14902506963788301,142,0.1977715877437326,109,0.15181058495821728,360,0.50139275766016711,718,1]
[null,719,{"$f":"Urliste!C722","v":4},107,0.14881780250347706,142,0.19749652294853964,109,0.15159944367176634,361,0.50208623087621695,719,1]
[null,720,{"$f":"Urliste!C723","v":4},107,0.14861111111111111,142,0.19722222222222222,109,0.15138888888888888,362,0.50277777777777777,720,1]
[null,721,{"$f":"Urliste!C724","v":6},107,0.14840499306518723,142,0.19694868238557559,109,0.15117891816920942,363,0.50346740638002774,721,1]
[null,722,{"$f":"Urliste!C725","v":5},107,0.1481994459833795,142,0.19667590027700832,109,0.15096952908587258,364,0.50415512465373957,722,1]
[null,723,{"$f":"Urliste!C726","v":3},107,0.14799446749654219,142,0.19640387275242047,110,0.15214384508990317,364,0.50345781466113415,723,1]
[null,724,{"$f":"Urliste!C727","v":2},107,0.1477900552486188,143,0.19751381215469613,110,0.15193370165745856,364,0.50276243093922657,724,1]
[null,725,{"$f":"Urliste!C728","v":5},107,0.14758620689655172,143,0.19724137931034483,110,0.15172413793103448,365,0.50344827586206897,725,1]
[null,726,{"$f":"Urliste!C729","v":6},107,0.14738292011019283,143,0.19696969696969696,110,0.15151515151515152,366,0.50413223140495866,726,1]
[null,727,{"$f":"Urliste!C730","v":3},107,0.14718019257221457,143,0.19669876203576342,111,0.15268225584594222,366,0.50343878954607979,727,1]
[null,728,{"$f":"Urliste!C731","v":1},108,0.14835164835164835,143,0.19642857142857142,111,0.15247252747252749,366,0.50274725274725274,728,1]
[null,729,{"$f":"Urliste!C732","v":3},108,0.14814814814814814,143,0.19615912208504802,112,0.15363511659807957,366,0.50205761316872433,729,1]
[null,730,{"$f":"Urliste!C733","v":5},108,0.14794520547945206,143,0.19589041095890411,112,0.15342465753424658,367,0.50273972602739725,730,1]
[null,731,{"$f":"Urliste!C734","v":6},108,0.14774281805745554,143,0.19562243502051985,112,0.15321477428180574,368,0.50341997264021887,731,1]
[null,732,{"$f":"Urliste!C735","v":6},108,0.14754098360655737,143,0.1953551912568306,112,0.15300546448087432,369,0.50409836065573765,732,0.99999999999999978]
[null,733,{"$f":"Urliste!C736","v":2},108,0.14733969986357434,144,0.19645293315143247,112,0.15279672578444747,369,0.50341064120054568,733,1]
[null,734,{"$f":"Urliste!C737","v":5},108,0.14713896457765668,144,0.19618528610354224,112,0.15258855585831063,370,0.50408719346049047,734,1]
[null,735,{"$f":"Urliste!C738","v":1},109,0.14829931972789115,144,0.19591836734693877,112,0.15238095238095239,370,0.50340136054421769,735,1]
[null,736,{"$f":"Urliste!C739","v":4},109,0.14809782608695651,144,0.19565217391304349,112,0.15217391304347827,371,0.50407608695652173,736,1]
[null,737,{"$f":"Urliste!C740","v":4},109,0.14789687924016282,144,0.19538670284938942,112,0.1519674355495251,372,0.50474898236092269,737,1]
[null,738,{"$f":"Urliste!C741","v":3},109,0.14769647696476965,144,0.1951219512195122,113,0.15311653116531165,372,0.50406504065040647,738,0.99999999999999989]
[null,739,{"$f":"Urliste!C742","v":5},109,0.14749661705006767,144,0.19485791610284167,113,0.15290933694181327,373,0.50473612990527739,739,1]
[null,740,{"$f":"Urliste!C743","v":3},109,0.14729729729729729,144,0.19459459459459461,114,0.15405405405405406,373,0.50405405405405401,740,1]
[null,741,{"$f":"Urliste!C744","v":2},{"$f":"IF(C762=1,D761+1,D761)","v":109},{"$f":"D762/B762","v":0.14709851551956815},{"$f":"IF(C762=2,F761+1,F761)","v":145},{"$f":"F762/B762","v":0.19568151147098514},114,0.15384615384615385,373,0.50337381916329282,741,1]
[null,742,{"$f":"Urliste!C745","v":1},110,0.14824797843665768,145,0.19541778975741239,114,0.15363881401617252,373,0.50269541778975746,742,1]
[null,743,{"$f":"Urliste!C746","v":2},110,0.1480484522207268,146,0.19650067294751009,114,0.15343203230148048,373,0.50201884253028262,743,1]
[null,744,{"$f":"Urliste!C747","v":2},110,0.14784946236559141,147,0.19758064516129031,114,0.15322580645161291,373,0.50134408602150538,744,0.99999999999999989]
[null,745,{"$f":"Urliste!C748","v":5},110,0.1476510067114094,147,0.19731543624161074,114,0.15302013422818792,374,0.50201342281879191,745,1]
[null,746,{"$f":"Urliste!C749","v":4},110,0.14745308310991956,147,0.1970509383378016,114,0.15281501340482573,375,0.50268096514745308,746,1]
[null,747,{"$f":"Urliste!C750","v":2},110,0.14725568942436412,148,0.19812583668005354,114,0.15261044176706828,375,0.50200803212851408,747,1]
[null,748,{"$f":"Urliste!C751","v":3},110,0.14705882352941177,148,0.19786096256684493,115,0.15374331550802139,375,0.50133689839572193,748,1]
[null,749,{"$f":"Urliste!C752","v":1},111,0.14819759679572764,148,0.19759679572763686,115,0.15353805073431243,375,0.50066755674232311,749,1]
[null,750,{"$f":"Urliste!C753","v":3},111,0.14799999999999999,148,0.19733333333333333,116,0.15466666666666667,375,0.5,750,1]
[null,751,{"$f":"Urliste!C754","v":3},111,0.14780292942743009,148,0.19707057256990679,117,0.15579227696404793,375,0.49933422103861519,751,1]
[null,752,{"$f":"Urliste!C755","v":3},111,0.14760638297872342,148,0.19680851063829788,118,0.15691489361702127,375,0.49867021276595747,752,1]
[null,753,{"$f":"Urliste!C756","v":1},112,0.14873837981407703,148,0.19654714475431606,118,0.15670650730411687,375,0.49800796812749004,753,0.99999999999999989]
[null,754,{"$f":"Urliste!C757","v":5},112,0.14854111405835543,148,0.19628647214854111,118,0.15649867374005305,376,0.49867374005305037,754,1]
[null,755,{"$f":"Urliste!C758","v":6},112,0.14834437086092717,148,0.19602649006622516,118,0.15629139072847681,377,0.49933774834437084,755,1]
[null,756,{"$f":"Urliste!C759","v":2},112,0.14814814814814814,149,0.19708994708994709,118,0.15608465608465608,377,0.49867724867724866,756,1]
[null,757,{"$f":"Urliste!C760","v":4},112,0.14795244385733158,149,0.19682959048877147,118,0.15587846763540292,378,0.49933949801849403,757,1]
[null,758,{"$f":"Urliste!C761","v":1},113,0.14907651715039577,149,0.19656992084432717,118,0.15567282321899736,378,0.49868073878627966,758,1]
[null,759,{"$f":"Urliste!C762","v":2},113,0.14888010540184454,150,0.19762845849802371,118,0.155467720685112,378,0.49802371541501977,759,1]
[null,760,{"$f":"Urliste!C763","v":4},113,0.14868421052631578,150,0.19736842105263158,118,0.15526315789473685,379,0.49868421052631579,760,1]
[null,761,{"$f":"Urliste!C764","v":1},114,0.14980289093298291,150,0.19710906701708278,118,0.15505913272010513,379,0.49802890932982918,761,1]
[null,762,{"$f":"Urliste!C765","v":4},114,0.14960629921259844,150,0.19685039370078741,118,0.15485564304461943,380,0.49868766404199477,762,1]
[null,763,{"$f":"Urliste!C766","v":2},114,0.14941022280471822,151,0.19790301441677588,118,0.15465268676277852,380,0.49803407601572741,763,1]
[null,764,{"$f":"Urliste!C767","v":6},114,0.14921465968586387,151,0.19764397905759162,118,0.15445026178010471,381,0.4986910994764398,764,1]
[null,765,{"$f":"Urliste!C768","v":1},115,0.15032679738562091,151,0.19738562091503267,118,0.1542483660130719,381,0.49803921568627452,765,1]
[null,766,{"$f":"Urliste!C769","v":3},115,0.15013054830287206,151,0.19712793733681463,119,0.15535248041775457,381,0.49738903394255873,766,1]
[null,767,{"$f":"Urliste!C770","v":4},115,0.14993481095176012,151,0.196870925684485,119,0.15514993481095177,382,0.49804432855280312,767,0.99999999999999989]
[null,768,{"$f":"Urliste!C771","v":4},115,0.14973958333333334,151,0.19661458333333334,119,0.15494791666666666,383,0.49869791666666669,768,1]
[null,769,{"$f":"Urliste!C772","v":4},115,0.14954486345903772,151,0.19635890767230169,119,0.15474642392717816,384,0.49934980494148246,769,1]
[null,770,{"$f":"Urliste!C773","v":5},115,0.14935064935064934,151,0.19610389610389611,119,0.15454545454545454,385,0.5,770,1]
[null,771,{"$f":"Urliste!C774","v":6},115,0.14915693904020752,151,0.19584954604409857,119,0.15434500648508431,386,0.5006485084306096,771,1]
[null,772,{"$f":"Urliste!C775","v":1},116,0.15025906735751296,151,0.19559585492227979,119,0.15414507772020725,386,0.5,772,1]
[null,773,{"$f":"Urliste!C776","v":6},116,0.1500646830530401,151,0.19534282018111254,{"$f":"IF(C794=3,H793+1,H793)","v":119},{"$f":"H794/B794","v":0.15394566623544631},{"$f":"IF(C794>3,J793+1,J793)","v":387},{"$f":"J794/B794","v":0.50064683053040104},{"$f":"SUM(D794,J794,H794,F794)","v":773},{"$f":"SUM(K794,I794,G794,E794)","v":1}]
[null,774,{"$f":"Urliste!C777","v":4},116,0.14987080103359174,151,0.19509043927648578,119,0.15374677002583978,388,0.50129198966408273,774,1]
[null,775,{"$f":"Urliste!C778","v":3},116,0.14967741935483872,151,0.19483870967741934,120,0.15483870967741936,388,0.50064516129032255,775,1]
[null,776,{"$f":"Urliste!C779","v":1},117,0.15077319587628865,151,0.19458762886597938,120,0.15463917525773196,388,0.5,776,1]
[null,777,{"$f":"Urliste!C780","v":2},117,0.15057915057915058,152,0.19562419562419561,120,0.15444015444015444,388,0.49935649935649934,777,1]
[null,778,{"$f":"Urliste!C781","v":2},117,0.15038560411311053,153,0.19665809768637532,120,0.15424164524421594,388,0.49871465295629819,778,1]
[null,779,{"$f":"Urliste!C782","v":2},117,0.15019255455712452,154,0.19768934531450577,120,0.1540436456996149,388,0.49807445442875481,779,1]
[null,780,{"$f":"Urliste!C783","v":6},117,0.15,154,0.19743589743589743,120,0.15384615384615385,389,0.49871794871794872,780,1]
[null,781,{"$f":"Urliste!C784","v":2},117,0.14980793854033292,155,0.19846350832266324,120,0.15364916773367476,389,0.49807938540332908,781,1]
[null,782,{"$f":"Urliste!C785","v":2},117,0.14961636828644501,156,0.19948849104859334,120,0.15345268542199489,389,0.49744245524296676,782,1]
[null,783,{"$f":"Urliste!C786","v":1},118,0.15070242656449553,156,0.19923371647509577,120,0.1532567049808429,389,0.49680715197956576,783,1]
[null,784,{"$f":"Urliste!C787","v":6},118,0.15051020408163265,156,0.19897959183673469,120,0.15306122448979592,390,0.49744897959183676,784,1]
[null,785,{"$f":"Urliste!C788","v":4},118,0.15031847133757961,156,0.19872611464968154,120,0.15286624203821655,391,0.49808917197452229,785,1]
[null,786,{"$f":"Urliste!C789","v":3},118,0.15012722646310434,156,0.19847328244274809,121,0.15394402035623408,391,0.49745547073791346,786,1]
[null,787,{"$f":"Urliste!C790","v":4},118,0.14993646759847523,156,0.19822109275730623,121,0.15374841168996187,392,0.49809402795425667,787,1]
[null,788,{"$f":"Urliste!C791","v":6},118,0.14974619289340102,156,0.19796954314720813,121,0.15355329949238578,393,0.4987309644670051,788,1]
[null,789,{"$f":"Urliste!C792","v":3},118,0.14955640050697086,156,0.19771863117870722,122,0.15462610899873258,393,0.49809885931558934,789,1]
[null,790,{"$f":"Urliste!C793","v":5},118,0.14936708860759493,156,0.19746835443037974,122,0.15443037974683543,394,0.49873417721518987,790,0.99999999999999989]
[null,791,{"$f":"Urliste!C794","v":3},118,0.14917825537294563,156,0.19721871049304679,123,0.15549936788874841,394,0.49810366624525915,791,0.99999999999999989]
[null,792,{"$f":"Urliste!C795","v":5},118,0.14898989898989898,156,0.19696969696969696,123,0.1553030303030303,395,0.49873737373737376,792,1]
[null,793,{"$f":"Urliste!C796","v":3},118,0.14880201765447668,156,0.19672131147540983,124,0.15636822194199243,395,0.49810844892812106,793,1]
[null,794,{"$f":"Urliste!C797","v":5},118,0.1486146095717884,156,0.19647355163727959,124,0.15617128463476071,396,0.4987405541561713,794,1]
[null,795,{"$f":"Urliste!C798","v":6},118,0.14842767295597484,156,0.19622641509433963,124,0.15597484276729559,397,0.49937106918238994,795,1]
[null,796,{"$f":"Urliste!C799","v":6},118,0.14824120603015076,156,0.19597989949748743,124,0.15577889447236182,398,0.5,796,1]
[null,797,{"$f":"Urliste!C800","v":6},118,0.14805520702634881,156,0.19573400250941028,124,0.15558343789209536,399,0.50062735257214552,797,1]
[null,798,{"$f":"Urliste!C801","v":5},118,0.14786967418546365,156,0.19548872180451127,124,0.15538847117794485,400,0.50125313283208017,798,1]
[null,799,{"$f":"Urliste!C802","v":4},118,0.1476846057571965,156,0.19524405506883605,124,0.15519399249061328,401,0.50187734668335415,799,1]
[null,800,{"$f":"Urliste!C803","v":2},118,0.14749999999999999,157,0.19625000000000001,124,0.155,401,0.50124999999999997,800,1]
[null,801,{"$f":"Urliste!C804","v":4},118,0.14731585518102372,157,0.19600499375780275,124,0.15480649188514356,402,0.50187265917602997,801,1]
[null,802,{"$f":"Urliste!C805","v":1},119,0.14837905236907731,157,0.19576059850374064,124,0.15461346633416459,402,0.50124688279301743,802,1]
[null,803,{"$f":"Urliste!C806","v":6},119,0.14819427148194272,157,0.19551681195516812,124,0.15442092154420922,403,0.50186799501867996,803,1]
[null,804,{"$f":"Urliste!C807","v":1},120,0.14925373134328357,157,0.19527363184079602,124,0.15422885572139303,403,0.50124378109452739,804,1]
[null,805,{"$f":"Urliste!C808","v":1},{"$f":"IF(C826=1,D825+1,D825)","v":121},{"$f":"D826/B826","v":0.15031055900621118},{"$f":"IF(C826=2,F825+1,F825)","v":157},{"$f":"F826/B826","v":0.19503105590062111},124,0.15403726708074533,403,0.50062111801242237,805,1]
[null,806,{"$f":"Urliste!C809","v":5},121,0.15012406947890819,157,0.19478908188585609,124,0.15384615384615385,404,0.50124069478908184,806,1]
[null,807,{"$f":"Urliste!C810","v":6},121,0.14993804213135067,157,0.19454770755885997,124,0.15365551425030979,405,0.5018587360594795,807,0.99999999999999989]
[null,808,{"$f":"Urliste!C811","v":5},121,0.14975247524752475,157,0.19430693069306931,124,0.15346534653465346,406,0.50247524752475248,808,1]
[null,809,{"$f":"Urliste!C812","v":1},122,0.15080346106304079,157,0.19406674907292953,124,0.15327564894932014,406,0.50185414091470948,809,0.99999999999999989]
[null,810,{"$f":"Urliste!C813","v":6},122,0.1506172839506173,157,0.19382716049382717,124,0.15308641975308643,407,0.5024691358024691,810,1]
[null,811,{"$f":"Urliste!C814","v":6},122,0.1504315659679408,157,0.1935881627620222,124,0.15289765721331688,408,0.50308261405672006,811,0.99999999999999989]
[null,812,{"$f":"Urliste!C815","v":5},122,0.15024630541871922,157,0.19334975369458129,124,0.15270935960591134,409,0.50369458128078815,812,1]
[null,813,{"$f":"Urliste!C816","v":1},123,0.15129151291512916,157,0.19311193111931119,124,0.15252152521525214,409,0.50307503075030746,813,1]
[null,814,{"$f":"Urliste!C817","v":2},123,0.15110565110565111,158,0.1941031941031941,124,0.15233415233415235,409,0.50245700245700242,814,1]
[null,815,{"$f":"Urliste!C818","v":3},123,0.150920245398773,158,0.19386503067484662,125,0.15337423312883436,409,0.501840490797546,815,1]
[null,816,{"$f":"Urliste!C819","v":2},123,0.15073529411764705,159,0.19485294117647059,125,0.15318627450980393,409,0.50122549019607843,816,1]
[null,817,{"$f":"Urliste!C820","v":2},123,0.15055079559363524,160,0.19583843329253367,125,0.15299877600979192,409,0.5006119951040392,817,1]
[null,818,{"$f":"Urliste!C821","v":6},123,0.15036674816625917,160,0.19559902200488999,125,0.1528117359413203,410,0.5012224938875306,818,1]
[null,819,{"$f":"Urliste!C822","v":3},123,0.15018315018315018,160,0.19536019536019536,126,0.15384615384615385,410,0.50061050061050061,819,1]
[null,820,{"$f":"Urliste!C823","v":3},123,0.15,160,0.1951219512195122,127,0.1548780487804878,410,0.5,820,1]
[null,821,{"$f":"Urliste!C824","v":2},123,0.14981729598051158,161,0.19610231425091351,127,0.15468940316686966,410,0.49939098660170522,821,1]
[null,822,{"$f":"Urliste!C825","v":2},123,0.14963503649635038,162,0.19708029197080293,127,0.15450121654501217,410,0.49878345498783455,822,1]
[null,823,{"$f":"Urliste!C826","v":6},123,0.14945321992709598,162,0.1968408262454435,127,0.1543134872417983,411,0.49939246658566222,823,1]
[null,824,{"$f":"Urliste!C827","v":4},123,0.14927184466019416,162,0.19660194174757281,127,0.154126213592233,412,0.5,824,1]
[null,825,{"$f":"Urliste!C828","v":6},123,0.14909090909090908,162,0.19636363636363635,127,0.15393939393939393,413,0.50060606060606061,825,0.99999999999999989]
[null,826,{"$f":"Urliste!C829","v":3},123,0.14891041162227603,162,0.19612590799031476,128,0.15496368038740921,413,0.5,826,1]
[null,827,{"$f":"Urliste!C830","v":5},123,0.14873035066505441,162,0.19588875453446192,128,0.15477629987908101,414,0.50060459492140263,827,1]
[null,828,{"$f":"Urliste!C831","v":3},123,0.14855072463768115,162,0.19565217391304349,129,0.15579710144927536,414,0.5,828,1]
[null,829,{"$f":"Urliste!C832","v":2},123,0.14837153196622438,163,0.19662243667068757,129,0.15560916767189384,414,0.49939686369119424,829,1]
[null,830,{"$f":"Urliste!C833","v":3},123,0.14819277108433734,163,0.19638554216867471,130,0.15662650602409639,414,0.49879518072289158,830,1]
[null,831,{"$f":"Urliste!C834","v":4},123,0.14801444043321299,163,0.19614921780986763,130,0.15643802647412755,415,0.49939831528279183,831,1]
[null,832,{"$f":"Urliste!C835","v":1},124,0.14903846153846154,163,0.19591346153846154,130,0.15625,415,0.49879807692307693,832,1]
[null,833,{"$f":"Urliste!C836","v":6},124,0.148859543817527,163,0.19567827130852342,130,0.15606242496998798,416,0.49939975990396157,833,1]
[null,834,{"$f":"Urliste!C837","v":5},124,0.14868105515587529,163,0.19544364508393286,130,0.15587529976019185,417,0.5,834,1]
[null,835,{"$f":"Urliste!C838","v":4},124,0.14850299401197606,163,0.19520958083832335,130,0.15568862275449102,418,0.5005988023952096,835,1]
[null,836,{"$f":"Urliste!C839","v":5},124,0.14832535885167464,163,0.19497607655502391,130,0.15550239234449761,419,0.50119617224880386,836,1]
[null,837,{"$f":"Urliste!C840","v":4},124,0.14814814814814814,163,0.19474313022700118,{"$f":"IF(C858=3,H857+1,H857)","v":130},{"$f":"H858/B858","v":0.15531660692951016},{"$f":"IF(C858>3,J857+1,J857)","v":420},{"$f":"J858/B858","v":0.50179211469534046},{"$f":"SUM(D858,J858,H858,F858)","v":837},{"$f":"SUM(K858,I858,G858,E858)","v":0.99999999999999989}]
[null,838,{"$f":"Urliste!C841","v":2},124,0.14797136038186157,164,0.19570405727923629,130,0.15513126491646778,420,0.50119331742243434,838,1]
[null,839,{"$f":"Urliste!C842","v":5},124,0.14779499404052443,164,0.19547079856972585,130,0.15494636471990464,421,0.50178784266984511,839,1]
[null,840,{"$f":"Urliste!C843","v":4},124,0.14761904761904762,164,0.19523809523809524,130,0.15476190476190477,422,0.50238095238095237,840,1]
[null,841,{"$f":"Urliste!C844","v":3},124,0.14744351961950058,164,0.19500594530321047,131,0.15576694411414982,422,0.50178359096313907,841,1]
[null,842,{"$f":"Urliste!C845","v":3},124,0.14726840855106887,164,0.19477434679334918,132,0.15676959619952494,422,0.50118764845605701,842,1]
[null,843,{"$f":"Urliste!C846","v":2},124,0.14709371293001186,165,0.19572953736654805,132,0.15658362989323843,422,0.50059311981020171,843,1.0000000000000002]
[null,844,{"$f":"Urliste!C847","v":1},125,0.1481042654028436,165,0.19549763033175355,132,0.15639810426540285,422,0.5,844,0.99999999999999989]
[null,845,{"$f":"Urliste!C848","v":2},125,0.14792899408284024,166,0.19644970414201182,132,0.15621301775147928,422,0.49940828402366866,845,1]
[null,846,{"$f":"Urliste!C849","v":3},125,0.14775413711583923,166,0.19621749408983452,133,0.15721040189125296,422,0.49881796690307328,846,1]
[null,847,{"$f":"Urliste!C850","v":5},125,0.14757969303423848,166,0.1959858323494687,133,0.15702479338842976,423,0.49940968122786306,847,0.99999999999999989]
[null,848,{"$f":"Urliste!C851","v":2},125,0.1474056603773585,167,0.19693396226415094,133,0.15683962264150944,423,0.49882075471698112,848,1]
[null,849,{"$f":"Urliste!C852","v":5},125,0.14723203769140164,167,0.19670200235571261,133,0.15665488810365136,424,0.49941107184923439,849,1]
[null,850,{"$f":"Urliste!C853","v":1},126,0.14823529411764705,167,0.19647058823529412,133,0.15647058823529411,424,0.49882352941176472,850,1]
[null,851,{"$f":"Urliste!C854","v":6},126,0.14806110458284372,167,0.19623971797884843,133,0.1562867215041128,425,0.49941245593419509,851,1]
[null,852,{"$f":"Urliste!C855","v":6},126,0.14788732394366197,167,0.1960093896713615,133,0.15610328638497653,426,0.5,852,1]
[null,853,{"$f":"Urliste!C856","v":2},126,0.1477139507620164,168,0.19695193434935521,133,0.15592028135990621,426,0.49941383352872215,853,1]
[null,854,{"$f":"Urliste!C857","v":2},126,0.14754098360655737,169,0.19789227166276346,133,0.15573770491803279,426,0.49882903981264637,854,1]
[null,855,{"$f":"Urliste!C858","v":3},126,0.14736842105263157,169,0.19766081871345029,134,0.15672514619883041,426,0.49824561403508771,855,1]
[null,856,{"$f":"Urliste!C859","v":4},126,0.14719626168224298,169,0.19742990654205608,134,0.15654205607476634,427,0.49883177570093457,856,1]
[null,857,{"$f":"Urliste!C860","v":3},126,0.14702450408401399,169,0.1971995332555426,135,0.15752625437572929,427,0.4982497082847141,857,1]
[null,858,{"$f":"Urliste!C861","v":2},126,0.14685314685314685,170,0.19813519813519814,135,0.15734265734265734,427,0.49766899766899769,858,1]
[null,859,{"$f":"Urliste!C862","v":1},127,0.14784633294528521,170,0.1979045401629802,135,0.15715948777648428,427,0.49708963911525028,859,1]
[null,860,{"$f":"Urliste!C863","v":1},128,0.14883720930232558,170,0.19767441860465115,135,0.15697674418604651,427,0.49651162790697673,860,1]
[null,861,{"$f":"Urliste!C864","v":6},128,0.14866434378629501,170,0.19744483159117304,135,0.156794425087108,428,0.49709639953542395,861,0.99999999999999989]
[null,862,{"$f":"Urliste!C865","v":6},128,0.14849187935034802,170,0.19721577726218098,135,0.15661252900232017,429,0.4976798143851508,862,1]
[null,863,{"$f":"Urliste!C866","v":6},128,0.14831981460023175,170,0.19698725376593279,135,0.15643105446118191,430,0.49826187717265352,863,1]
[null,864,{"$f":"Urliste!C867","v":3},128,0.14814814814814814,170,0.19675925925925927,136,0.15740740740740741,430,0.49768518518518517,864,1]
[null,865,{"$f":"Urliste!C868","v":1},129,0.14913294797687862,170,0.19653179190751446,136,0.15722543352601157,430,0.49710982658959535,865,1]
[null,866,{"$f":"Urliste!C869","v":6},129,0.1489607390300231,170,0.19630484988452657,136,0.15704387990762125,431,0.49769053117782908,866,1]
[null,867,{"$f":"Urliste!C870","v":5},129,0.14878892733564014,170,0.19607843137254902,136,0.15686274509803921,432,0.4982698961937716,867,1]
[null,868,{"$f":"Urliste!C871","v":2},129,0.14861751152073732,171,0.19700460829493088,136,0.15668202764976957,432,0.49769585253456222,868,1]
[null,869,{"$f":"Urliste!C872","v":2},{"$f":"IF(C890=1,D889+1,D889)","v":129},{"$f":"D890/B890","v":0.14844649021864212},{"$f":"IF(C890=2,F889+1,F889)","v":172},{"$f":"F890/B890","v":0.19792865362485615},136,0.1565017261219793,432,0.49712313003452246,869,1]
[null,870,{"$f":"Urliste!C873","v":2},129,0.14827586206896551,173,0.19885057471264367,136,0.15632183908045977,432,0.49655172413793103,870,1]
[null,871,{"$f":"Urliste!C874","v":3},129,0.14810562571756603,173,0.19862227324913892,137,0.15729047072330654,432,0.49598163030998854,871,1]
[null,872,{"$f":"Urliste!C875","v":5},129,0.14793577981651376,173,0.19839449541284404,137,0.15711009174311927,433,0.49655963302752293,872,1]
[null,873,{"$f":"Urliste!C876","v":2},129,0.14776632302405499,174,0.19931271477663232,137,0.15693012600229095,433,0.49599083619702178,873,1]
[null,874,{"$f":"Urliste!C877","v":6},129,0.14759725400457666,174,0.19908466819221968,137,0.15675057208237986,434,0.49656750572082381,874,1]
[null,875,{"$f":"Urliste!C878","v":1},130,0.14857142857142858,174,0.19885714285714284,137,0.15657142857142858,434,0.496,875,1]
[null,876,{"$f":"Urliste!C879","v":4},130,0.14840182648401826,174,0.19863013698630136,137,0.15639269406392695,435,0.49657534246575341,876,1]
[null,877,{"$f":"Urliste!C880","v":4},130,0.14823261117445838,174,0.19840364880273662,137,0.15621436716077536,436,0.49714937286202965,877,1]
[null,878,{"$f":"Urliste!C881","v":1},131,0.14920273348519361,174,0.19817767653758542,137,0.1560364464692483,436,0.49658314350797267,878,1]
[null,879,{"$f":"Urliste!C882","v":2},131,0.14903299203640499,175,0.19908987485779295,137,0.15585893060295791,436,0.49601820250284412,879,0.99999999999999989]
[null,880,{"$f":"Urliste!C883","v":6},131,0.14886363636363636,175,0.19886363636363635,137,0.15568181818181817,437,0.49659090909090908,880,1]
[null,881,{"$f":"Urliste!C884","v":4},131,0.14869466515323496,175,0.19863791146424517,137,0.15550510783200908,438,0.49716231555051077,881,0.99999999999999989]
[null,882,{"$f":"Urliste!C885","v":3},131,0.14852607709750568,175,0.1984126984126984,138,0.15646258503401361,438,0.49659863945578231,882,1]
[null,883,{"$f":"Urliste!C886","v":2},131,0.14835787089467722,176,0.19932049830124576,138,0.15628539071347677,438,0.49603624009060021,883,1]
[null,884,{"$f":"Urliste!C887","v":1},132,0.14932126696832579,176,0.19909502262443438,138,0.15610859728506787,438,0.49547511312217196,884,1]
[null,885,{"$f":"Urliste!C888","v":6},132,0.14915254237288136,176,0.19887005649717515,138,0.15593220338983052,439,0.49604519774011302,885,1]
[null,886,{"$f":"Urliste!C889","v":4},132,0.1489841986455982,176,0.19864559819413091,138,0.15575620767494355,440,0.49661399548532731,886,1]
[null,887,{"$f":"Urliste!C890","v":2},132,0.14881623449830891,177,0.19954904171364149,138,0.1555806087936866,440,0.49605411499436303,887,1]
[null,888,{"$f":"Urliste!C891","v":4},132,0.14864864864864866,177,0.19932432432432431,138,0.1554054054054054,441,0.4966216216216216,888,1]
[null,889,{"$f":"Urliste!C892","v":6},132,0.14848143982002249,177,0.19910011248593926,138,0.15523059617547807,442,0.49718785151856015,889,1]
[null,890,{"$f":"Urliste!C893","v":4},132,0.14831460674157304,177,0.19887640449438201,138,0.15505617977528091,443,0.49775280898876406,890,1]
[null,891,{"$f":"Urliste!C894","v":5},132,0.14814814814814814,177,0.19865319865319866,138,0.15488215488215487,444,0.49831649831649832,891,1]
[null,892,{"$f":"Urliste!C895","v":4},132,0.14798206278026907,177,0.19843049327354259,138,0.1547085201793722,445,0.49887892376681614,892,1]
[null,893,{"$f":"Urliste!C896","v":3},132,0.14781634938409854,177,0.19820828667413215,139,0.15565509518477044,445,0.49832026875699886,893,1]
[null,894,{"$f":"Urliste!C897","v":4},132,0.1476510067114094,177,0.19798657718120805,139,0.15548098434004473,446,0.49888143176733779,894,1]
[null,895,{"$f":"Urliste!C898","v":4},132,0.14748603351955308,177,0.19776536312849163,139,0.1553072625698324,447,0.49944134078212288,895,1]
[null,896,{"$f":"Urliste!C899","v":4},132,0.14732142857142858,177,0.19754464285714285,139,0.15513392857142858,448,0.5,896,1]
[null,897,{"$f":"Urliste!C900","v":2},132,0.14715719063545152,178,0.19843924191750278,139,0.15496098104793757,448,0.49944258639910816,897,1]
[null,898,{"$f":"Urliste!C901","v":1},133,0.14810690423162584,178,0.19821826280623608,139,0.15478841870824053,448,0.49888641425389757,898,1]
[null,899,{"$f":"Urliste!C902","v":6},133,0.14794215795328142,178,0.19799777530589543,139,0.1546162402669633,449,0.49944382647385982,899,1]
[null,900,{"$f":"Urliste!C903","v":4},133,0.14777777777777779,178,0.19777777777777777,139,0.15444444444444444,450,0.5,900,1]
[null,901,{"$f":"Urliste!C904","v":5},133,0.14761376248612654,178,0.19755826859045506,{"$f":"IF(C922=3,H921+1,H921)","v":139},{"$f":"H922/B922","v":0.15427302996670367},{"$f":"IF(C922>3,J921+1,J921)","v":451},{"$f":"J922/B922","v":0.50055493895671477},{"$f":"SUM(D922,J922,H922,F922)","v":901},{"$f":"SUM(K922,I922,G922,E922)","v":1}]
[null,902,{"$f":"Urliste!C905","v":2},133,0.14745011086474502,179,0.1984478935698448,139,0.15410199556541021,451,0.5,902,1]
[null,903,{"$f":"Urliste!C906","v":6},133,0.14728682170542637,179,0.1982281284606866,139,0.15393133997785161,452,0.50055370985603542,903,1]
[null,904,{"$f":"Urliste!C907","v":4},133,0.14712389380530974,179,0.19800884955752213,139,0.15376106194690264,453,0.50110619469026552,904,1]
[null,905,{"$f":"Urliste!C908","v":1},134,0.14806629834254142,179,0.19779005524861878,139,0.15359116022099448,453,0.50055248618784531,905,1]
[null,906,{"$f":"Urliste!C909","v":3},134,0.1479028697571744,179,0.19757174392935983,140,0.1545253863134658,453,0.5,906,1]
[null,907,{"$f":"Urliste!C910","v":6},134,0.14773980154355015,179,0.19735391400220506,140,0.15435501653803749,454,0.5005512679162073,907,1]
[null,908,{"$f":"Urliste!C911","v":2},134,0.14757709251101322,180,0.19823788546255505,140,0.15418502202643172,454,0.5,908,1]
[null,909,{"$f":"Urliste!C912","v":3},134,0.1474147414741474,180,0.19801980198019803,141,0.15511551155115511,454,0.49944994499449946,909,1]
[null,910,{"$f":"Urliste!C913","v":5},134,0.14725274725274726,180,0.19780219780219779,141,0.15494505494505495,455,0.5,910,1]
[null,911,{"$f":"Urliste!C914","v":2},134,0.14709110867178923,181,0.19868276619099889,141,0.15477497255762898,455,0.49945115257958289,911,1]
[null,912,{"$f":"Urliste!C915","v":5},134,0.14692982456140352,181,0.19846491228070176,141,0.15460526315789475,456,0.5,912,1]
[null,913,{"$f":"Urliste!C916","v":1},135,0.14786418400876233,181,0.1982475355969332,141,0.15443592552026286,456,0.4994523548740416,913,1]
[null,914,{"$f":"Urliste!C917","v":1},136,0.1487964989059081,181,0.19803063457330417,141,0.15426695842450766,456,0.4989059080962801,914,1]
[null,915,{"$f":"Urliste!C918","v":5},136,0.14863387978142076,181,0.19781420765027322,141,0.1540983606557377,457,0.49945355191256829,915,1]
[null,916,{"$f":"Urliste!C919","v":2},136,0.14847161572052403,182,0.19868995633187772,141,0.15393013100436681,457,0.49890829694323147,916,1]
[null,917,{"$f":"Urliste!C920","v":1},137,0.14940021810250817,182,0.19847328244274809,141,0.15376226826608505,457,0.49836423118865869,917,1]
[null,918,{"$f":"Urliste!C921","v":6},137,0.14923747276688454,182,0.19825708061002179,141,0.15359477124183007,458,0.4989106753812636,918,1]
[null,919,{"$f":"Urliste!C922","v":4},137,0.14907508161044614,182,0.19804134929270947,141,0.15342763873775844,459,0.49945593035908598,919,1]
[null,920,{"$f":"Urliste!C923","v":5},137,0.14891304347826087,182,0.19782608695652174,141,0.15326086956521739,460,0.5,920,0.99999999999999989]
[null,921,{"$f":"Urliste!C924","v":5},137,0.14875135722041261,182,0.19761129207383279,141,0.15309446254071662,461,0.500542888165038,921,1]
[null,922,{"$f":"Urliste!C925","v":4},137,0.14859002169197397,182,0.19739696312364424,141,0.15292841648590022,462,0.50108459869848154,922,1]
[null,923,{"$f":"Urliste!C926","v":6},137,0.14842903575297942,182,0.19718309859154928,141,0.15276273022751896,463,0.50162513542795228,923,0.99999999999999989]
[null,924,{"$f":"Urliste!C927","v":6},137,0.14826839826839827,182,0.19696969696969696,141,0.15259740259740259,464,0.50216450216450215,924,1]
[null,925,{"$f":"Urliste!C928","v":5},137,0.14810810810810812,182,0.19675675675675675,141,0.15243243243243243,465,0.50270270270270268,925,1]
[null,926,{"$f":"Urliste!C929","v":5},137,0.14794816414686826,182,0.19654427645788336,141,0.15226781857451405,466,0.5032397408207343,926,1]
[null,927,{"$f":"Urliste!C930","v":3},137,0.14778856526429343,182,0.19633225458468176,142,0.15318230852211434,466,0.50269687162891041,927,0.99999999999999989]
[null,928,{"$f":"Urliste!C931","v":5},137,0.1476293103448276,182,0.1961206896551724,142,0.15301724137931033,467,0.50323275862068961,928,1]
[null,929,{"$f":"Urliste!C932","v":4},137,0.14747039827771799,182,0.19590958019375673,142,0.15285252960172227,468,0.50376749192680303,929,1]
[null,930,{"$f":"Urliste!C933","v":6},137,0.14731182795698924,182,0.19569892473118281,142,0.15268817204301074,469,0.50430107526881718,930,1]
[null,931,{"$f":"Urliste!C934","v":3},137,0.14715359828141783,182,0.19548872180451127,143,0.1535982814178303,469,0.50375939849624063,931,1]
[null,932,{"$f":"Urliste!C935","v":4},137,0.14699570815450644,182,0.19527896995708155,143,0.15343347639484978,470,0.50429184549356221,932,1]
[null,933,{"$f":"Urliste!C936","v":5},{"$f":"IF(C954=1,D953+1,D953)","v":137},{"$f":"D954/B954","v":0.14683815648445875},{"$f":"IF(C954=2,F953+1,F953)","v":182},{"$f":"F954/B954","v":0.19506966773847803},143,0.15326902465166131,471,0.50482315112540188,933,1]
[null,934,{"$f":"Urliste!C937","v":1},138,0.14775160599571735,182,0.19486081370449679,143,0.15310492505353318,471,0.50428265524625271,934,1]
[null,935,{"$f":"Urliste!C938","v":4},138,0.14759358288770053,182,0.19465240641711229,143,0.15294117647058825,472,0.50481283422459888,935,0.99999999999999989]
[null,936,{"$f":"Urliste!C939","v":5},138,0.14743589743589744,182,0.19444444444444445,143,0.15277777777777779,473,0.50534188034188032,936,1]
[null,937,{"$f":"Urliste!C940","v":4},138,0.14727854855923159,182,0.19423692636072573,143,0.15261472785485591,474,0.50586979722518677,937,1]
[null,938,{"$f":"Urliste!C941","v":3},138,0.14712153518123666,182,0.19402985074626866,144,0.15351812366737741,474,0.50533049040511724,938,1]
[null,939,{"$f":"Urliste!C942","v":3},138,0.14696485623003194,182,0.19382321618743345,145,0.15441959531416399,474,0.50479233226837061,939,1]
[null,940,{"$f":"Urliste!C943","v":2},138,0.14680851063829786,183,0.19468085106382979,145,0.15425531914893617,474,0.50425531914893618,940,1]
[null,941,{"$f":"Urliste!C944","v":2},138,0.14665249734325186,184,0.19553666312433582,145,0.15409139213602552,474,0.50371944739638685,941,1]
[null,942,{"$f":"Urliste!C945","v":2},138,0.1464968152866242,185,0.19639065817409768,145,0.15392781316348195,474,0.50318471337579618,942,1]
[null,943,{"$f":"Urliste!C946","v":4},138,0.14634146341463414,185,0.19618239660657477,145,0.1537645811240721,475,0.50371155885471897,943,1]
[null,944,{"$f":"Urliste!C947","v":5},138,0.1461864406779661,185,0.19597457627118645,145,0.15360169491525424,476,0.50423728813559321,944,1]
[null,945,{"$f":"Urliste!C948","v":5},138,0.14603174603174604,185,0.19576719576719576,145,0.15343915343915343,477,0.50476190476190474,945,1]
[null,946,{"$f":"Urliste!C949","v":2},138,0.14587737843551796,186,0.19661733615221988,145,0.15327695560253699,477,0.50422832980972521,946,1]
[null,947,{"$f":"Urliste!C950","v":1},139,0.146779303062302,186,0.19640971488912354,145,0.15311510031678988,477,0.50369588173178459,947,1]
[null,948,{"$f":"Urliste!C951","v":1},140,0.14767932489451477,186,0.19620253164556961,145,0.15295358649789029,477,0.50316455696202533,948,1]
[null,949,{"$f":"Urliste!C952","v":6},140,0.14752370916754479,186,0.19599578503688092,145,0.15279241306638566,478,0.50368809272918857,949,1]
[null,950,{"$f":"Urliste!C953","v":6},140,0.14736842105263157,186,0.19578947368421051,145,0.15263157894736842,479,0.50421052631578944,950,1]
[null,951,{"$f":"Urliste!C954","v":1},141,0.14826498422712933,186,0.19558359621451105,145,0.15247108307045215,479,0.50368033648790744,951,0.99999999999999989]
[null,952,{"$f":"Urliste!C955","v":2},141,0.14810924369747899,187,0.19642857142857142,145,0.15231092436974789,479,0.50315126050420167,952,1]
[null,953,{"$f":"Urliste!C956","v":4},141,0.14795383001049317,187,0.19622245540398742,145,0.1521511017838405,480,0.50367261280167885,953,1]
[null,954,{"$f":"Urliste!C957","v":2},141,0.14779874213836477,188,0.1970649895178197,145,0.15199161425576521,480,0.50314465408805031,954,1]
[null,955,{"$f":"Urliste!C958","v":1},142,0.1486910994764398,188,0.19685863874345549,145,0.15183246073298429,480,0.50261780104712039,955,0.99999999999999989]
[null,956,{"$f":"Urliste!C959","v":5},142,0.14853556485355648,188,0.19665271966527198,145,0.15167364016736401,481,0.5031380753138075,956,0.99999999999999989]
[null,957,{"$f":"Urliste!C960","v":1},143,0.14942528735632185,188,0.19644723092998956,145,0.15151515151515152,481,0.50261233019853713,957,1]
[null,958,{"$f":"Urliste!C961","v":5},143,0.14926931106471816,188,0.19624217118997914,145,0.15135699373695199,482,0.50313152400835071,958,1]
[null,959,{"$f":"Urliste!C962","v":4},143,0.14911366006256518,188,0.19603753910323254,145,0.15119916579770595,483,0.5036496350364964,959,1]
[null,960,{"$f":"Urliste!C963","v":4},143,0.14895833333333333,188,0.19583333333333333,145,0.15104166666666666,484,0.50416666666666665,960,0.99999999999999989]
[null,961,{"$f":"Urliste!C964","v":4},143,0.14880332986472425,188,0.19562955254942768,145,0.15088449531737774,485,0.50468262226847038,961,1.0000000000000002]
[null,962,{"$f":"Urliste!C965","v":2},143,0.14864864864864866,189,0.19646569646569648,145,0.15072765072765074,485,0.50415800415800416,962,1]
[null,963,{"$f":"Urliste!C966","v":4},143,0.14849428868120457,189,0.19626168224299065,145,0.1505711318795431,486,0.50467289719626163,963,1]
[null,964,{"$f":"Urliste!C967","v":4},143,0.1483402489626556,189,0.19605809128630705,145,0.15041493775933609,487,0.50518672199170123,964,1]
[null,965,{"$f":"Urliste!C968","v":2},143,0.14818652849740932,190,0.19689119170984457,{"$f":"IF(C986=3,H985+1,H985)","v":145},{"$f":"H986/B986","v":0.15025906735751296},{"$f":"IF(C986>3,J985+1,J985)","v":487},{"$f":"J986/B986","v":0.50466321243523315},{"$f":"SUM(D986,J986,H986,F986)","v":965},{"$f":"SUM(K986,I986,G986,E986)","v":1}]
[null,966,{"$f":"Urliste!C969","v":2},143,0.14803312629399587,191,0.19772256728778467,145,0.15010351966873706,487,0.50414078674948237,966,1]
[null,967,{"$f":"Urliste!C970","v":3},143,0.14788004136504654,191,0.19751809720785937,146,0.15098241985522234,487,0.50361944157187177,967,1]
[null,968,{"$f":"Urliste!C971","v":5},143,0.14772727272727273,191,0.19731404958677687,146,0.15082644628099173,488,0.50413223140495866,968,1]
[null,969,{"$f":"Urliste!C972","v":4},143,0.14757481940144479,191,0.19711042311661506,146,0.15067079463364294,489,0.50464396284829727,969,1]
[null,970,{"$f":"Urliste!C973","v":1},144,0.14845360824742268,191,0.19690721649484536,146,0.15051546391752577,489,0.50412371134020617,970,1]
[null,971,{"$f":"Urliste!C974","v":1},145,0.14933058702368693,191,0.19670442842430483,146,0.15036045314109167,489,0.50360453141091654,971,1]
[null,972,{"$f":"Urliste!C975","v":4},145,0.14917695473251028,191,0.19650205761316872,146,0.15020576131687244,490,0.50411522633744854,972,1]
[null,973,{"$f":"Urliste!C976","v":2},145,0.14902363823227133,192,0.19732785200411099,146,0.15005138746145941,490,0.50359712230215825,973,1]
[null,974,{"$f":"Urliste!C977","v":1},146,0.14989733059548255,192,0.1971252566735113,146,0.14989733059548255,490,0.50308008213552358,974,1]
[null,975,{"$f":"Urliste!C978","v":5},146,0.14974358974358976,192,0.19692307692307692,146,0.14974358974358976,491,0.50358974358974362,975,1]
[null,976,{"$f":"Urliste!C979","v":2},146,0.14959016393442623,193,0.19774590163934427,146,0.14959016393442623,491,0.50307377049180324,976,1]
[null,977,{"$f":"Urliste!C980","v":2},146,0.14943705220061412,194,0.19856704196519959,146,0.14943705220061412,491,0.50255885363357211,977,0.99999999999999989]
[null,978,{"$f":"Urliste!C981","v":2},146,0.1492842535787321,195,0.19938650306748465,146,0.1492842535787321,491,0.50204498977505108,978,0.99999999999999989]
[null,979,{"$f":"Urliste!C982","v":6},146,0.14913176710929521,195,0.19918283963227784,146,0.14913176710929521,492,0.50255362614913179,979,1]
[null,980,{"$f":"Urliste!C983","v":2},146,0.1489795918367347,196,0.2,146,0.1489795918367347,492,0.50204081632653064,980,1]
[null,981,{"$f":"Urliste!C984","v":6},146,0.1488277268093782,196,0.199796126401631,146,0.1488277268093782,493,0.50254841997961264,981,1]
[null,982,{"$f":"Urliste!C985","v":1},147,0.14969450101832993,196,0.19959266802443992,146,0.14867617107942974,493,0.50203665987780044,982,1]
[null,983,{"$f":"Urliste!C986","v":5},147,0.14954221770091555,196,0.19938962360122076,146,0.14852492370295015,494,0.50254323499491349,983,1]
[null,984,{"$f":"Urliste!C987","v":2},147,0.14939024390243902,197,0.20020325203252032,146,0.1483739837398374,494,0.50203252032520329,984,1]
[null,985,{"$f":"Urliste!C988","v":3},147,0.14923857868020304,197,0.2,147,0.14923857868020304,494,0.5015228426395939,985,1]
[null,986,{"$f":"Urliste!C989","v":5},147,0.14908722109533468,197,0.19979716024340771,147,0.14908722109533468,495,0.50202839756592288,986,1]
[null,987,{"$f":"Urliste!C990","v":6},147,0.14893617021276595,197,0.19959473150962512,147,0.14893617021276595,496,0.50253292806484295,987,1]
[null,988,{"$f":"Urliste!C991","v":4},147,0.14878542510121456,197,0.19939271255060728,147,0.14878542510121456,497,0.50303643724696356,988,1]
[null,989,{"$f":"Urliste!C992","v":3},147,0.14863498483316481,197,0.19919110212335692,148,0.14964610717896865,497,0.50252780586450962,989,1]
[null,990,{"$f":"Urliste!C993","v":4},147,0.1484848484848485,197,0.19898989898989899,148,0.14949494949494949,498,0.50303030303030305,990,1]
[null,991,{"$f":"Urliste!C994","v":1},148,0.14934409687184663,197,0.1987891019172553,148,0.14934409687184663,498,0.50252270433905144,991,1]
[null,992,{"$f":"Urliste!C995","v":2},148,0.14919354838709678,198,0.19959677419354838,148,0.14919354838709678,498,0.50201612903225812,992,1]
[null,993,{"$f":"Urliste!C996","v":6},148,0.14904330312185296,198,0.19939577039274925,148,0.14904330312185296,499,0.50251762336354477,993,1]
[null,994,{"$f":"Urliste!C997","v":6},148,0.1488933601609658,198,0.19919517102615694,148,0.1488933601609658,500,0.50301810865191143,994,0.99999999999999989]
[null,995,{"$f":"Urliste!C998","v":2},148,0.14874371859296481,199,0.2,148,0.14874371859296481,500,0.50251256281407031,995,0.99999999999999978]
[null,996,{"$f":"Urliste!C999","v":6},148,0.14859437751004015,199,0.19979919678714858,148,0.14859437751004015,501,0.50301204819277112,996,0.99999999999999989]
[null,997,{"$f":"Urliste!C1000","v":3},{"$f":"IF(C1018=1,D1017+1,D1017)","v":148},{"$f":"D1018/B1018","v":0.14844533600802406},{"$f":"IF(C1018=2,F1017+1,F1017)","v":199},{"$f":"F1018/B1018","v":0.1995987963891675},149,0.14944834503510532,501,0.50250752256770315,997,1]
[null,998,{"$f":"Urliste!C1001","v":4},148,0.14829659318637275,199,0.19939879759519039,149,0.14929859719438879,502,0.50300601202404804,998,1]
[null,999,{"$f":"Urliste!C1002","v":2},{"$f":"IF(C1020=1,D1019+1,D1019)","v":148},{"$f":"D1020/B1020","v":0.14814814814814814},{"$f":"IF(C1020=2,F1019+1,F1019)","v":200},{"$f":"F1020/B1020","v":0.20020020020020021},{"$f":"IF(C1020=3,H1019+1,H1019)","v":149},{"$f":"H1020/B1020","v":0.14914914914914915},{"$f":"IF(C1020>3,J1019+1,J1019)","v":502},{"$f":"J1020/B1020","v":0.5025025025025025},{"$f":"SUM(D1020,J1020,H1020,F1020)","v":999},{"$f":"SUM(K1020,I1020,G1020,E1020)","v":1}]
[null,1000,{"$f":"Urliste!C1003","v":4},148,0.14799999999999999,200,0.2,149,0.14899999999999999,503,0.503,1000,1]
[null,1001,{"$f":"Urliste!C1004","v":5},{"$f":"IF(C1022=1,D1021+1,D1021)","v":148},{"$f":"D1022/B1022","v":0.14785214785214784},{"$f":"IF(C1022=2,F1021+1,F1021)","v":200},{"$f":"F1022/B1022","v":0.19980019980019981},{"$f":"IF(C1022=3,H1021+1,H1021)","v":149},{"$f":"H1022/B1022","v":0.14885114885114886},{"$f":"IF(C1022>3,J1021+1,J1021)","v":504},{"$f":"J1022/B1022","v":0.50349650349650354},{"$f":"SUM(D1022,J1022,H1022,F1022)","v":1001},{"$f":"SUM(K1022,I1022,G1022,E1022)","v":1}]
[null,1002,{"$f":"Urliste!C1005","v":5},148,0.14770459081836326,200,0.19960079840319361,149,0.14870259481037923,505,0.50399201596806387,1002,0.99999999999999989]
[null,1003,{"$f":"Urliste!C1006","v":2},148,0.14755732801595214,201,0.20039880358923232,149,0.14855433698903289,505,0.50348953140578268,1003,1]
[null,1004,{"$f":"Urliste!C1007","v":5},148,0.14741035856573706,201,0.20019920318725098,149,0.14840637450199204,506,0.50398406374501992,1004,0.99999999999999989]
[null,1005,{"$f":"Urliste!C1008","v":6},148,0.14726368159203981,201,0.2,149,0.14825870646766171,507,0.5044776119402985,1005,1]
[null,1006,{"$f":"Urliste!C1009","v":4},148,0.14711729622266401,201,0.19980119284294234,149,0.14811133200795229,508,0.50497017892644136,1006,1]
[null,1007,{"$f":"Urliste!C1010","v":4},148,0.14697120158887786,201,0.19960278053624628,149,0.14796425024826215,509,0.50546176762661366,1007,1]
[null,1008,{"$f":"Urliste!C1011","v":5},{"$f":"IF(C1029=1,D1028+1,D1028)","v":148},{"$f":"D1029/B1029","v":0.14682539682539683},{"$f":"IF(C1029=2,F1028+1,F1028)","v":201},{"$f":"F1029/B1029","v":0.19940476190476192},{"$f":"IF(C1029=3,H1028+1,H1028)","v":149},{"$f":"H1029/B1029","v":0.14781746031746032},{"$f":"IF(C1029>3,J1028+1,J1028)","v":510},{"$f":"J1029/B1029","v":0.50595238095238093},{"$f":"SUM(D1029,J1029,H1029,F1029)","v":1008},{"$f":"SUM(K1029,I1029,G1029,E1029)","v":1}]
[null,1009,{"$f":"Urliste!C1012","v":2},148,0.1466798810703667,202,0.20019821605550051,149,0.14767096134786917,510,0.50545094152626358,1009,0.99999999999999989]
[null,1010,{"$f":"Urliste!C1013","v":3},{"$f":"IF(C1031=1,D1030+1,D1030)","v":148},{"$f":"D1031/B1031","v":0.14653465346534653},{"$f":"IF(C1031=2,F1030+1,F1030)","v":202},{"$f":"F1031/B1031","v":0.2},{"$f":"IF(C1031=3,H1030+1,H1030)","v":150},{"$f":"H1031/B1031","v":0.14851485148514851},{"$f":"IF(C1031>3,J1030+1,J1030)","v":510},{"$f":"J1031/B1031","v":0.50495049504950495},{"$f":"SUM(D1031,J1031,H1031,F1031)","v":1010},{"$f":"SUM(K1031,I1031,G1031,E1031)","v":1}]
[null,1011,{"$f":"Urliste!C1014","v":2},148,0.14638971315529178,203,0.20079129574678536,150,0.14836795252225518,510,0.50445103857566764,1011,1]
[null,1012,{"$f":"Urliste!C1015","v":6},148,0.14624505928853754,203,0.20059288537549408,150,0.14822134387351779,511,0.50494071146245056,1012,1]
[null,1013,{"$f":"Urliste!C1016","v":2},148,0.14610069101678183,204,0.20138203356367226,150,0.14807502467917077,511,0.50444225074037508,1013,0.99999999999999989]
[null,1014,{"$f":"Urliste!C1017","v":6},148,0.14595660749506903,204,0.20118343195266272,150,0.14792899408284024,512,0.50493096646942803,1014,1]
[null,1015,{"$f":"Urliste!C1018","v":6},148,0.14581280788177339,204,0.20098522167487684,150,0.14778325123152711,513,0.50541871921182269,1015,1]
[null,1016,{"$f":"Urliste!C1019","v":2},148,0.14566929133858267,205,0.20177165354330709,150,0.14763779527559054,513,0.50492125984251968,1016,0.99999999999999989]
[null,1017,{"$f":"Urliste!C1020","v":6},148,0.1455260570304818,205,0.20157325467059981,150,0.14749262536873156,514,0.50540806293018681,1017,1]
[null,1018,{"$f":"Urliste!C1021","v":5},148,0.14538310412573674,205,0.20137524557956779,150,0.14734774066797643,515,0.5058939096267191,1018,1]
[null,1019,{"$f":"Urliste!C1022","v":6},148,0.14524043179587831,205,0.20117762512266929,150,0.14720314033366044,516,0.5063788027477919,1019,0.99999999999999989]
[null,1020,{"$f":"Urliste!C1023","v":5},148,0.14509803921568629,205,0.20098039215686275,150,0.14705882352941177,517,0.50686274509803919,1020,1]
[null,1021,{"$f":"Urliste!C1024","v":5},148,0.14495592556317335,205,0.20078354554358471,150,0.14691478942213515,518,0.50734573947110673,1021,1]
[null,1022,{"$f":"Urliste!C1025","v":4},148,0.14481409001956946,205,0.20058708414872797,150,0.14677103718199608,519,0.50782778864970646,1022,1]
[null,1023,{"$f":"Urliste!C1026","v":5},148,0.14467253176930597,205,0.20039100684261973,150,0.1466275659824047,520,0.50830889540566959,1023,0.99999999999999989]
[null,1024,{"$f":"Urliste!C1027","v":2},148,0.14453125,206,0.201171875,150,0.146484375,520,0.5078125,1024,1]
[null,1025,{"$f":"Urliste!C1028","v":6},148,0.14439024390243901,206,0.20097560975609757,150,0.14634146341463414,521,0.50829268292682928,1025,1]
[null,1026,{"$f":"Urliste!C1029","v":1},149,0.14522417153996101,206,0.20077972709551656,150,0.14619883040935672,521,0.50779727095516569,1026,0.99999999999999989]
[null,1027,{"$f":"Urliste!C1030","v":2},149,0.1450827653359299,207,0.20155793573515093,150,0.14605647517039921,521,0.50730282375851998,1027,1]
[null,1028,{"$f":"Urliste!C1031","v":4},149,0.14494163424124515,207,0.20136186770428016,150,0.14591439688715954,522,0.50778210116731515,1028,1]
[null,1029,{"$f":"Urliste!C1032","v":2},149,0.14480077745383868,208,0.2021379980563654,150,0.1457725947521866,522,0.50728862973760935,1029,1]
[null,1030,{"$f":"Urliste!C1033","v":2},149,0.14466019417475728,209,0.20291262135922331,150,0.14563106796116504,522,0.50679611650485434,1030,1]
[null,1031,{"$f":"Urliste!C1034","v":2},149,0.14451988360814744,210,0.20368574199806014,150,0.14548981571290009,522,0.5063045586808923,1031,1]
[null,1032,{"$f":"Urliste!C1035","v":6},149,0.14437984496124032,210,0.20348837209302326,150,0.14534883720930233,523,0.50678294573643412,1032,1]
[null,1033,{"$f":"Urliste!C1036","v":3},149,0.14424007744433689,210,0.20329138431752178,151,0.14617618586640851,523,0.50629235237173287,1033,1.0000000000000002]
[null,1034,{"$f":"Urliste!C1037","v":3},149,0.14410058027079303,210,0.20309477756286268,152,0.14700193423597679,523,0.50580270793036752,1034,1]
[null,1035,{"$f":"Urliste!C1038","v":6},149,0.14396135265700483,210,0.20289855072463769,152,0.14685990338164251,524,0.50628019323671503,1035,1]
[null,1036,{"$f":"Urliste!C1039","v":2},149,0.14382239382239381,211,0.20366795366795368,152,0.14671814671814673,524,0.50579150579150578,1036,1]
[null,1037,{"$f":"Urliste!C1040","v":2},149,0.14368370298939248,212,0.20443587270973965,152,0.14657666345226616,524,0.50530376084860174,1037,1]
[null,1038,{"$f":"Urliste!C1041","v":1},150,0.14450867052023122,212,0.20423892100192678,152,0.1464354527938343,524,0.50481695568400775,1038,1]
[null,1039,{"$f":"Urliste!C1042","v":5},150,0.14436958614051973,212,0.20404234841193455,152,0.14629451395572665,525,0.50529355149181909,1039,1]
[null,1040,{"$f":"Urliste!C1043","v":5},150,0.14423076923076922,212,0.20384615384615384,152,0.14615384615384616,526,0.50576923076923075,1040,1]
[null,1041,{"$f":"Urliste!C1044","v":1},151,0.14505283381364073,212,0.20365033621517772,152,0.14601344860710855,526,0.50528338136407303,1041,1]
[null,1042,{"$f":"Urliste!C1045","v":2},151,0.14491362763915547,213,0.20441458733205375,152,0.14587332053742802,526,0.50479846449136279,1042,1]
[null,1043,{"$f":"Urliste!C1046","v":3},151,0.14477468839884947,213,0.20421860019175456,153,0.14669223394055608,526,0.50431447746883984,1043,0.99999999999999989]
[null,1044,{"$f":"Urliste!C1047","v":3},151,0.1446360153256705,213,0.20402298850574713,154,0.1475095785440613,526,0.50383141762452111,1044,1]
[null,1045,{"$f":"Urliste!C1048","v":1},152,0.14545454545454545,213,0.20382775119617225,154,0.14736842105263157,526,0.50334928229665077,1045,1]
[null,1046,{"$f":"Urliste!C1049","v":3},152,0.14531548757170173,213,0.20363288718929254,155,0.14818355640535372,526,0.50286806883365198,1046,1]
[null,1047,{"$f":"Urliste!C1050","v":2},152,0.1451766953199618,214,0.2043935052531041,155,0.14804202483285578,526,0.50238777459407835,1047,1]
[null,1048,{"$f":"Urliste!C1051","v":4},152,0.14503816793893129,214,0.20419847328244276,155,0.14790076335877864,527,0.50286259541984735,1048,1]
[null,1049,{"$f":"Urliste!C1052","v":3},152,0.14489990467111535,214,0.20400381315538607,156,0.14871306005719734,527,0.50238322211630126,1049,1]
[null,1050,{"$f":"Urliste!C1053","v":2},152,0.14476190476190476,215,0.20476190476190476,156,0.14857142857142858,527,0.50190476190476185,1050,0.99999999999999989]
[null,1051,{"$f":"Urliste!C1054","v":2},152,0.14462416745956233,216,0.2055185537583254,156,0.14843006660323502,527,0.50142721217887731,1051,1]
[null,1052,{"$f":"Urliste!C1055","v":3},152,0.14448669201520911,216,0.20532319391634982,157,0.14923954372623574,527,0.50095057034220536,1052,1]
[null,1053,{"$f":"Urliste!C1056","v":6},152,0.14434947768281101,216,0.20512820512820512,157,0.14909781576448244,528,0.50142450142450146,1053,1]
[null,1054,{"$f":"Urliste!C1057","v":2},152,0.1442125237191651,217,0.20588235294117646,157,0.14895635673624288,528,0.50094876660341559,1054,1]
[null,1055,{"$f":"Urliste!C1058","v":6},152,0.14407582938388624,217,0.20568720379146918,157,0.14881516587677726,529,0.50142180094786726,1055,1]
[null,1056,{"$f":"Urliste!C1059","v":4},152,0.14393939393939395,217,0.20549242424242425,157,0.14867424242424243,530,0.50189393939393945,1056,1.0000000000000002]
[null,1057,{"$f":"Urliste!C1060","v":6},152,0.14380321665089876,217,0.20529801324503311,157,0.14853358561967833,531,0.50236518448438983,1057,1]
[null,1058,{"$f":"Urliste!C1061","v":4},152,0.14366729678638943,217,0.2051039697542533,157,0.14839319470699433,532,0.50283553875236298,1058,1]
[null,1059,{"$f":"Urliste!C1062","v":1},153,0.14447592067988668,217,0.20491029272898961,157,0.14825306893295562,532,0.50236071765816803,1059,1]
[null,1060,{"$f":"Urliste!C1063","v":2},153,0.14433962264150943,218,0.20566037735849058,157,0.14811320754716981,532,0.50188679245283019,1060,1]
[null,1061,{"$f":"Urliste!C1064","v":5},153,0.14420358152686144,218,0.20546654099905751,157,0.14797360980207352,533,0.50235626767200758,1061,1]
[null,1062,{"$f":"Urliste!C1065","v":4},153,0.1440677966101695,218,0.20527306967984935,157,0.14783427495291901,534,0.50282485875706218,1062,1]
[null,1063,{"$f":"Urliste!C1066","v":4},153,0.14393226716839136,218,0.2050799623706491,157,0.14769520225776106,535,0.50329256820319845,1063,0.99999999999999989]
[null,1064,{"$f":"Urliste!C1067","v":6},153,0.14379699248120301,218,0.20488721804511278,157,0.14755639097744361,536,0.50375939849624063,1064,1]
[null,1065,{"$f":"Urliste!C1068","v":3},153,0.14366197183098592,218,0.20469483568075117,158,0.14835680751173708,536,0.50328638497652578,1065,1]
[null,1066,{"$f":"Urliste!C1069","v":2},153,0.14352720450281425,219,0.20544090056285177,158,0.14821763602251406,536,0.50281425891181986,1066,1]
[null,1067,{"$f":"Urliste!C1070","v":3},153,0.14339268978444236,219,0.20524835988753515,159,0.14901593252108716,536,0.50234301780693535,1067,1]
[null,1068,{"$f":"Urliste!C1071","v":6},153,0.14325842696629212,219,0.2050561797752809,159,0.14887640449438203,537,0.5028089887640449,1068,0.99999999999999989]
[null,1069,{"$f":"Urliste!C1072","v":6},153,0.1431244153414406,219,0.20486435921421889,159,0.14873713751169318,538,0.50327408793264738,1069,1]
[null,1070,{"$f":"Urliste!C1073","v":2},153,0.14299065420560747,220,0.20560747663551401,159,0.1485981308411215,538,0.50280373831775704,1070,1]
[null,1071,{"$f":"Urliste!C1074","v":4},153,0.14285714285714285,220,0.20541549953314658,159,0.1484593837535014,539,0.50326797385620914,1071,1]
[null,1072,{"$f":"Urliste!C1075","v":5},153,0.14272388059701493,220,0.20522388059701493,159,0.14832089552238806,540,0.50373134328358204,1072,0.99999999999999989]
[null,1073,{"$f":"Urliste!C1076","v":4},153,0.14259086672879775,220,0.20503261882572227,159,0.14818266542404473,541,0.50419384902143527,1073,1.0000000000000002]
[null,1074,{"$f":"Urliste!C1077","v":2},{"$f":"IF(C1095=1,D1094+1,D1094)","v":153},{"$f":"D1095/B1095","v":0.14245810055865921},{"$f":"IF(C1095=2,F1094+1,F1094)","v":221},{"$f":"F1095/B1095","v":0.20577281191806332},{"$f":"IF(C1095=3,H1094+1,H1094)","v":159},{"$f":"H1095/B1095","v":0.14804469273743018},{"$f":"IF(C1095>3,J1094+1,J1094)","v":541},{"$f":"J1095/B1095","v":0.5037243947858473},{"$f":"SUM(D1095,J1095,H1095,F1095)","v":1074},{"$f":"SUM(K1095,I1095,G1095,E1095)","v":1}]
[null,1075,{"$f":"Urliste!C1078","v":3},153,0.14232558139534884,221,0.20558139534883721,160,0.14883720930232558,541,0.5032558139534884,1075,1]
[null,1076,{"$f":"Urliste!C1079","v":4},153,0.14219330855018589,221,0.2053903345724907,160,0.14869888475836432,542,0.50371747211895912,1076,1]
[null,1077,{"$f":"Urliste!C1080","v":4},153,0.14206128133704735,221,0.20519962859795729,160,0.14856081708449395,543,0.50417827298050144,1077,1]
[null,1078,{"$f":"Urliste!C1081","v":6},153,0.14192949907235622,221,0.20500927643784786,160,0.14842300556586271,544,0.50463821892393323,1078,1]
[null,1079,{"$f":"Urliste!C1082","v":3},153,0.14179796107506951,221,0.20481927710843373,161,0.14921223354958293,544,0.50417052826691378,1079,0.99999999999999989]
[null,1080,{"$f":"Urliste!C1083","v":5},153,0.14166666666666666,221,0.20462962962962963,161,0.14907407407407408,545,0.50462962962962965,1080,1]
[null,1081,{"$f":"Urliste!C1084","v":1},154,0.14246068455134134,221,0.20444033302497688,161,0.14893617021276595,545,0.50416281221091586,1081,1]
[null,1082,{"$f":"Urliste!C1085","v":6},154,0.14232902033271719,221,0.20425138632162662,161,0.1487985212569316,546,0.50462107208872453,1082,1]
[null,1083,{"$f":"Urliste!C1086","v":5},154,0.14219759926131118,221,0.20406278855032317,161,0.14866112650046168,547,0.50507848568790392,1083,1]
[null,1084,{"$f":"Urliste!C1087","v":5},154,0.14206642066420663,221,0.20387453874538744,161,0.14852398523985239,548,0.50553505535055354,1084,0.99999999999999989]
[null,1085,{"$f":"Urliste!C1088","v":2},154,0.14193548387096774,222,0.20460829493087557,161,0.14838709677419354,548,0.50506912442396312,1085,1]
[null,1086,{"$f":"Urliste!C1089","v":1},155,0.1427255985267035,222,0.20441988950276244,161,0.14825046040515655,548,0.50460405156537758,1086,1]
[null,1087,{"$f":"Urliste!C1090","v":6},155,0.14259429622815087,222,0.20423183072677092,161,0.14811407543698252,549,0.50505979760809572,1087,1]
[null,1088,{"$f":"Urliste!C1091","v":3},155,0.14246323529411764,222,0.20404411764705882,162,0.14889705882352941,549,0.50459558823529416,1088,1]
[null,1089,{"$f":"Urliste!C1092","v":3},155,0.1423324150596878,222,0.20385674931129477,163,0.14967860422405876,549,0.50413223140495866,1089,1]
[null,1090,{"$f":"Urliste!C1093","v":6},155,0.14220183486238533,222,0.20366972477064221,163,0.14954128440366973,550,0.50458715596330272,1090,1]
[null,1091,{"$f":"Urliste!C1094","v":3},155,0.14207149404216315,222,0.20348304307974335,164,0.15032080659945005,550,0.50412465627864345,1091,0.99999999999999989]
[null,1092,{"$f":"Urliste!C1095","v":4},155,0.14194139194139194,222,0.2032967032967033,164,0.15018315018315018,551,0.50457875457875456,1092,1]
[null,1093,{"$f":"Urliste!C1096","v":2},155,0.14181152790484905,223,0.2040256175663312,164,0.15004574565416284,551,0.50411710887465688,1093,1]
[null,1094,{"$f":"Urliste!C1097","v":3},155,0.14168190127970751,223,0.20383912248628885,165,0.15082266910420475,551,0.50365630712979892,1094,1]
[null,1095,{"$f":"Urliste!C1098","v":2},155,0.14155251141552511,224,0.20456621004566211,165,0.15068493150684931,551,0.50319634703196348,1095,1]
[null,1096,{"$f":"Urliste!C1099","v":3},155,0.14142335766423358,224,0.20437956204379562,166,0.15145985401459855,551,0.50273722627737227,1096,1]
[null,1097,{"$f":"Urliste!C1100","v":3},155,0.14129443938012762,224,0.20419325432999089,167,0.15223336371923427,551,0.5022789425706472,1097,1]
[null,1098,{"$f":"Urliste!C1101","v":2},155,0.14116575591985428,225,0.20491803278688525,167,0.15209471766848817,551,0.50182149362477235,1098,1]
[null,1099,{"$f":"Urliste!C1102","v":5},155,0.14103730664240219,225,0.20473157415832574,167,0.15195632393084624,552,0.50227479526842589,1099,1]
[null,1100,{"$f":"Urliste!C1103","v":5},155,0.1409090909090909,225,0.20454545454545456,167,0.15181818181818182,553,0.50272727272727269,1100,1]
[null,1101,{"$f":"Urliste!C1104","v":6},155,0.1407811080835604,225,0.20435967302452315,167,0.15168029064486829,554,0.50317892824704813,1101,1]
[null,1102,{"$f":"Urliste!C1105","v":4},155,0.14065335753176045,225,0.20417422867513613,167,0.15154264972776771,555,0.50362976406533577,1102,1]
[null,1103,{"$f":"Urliste!C1106","v":6},155,0.14052583862194015,225,0.20398912058023572,167,0.1514052583862194,556,0.50407978241160467,1103,1]
[null,1104,{"$f":"Urliste!C1107","v":2},155,0.14039855072463769,226,0.20471014492753623,167,0.15126811594202899,556,0.50362318840579712,1104,1]
[null,1105,{"$f":"Urliste!C1108","v":3},155,0.14027149321266968,226,0.20452488687782805,168,0.15203619909502261,556,0.50316742081447963,1105,1]
[null,1106,{"$f":"Urliste!C1109","v":4},155,0.14014466546112117,226,0.20433996383363473,168,0.15189873417721519,557,0.5036166365280289,1106,1]
[null,1107,{"$f":"Urliste!C1110","v":4},155,0.14001806684733514,226,0.20415537488708221,168,0.15176151761517614,558,0.50406504065040647,1107,1]
[null,1108,{"$f":"Urliste!C1111","v":5},155,0.13989169675090252,226,0.20397111913357402,168,0.15162454873646208,559,0.50451263537906132,1108,1]
[null,1109,{"$f":"Urliste!C1112","v":4},155,0.13976555455365194,226,0.20378719567177639,168,0.151487826871055,560,0.5049594229035167,1109,1]
[null,1110,{"$f":"Urliste!C1113","v":6},155,0.13963963963963963,226,0.20360360360360361,168,0.15135135135135136,561,0.50540540540540535,1110,1]
[null,1111,{"$f":"Urliste!C1114","v":2},155,0.1395139513951395,227,0.20432043204320433,168,0.15121512151215122,561,0.50495049504950495,1111,1]
[null,1112,{"$f":"Urliste!C1115","v":1},156,0.14028776978417265,227,0.20413669064748202,168,0.15107913669064749,561,0.50449640287769781,1112,1]
[null,1113,{"$f":"Urliste!C1116","v":6},156,0.14016172506738545,227,0.20395327942497754,168,0.15094339622641509,562,0.50494159928122195,1113,1]
[null,1114,{"$f":"Urliste!C1117","v":4},156,0.14003590664272891,227,0.20377019748653502,168,0.15080789946140036,563,0.50538599640933568,1114,1]
[null,1115,{"$f":"Urliste!C1118","v":3},156,0.13991031390134528,227,0.20358744394618833,169,0.15156950672645739,563,0.50493273542600892,1115,1]
[null,1116,{"$f":"Urliste!C1119","v":6},156,0.13978494623655913,227,0.20340501792114696,169,0.15143369175627241,564,0.5053763440860215,1116,1]
[null,1117,{"$f":"Urliste!C1120","v":2},156,0.13965980304386749,228,0.20411817367949867,169,0.15129811996418979,564,0.50492390331244408,1117,1]
[null,1118,{"$f":"Urliste!C1121","v":4},156,0.13953488372093023,228,0.2039355992844365,169,0.15116279069767441,565,0.50536672629695889,1118,1]
[null,1119,{"$f":"Urliste!C1122","v":6},156,0.13941018766756033,228,0.20375335120643431,169,0.15102770330652368,566,0.50580875781948165,1119,1]
[null,1120,{"$f":"Urliste!C1123","v":4},156,0.13928571428571429,228,0.20357142857142857,169,0.15089285714285713,567,0.50624999999999998,1120,1]
[null,1121,{"$f":"Urliste!C1124","v":2},156,0.13916146297948259,229,0.20428189116859946,169,0.15075825156110614,567,0.50579839429081175,1121,1]
[null,1122,{"$f":"Urliste!C1125","v":6},156,0.13903743315508021,229,0.20409982174688057,169,0.15062388591800357,568,0.50623885918003564,1122,1]
[null,1123,{"$f":"Urliste!C1126","v":2},156,0.13891362422083706,230,0.20480854853072128,169,0.15048975957257346,568,0.50578806767586826,1123,1]
[null,1124,{"$f":"Urliste!C1127","v":2},156,0.13879003558718861,231,0.20551601423487545,169,0.15035587188612098,568,0.50533807829181498,1124,1]
[null,1125,{"$f":"Urliste!C1128","v":1},157,0.13955555555555554,231,0.20533333333333334,169,0.15022222222222223,568,0.50488888888888894,1125,1]
[null,1126,{"$f":"Urliste!C1129","v":6},157,0.13943161634103018,231,0.20515097690941386,169,0.15008880994671403,569,0.50532859680284192,1126,1]
[null,1127,{"$f":"Urliste!C1130","v":6},157,0.13930789707187222,231,0.20496894409937888,169,0.14995563442768411,570,0.50576752440106476,1127,1]
[null,1128,{"$f":"Urliste!C1131","v":4},157,0.13918439716312056,231,0.2047872340425532,169,0.149822695035461,571,0.50620567375886527,1128,1]
[null,1129,{"$f":"Urliste!C1132","v":2},157,0.13906111603188662,232,0.20549158547387067,169,0.14968999114260406,571,0.5057573073516386,1129,1]
[null,1130,{"$f":"Urliste!C1133","v":5},157,0.13893805309734514,232,0.20530973451327433,169,0.14955752212389381,572,0.50619469026548669,1130,1]
[null,1131,{"$f":"Urliste!C1134","v":6},157,0.13881520778072501,232,0.20512820512820512,169,0.14942528735632185,573,0.50663129973474796,1131,1]
[null,1132,{"$f":"Urliste!C1135","v":2},157,0.13869257950530034,233,0.2058303886925795,169,0.14929328621908128,573,0.50618374558303891,1132,1]
[null,1133,{"$f":"Urliste!C1136","v":2},157,0.13857016769638128,234,0.20653133274492497,169,0.14916151809355693,573,0.50573698146513679,1133,1]
[null,1134,{"$f":"Urliste!C1137","v":3},157,0.13844797178130511,234,0.20634920634920634,170,0.14991181657848324,573,0.50529100529100535,1134,0.99999999999999989]
[null,1135,{"$f":"Urliste!C1138","v":4},157,0.13832599118942732,234,0.20616740088105726,170,0.14977973568281938,574,0.50572687224669599,1135,0.99999999999999989]
[null,1136,{"$f":"Urliste!C1139","v":4},157,0.13820422535211269,234,0.20598591549295775,170,0.14964788732394366,575,0.50616197183098588,1136,1]
[null,1137,{"$f":"Urliste!C1140","v":3},157,0.13808267370272648,234,0.20580474934036938,171,0.15039577836411611,575,0.50571679859278806,1137,1]
[null,1138,{"$f":"Urliste!C1141","v":5},{"$f":"IF(C1159=1,D1158+1,D1158)","v":157},{"$f":"D1159/B1159","v":0.13796133567662566},{"$f":"IF(C1159=2,F1158+1,F1158)","v":234},{"$f":"F1159/B1159","v":0.20562390158172231},{"$f":"IF(C1159=3,H1158+1,H1158)","v":171},{"$f":"H1159/B1159","v":0.15026362038664323},{"$f":"IF(C1159>3,J1158+1,J1158)","v":576},{"$f":"J1159/B1159","v":0.5061511423550088},{"$f":"SUM(D1159,J1159,H1159,F1159)","v":1138},{"$f":"SUM(K1159,I1159,G1159,E1159)","v":1}]
[null,1139,{"$f":"Urliste!C1142","v":5},157,0.13784021071115013,234,0.2054433713784021,171,0.15013169446883232,577,0.50658472344161543,1139,1]
[null,1140,{"$f":"Urliste!C1143","v":6},157,0.13771929824561405,234,0.20526315789473684,171,0.15,578,0.50701754385964914,1140,1]
[null,1141,{"$f":"Urliste!C1144","v":5},157,0.13759859772129709,234,0.20508326029798424,171,0.14986853637160386,579,0.50744960560911478,1141,0.99999999999999989]
[null,1142,{"$f":"Urliste!C1145","v":4},157,0.13747810858143608,234,0.20490367775831875,171,0.14973730297723292,580,0.50788091068301222,1142,0.99999999999999989]
[null,1143,{"$f":"Urliste!C1146","v":6},157,0.13735783027121609,234,0.20472440944881889,171,0.14960629921259844,581,0.50831146106736658,1143,1]
[null,1144,{"$f":"Urliste!C1147","v":4},157,0.13723776223776224,234,0.20454545454545456,171,0.14947552447552448,582,0.50874125874125875,1144,1]
[null,1145,{"$f":"Urliste!C1148","v":5},157,0.13711790393013101,234,0.20436681222707423,171,0.14934497816593886,583,0.50917030567685595,1145,1]
[null,1146,{"$f":"Urliste!C1149","v":6},157,0.13699825479930192,234,0.20418848167539266,171,0.14921465968586387,584,0.50959860383944156,1146,1]
[null,1147,{"$f":"Urliste!C1150","v":4},157,0.13687881429816914,234,0.20401046207497819,171,0.14908456843940715,585,0.51002615518744554,1147,1]
[null,1148,{"$f":"Urliste!C1151","v":2},157,0.13675958188153309,235,0.20470383275261325,171,0.14895470383275261,585,0.50958188153310102,1148,1]
[null,1149,{"$f":"Urliste!C1152","v":2},157,0.13664055700609226,236,0.20539599651871193,171,0.14882506527415143,585,0.50913838120104438,1149,1]
[null,1150,{"$f":"Urliste!C1153","v":5},157,0.13652173913043478,236,0.20521739130434782,171,0.14869565217391303,586,0.50956521739130434,1150,0.99999999999999989]
[null,1151,{"$f":"Urliste!C1154","v":3},157,0.13640312771503041,236,0.2050390964378801,172,0.14943527367506515,586,0.50912250217202437,1151,1]
[null,1152,{"$f":"Urliste!C1155","v":6},157,0.13628472222222221,236,0.2048611111111111,172,0.14930555555555555,587,0.50954861111111116,1152,1]
[null,1153,{"$f":"Urliste!C1156","v":2},157,0.13616652211621855,237,0.20555073720728534,172,0.14917606244579359,587,0.50910667823070255,1153,1]
[null,1154,{"$f":"Urliste!C1157","v":4},157,0.13604852686308491,237,0.20537261698440207,172,0.14904679376083188,588,0.50953206239168114,1154,1]
[null,1155,{"$f":"Urliste!C1158","v":3},157,0.13593073593073593,237,0.20519480519480521,173,0.1497835497835498,588,0.50909090909090904,1155,0.99999999999999989]
[null,1156,{"$f":"Urliste!C1159","v":6},157,0.13581314878892733,237,0.20501730103806229,173,0.14965397923875431,589,0.50951557093425603,1156,1]
[null,1157,{"$f":"Urliste!C1160","v":1},158,0.1365600691443388,237,0.20484010371650821,173,0.1495246326707001,589,0.50907519446845284,1157,0.99999999999999989]
[null,1158,{"$f":"Urliste!C1161","v":2},158,0.13644214162348878,238,0.20552677029360966,173,0.14939550949913644,589,0.50863557858376507,1158,0.99999999999999989]
[null,1159,{"$f":"Urliste!C1162","v":6},158,0.1363244176013805,238,0.20534943917169973,173,0.14926660914581535,590,0.50905953408110438,1159,1]
[null,1160,{"$f":"Urliste!C1163","v":2},158,0.13620689655172413,239,0.20603448275862069,173,0.14913793103448275,590,0.50862068965517238,1160,0.99999999999999989]
[null,1161,{"$f":"Urliste!C1164","v":2},158,0.13608957795004306,240,0.20671834625322996,173,0.14900947459086994,590,0.50818260120585701,1161,0.99999999999999989]
[null,1162,{"$f":"Urliste!C1165","v":4},158,0.13597246127366611,240,0.20654044750430292,173,0.14888123924268504,591,0.50860585197934594,1162,1]
[null,1163,{"$f":"Urliste!C1166","v":6},158,0.1358555460017197,240,0.2063628546861565,173,0.14875322441960448,592,0.5090283748925194,1163,1]
[null,1164,{"$f":"Urliste!C1167","v":3},158,0.13573883161512026,240,0.20618556701030927,174,0.14948453608247422,592,0.50859106529209619,1164,1]
[null,1165,{"$f":"Urliste!C1168","v":5},158,0.13562231759656651,240,0.20600858369098712,174,0.14935622317596567,593,0.50901287553648067,1165,1]
[null,1166,{"$f":"Urliste!C1169","v":6},158,0.13550600343053174,240,0.2058319039451115,174,0.14922813036020582,594,0.50943396226415094,1166,1]
[null,1167,{"$f":"Urliste!C1170","v":2},158,0.13538988860325621,241,0.20651242502142245,174,0.14910025706940874,594,0.50899742930591263,1167,1]
[null,1168,{"$f":"Urliste!C1171","v":2},158,0.13527397260273974,242,0.2071917808219178,174,0.14897260273972604,594,0.50856164383561642,1168,1]
[null,1169,{"$f":"Urliste!C1172","v":4},158,0.13515825491873396,242,0.20701454234388367,174,0.14884516680923868,595,0.50898203592814373,1169,1]
[null,1170,{"$f":"Urliste!C1173","v":5},158,0.13504273504273503,242,0.20683760683760682,174,0.14871794871794872,596,0.50940170940170937,1170,1]
[null,1171,{"$f":"Urliste!C1174","v":1},159,0.13578138343296328,242,0.20666097352690008,174,0.14859094790777114,596,0.50896669513236548,1171,1]
[null,1172,{"$f":"Urliste!C1175","v":6},159,0.1356655290102389,242,0.20648464163822525,174,0.14846416382252559,597,0.50938566552901021,1172,0.99999999999999989]
[null,1173,{"$f":"Urliste!C1176","v":2},159,0.13554987212276215,243,0.20716112531969311,174,0.14833759590792839,597,0.50895140664961636,1173,1]
[null,1174,{"$f":"Urliste!C1177","v":5},159,0.13543441226575809,243,0.206984667802385,174,0.14821124361158433,598,0.50936967632027252,1174,1]
[null,1175,{"$f":"Urliste!C1178","v":3},159,0.13531914893617022,243,0.20680851063829786,175,0.14893617021276595,598,0.50893617021276594,1175,1]
[null,1176,{"$f":"Urliste!C1179","v":6},159,0.13520408163265307,243,0.2066326530612245,175,0.14880952380952381,599,0.50935374149659862,1176,1]
[null,1177,{"$f":"Urliste!C1180","v":5},159,0.135089209855565,243,0.20645709430756159,175,0.14868309260832624,600,0.50977060322854717,1177,1]
[null,1178,{"$f":"Urliste!C1181","v":3},159,0.13497453310696095,243,0.20628183361629882,176,0.14940577249575551,600,0.50933786078098475,1178,1]
[null,1179,{"$f":"Urliste!C1182","v":6},159,0.13486005089058525,243,0.20610687022900764,176,0.14927905004240882,601,0.50975402883799825,1179,1]
[null,1180,{"$f":"Urliste!C1183","v":5},159,0.13474576271186442,243,0.20593220338983051,176,0.14915254237288136,602,0.51016949152542368,1180,1]
[null,1181,{"$f":"Urliste!C1184","v":5},159,0.13463166807790009,243,0.20575783234546993,176,0.14902624894157493,603,0.51058425063505508,1181,1]
[null,1182,{"$f":"Urliste!C1185","v":4},159,0.13451776649746192,243,0.20558375634517767,176,0.14890016920473773,604,0.51099830795262269,1182,1]
[null,1183,{"$f":"Urliste!C1186","v":5},159,0.13440405748098055,243,0.20540997464074387,176,0.14877430262045646,605,0.51141166525781911,1183,1]
[null,1184,{"$f":"Urliste!C1187","v":6},159,0.13429054054054054,243,0.20523648648648649,176,0.14864864864864866,606,0.51182432432432434,1184,1]
[null,1185,{"$f":"Urliste!C1188","v":3},159,0.13417721518987341,243,0.20506329113924052,177,0.14936708860759493,606,0.51139240506329109,1185,1]
[null,1186,{"$f":"Urliste!C1189","v":3},159,0.13406408094435077,243,0.20489038785834737,178,0.15008431703204048,606,0.51096121416526141,1186,1]
[null,1187,{"$f":"Urliste!C1190","v":3},159,0.13395113732097724,243,0.20471777590564449,179,0.15080033698399326,606,0.51053074978938495,1187,0.99999999999999978]
[null,1188,{"$f":"Urliste!C1191","v":3},159,0.13383838383838384,243,0.20454545454545456,180,0.15151515151515152,606,0.51010101010101006,1188,1]
[null,1189,{"$f":"Urliste!C1192","v":4},159,0.13372582001682085,243,0.20437342304457529,180,0.15138772077375945,607,0.51051303616484445,1189,1]
[null,1190,{"$f":"Urliste!C1193","v":3},159,0.13361344537815126,243,0.2042016806722689,181,0.15210084033613444,607,0.51008403361344534,1190,1]
[null,1191,{"$f":"Urliste!C1194","v":1},160,0.1343408900083963,243,0.20403022670025189,181,0.15197313182199831,607,0.50965575146935349,1191,1]
[null,1192,{"$f":"Urliste!C1195","v":5},160,0.13422818791946309,243,0.20385906040268456,181,0.15184563758389261,608,0.51006711409395977,1192,1]
[null,1193,{"$f":"Urliste!C1196","v":4},160,0.13411567476948869,243,0.20368818105616093,181,0.15171835708298406,609,0.51047778709136626,1193,1]
[null,1194,{"$f":"Urliste!C1197","v":4},160,0.13400335008375208,243,0.20351758793969849,181,0.15159128978224456,610,0.51088777219430481,1194,1]
[null,1195,{"$f":"Urliste!C1198","v":6},160,0.13389121338912133,243,0.20334728033472804,181,0.1514644351464435,611,0.51129707112970713,1195,1]
[null,1196,{"$f":"Urliste!C1199","v":6},160,0.13377926421404682,243,0.20317725752508362,181,0.15133779264214048,612,0.51170568561872909,1196,1]
[null,1197,{"$f":"Urliste!C1200","v":4},160,0.13366750208855471,243,0.20300751879699247,181,0.15121136173767752,613,0.5121136173767753,1197,1]
[null,1198,{"$f":"Urliste!C1201","v":3},160,0.13355592654424039,243,0.2028380634390651,182,0.15191986644407346,613,0.51168614357262099,1198,1]
[null,1199,{"$f":"Urliste!C1202","v":1},161,0.13427856547122602,243,0.20266889074228525,182,0.15179316096747289,613,0.51125938281901584,1199,1]
[null,1200,{"$f":"Urliste!C1203","v":1},162,0.13500000000000001,243,0.20250000000000001,182,0.15166666666666667,613,0.51083333333333336,1200,1]
[null,1201,{"$f":"Urliste!C1204","v":4},162,0.13488759367194006,243,0.20233139050791007,182,0.15154038301415487,614,0.51124063280599497,1201,0.99999999999999989]
[null,1202,{"$f":"Urliste!C1205","v":1},{"$f":"IF(C1223=1,D1222+1,D1222)","v":163},{"$f":"D1223/B1223","v":0.13560732113144758},{"$f":"IF(C1223=2,F1222+1,F1222)","v":243},{"$f":"F1223/B1223","v":0.20216306156405989},{"$f":"IF(C1223=3,H1222+1,H1222)","v":182},{"$f":"H1223/B1223","v":0.15141430948419302},{"$f":"IF(C1223>3,J1222+1,J1222)","v":614},{"$f":"J1223/B1223","v":0.51081530782029949},{"$f":"SUM(D1223,J1223,H1223,F1223)","v":1202},{"$f":"SUM(K1223,I1223,G1223,E1223)","v":0.99999999999999989}]
[null,1203,{"$f":"Urliste!C1206","v":5},163,0.13549459684123025,243,0.20199501246882792,182,0.1512884455527847,615,0.51122194513715713,1203,1]
[null,1204,{"$f":"Urliste!C1207","v":6},163,0.13538205980066445,243,0.20182724252491693,182,0.15116279069767441,616,0.51162790697674421,1204,1]
[null,1205,{"$f":"Urliste!C1208","v":5},163,0.13526970954356846,243,0.2016597510373444,182,0.15103734439834024,617,0.51203319502074685,1205,1]
[null,1206,{"$f":"Urliste!C1209","v":5},163,0.13515754560530679,243,0.20149253731343283,182,0.15091210613598674,618,0.51243781094527363,1206,1]
[null,1207,{"$f":"Urliste!C1210","v":5},163,0.13504556752278377,243,0.20132560066280034,182,0.1507870753935377,619,0.51284175642087826,1207,1]
[null,1208,{"$f":"Urliste!C1211","v":6},163,0.13493377483443708,243,0.20115894039735099,182,0.15066225165562913,620,0.51324503311258274,1208,1]
[null,1209,{"$f":"Urliste!C1212","v":5},163,0.13482216708023159,243,0.20099255583126552,182,0.15053763440860216,621,0.51364764267990071,1209,1]
[null,1210,{"$f":"Urliste!C1213","v":3},163,0.1347107438016529,243,0.20082644628099172,183,0.15123966942148762,621,0.51322314049586781,1210,1]
[null,1211,{"$f":"Urliste!C1214","v":3},163,0.13459950454170108,243,0.20066061106523533,184,0.15194054500412882,621,0.51279933938893474,1211,1]
[null,1212,{"$f":"Urliste!C1215","v":4},163,0.13448844884488448,243,0.20049504950495051,184,0.15181518151815182,622,0.51320132013201325,1212,1]
[null,1213,{"$f":"Urliste!C1216","v":6},163,0.13437757625721353,243,0.20032976092333057,184,0.15169002473206925,623,0.5136026380873866,1213,1]
[null,1214,{"$f":"Urliste!C1217","v":3},163,0.13426688632619441,243,0.200164744645799,185,0.15238879736408567,623,0.51317957166392092,1214,1]
[null,1215,{"$f":"Urliste!C1218","v":6},163,0.13415637860082305,243,0.2,185,0.15226337448559671,624,0.51358024691358029,1215,1]
[null,1216,{"$f":"Urliste!C1219","v":4},163,0.13404605263157895,243,0.19983552631578946,185,0.15213815789473684,625,0.51398026315789469,1216,1]
[null,1217,{"$f":"Urliste!C1220","v":1},164,0.13475760065735415,243,0.19967132292522596,185,0.15201314708299096,625,0.5135579293344289,1217,1]
[null,1218,{"$f":"Urliste!C1221","v":4},164,0.13464696223316913,243,0.19950738916256158,185,0.15188834154351397,626,0.51395730706075538,1218,1]
[null,1219,{"$f":"Urliste!C1222","v":4},164,0.13453650533223954,243,0.19934372436423298,185,0.15176374077112387,627,0.51435602953240356,1219,1]
[null,1220,{"$f":"Urliste!C1223","v":3},164,0.13442622950819672,243,0.19918032786885245,186,0.15245901639344261,627,0.51393442622950825,1220,1]
[null,1221,{"$f":"Urliste!C1224","v":3},164,0.13431613431613432,243,0.19901719901719903,187,0.15315315315315314,627,0.51351351351351349,1221,1]
[null,1222,{"$f":"Urliste!C1225","v":2},164,0.13420621931260229,244,0.19967266775777415,187,0.15302782324058919,627,0.51309328968903434,1222,1]
[null,1223,{"$f":"Urliste!C1226","v":6},164,0.13409648405560098,244,0.19950940310711365,187,0.15290269828291086,628,0.51349141455437453,1223,1]
[null,1224,{"$f":"Urliste!C1227","v":2},164,0.13398692810457516,245,0.20016339869281047,187,0.15277777777777779,628,0.51307189542483655,1224,1]
[null,1225,{"$f":"Urliste!C1228","v":4},164,0.13387755102040816,245,0.2,187,0.15265306122448979,629,0.51346938775510209,1225,1]
[null,1226,{"$f":"Urliste!C1229","v":1},165,0.13458401305057097,245,0.199836867862969,187,0.15252854812398042,629,0.51305057096247964,1226,1]
[null,1227,{"$f":"Urliste!C1230","v":6},165,0.13447432762836187,245,0.19967400162999185,187,0.15240423797881011,630,0.51344743276283622,1227,1]
[null,1228,{"$f":"Urliste!C1231","v":4},165,0.13436482084690554,245,0.1995114006514658,187,0.15228013029315962,631,0.51384364820846906,1228,1]
[null,1229,{"$f":"Urliste!C1232","v":6},165,0.13425549227013833,245,0.19934906427990237,187,0.15215622457282343,632,0.51423921887713586,1229,1]
[null,1230,{"$f":"Urliste!C1233","v":2},165,0.13414634146341464,246,0.2,187,0.15203252032520326,632,0.51382113821138209,1230,0.99999999999999989]
[null,1231,{"$f":"Urliste!C1234","v":3},165,0.13403736799350122,246,0.19983753046303818,188,0.15272136474411047,632,0.51340373679935014,1231,1]
[null,1232,{"$f":"Urliste!C1235","v":1},166,0.13474025974025974,246,0.19967532467532467,188,0.15259740259740259,632,0.51298701298701299,1232,1]
[null,1233,{"$f":"Urliste!C1236","v":4},166,0.13463098134630982,246,0.19951338199513383,188,0.15247364152473641,633,0.51338199513381999,1233,1]
[null,1234,{"$f":"Urliste!C1237","v":1},167,0.13533225283630471,246,0.19935170178282011,188,0.15235008103727715,633,0.51296596434359809,1234,1.0000000000000002]
[null,1235,{"$f":"Urliste!C1238","v":2},167,0.13522267206477734,247,0.2,188,0.15222672064777329,633,0.51255060728744939,1235,1]
[null,1236,{"$f":"Urliste!C1239","v":2},167,0.13511326860841424,248,0.20064724919093851,188,0.15210355987055016,633,0.51213592233009708,1236,1]
[null,1237,{"$f":"Urliste!C1240","v":1},168,0.13581244947453516,248,0.20048504446240906,188,0.15198059822150364,633,0.51172190784155214,1237,1]
[null,1238,{"$f":"Urliste!C1241","v":5},168,0.13570274636510501,248,0.20032310177705978,188,0.15185783521809371,634,0.51211631663974155,1238,1]
[null,1239,{"$f":"Urliste!C1242","v":1},169,0.13640032284100082,248,0.20016142050040356,188,0.15173527037933818,634,0.51170298627925748,1239,1]
[null,1240,{"$f":"Urliste!C1243","v":2},169,0.13629032258064516,249,0.20080645161290323,188,0.15161290322580645,634,0.51129032258064511,1240,1]
[null,1241,{"$f":"Urliste!C1244","v":2},169,0.1361804995970991,250,0.20145044319097502,188,0.15149073327961321,634,0.51087832393231269,1241,1]
[null,1242,{"$f":"Urliste!C1245","v":1},170,0.13687600644122383,250,0.20128824476650564,188,0.15136876006441224,634,0.51046698872785834,1242,1]
[null,1243,{"$f":"Urliste!C1246","v":5},170,0.13676588897827835,250,0.20112630732099759,188,0.1512469831053902,635,0.51086082059533389,1243,1]
[null,1244,{"$f":"Urliste!C1247","v":1},171,0.13745980707395497,250,0.20096463022508038,188,0.15112540192926044,635,0.51045016077170413,1244,0.99999999999999989]
[null,1245,{"$f":"Urliste!C1248","v":3},171,0.13734939759036144,250,0.20080321285140562,189,0.15180722891566265,635,0.51004016064257029,1245,1]
[null,1246,{"$f":"Urliste!C1249","v":2},171,0.13723916532905298,251,0.2014446227929374,189,0.15168539325842698,635,0.5096308186195827,1246,1]
[null,1247,{"$f":"Urliste!C1250","v":6},171,0.13712910986367283,251,0.2012830793905373,189,0.15156375300721733,636,0.51002405773857262,1247,1.0000000000000002]
[null,1248,{"$f":"Urliste!C1251","v":5},171,0.13701923076923078,251,0.20112179487179488,189,0.15144230769230768,637,0.51041666666666663,1248,1]
[null,1249,{"$f":"Urliste!C1252","v":2},171,0.13690952762209768,252,0.20176140912730184,189,0.15132105684547639,637,0.51000800640512411,1249,1]
[null,1250,{"$f":"Urliste!C1253","v":5},171,0.1368,252,0.2016,189,0.1512,638,0.51039999999999996,1250,1]
[null,1251,{"$f":"Urliste!C1254","v":3},171,0.1366906474820144,252,0.20143884892086331,190,0.1518784972022382,638,0.50999200639488407,1251,1]
[null,1252,{"$f":"Urliste!C1255","v":2},171,0.1365814696485623,253,0.20207667731629392,190,0.15175718849840256,638,0.50958466453674123,1252,1]
[null,1253,{"$f":"Urliste!C1256","v":5},171,0.13647246608140462,253,0.20191540303272146,190,0.15163607342378291,639,0.50997605746209096,1253,1]
[null,1254,{"$f":"Urliste!C1257","v":5},171,0.13636363636363635,253,0.20175438596491227,190,0.15151515151515152,640,0.5103668261562998,1254,0.99999999999999989]
[null,1255,{"$f":"Urliste!C1258","v":5},171,0.13625498007968129,253,0.20159362549800797,190,0.15139442231075698,641,0.5107569721115538,1255,1]
[null,1256,{"$f":"Urliste!C1259","v":6},171,0.13614649681528662,253,0.20143312101910829,190,0.15127388535031847,642,0.51114649681528668,1256,1]
[null,1257,{"$f":"Urliste!C1260","v":4},171,0.13603818615751789,253,0.20127287191726331,190,0.15115354017501989,643,0.51153540175019885,1257,1]
[null,1258,{"$f":"Urliste!C1261","v":6},171,0.13593004769475359,253,0.20111287758346583,190,0.15103338632750399,644,0.5119236883942766,1258,1]
[null,1259,{"$f":"Urliste!C1262","v":3},171,0.13582208101667989,253,0.20095313741064336,191,0.1517077045274027,644,0.51151707704527405,1259,1]
[null,1260,{"$f":"Urliste!C1263","v":3},171,0.1357142857142857,253,0.2007936507936508,192,0.15238095238095239,644,0.51111111111111107,1260,1]
[null,1261,{"$f":"Urliste!C1264","v":2},171,0.13560666137985725,254,0.20142743854084061,192,0.15226011102299761,644,0.51070578905630448,1261,1]
[null,1262,{"$f":"Urliste!C1265","v":5},171,0.13549920760697307,254,0.20126782884310618,192,0.15213946117274169,645,0.5110935023771791,1262,1]
[null,1263,{"$f":"Urliste!C1266","v":4},171,0.13539192399049882,254,0.20110847189231987,192,0.15201900237529692,646,0.51148060174188437,1263,0.99999999999999989]
[null,1264,{"$f":"Urliste!C1267","v":6},171,0.13528481012658228,254,0.20094936708860758,192,0.15189873417721519,647,0.51186708860759489,1264,1]
[null,1265,{"$f":"Urliste!C1268","v":1},172,0.13596837944664031,254,0.2007905138339921,192,0.15177865612648223,647,0.51146245059288542,1265,1]
[null,1266,{"$f":"Urliste!C1269","v":5},{"$f":"IF(C1287=1,D1286+1,D1286)","v":172},{"$f":"D1287/B1287","v":0.1358609794628752},{"$f":"IF(C1287=2,F1286+1,F1286)","v":254},{"$f":"F1287/B1287","v":0.20063191153238547},{"$f":"IF(C1287=3,H1286+1,H1286)","v":192},{"$f":"H1287/B1287","v":0.15165876777251186},{"$f":"IF(C1287>3,J1286+1,J1286)","v":648},{"$f":"J1287/B1287","v":0.51184834123222744},{"$f":"SUM(D1287,J1287,H1287,F1287)","v":1266},{"$f":"SUM(K1287,I1287,G1287,E1287)","v":1}]
[null,1267,{"$f":"Urliste!C1270","v":4},172,0.13575374901341752,254,0.20047355958958168,192,0.1515390686661405,649,0.51223362273086026,1267,1]
[null,1268,{"$f":"Urliste!C1271","v":1},173,0.13643533123028392,254,0.20031545741324921,192,0.15141955835962145,649,0.51182965299684546,1268,1]
[null,1269,{"$f":"Urliste!C1272","v":2},173,0.13632781717888101,255,0.20094562647754138,192,0.15130023640661938,649,0.5114263199369582,1269,0.99999999999999989]
[null,1270,{"$f":"Urliste!C1273","v":6},173,0.13622047244094487,255,0.20078740157480315,192,0.15118110236220472,650,0.51181102362204722,1270,1]
[null,1271,{"$f":"Urliste!C1274","v":2},173,0.13611329661683713,256,0.2014162077104642,192,0.15106215578284815,650,0.51140833988985046,1271,0.99999999999999989]
[null,1272,{"$f":"Urliste!C1275","v":4},173,0.1360062893081761,256,0.20125786163522014,192,0.15094339622641509,651,0.5117924528301887,1272,1]
[null,1273,{"$f":"Urliste!C1276","v":2},173,0.13589945011783189,257,0.20188531029065201,192,0.15082482325216026,651,0.51139041633935589,1273,1]
[null,1274,{"$f":"Urliste!C1277","v":4},173,0.13579277864992151,257,0.20172684458398743,192,0.15070643642072212,652,0.51177394034536894,1274,1]
[null,1275,{"$f":"Urliste!C1278","v":2},173,0.13568627450980392,258,0.2023529411764706,192,0.15058823529411763,652,0.51137254901960782,1275,1]
[null,1276,{"$f":"Urliste!C1279","v":2},173,0.13557993730407525,259,0.20297805642633229,192,0.15047021943573669,652,0.5109717868338558,1276,1]
[null,1277,{"$f":"Urliste!C1280","v":1},174,0.13625685199686766,259,0.20281910728269381,192,0.15035238841033674,652,0.51057165231010182,1277,1]
[null,1278,{"$f":"Urliste!C1281","v":1},175,0.13693270735524257,259,0.20266040688575901,192,0.15023474178403756,652,0.51017214397496091,1278,1]
[null,1279,{"$f":"Urliste!C1282","v":2},175,0.13682564503518374,260,0.2032838154808444,192,0.15011727912431588,652,0.50977326035965598,1279,1]
[null,1280,{"$f":"Urliste!C1283","v":2},175,0.13671875,261,0.20390625000000001,192,0.15,652,0.50937500000000002,1280,1]
[null,1281,{"$f":"Urliste!C1284","v":6},175,0.13661202185792351,261,0.20374707259953162,192,0.14988290398126464,653,0.50975800156128026,1281,1]
[null,1282,{"$f":"Urliste!C1285","v":6},175,0.13650546021840873,261,0.20358814352574103,192,0.14976599063962559,654,0.51014040561622465,1282,1]
[null,1283,{"$f":"Urliste!C1286","v":1},176,0.13717848791894,261,0.2034294621979735,192,0.14964925954793454,654,0.50974279033515202,1283,1]
[null,1284,{"$f":"Urliste!C1287","v":1},177,0.13785046728971961,261,0.20327102803738317,192,0.14953271028037382,654,0.50934579439252337,1284,1]
[null,1285,{"$f":"Urliste!C1288","v":2},177,0.13774319066147861,262,0.20389105058365758,192,0.14941634241245136,654,0.50894941634241242,1285,1]
[null,1286,{"$f":"Urliste!C1289","v":6},177,0.13763608087091758,262,0.20373250388802489,192,0.14930015552099535,655,0.50933125972006221,1286,1]
[null,1287,{"$f":"Urliste!C1290","v":6},177,0.13752913752913754,262,0.20357420357420358,192,0.14918414918414918,656,0.5097125097125097,1287,1]
[null,1288,{"$f":"Urliste!C1291","v":5},177,0.1374223602484472,262,0.20341614906832298,192,0.14906832298136646,657,0.5100931677018633,1288,0.99999999999999989]
[null,1289,{"$f":"Urliste!C1292","v":1},178,0.13809154383242825,262,0.20325833979829325,192,0.14895267649340574,657,0.50969743987587279,1289,1]
[null,1290,{"$f":"Urliste!C1293","v":1},179,0.13875968992248061,262,0.20310077519379846,192,0.14883720930232558,657,0.50930232558139532,1290,1]
[null,1291,{"$f":"Urliste!C1294","v":1},180,0.13942680092951201,262,0.20294345468628969,192,0.14872192099147946,657,0.50890782339271878,1291,1]
[null,1292,{"$f":"Urliste!C1295","v":3},180,0.13931888544891641,262,0.20278637770897834,193,0.14938080495356038,657,0.50851393188854488,1292,1]
[null,1293,{"$f":"Urliste!C1296","v":4},180,0.13921113689095127,262,0.20262954369682909,193,0.14926527455529776,658,0.50889404485692191,1293,1]
[null,1294,{"$f":"Urliste!C1297","v":1},181,0.13987635239567234,262,0.20247295208655333,193,0.1491499227202473,658,0.50850077279752703,1294,1]
[null,1295,{"$f":"Urliste!C1298","v":6},181,0.13976833976833977,262,0.20231660231660231,193,0.14903474903474903,659,0.50888030888030888,1295,1]
[null,1296,{"$f":"Urliste!C1299","v":2},181,0.1396604938271605,263,0.20293209876543211,193,0.14891975308641975,659,0.50848765432098764,1296,1]
[null,1297,{"$f":"Urliste!C1300","v":2},181,0.13955281418658441,264,0.20354664610639939,193,0.14880493446414803,659,0.50809560524286812,1297,0.99999999999999989]
[null,1298,{"$f":"Urliste!C1301","v":1},182,0.14021571648690292,264,0.20338983050847459,193,0.14869029275808937,659,0.50770416024653309,1298,0.99999999999999989]
[null,1299,{"$f":"Urliste!C1302","v":4},182,0.14010777521170131,264,0.20323325635103925,193,0.14857582755966128,660,0.5080831408775982,1299,1]
[null,1300,{"$f":"Urliste!C1303","v":1},183,0.14076923076923076,264,0.20307692307692307,193,0.14846153846153845,660,0.50769230769230766,1300,0.99999999999999989]
[null,1301,{"$f":"Urliste!C1304","v":4},183,0.14066102997694083,264,0.20292083013066872,193,0.14834742505764797,661,0.50807071483474253,1301,1]
[null,1302,{"$f":"Urliste!C1305","v":2},183,0.14055299539170507,265,0.20353302611367127,193,0.14823348694316435,661,0.50768049155145933,1302,1]
[null,1303,{"$f":"Urliste!C1306","v":4},183,0.14044512663085187,265,0.20337682271680738,193,0.14811972371450499,662,0.50805832693783581,1303,1]
[null,1304,{"$f":"Urliste!C1307","v":1},184,0.1411042944785276,265,0.20322085889570551,193,0.14800613496932516,662,0.50766871165644167,1304,0.99999999999999989]
[null,1305,{"$f":"Urliste!C1308","v":2},184,0.14099616858237549,266,0.20383141762452106,193,0.1478927203065134,662,0.50727969348659008,1305,1]
[null,1306,{"$f":"Urliste!C1309","v":3},184,0.14088820826952528,266,0.20367534456355282,194,0.14854517611026033,662,0.50689127105666154,1306,1]
[null,1307,{"$f":"Urliste!C1310","v":1},185,0.14154552410099464,266,0.2035195103289977,194,0.14843152257077277,662,0.50650344299923489,1307,1]
[null,1308,{"$f":"Urliste!C1311","v":5},185,0.14143730886850153,266,0.20336391437308868,194,0.14831804281345565,663,0.50688073394495414,1308,1]
[null,1309,{"$f":"Urliste!C1312","v":6},185,0.14132925897631779,266,0.20320855614973263,194,0.14820473644003057,664,0.50725744843391907,1309,1.0000000000000002]
[null,1310,{"$f":"Urliste!C1313","v":6},185,0.14122137404580154,266,0.20305343511450383,194,0.14809160305343511,665,0.50763358778625955,1310,1]
[null,1311,{"$f":"Urliste!C1314","v":6},185,0.14111365369946605,266,0.20289855072463769,194,0.14797864225781845,666,0.50800915331807783,1311,1]
[null,1312,{"$f":"Urliste!C1315","v":4},185,0.1410060975609756,266,0.2027439024390244,194,0.14786585365853658,667,0.50838414634146345,1312,1]
[null,1313,{"$f":"Urliste!C1316","v":2},185,0.14089870525514089,267,0.20335110434120335,194,0.14775323686214775,667,0.50799695354150798,1313,1]
[null,1314,{"$f":"Urliste!C1317","v":6},185,0.14079147640791476,267,0.20319634703196346,194,0.14764079147640791,668,0.50837138508371382,1314,0.99999999999999989]
[null,1315,{"$f":"Urliste!C1318","v":4},185,0.14068441064638784,267,0.20304182509505703,194,0.14752851711026616,669,0.50874524714828895,1315,1]
[null,1316,{"$f":"Urliste!C1319","v":1},186,0.14133738601823709,267,0.20288753799392098,194,0.14741641337386019,669,0.50835866261398177,1316,1]
[null,1317,{"$f":"Urliste!C1320","v":4},186,0.14123006833712984,267,0.20273348519362186,194,0.14730447987851178,670,0.5087319665907365,1317,1]
[null,1318,{"$f":"Urliste!C1321","v":6},186,0.14112291350531109,267,0.20257966616084977,194,0.14719271623672231,671,0.50910470409711683,1318,1]
[null,1319,{"$f":"Urliste!C1322","v":2},186,0.14101592115238817,268,0.20318423047763456,194,0.14708112206216831,671,0.5087187263078089,1319,0.99999999999999989]
[null,1320,{"$f":"Urliste!C1323","v":6},186,0.1409090909090909,268,0.20303030303030303,194,0.14696969696969697,672,0.50909090909090904,1320,0.99999999999999989]
[null,1321,{"$f":"Urliste!C1324","v":6},186,0.14080242240726723,268,0.2028766086298259,194,0.14685844057532171,673,0.50946252838758521,1321,1]
[null,1322,{"$f":"Urliste!C1325","v":4},186,0.14069591527987896,268,0.20272314674735251,194,0.14674735249621784,674,0.50983358547655067,1322,1]
[null,1323,{"$f":"Urliste!C1326","v":4},186,0.14058956916099774,268,0.20256991685563114,194,0.14663643235071808,675,0.51020408163265307,1323,1]
[null,1324,{"$f":"Urliste!C1327","v":3},186,0.1404833836858006,268,0.20241691842900303,195,0.1472809667673716,675,0.50981873111782472,1324,0.99999999999999989]
[null,1325,{"$f":"Urliste!C1328","v":3},186,0.14037735849056604,268,0.20226415094339623,196,0.14792452830188679,675,0.50943396226415094,1325,1]
[null,1326,{"$f":"Urliste!C1329","v":1},187,0.14102564102564102,268,0.20211161387631976,196,0.14781297134238311,675,0.50904977375565608,1326,1]
[null,1327,{"$f":"Urliste!C1330","v":1},188,0.14167294649585532,268,0.20195930670685758,196,0.14770158251695553,675,0.50866616428033162,1327,1]
[null,1328,{"$f":"Urliste!C1331","v":3},188,0.14156626506024098,268,0.20180722891566266,197,0.14834337349397592,675,0.50828313253012047,1328,1]
[null,1329,{"$f":"Urliste!C1332","v":6},188,0.14145974416854779,268,0.20165537998495109,197,0.14823175319789314,676,0.50865312264860796,1329,1]
[null,1330,{"$f":"Urliste!C1333","v":6},{"$f":"IF(C1351=1,D1350+1,D1350)","v":188},{"$f":"D1351/B1351","v":0.14135338345864662},{"$f":"IF(C1351=2,F1350+1,F1350)","v":268},{"$f":"F1351/B1351","v":0.20150375939849624},{"$f":"IF(C1351=3,H1350+1,H1350)","v":197},{"$f":"H1351/B1351","v":0.14812030075187971},{"$f":"IF(C1351>3,J1350+1,J1350)","v":677},{"$f":"J1351/B1351","v":0.50902255639097749},{"$f":"SUM(D1351,J1351,H1351,F1351)","v":1330},{"$f":"SUM(K1351,I1351,G1351,E1351)","v":1.0000000000000002}]
[null,1331,{"$f":"Urliste!C1334","v":4},188,0.14124718256949662,268,0.20135236664162284,197,0.14800901577761083,678,0.50939143501126971,1331,1]
[null,1332,{"$f":"Urliste!C1335","v":5},188,0.14114114114114115,268,0.20120120120120119,197,0.1478978978978979,679,0.50975975975975973,1332,1]
[null,1333,{"$f":"Urliste!C1336","v":4},188,0.14103525881470366,268,0.2010502625656414,197,0.14778694673668416,680,0.51012753188297078,1333,1]
[null,1334,{"$f":"Urliste!C1337","v":5},188,0.1409295352323838,268,0.20089955022488756,197,0.14767616191904048,681,0.51049475262368815,1334,1]
[null,1335,{"$f":"Urliste!C1338","v":1},189,0.14157303370786517,268,0.20074906367041198,197,0.14756554307116104,681,0.51011235955056178,1335,1]
[null,1336,{"$f":"Urliste!C1339","v":4},189,0.14146706586826346,268,0.20059880239520958,197,0.14745508982035929,682,0.51047904191616766,1336,1]
[null,1337,{"$f":"Urliste!C1340","v":5},189,0.14136125654450263,268,0.20044876589379207,197,0.14734480179506357,683,0.51084517576664179,1337,1]
[null,1338,{"$f":"Urliste!C1341","v":5},189,0.14125560538116591,268,0.20029895366218237,197,0.14723467862481315,684,0.5112107623318386,1338,1.0000000000000002]
[null,1339,{"$f":"Urliste!C1342","v":2},189,0.14115011202389843,269,0.20089619118745333,197,0.14712471994025392,684,0.51082897684839434,1339,1]
[null,1340,{"$f":"Urliste!C1343","v":5},189,0.141044776119403,269,0.20074626865671641,197,0.14701492537313432,685,0.51119402985074625,1340,1]
[null,1341,{"$f":"Urliste!C1344","v":5},189,0.14093959731543623,269,0.20059656972408652,197,0.14690529455630127,686,0.51155853840417598,1341,1]
[null,1342,{"$f":"Urliste!C1345","v":6},189,0.14083457526080476,269,0.20044709388971685,197,0.14679582712369599,687,0.51192250372578241,1342,1]
[null,1343,{"$f":"Urliste!C1346","v":3},189,0.14072970960536113,269,0.20029784065524944,198,0.14743112434847358,687,0.5115413253909159,1343,1]
[null,1344,{"$f":"Urliste!C1347","v":3},189,0.140625,269,0.20014880952380953,199,0.14806547619047619,687,0.5111607142857143,1344,1]
[null,1345,{"$f":"Urliste!C1348","v":3},189,0.14052044609665426,269,0.2,200,0.14869888475836432,687,0.51078066914498144,1345,1]
[null,1346,{"$f":"Urliste!C1349","v":1},190,0.14115898959881129,269,0.199851411589896,200,0.14858841010401189,687,0.5104011887072808,1346,1]
[null,1347,{"$f":"Urliste!C1350","v":6},190,0.14105419450631032,269,0.19970304380103934,200,0.14847809948032664,688,0.51076466221232364,1347,0.99999999999999989]
[null,1348,{"$f":"Urliste!C1351","v":1},191,0.14169139465875372,269,0.19955489614243324,200,0.14836795252225518,688,0.51038575667655783,1348,1]
[null,1349,{"$f":"Urliste!C1352","v":1},192,0.14232765011119347,269,0.1994069681245367,200,0.14825796886582654,688,0.51000741289844331,1349,1]
[null,1350,{"$f":"Urliste!C1353","v":4},192,0.14222222222222222,269,0.19925925925925925,200,0.14814814814814814,689,0.51037037037037036,1350,1]
[null,1351,{"$f":"Urliste!C1354","v":5},192,0.14211695040710584,269,0.19911176905995559,200,0.14803849000740193,690,0.51073279052553666,1351,1]
[null,1352,{"$f":"Urliste!C1355","v":4},192,0.14201183431952663,269,0.19896449704142011,200,0.14792899408284024,691,0.51109467455621305,1352,1]
[null,1353,{"$f":"Urliste!C1356","v":1},193,0.14264597191426459,269,0.19881744271988175,200,0.14781966001478197,691,0.51071692535107172,1353,1]
[null,1354,{"$f":"Urliste!C1357","v":4},193,0.14254062038404727,269,0.19867060561299851,200,0.14771048744460857,692,0.51107828655834564,1354,1]
[null,1355,{"$f":"Urliste!C1358","v":3},193,0.14243542435424356,269,0.1985239852398524,201,0.14833948339483394,692,0.51070110701107008,1355,1]
[null,1356,{"$f":"Urliste!C1359","v":3},193,0.14233038348082597,269,0.19837758112094395,202,0.14896755162241887,692,0.51032448377581119,1356,1]
[null,1357,{"$f":"Urliste!C1360","v":3},193,0.14222549742078114,269,0.19823139277818719,203,0.14959469417833457,692,0.5099484156226971,1357,1]
[null,1358,{"$f":"Urliste!C1361","v":6},193,0.14212076583210603,269,0.19808541973490426,203,0.14948453608247422,693,0.51030927835051543,1358,1]
[null,1359,{"$f":"Urliste!C1362","v":5},193,0.14201618837380428,269,0.19793966151582046,203,0.14937454010301693,694,0.51066961000735833,1359,1]
[null,1360,{"$f":"Urliste!C1363","v":4},193,0.14191176470588235,269,0.19779411764705881,203,0.14926470588235294,695,0.51102941176470584,1360,1]
[null,1361,{"$f":"Urliste!C1364","v":6},193,0.14180749448934607,269,0.19764878765613519,203,0.14915503306392358,696,0.51138868479059518,1361,1.0000000000000002]
[null,1362,{"$f":"Urliste!C1365","v":1},194,0.14243759177679882,269,0.19750367107195302,203,0.14904552129221732,696,0.51101321585903081,1362,0.99999999999999989]
[null,1363,{"$f":"Urliste!C1366","v":2},194,0.14233308877476156,270,0.19809244314013205,203,0.14893617021276595,696,0.51063829787234039,1363,1]
[null,1364,{"$f":"Urliste!C1367","v":5},194,0.14222873900293256,270,0.19794721407624633,203,0.14882697947214077,697,0.51099706744868034,1364,0.99999999999999989]
[null,1365,{"$f":"Urliste!C1368","v":2},194,0.14212454212454212,271,0.19853479853479852,203,0.14871794871794872,697,0.51062271062271058,1365,1]
[null,1366,{"$f":"Urliste!C1369","v":5},194,0.14202049780380674,271,0.19838945827232796,203,0.14860907759882869,698,0.51098096632503665,1366,1]
[null,1367,{"$f":"Urliste!C1370","v":3},194,0.14191660570592537,271,0.19824433065106073,204,0.14923189465983908,698,0.51060716898317482,1367,1]
[null,1368,{"$f":"Urliste!C1371","v":6},194,0.14181286549707603,271,0.19809941520467836,204,0.14912280701754385,699,0.51096491228070173,1368,1]
[null,1369,{"$f":"Urliste!C1372","v":3},194,0.14170927684441198,271,0.19795471146822499,205,0.14974433893352812,699,0.51059167275383488,1369,1]
[null,1370,{"$f":"Urliste!C1373","v":4},194,0.14160583941605839,271,0.19781021897810219,205,0.14963503649635038,700,0.51094890510948909,1370,1]
[null,1371,{"$f":"Urliste!C1374","v":6},194,0.14150255288110869,271,0.19766593727206419,205,0.14952589350838805,701,0.51130561633843907,1371,1]
[null,1372,{"$f":"Urliste!C1375","v":4},194,0.14139941690962099,271,0.19752186588921283,205,0.14941690962099125,702,0.51166180758017488,1372,0.99999999999999989]
[null,1373,{"$f":"Urliste!C1376","v":3},194,0.1412964311726147,271,0.19737800436999273,206,0.15003641660597233,702,0.51128914785142021,1373,1]
[null,1374,{"$f":"Urliste!C1377","v":1},195,0.14192139737991266,271,0.19723435225618632,206,0.14992721979621543,702,0.51091703056768556,1374,1]
[null,1375,{"$f":"Urliste!C1378","v":4},195,0.14181818181818182,271,0.19709090909090909,206,0.14981818181818182,703,0.51127272727272732,1375,1]
[null,1376,{"$f":"Urliste!C1379","v":1},196,0.14244186046511628,271,0.19694767441860464,206,0.14970930232558138,703,0.51090116279069764,1376,0.99999999999999989]
[null,1377,{"$f":"Urliste!C1380","v":3},196,0.14233841684822077,271,0.19680464778503995,207,0.15032679738562091,703,0.51053013798111835,1377,1]
[null,1378,{"$f":"Urliste!C1381","v":6},196,0.14223512336719885,271,0.19666182873730043,207,0.15021770682148042,704,0.51088534107402028,1378,1]
[null,1379,{"$f":"Urliste!C1382","v":5},196,0.14213197969543148,271,0.19651921682378534,207,0.15010877447425672,705,0.51124002900652643,1379,1]
[null,1380,{"$f":"Urliste!C1383","v":6},196,0.14202898550724638,271,0.19637681159420289,207,0.15,706,0.51159420289855073,1380,1]
[null,1381,{"$f":"Urliste!C1384","v":2},196,0.14192614047791455,272,0.19695872556118754,207,0.14989138305575669,706,0.51122375090514116,1381,0.99999999999999989]
[null,1382,{"$f":"Urliste!C1385","v":3},196,0.14182344428364688,272,0.19681620839363242,208,0.15050651230101303,706,0.51085383502170767,1382,1]
[null,1383,{"$f":"Urliste!C1386","v":3},196,0.14172089660159073,272,0.19667389732465654,209,0.15112075198843095,706,0.51048445408532173,1383,1]
[null,1384,{"$f":"Urliste!C1387","v":1},197,0.14234104046242774,272,0.19653179190751446,209,0.15101156069364161,706,0.51011560693641622,1384,1]
[null,1385,{"$f":"Urliste!C1388","v":4},197,0.14223826714801444,272,0.19638989169675089,209,0.15090252707581228,707,0.51046931407942242,1385,1]
[null,1386,{"$f":"Urliste!C1389","v":3},197,0.14213564213564214,272,0.19624819624819625,210,0.15151515151515152,707,0.51010101010101006,1386,0.99999999999999989]
[null,1387,{"$f":"Urliste!C1390","v":5},197,0.14203316510454217,272,0.19610670511896178,210,0.1514059120403749,708,0.5104542177361211,1387,1]
[null,1388,{"$f":"Urliste!C1391","v":3},197,0.14193083573487031,272,0.19596541786743515,211,0.15201729106628242,708,0.51008645533141206,1388,0.99999999999999989]
[null,1389,{"$f":"Urliste!C1392","v":3},197,0.14182865370770339,272,0.19582433405327573,212,0.15262778977681785,708,0.50971922246220303,1389,1]
[null,1390,{"$f":"Urliste!C1393","v":6},197,0.14172661870503597,272,0.19568345323741007,212,0.15251798561151078,709,0.51007194244604315,1390,1]
[null,1391,{"$f":"Urliste!C1394","v":3},197,0.14162473040977713,272,0.19554277498202732,213,0.1531272465851905,709,0.50970524802300499,1391,1]
[null,1392,{"$f":"Urliste!C1395","v":3},197,0.14152298850574713,272,0.19540229885057472,214,0.15373563218390804,709,0.50933908045977017,1392,1]
[null,1393,{"$f":"Urliste!C1396","v":4},197,0.14142139267767409,272,0.19526202440775306,214,0.15362526920315864,710,0.50969131371141418,1393,1]
[null,1394,{"$f":"Urliste!C1397","v":4},{"$f":"IF(C1415=1,D1414+1,D1414)","v":197},{"$f":"D1415/B1415","v":0.14131994261119082},{"$f":"IF(C1415=2,F1414+1,F1414)","v":272},{"$f":"F1415/B1415","v":0.1951219512195122},{"$f":"IF(C1415=3,H1414+1,H1414)","v":214},{"$f":"H1415/B1415","v":0.15351506456241032},{"$f":"IF(C1415>3,J1414+1,J1414)","v":711},{"$f":"J1415/B1415","v":0.51004304160688663},{"$f":"SUM(D1415,J1415,H1415,F1415)","v":1394},{"$f":"SUM(K1415,I1415,G1415,E1415)","v":1}]
[null,1395,{"$f":"Urliste!C1398","v":5},197,0.14121863799283155,272,0.19498207885304661,214,0.15340501792114694,712,0.51039426523297493,1395,1]
[null,1396,{"$f":"Urliste!C1399","v":4},197,0.14111747851002865,272,0.19484240687679083,214,0.15329512893982808,713,0.51074498567335247,1396,1]
[null,1397,{"$f":"Urliste!C1400","v":3},197,0.14101646385110952,272,0.19470293486041518,215,0.15390121689334288,713,0.51037938439513242,1397,1]
[null,1398,{"$f":"Urliste!C1401","v":1},198,0.14163090128755365,272,0.19456366237482117,215,0.15379113018597998,713,0.51001430615164522,1398,1]
[null,1399,{"$f":"Urliste!C1402","v":4},198,0.14152966404574696,272,0.19442458899213724,215,0.15368120085775555,714,0.51036454610436022,1399,0.99999999999999989]
[null,1400,{"$f":"Urliste!C1403","v":2},198,0.14142857142857143,273,0.19500000000000001,215,0.15357142857142858,714,0.51,1400,1]
[null,1401,{"$f":"Urliste!C1404","v":2},198,0.14132762312633834,274,0.19557458957887222,215,0.15346181299072092,714,0.50963597430406848,1401,1]
[null,1402,{"$f":"Urliste!C1405","v":6},198,0.14122681883024252,274,0.19543509272467904,215,0.15335235378031384,715,0.5099857346647646,1402,1]
[null,1403,{"$f":"Urliste!C1406","v":1},199,0.14183891660727013,274,0.19529579472558803,215,0.15324305060584462,715,0.50962223806129725,1403,1]
[null,1404,{"$f":"Urliste!C1407","v":4},199,0.14173789173789172,274,0.19515669515669515,215,0.15313390313390313,716,0.50997150997150997,1404,1]
[null,1405,{"$f":"Urliste!C1408","v":3},199,0.14163701067615658,274,0.19501779359430604,216,0.15373665480427046,716,0.50960854092526686,1405,1]
[null,1406,{"$f":"Urliste!C1409","v":2},199,0.14153627311522049,275,0.19559032716927455,216,0.15362731152204837,716,0.50924608819345663,1406,1]
[null,1407,{"$f":"Urliste!C1410","v":6},199,0.14143567874911159,275,0.19545131485429992,216,0.15351812366737741,717,0.50959488272921105,1407,0.99999999999999989]
[null,1408,{"$f":"Urliste!C1411","v":2},199,0.14133522727272727,276,0.19602272727272727,216,0.15340909090909091,717,0.50923295454545459,1408,1]
[null,1409,{"$f":"Urliste!C1412","v":3},199,0.14123491838183108,276,0.19588360539389638,217,0.15400993612491129,717,0.5088715400993612,1409,1]
[null,1410,{"$f":"Urliste!C1413","v":1},200,0.14184397163120568,276,0.19574468085106383,217,0.15390070921985816,717,0.50851063829787235,1410,1]
[null,1411,{"$f":"Urliste!C1414","v":3},200,0.14174344436569808,276,0.19560595322466337,218,0.15450035435861093,717,0.5081502480510276,1411,1]
[null,1412,{"$f":"Urliste!C1415","v":2},200,0.14164305949008499,277,0.1961756373937677,218,0.15439093484419264,717,0.50779036827195467,1412,1]
[null,1413,{"$f":"Urliste!C1416","v":4},200,0.14154281670205238,277,0.19603680113234254,218,0.15428167020523709,718,0.50813871196036797,1413,1]
[null,1414,{"$f":"Urliste!C1417","v":4},200,0.14144271570014144,277,0.19589816124469589,218,0.15417256011315417,719,0.50848656294200845,1414,1]
[null,1415,{"$f":"Urliste!C1418","v":5},200,0.14134275618374559,277,0.19575971731448763,218,0.15406360424028268,720,0.50883392226148405,1415,0.99999999999999989]
[null,1416,{"$f":"Urliste!C1419","v":4},200,0.14124293785310735,277,0.19562146892655366,218,0.153954802259887,721,0.50918079096045199,1416,1]
[null,1417,{"$f":"Urliste!C1420","v":3},200,0.14114326040931546,277,0.19548341566690192,219,0.15455187014820043,721,0.50882145377558219,1417,1]
[null,1418,{"$f":"Urliste!C1421","v":2},200,0.14104372355430184,278,0.19605077574047955,219,0.15444287729196052,721,0.5084626234132581,1418,1]
[null,1419,{"$f":"Urliste!C1422","v":6},200,0.14094432699083861,278,0.19591261451726569,219,0.15433403805496829,722,0.50880902043692744,1419,1]
[null,1420,{"$f":"Urliste!C1423","v":6},200,0.14084507042253522,278,0.19577464788732393,219,0.15422535211267605,723,0.50915492957746478,1420,1]
[null,1421,{"$f":"Urliste!C1424","v":1},201,0.14144968332160451,278,0.1956368754398311,219,0.15411681914144967,723,0.50879662209711474,1421,1]
[null,1422,{"$f":"Urliste!C1425","v":6},201,0.14135021097046413,278,0.19549929676511954,219,0.15400843881856541,724,0.50914205344585095,1422,1]
[null,1423,{"$f":"Urliste!C1426","v":1},202,0.14195361911454674,278,0.19536191145467321,219,0.15390021082220662,724,0.50878425860857346,1423,1]
[null,1424,{"$f":"Urliste!C1427","v":5},202,0.14185393258426968,278,0.1952247191011236,219,0.15379213483146068,725,0.5091292134831461,1424,1]
[null,1425,{"$f":"Urliste!C1428","v":4},202,0.14175438596491227,278,0.19508771929824562,219,0.15368421052631578,726,0.5094736842105263,1425,1]
[null,1426,{"$f":"Urliste!C1429","v":3},202,0.14165497896213183,278,0.19495091164095371,220,0.15427769985974754,726,0.50911640953716686,1426,1]
[null,1427,{"$f":"Urliste!C1430","v":1},203,0.14225648213034336,278,0.19481429572529782,220,0.15416958654519972,726,0.50875963559915904,1427,1]
[null,1428,{"$f":"Urliste!C1431","v":5},203,0.14215686274509803,278,0.19467787114845939,220,0.15406162464985995,727,0.5091036414565826,1428,1]
[null,1429,{"$f":"Urliste!C1432","v":6},203,0.14205738278516444,278,0.19454163750874737,220,0.15395381385584325,728,0.50944716585024497,1429,1]
[null,1430,{"$f":"Urliste!C1433","v":3},203,0.14195804195804196,278,0.19440559440559441,221,0.15454545454545454,728,0.50909090909090904,1430,1]
[null,1431,{"$f":"Urliste!C1434","v":1},204,0.14255765199161424,278,0.19426974143955275,221,0.15443745632424877,728,0.50873515024458416,1431,1]
[null,1432,{"$f":"Urliste!C1435","v":5},204,0.14245810055865921,278,0.19413407821229051,221,0.1543296089385475,729,0.50907821229050276,1432,1]
[null,1433,{"$f":"Urliste!C1436","v":2},204,0.14235868806699231,279,0.19469644103279832,221,0.15422191207257502,729,0.5087229588276343,1433,0.99999999999999978]
[null,1434,{"$f":"Urliste!C1437","v":6},204,0.14225941422594143,279,0.19456066945606695,221,0.15411436541143655,730,0.50906555090655514,1434,1]
[null,1435,{"$f":"Urliste!C1438","v":6},204,0.1421602787456446,279,0.19442508710801393,221,0.15400696864111499,731,0.50940766550522643,1435,1]
[null,1436,{"$f":"Urliste!C1439","v":1},205,0.14275766016713093,279,0.19428969359331477,221,0.15389972144846797,731,0.50905292479108633,1436,1]
[null,1437,{"$f":"Urliste!C1440","v":1},206,0.14335421016005567,279,0.19415448851774531,221,0.15379262352122477,731,0.50869867780097422,1437,1]
[null,1438,{"$f":"Urliste!C1441","v":4},206,0.14325452016689846,279,0.19401947148817802,221,0.15368567454798332,732,0.50904033379694025,1438,1]
[null,1439,{"$f":"Urliste!C1442","v":5},206,0.14315496872828354,279,0.19388464211257819,221,0.1535788742182071,733,0.5093815149409312,1439,1]
[null,1440,{"$f":"Urliste!C1443","v":6},206,0.14305555555555555,279,0.19375000000000001,221,0.15347222222222223,734,0.50972222222222219,1440,1]
[null,1441,{"$f":"Urliste!C1444","v":6},206,0.14295628036086053,279,0.19361554476058293,221,0.15336571825121442,735,0.51006245662734218,1441,1.0000000000000002]
[null,1442,{"$f":"Urliste!C1445","v":5},206,0.14285714285714285,279,0.19348127600554785,221,0.15325936199722606,736,0.51040221914008321,1442,1]
[null,1443,{"$f":"Urliste!C1446","v":6},206,0.14275814275814275,279,0.19334719334719336,221,0.15315315315315314,737,0.51074151074151075,1443,1]
[null,1444,{"$f":"Urliste!C1447","v":1},207,0.14335180055401661,279,0.19321329639889195,221,0.15304709141274239,737,0.51038781163434899,1444,1]
[null,1445,{"$f":"Urliste!C1448","v":1},208,0.1439446366782007,279,0.19307958477508649,221,0.15294117647058825,737,0.51003460207612461,1445,1]
[null,1446,{"$f":"Urliste!C1449","v":6},208,0.14384508990318118,279,0.19294605809128632,221,0.15283540802213003,738,0.51037344398340245,1446,1]
[null,1447,{"$f":"Urliste!C1450","v":6},208,0.1437456807187284,279,0.19281271596406357,221,0.15272978576364893,739,0.5107118175535591,1447,1]
[null,1448,{"$f":"Urliste!C1451","v":3},208,0.143646408839779,279,0.19267955801104972,222,0.15331491712707182,739,0.51035911602209949,1448,1]
[null,1449,{"$f":"Urliste!C1452","v":2},208,0.14354727398205658,280,0.19323671497584541,222,0.15320910973084886,739,0.51000690131124915,1449,1]
[null,1450,{"$f":"Urliste!C1453","v":1},209,0.14413793103448275,280,0.19310344827586207,222,0.15310344827586206,739,0.5096551724137931,1450,1]
[null,1451,{"$f":"Urliste!C1454","v":1},210,0.14472777394900069,280,0.19297036526533426,222,0.15299793246037216,739,0.50930392832529292,1451,1]
[null,1452,{"$f":"Urliste!C1455","v":2},210,0.14462809917355371,281,0.19352617079889808,222,0.15289256198347106,739,0.50895316804407709,1452,1]
[null,1453,{"$f":"Urliste!C1456","v":2},210,0.1445285615966965,282,0.19408121128699243,222,0.15278733654507914,739,0.50860289057123198,1453,1]
[null,1454,{"$f":"Urliste!C1457","v":2},210,0.14442916093535077,283,0.19463548830811556,222,0.15268225584594222,739,0.50825309491059145,1454,1]
[null,1455,{"$f":"Urliste!C1458","v":2},210,0.14432989690721648,284,0.19518900343642612,222,0.15257731958762888,739,0.50790378006872849,1455,1]
[null,1456,{"$f":"Urliste!C1459","v":2},210,0.14423076923076922,285,0.19574175824175824,222,0.15247252747252749,739,0.50755494505494503,1456,1]
[null,1457,{"$f":"Urliste!C1460","v":1},211,0.14481811942347289,285,0.19560741249142072,222,0.15236787920384351,739,0.50720658888126291,1457,1]
[null,1458,{"$f":"Urliste!C1461","v":4},{"$f":"IF(C1479=1,D1478+1,D1478)","v":211},{"$f":"D1479/B1479","v":0.144718792866941},{"$f":"IF(C1479=2,F1478+1,F1478)","v":285},{"$f":"F1479/B1479","v":0.19547325102880658},{"$f":"IF(C1479=3,H1478+1,H1478)","v":222},{"$f":"H1479/B1479","v":0.15226337448559671},{"$f":"IF(C1479>3,J1478+1,J1478)","v":740},{"$f":"J1479/B1479","v":0.50754458161865568},{"$f":"SUM(D1479,J1479,H1479,F1479)","v":1458},{"$f":"SUM(K1479,I1479,G1479,E1479)","v":0.99999999999999989}]
[null,1459,{"$f":"Urliste!C1462","v":1},212,0.14530500342700481,285,0.19533927347498287,222,0.15215901302261822,740,0.50719671007539413,1459,1]
[null,1460,{"$f":"Urliste!C1463","v":6},212,0.14520547945205478,285,0.1952054794520548,222,0.15205479452054796,741,0.50753424657534252,1460,1]
[null,1461,{"$f":"Urliste!C1464","v":4},212,0.14510609171800137,285,0.19507186858316222,222,0.15195071868583163,742,0.50787132101300481,1461,1]
[null,1462,{"$f":"Urliste!C1465","v":3},212,0.14500683994528044,285,0.19493844049247605,223,0.15253077975376197,742,0.50752393980848154,1462,1]
[null,1463,{"$f":"Urliste!C1466","v":1},213,0.14559125085440874,285,0.19480519480519481,223,0.15242652084757347,742,0.50717703349282295,1463,0.99999999999999989]
[null,1464,{"$f":"Urliste!C1467","v":6},213,0.14549180327868852,285,0.19467213114754098,223,0.1523224043715847,743,0.50751366120218577,1464,1]
[null,1465,{"$f":"Urliste!C1468","v":5},213,0.1453924914675768,285,0.19453924914675769,223,0.15221843003412969,744,0.50784982935153589,1465,1]
[null,1466,{"$f":"Urliste!C1469","v":4},213,0.14529331514324692,285,0.19440654843110505,223,0.15211459754433834,745,0.50818553888130968,1466,1]
[null,1467,{"$f":"Urliste!C1470","v":6},213,0.14519427402862986,285,0.19427402862985685,223,0.1520109066121336,746,0.50852079072937972,1467,1]
[null,1468,{"$f":"Urliste!C1471","v":6},213,0.14509536784741145,285,0.19414168937329701,223,0.15190735694822888,747,0.50885558583106272,1468,1]
[null,1469,{"$f":"Urliste!C1472","v":5},213,0.14499659632402995,285,0.19400953029271614,223,0.15180394826412524,748,0.50918992511912864,1469,1]
[null,1470,{"$f":"Urliste!C1473","v":5},213,0.14489795918367346,285,0.19387755102040816,223,0.15170068027210884,749,0.50952380952380949,1470,0.99999999999999989]
[null,1471,{"$f":"Urliste!C1474","v":3},213,0.14479945615227735,285,0.19374575118966689,224,0.15227736233854522,749,0.50917743031951057,1471,1]
[null,1472,{"$f":"Urliste!C1475","v":3},213,0.14470108695652173,285,0.19361413043478262,225,0.15285326086956522,749,0.50883152173913049,1472,1]
[null,1473,{"$f":"Urliste!C1476","v":1},214,0.1452817379497624,285,0.19348268839103869,225,0.15274949083503056,749,0.50848608282416841,1473,1]
[null,1474,{"$f":"Urliste!C1477","v":1},215,0.14586160108548168,285,0.19335142469470828,225,0.15264586160108548,749,0.50814111261872452,1474,1]
[null,1475,{"$f":"Urliste!C1478","v":6},215,0.14576271186440679,285,0.19322033898305085,225,0.15254237288135594,750,0.50847457627118642,1475,1]
[null,1476,{"$f":"Urliste!C1479","v":3},215,0.14566395663956638,285,0.19308943089430894,226,0.15311653116531165,750,0.50813008130081305,1476,1]
[null,1477,{"$f":"Urliste!C1480","v":3},215,0.14556533513879485,285,0.1929587000677048,227,0.15368991198375084,750,0.50778605280974953,1477,1]
[null,1478,{"$f":"Urliste!C1481","v":5},215,0.14546684709066307,285,0.19282814614343707,227,0.15358592692828146,751,0.50811907983761839,1478,1]
[null,1479,{"$f":"Urliste!C1482","v":1},216,0.1460446247464503,285,0.1926977687626775,227,0.15348208248816769,751,0.50777552400270454,1479,1]
[null,1480,{"$f":"Urliste!C1483","v":4},216,0.14594594594594595,285,0.19256756756756757,227,0.15337837837837837,752,0.50810810810810814,1480,1]
[null,1481,{"$f":"Urliste!C1484","v":1},217,0.14652261985145174,285,0.19243754220121539,227,0.15327481431465226,752,0.50776502363268061,1481,1]
[null,1482,{"$f":"Urliste!C1485","v":1},218,0.14709851551956815,285,0.19230769230769232,227,0.15317139001349528,752,0.50742240215924428,1482,1]
[null,1483,{"$f":"Urliste!C1486","v":4},218,0.14699932569116655,285,0.19217801753202968,227,0.15306810519217801,753,0.50775455158462579,1483,1]
[null,1484,{"$f":"Urliste!C1487","v":3},218,0.14690026954177898,285,0.19204851752021562,228,0.15363881401617252,753,0.50741239892183287,1484,1]
[null,1485,{"$f":"Urliste!C1488","v":4},218,0.14680134680134679,285,0.19191919191919191,228,0.15353535353535352,754,0.50774410774410772,1485,1]
[null,1486,{"$f":"Urliste!C1489","v":1},219,0.14737550471063257,285,0.1917900403768506,228,0.15343203230148048,754,0.5074024226110363,1486,0.99999999999999989]
[null,1487,{"$f":"Urliste!C1490","v":6},219,0.1472763954270343,285,0.19166106254203094,228,0.15332885003362476,755,0.50773369199731,1487,1]
[null,1488,{"$f":"Urliste!C1491","v":5},219,0.14717741935483872,285,0.19153225806451613,228,0.15322580645161291,756,0.50806451612903225,1488,1]
[null,1489,{"$f":"Urliste!C1492","v":4},219,0.14707857622565479,285,0.19140362659503021,228,0.15312290127602418,757,0.50839489590329079,1489,0.99999999999999989]
[null,1490,{"$f":"Urliste!C1493","v":4},219,0.14697986577181207,285,0.1912751677852349,228,0.15302013422818792,758,0.50872483221476505,1490,1]
[null,1491,{"$f":"Urliste!C1494","v":6},219,0.14688128772635814,285,0.19114688128772636,228,0.15291750503018109,759,0.50905432595573441,1491,1]
[null,1492,{"$f":"Urliste!C1495","v":1},220,0.14745308310991956,285,0.19101876675603216,228,0.15281501340482573,759,0.50871313672922247,1492,0.99999999999999989]
[null,1493,{"$f":"Urliste!C1496","v":4},220,0.14735432016075017,285,0.19089082384460818,228,0.15271265907568654,760,0.50904219691895514,1493,1]
[null,1494,{"$f":"Urliste!C1497","v":5},220,0.14725568942436412,285,0.19076305220883535,228,0.15261044176706828,761,0.50937081659973227,1494,1]
[null,1495,{"$f":"Urliste!C1498","v":3},220,0.14715719063545152,285,0.19063545150501673,229,0.1531772575250836,761,0.50903010033444818,1495,1]
[null,1496,{"$f":"Urliste!C1499","v":5},220,0.14705882352941177,285,0.19050802139037434,229,0.15307486631016043,762,0.50935828877005351,1496,1]
[null,1497,{"$f":"Urliste!C1500","v":4},220,0.14696058784235136,285,0.19038076152304609,229,0.15297261189044756,763,0.50968603874415497,1497,0.99999999999999989]
[null,1498,{"$f":"Urliste!C1501","v":2},220,0.14686248331108145,286,0.19092122830440589,229,0.15287049399198932,763,0.50934579439252337,1498,1]
[null,1499,{"$f":"Urliste!C1502","v":2},220,0.14676450967311541,287,0.1914609739826551,229,0.15276851234156105,763,0.50900600400266849,1499,1]
[null,1500,{"$f":"Urliste!C1503","v":6},220,0.14666666666666667,287,0.19133333333333333,229,0.15266666666666667,764,0.5093333333333333,1500,1]
[null,1501,{"$f":"Urliste!C1504","v":2},220,0.14656895403064624,288,0.19187208527648233,229,0.1525649566955363,764,0.50899400399733508,1501,1]
[null,1502,{"$f":"Urliste!C1505","v":1},221,0.14713715046604528,288,0.19174434087882822,229,0.15246338215712382,764,0.50865512649800271,1502,1]
[null,1503,{"$f":"Urliste!C1506","v":3},221,0.14703925482368596,288,0.19161676646706588,230,0.15302727877578176,764,0.5083166999334664,1503,0.99999999999999989]
[null,1504,{"$f":"Urliste!C1507","v":2},221,0.14694148936170212,289,0.19215425531914893,230,0.15292553191489361,764,0.50797872340425532,1504,0.99999999999999989]
[null,1505,{"$f":"Urliste!C1508","v":3},221,0.146843853820598,289,0.1920265780730897,231,0.15348837209302327,764,0.50764119601328905,1505,1]
[null,1506,{"$f":"Urliste!C1509","v":6},221,0.14674634794156707,289,0.19189907038512616,231,0.15338645418326693,765,0.50796812749003983,1506,0.99999999999999989]
[null,1507,{"$f":"Urliste!C1510","v":3},221,0.14664897146648972,289,0.19177173191771732,232,0.15394824153948242,765,0.50763105507631057,1507,1]
[null,1508,{"$f":"Urliste!C1511","v":6},221,0.14655172413793102,289,0.19164456233421751,232,0.15384615384615385,766,0.50795755968169765,1508,1]
[null,1509,{"$f":"Urliste!C1512","v":2},221,0.14645460569913851,290,0.19218025182239895,232,0.15374420145791914,766,0.50762094102054345,1509,1]
[null,1510,{"$f":"Urliste!C1513","v":6},221,0.14635761589403973,290,0.19205298013245034,232,0.15364238410596026,767,0.50794701986754964,1510,1]
[null,1511,{"$f":"Urliste!C1514","v":2},221,0.14626075446724024,291,0.19258769027134348,232,0.15354070152217075,767,0.50761085373924553,1511,1]
[null,1512,{"$f":"Urliste!C1515","v":5},221,0.14616402116402116,291,0.19246031746031747,232,0.15343915343915343,768,0.50793650793650791,1512,1]
[null,1513,{"$f":"Urliste!C1516","v":3},221,0.14606741573033707,291,0.19233311302048908,233,0.15399867812293458,768,0.50760079312623929,1513,1]
[null,1514,{"$f":"Urliste!C1517","v":2},221,0.14597093791281374,292,0.1928665785997358,233,0.15389696169088507,768,0.50726552179656537,1514,1]
[null,1515,{"$f":"Urliste!C1518","v":3},221,0.14587458745874587,292,0.19273927392739273,234,0.15445544554455445,768,0.50693069306930694,1515,1]
[null,1516,{"$f":"Urliste!C1519","v":1},222,0.14643799472295516,292,0.19261213720316622,234,0.15435356200527706,768,0.50659630606860162,1516,1]
[null,1517,{"$f":"Urliste!C1520","v":1},223,0.14700065919578115,292,0.19248516809492419,234,0.15425181278839814,768,0.50626235992089652,1517,1]
[null,1518,{"$f":"Urliste!C1521","v":6},223,0.14690382081686429,292,0.19235836627140976,234,0.1541501976284585,769,0.50658761528326746,1518,1]
[null,1519,{"$f":"Urliste!C1522","v":6},223,0.1468071099407505,292,0.19223173140223832,234,0.15404871626069783,770,0.50691244239631339,1519,1]
[null,1520,{"$f":"Urliste!C1523","v":5},223,0.14671052631578949,292,0.19210526315789472,234,0.15394736842105264,771,0.50723684210526321,1520,1]
[null,1521,{"$f":"Urliste!C1524","v":2},223,0.14661406969099278,293,0.19263642340565418,234,0.15384615384615385,771,0.50690335305719925,1521,1]
[null,1522,{"$f":"Urliste!C1525","v":1},{"$f":"IF(C1543=1,D1542+1,D1542)","v":224},{"$f":"D1543/B1543","v":0.14717477003942181},{"$f":"IF(C1543=2,F1542+1,F1542)","v":293},{"$f":"F1543/B1543","v":0.19250985545335086},{"$f":"IF(C1543=3,H1542+1,H1542)","v":234},{"$f":"H1543/B1543","v":0.15374507227332457},{"$f":"IF(C1543>3,J1542+1,J1542)","v":771},{"$f":"J1543/B1543","v":0.50657030223390276},{"$f":"SUM(D1543,J1543,H1543,F1543)","v":1522},{"$f":"SUM(K1543,I1543,G1543,E1543)","v":1}]
[null,1523,{"$f":"Urliste!C1526","v":4},224,0.14707813525935653,293,0.19238345370978333,234,0.15364412344057782,772,0.50689428759028232,1523,0.99999999999999989]
[null,1524,{"$f":"Urliste!C1527","v":4},224,0.14698162729658792,293,0.19225721784776903,234,0.15354330708661418,773,0.5072178477690289,1524,1]
[null,1525,{"$f":"Urliste!C1528","v":2},224,0.14688524590163934,294,0.19278688524590165,234,0.15344262295081967,773,0.5068852459016393,1525,0.99999999999999989]
[null,1526,{"$f":"Urliste!C1529","v":6},224,0.14678899082568808,294,0.19266055045871561,234,0.15334207077326342,774,0.50720838794233292,1526,1]
[null,1527,{"$f":"Urliste!C1530","v":1},225,0.14734774066797643,294,0.1925343811394892,234,0.15324165029469547,774,0.50687622789783893,1527,1]
[null,1528,{"$f":"Urliste!C1531","v":1},226,0.14790575916230367,294,0.19240837696335078,234,0.15314136125654451,774,0.50654450261780104,1528,1]
[null,1529,{"$f":"Urliste!C1532","v":2},226,0.14780902550686723,295,0.19293655984303465,234,0.15304120340091562,774,0.5062132112491825,1529,1]
[null,1530,{"$f":"Urliste!C1533","v":2},226,0.1477124183006536,296,0.19346405228758171,234,0.15294117647058825,774,0.50588235294117645,1530,1]
[null,1531,{"$f":"Urliste!C1534","v":2},226,0.14761593729588504,297,0.19399085564990204,234,0.15284128020901372,774,0.50555192684519923,1531,1]
[null,1532,{"$f":"Urliste!C1535","v":1},227,0.14817232375979111,297,0.19386422976501305,234,0.15274151436031333,774,0.50522193211488253,1532,1]
[null,1533,{"$f":"Urliste!C1536","v":4},227,0.14807566862361382,297,0.19373776908023482,234,0.15264187866927592,775,0.50554468362687544,1533,1]
[null,1534,{"$f":"Urliste!C1537","v":3},227,0.14797913950456323,297,0.19361147327249023,235,0.15319426336375488,775,0.50521512385919165,1534,0.99999999999999989]
[null,1535,{"$f":"Urliste!C1538","v":5},227,0.14788273615635178,297,0.19348534201954398,235,0.15309446254071662,776,0.50553745928338767,1535,1]
[null,1536,{"$f":"Urliste!C1539","v":4},227,0.14778645833333334,297,0.193359375,235,0.15299479166666666,777,0.505859375,1536,1]
[null,1537,{"$f":"Urliste!C1540","v":5},227,0.14769030579050096,297,0.19323357189329862,235,0.15289525048796357,778,0.50618087182823679,1537,1]
[null,1538,{"$f":"Urliste!C1541","v":1},228,0.14824447334200261,297,0.19310793237971391,235,0.1527958387516255,778,0.50585175552665795,1538,1]
[null,1539,{"$f":"Urliste!C1542","v":3},228,0.14814814814814814,297,0.19298245614035087,236,0.15334632878492527,778,0.50552306692657567,1539,1]
[null,1540,{"$f":"Urliste!C1543","v":4},228,0.14805194805194805,297,0.19285714285714287,236,0.15324675324675324,779,0.50584415584415587,1540,1]
[null,1541,{"$f":"Urliste!C1544","v":1},229,0.14860480207657364,297,0.19273199221284881,236,0.15314730694354314,779,0.5055158987670344,1541,1]
[null,1542,{"$f":"Urliste!C1545","v":2},229,0.14850843060959792,298,0.19325551232166019,236,0.15304798962386512,779,0.50518806744487676,1542,1]
[null,1543,{"$f":"Urliste!C1546","v":3},229,0.14841218405703174,298,0.19313026571613739,237,0.15359688917692807,779,0.50486066104990279,1543,0.99999999999999989]
[null,1544,{"$f":"Urliste!C1547","v":6},229,0.1483160621761658,298,0.19300518134715025,237,0.15349740932642486,780,0.50518134715025909,1544,1]
[null,1545,{"$f":"Urliste!C1548","v":1},230,0.14886731391585761,298,0.19288025889967639,237,0.15339805825242719,780,0.50485436893203883,1545,1]
[null,1546,{"$f":"Urliste!C1549","v":1},231,0.14941785252263906,298,0.1927554980595084,237,0.15329883570504527,780,0.50452781371280719,1546,0.99999999999999989]
[null,1547,{"$f":"Urliste!C1550","v":5},231,0.14932126696832579,298,0.19263089851325146,237,0.15319974143503556,781,0.50484809308338718,1547,1]
[null,1548,{"$f":"Urliste!C1551","v":3},231,0.14922480620155038,298,0.19250645994832041,238,0.15374677002583978,781,0.50452196382428938,1548,1]
[null,1549,{"$f":"Urliste!C1552","v":1},232,0.14977404777275663,298,0.19238218205293739,238,0.15364751452550032,781,0.50419625564880566,1549,0.99999999999999989]
[null,1550,{"$f":"Urliste!C1553","v":5},232,0.14967741935483872,298,0.19225806451612903,238,0.15354838709677418,782,0.50451612903225806,1550,1]
[null,1551,{"$f":"Urliste!C1554","v":5},232,0.14958091553836234,298,0.19213410702772404,238,0.15344938749194068,783,0.50483558994197297,1551,1]
[null,1552,{"$f":"Urliste!C1555","v":6},232,0.14948453608247422,298,0.19201030927835053,238,0.15335051546391754,784,0.50515463917525771,1552,1]
[null,1553,{"$f":"Urliste!C1556","v":3},232,0.14938828074694141,298,0.19188667095943335,239,0.15389568576947843,784,0.50482936252414679,1553,1]
[null,1554,{"$f":"Urliste!C1557","v":2},232,0.14929214929214929,299,0.19240669240669242,239,0.1537966537966538,784,0.50450450450450446,1554,0.99999999999999989]
[null,1555,{"$f":"Urliste!C1558","v":6},232,0.14919614147909968,299,0.19228295819935692,239,0.15369774919614149,785,0.50482315112540188,1555,0.99999999999999989]
[null,1556,{"$f":"Urliste!C1559","v":1},233,0.14974293059125965,299,0.19215938303341903,239,0.15359897172236503,785,0.50449871465295626,1556,1]
[null,1557,{"$f":"Urliste!C1560","v":4},233,0.14964675658317278,299,0.1920359666024406,239,0.15350032113037893,786,0.50481695568400775,1557,1]
[null,1558,{"$f":"Urliste!C1561","v":2},233,0.14955070603337611,300,0.1925545571245186,239,0.15340179717586649,786,0.50449293966623876,1558,1]
[null,1559,{"$f":"Urliste!C1562","v":1},234,0.150096215522771,300,0.19243104554201412,239,0.15330339961513792,786,0.50416933932007701,1559,1]
[null,1560,{"$f":"Urliste!C1563","v":1},235,0.15064102564102563,300,0.19230769230769232,239,0.15320512820512822,786,0.50384615384615383,1560,1]
[null,1561,{"$f":"Urliste!C1564","v":2},235,0.15054452274183217,301,0.19282511210762332,239,0.15310698270339526,786,0.50352338244714923,1561,1]
[null,1562,{"$f":"Urliste!C1565","v":4},235,0.15044814340588988,301,0.19270166453265045,239,0.1530089628681178,787,0.50384122919334184,1562,1]
[null,1563,{"$f":"Urliste!C1566","v":5},235,0.15035188739603328,301,0.19257837492002558,239,0.15291106845809341,788,0.50415866922584773,1563,1]
[null,1564,{"$f":"Urliste!C1567","v":6},235,0.15025575447570333,301,0.19245524296675193,239,0.15281329923273657,789,0.50447570332480818,1564,1]
[null,1565,{"$f":"Urliste!C1568","v":2},235,0.15015974440894569,302,0.19297124600638976,239,0.15271565495207667,789,0.50415335463258781,1565,1]
[null,1566,{"$f":"Urliste!C1569","v":5},235,0.15006385696040869,302,0.19284802043422733,239,0.15261813537675606,790,0.50446998722860792,1566,1]
[null,1567,{"$f":"Urliste!C1570","v":2},235,0.14996809189534141,303,0.19336311423101468,239,0.15252074026802809,790,0.50414805360561588,1567,1]
[null,1568,{"$f":"Urliste!C1571","v":1},236,0.15051020408163265,303,0.19323979591836735,239,0.15242346938775511,790,0.50382653061224492,1568,1]
[null,1569,{"$f":"Urliste!C1572","v":2},236,0.15041427660930529,304,0.19375398342893563,239,0.15232632249840664,790,0.50350541746335242,1569,1]
[null,1570,{"$f":"Urliste!C1573","v":2},236,0.15031847133757961,305,0.19426751592356689,239,0.15222929936305732,790,0.50318471337579618,1570,1]
[null,1571,{"$f":"Urliste!C1574","v":4},236,0.15022278803309994,305,0.19414385741565882,239,0.15213239974538512,791,0.5035009548058561,1571,1]
[null,1572,{"$f":"Urliste!C1575","v":6},236,0.15012722646310434,305,0.19402035623409669,239,0.15203562340966922,792,0.50381679389312972,1572,1]
[null,1573,{"$f":"Urliste!C1576","v":2},236,0.15003178639542275,306,0.19453273998728543,239,0.1519389701207883,792,0.50349650349650354,1573,1]
[null,1574,{"$f":"Urliste!C1577","v":3},236,0.14993646759847523,306,0.19440914866581957,240,0.15247776365946633,792,0.50317662007623887,1574,1]
[null,1575,{"$f":"Urliste!C1578","v":1},237,0.15047619047619049,306,0.19428571428571428,240,0.15238095238095239,792,0.50285714285714289,1575,1]
[null,1576,{"$f":"Urliste!C1579","v":1},238,0.15101522842639595,306,0.19416243654822335,240,0.15228426395939088,792,0.5025380710659898,1576,1]
[null,1577,{"$f":"Urliste!C1580","v":6},238,0.15091946734305645,306,0.19403931515535827,240,0.15218769816106531,793,0.50285351934052003,1577,1.0000000000000002]
[null,1578,{"$f":"Urliste!C1581","v":1},239,0.1514575411913815,306,0.19391634980988592,240,0.15209125475285171,793,0.50253485424588085,1578,1]
[null,1579,{"$f":"Urliste!C1582","v":3},239,0.1513616212792907,306,0.19379354021532616,241,0.1526282457251425,793,0.50221659278024067,1579,1]
[null,1580,{"$f":"Urliste!C1583","v":4},239,0.15126582278481013,306,0.19367088607594937,241,0.15253164556962026,794,0.50253164556962027,1580,1]
[null,1581,{"$f":"Urliste!C1584","v":4},239,0.15117014547754587,306,0.19354838709677419,241,0.15243516761543327,795,0.50284629981024664,1581,1]
[null,1582,{"$f":"Urliste!C1585","v":2},239,0.15107458912768648,307,0.19405815423514539,241,0.15233881163084703,795,0.5025284450063211,1582,1]
[null,1583,{"$f":"Urliste!C1586","v":3},239,0.15097915350600127,307,0.19393556538218573,242,0.15287428932406821,795,0.50221099178774475,1583,1]
[null,1584,{"$f":"Urliste!C1587","v":6},239,0.15088383838383837,307,0.19381313131313133,242,0.15277777777777779,796,0.50252525252525249,1584,0.99999999999999989]
[null,1585,{"$f":"Urliste!C1588","v":4},239,0.15078864353312302,307,0.19369085173501577,242,0.1526813880126183,797,0.50283911671924286,1585,1]
[null,1586,{"$f":"Urliste!C1589","v":3},{"$f":"IF(C1607=1,D1606+1,D1606)","v":239},{"$f":"D1607/B1607","v":0.15069356872635561},{"$f":"IF(C1607=2,F1606+1,F1606)","v":307},{"$f":"F1607/B1607","v":0.19356872635561159},{"$f":"IF(C1607=3,H1606+1,H1606)","v":243},{"$f":"H1607/B1607","v":0.15321563682219419},{"$f":"IF(C1607>3,J1606+1,J1606)","v":797},{"$f":"J1607/B1607","v":0.50252206809583855},{"$f":"SUM(D1607,J1607,H1607,F1607)","v":1586},{"$f":"SUM(K1607,I1607,G1607,E1607)","v":1}]
[null,1587,{"$f":"Urliste!C1590","v":1},240,0.15122873345935728,307,0.19344675488342786,243,0.15311909262759923,797,0.50220541902961557,1587,1]
[null,1588,{"$f":"Urliste!C1591","v":5},240,0.15113350125944586,307,0.19332493702770781,243,0.15302267002518891,798,0.5025188916876574,1588,1]
[null,1589,{"$f":"Urliste!C1592","v":6},240,0.15103838892385149,307,0.19320327249842667,243,0.15292636878539961,799,0.50283196979232225,1589,1.0000000000000002]
[null,1590,{"$f":"Urliste!C1593","v":5},240,0.15094339622641509,307,0.19308176100628932,243,0.15283018867924528,800,0.50314465408805031,1590,1]
[null,1591,{"$f":"Urliste!C1594","v":6},240,0.15084852294154619,307,0.19296040226272784,243,0.15273412947831552,801,0.50345694531741048,1591,1]
[null,1592,{"$f":"Urliste!C1595","v":6},240,0.15075376884422109,307,0.19283919597989949,243,0.15263819095477388,802,0.50376884422110557,1592,1]
[null,1593,{"$f":"Urliste!C1596","v":6},240,0.15065913370998116,307,0.19271814187068426,243,0.15254237288135594,803,0.5040803515379787,1593,1]
[null,1594,{"$f":"Urliste!C1597","v":3},240,0.15056461731493098,307,0.19259723964868256,244,0.15307402760351319,803,0.50376411543287325,1594,1]
[null,1595,{"$f":"Urliste!C1598","v":5},240,0.15047021943573669,307,0.19247648902821315,244,0.15297805642633228,804,0.50407523510971786,1595,0.99999999999999989]
[null,1596,{"$f":"Urliste!C1599","v":3},240,0.15037593984962405,307,0.19235588972431078,245,0.15350877192982457,804,0.50375939849624063,1596,1]
[null,1597,{"$f":"Urliste!C1600","v":6},240,0.15028177833437695,307,0.19223544145272387,245,0.15341264871634314,805,0.504070131496556,1597,0.99999999999999989]
[null,1598,{"$f":"Urliste!C1601","v":3},240,0.15018773466833543,307,0.19211514392991239,246,0.15394242803504379,805,0.50375469336670842,1598,1]
[null,1599,{"$f":"Urliste!C1602","v":5},240,0.15009380863039401,307,0.19199499687304566,246,0.15384615384615385,806,0.50406504065040647,1599,1]
[null,1600,{"$f":"Urliste!C1603","v":2},240,0.15,308,0.1925,246,0.15375,806,0.50375000000000003,1600,1]
[null,1601,{"$f":"Urliste!C1604","v":2},240,0.14990630855715179,309,0.19300437226733291,246,0.15365396627108058,806,0.50343535290443475,1601,1]
[null,1602,{"$f":"Urliste!C1605","v":2},240,0.14981273408239701,310,0.19350811485642946,246,0.15355805243445692,806,0.50312109862671661,1602,1]
[null,1603,{"$f":"Urliste!C1606","v":3},240,0.14971927635683094,310,0.19338739862757329,247,0.15408608858390518,806,0.50280723643169056,1603,0.99999999999999989]
[null,1604,{"$f":"Urliste!C1607","v":1},241,0.15024937655860349,310,0.19326683291770574,247,0.15399002493765587,806,0.50249376558603487,1604,1]
[null,1605,{"$f":"Urliste!C1608","v":2},241,0.15015576323987539,311,0.19376947040498443,247,0.15389408099688473,806,0.50218068535825544,1605,1]
[null,1606,{"$f":"Urliste!C1609","v":3},241,0.15006226650062265,311,0.19364881693648817,248,0.15442092154420922,806,0.50186799501867996,1606,1]
[null,1607,{"$f":"Urliste!C1610","v":6},241,0.14996888612321096,311,0.19352831362787803,248,0.15432482887367766,807,0.50217797137523335,1607,1]
[null,1608,{"$f":"Urliste!C1611","v":6},241,0.14987562189054726,311,0.19340796019900497,248,0.15422885572139303,808,0.50248756218905477,1608,1]
[null,1609,{"$f":"Urliste!C1612","v":2},241,0.1497824735860783,312,0.19390926041019266,248,0.15413300186451212,808,0.50217526413921687,1609,0.99999999999999989]
[null,1610,{"$f":"Urliste!C1613","v":2},241,0.14968944099378881,313,0.19440993788819877,248,0.15403726708074533,808,0.50186335403726712,1610,1]
[null,1611,{"$f":"Urliste!C1614","v":2},241,0.14959652389819988,314,0.19490999379267535,248,0.15394165114835506,808,0.50155183116076973,1611,1]
[null,1612,{"$f":"Urliste!C1615","v":5},241,0.14950372208436724,314,0.19478908188585609,248,0.15384615384615385,809,0.50186104218362282,1612,1]
[null,1613,{"$f":"Urliste!C1616","v":5},241,0.14941103533787972,314,0.19466831990080596,248,0.15375077495350278,810,0.50216986980781153,1613,1]
[null,1614,{"$f":"Urliste!C1617","v":6},241,0.1493184634448575,314,0.19454770755885997,248,0.15365551425030979,811,0.50247831474597271,1614,1]
[null,1615,{"$f":"Urliste!C1618","v":1},242,0.1498452012383901,314,0.19442724458204336,248,0.15356037151702787,811,0.50216718266253868,1615,0.99999999999999989]
[null,1616,{"$f":"Urliste!C1619","v":4},242,0.14975247524752475,314,0.19430693069306931,248,0.15346534653465346,812,0.50247524752475248,1616,1]
[null,1617,{"$f":"Urliste!C1620","v":5},242,0.14965986394557823,314,0.19418676561533704,248,0.15337043908472481,813,0.50278293135435992,1617,1]
[null,1618,{"$f":"Urliste!C1621","v":3},242,0.14956736711990112,314,0.19406674907292953,249,0.15389369592089,813,0.50247218788627934,1618,1]
[null,1619,{"$f":"Urliste!C1622","v":6},242,0.14947498455836936,314,0.19394688079061148,249,0.15379864113650402,814,0.50277949351451512,1619,1]
[null,1620,{"$f":"Urliste!C1623","v":2},242,0.14938271604938272,315,0.19444444444444445,249,0.1537037037037037,814,0.5024691358024691,1620,0.99999999999999989]
[null,1621,{"$f":"Urliste!C1624","v":2},242,0.14929056138186306,316,0.19494139420111042,249,0.15360888340530537,814,0.5021591610117212,1621,1.0000000000000002]
[null,1622,{"$f":"Urliste!C1625","v":3},242,0.14919852034525277,316,0.19482120838471023,250,0.15413070283600494,814,0.50184956843403206,1622,1]
[null,1623,{"$f":"Urliste!C1626","v":6},242,0.14910659272951324,316,0.19470117067159581,250,0.15403573629081946,815,0.50215650030807146,1623,1]
[null,1624,{"$f":"Urliste!C1627","v":1},243,0.14963054187192118,316,0.19458128078817735,250,0.1539408866995074,815,0.50184729064039413,1624,1]
[null,1625,{"$f":"Urliste!C1628","v":3},243,0.14953846153846154,316,0.19446153846153846,251,0.15446153846153846,815,0.50153846153846149,1625,0.99999999999999989]
[null,1626,{"$f":"Urliste!C1629","v":6},243,0.14944649446494465,316,0.1943419434194342,251,0.15436654366543665,816,0.50184501845018448,1626,1]
[null,1627,{"$f":"Urliste!C1630","v":1},244,0.14996926859250154,316,0.19422249539028888,251,0.15427166564228642,816,0.50153657037492316,1627,1]
[null,1628,{"$f":"Urliste!C1631","v":3},244,0.14987714987714987,316,0.1941031941031941,252,0.15479115479115479,816,0.50122850122850127,1628,1]
[null,1629,{"$f":"Urliste!C1632","v":6},244,0.14978514426028239,316,0.1939840392879067,252,0.15469613259668508,817,0.5015346838551259,1629,1]
[null,1630,{"$f":"Urliste!C1633","v":2},244,0.14969325153374233,317,0.19447852760736195,252,0.15460122699386503,817,0.50122699386503067,1630,1]
[null,1631,{"$f":"Urliste!C1634","v":3},244,0.14960147148988351,317,0.19435928877988964,253,0.15511955855303494,817,0.50091968117719188,1631,1]
[null,1632,{"$f":"Urliste!C1635","v":6},244,0.14950980392156862,317,0.19424019607843138,253,0.15502450980392157,818,0.50122549019607843,1632,1]
[null,1633,{"$f":"Urliste!C1636","v":2},244,0.14941824862216779,318,0.19473361910593998,253,0.15492957746478872,818,0.50091855480710346,1633,1]
[null,1634,{"$f":"Urliste!C1637","v":6},244,0.14932680538555693,318,0.19461444308445533,253,0.15483476132190943,819,0.50122399020807828,1634,1]
[null,1635,{"$f":"Urliste!C1638","v":5},244,0.1492354740061162,318,0.19449541284403671,253,0.1547400611620795,820,0.50152905198776754,1635,1]
[null,1636,{"$f":"Urliste!C1639","v":2},244,0.1491442542787286,319,0.19498777506112469,253,0.15464547677261614,820,0.5012224938875306,1636,0.99999999999999989]
[null,1637,{"$f":"Urliste!C1640","v":3},244,0.14905314599877825,319,0.19486866218692731,254,0.15516188149053145,820,0.50091631032376294,1637,1]
[null,1638,{"$f":"Urliste!C1641","v":3},244,0.14896214896214896,319,0.19474969474969475,255,0.15567765567765568,820,0.50061050061050061,1638,1]
[null,1639,{"$f":"Urliste!C1642","v":2},244,0.14887126296522268,320,0.19524100061012814,255,0.15558267236119586,820,0.50030506406345332,1639,1]
[null,1640,{"$f":"Urliste!C1643","v":5},244,0.14878048780487804,320,0.1951219512195122,255,0.15548780487804878,821,0.50060975609756098,1640,1]
[null,1641,{"$f":"Urliste!C1644","v":6},244,0.14868982327848873,320,0.19500304692260817,255,0.15539305301645337,822,0.5009140767824497,1641,1]
[null,1642,{"$f":"Urliste!C1645","v":5},244,0.14859926918392205,320,0.19488428745432398,255,0.15529841656516444,823,0.50121802679658956,1642,1]
[null,1643,{"$f":"Urliste!C1646","v":1},245,0.14911746804625683,320,0.19476567255021301,255,0.155203895313451,823,0.50091296409007913,1643,1]
[null,1644,{"$f":"Urliste!C1647","v":5},245,0.14902676399026765,320,0.19464720194647203,255,0.1551094890510949,824,0.5012165450121655,1644,1]
[null,1645,{"$f":"Urliste!C1648","v":5},245,0.14893617021276595,320,0.19452887537993921,255,0.15501519756838905,825,0.50151975683890582,1645,1]
[null,1646,{"$f":"Urliste!C1649","v":6},245,0.1488456865127582,320,0.19441069258809235,255,0.15492102065613608,826,0.50182260024301339,1646,1]
[null,1647,{"$f":"Urliste!C1650","v":5},245,0.14875531268973891,320,0.19429265330904674,255,0.15482695810564662,827,0.50212507589556765,1647,1]
[null,1648,{"$f":"Urliste!C1651","v":3},245,0.14866504854368931,320,0.1941747572815534,256,0.1553398058252427,827,0.50182038834951459,1648,1]
[null,1649,{"$f":"Urliste!C1652","v":2},245,0.1485748938750758,321,0.19466343238326259,256,0.15524560339599758,827,0.50151607034566403,1649,1]
[null,1650,{"$f":"Urliste!C1653","v":6},{"$f":"IF(C1671=1,D1670+1,D1670)","v":245},{"$f":"D1671/B1671","v":0.1484848484848485},{"$f":"IF(C1671=2,F1670+1,F1670)","v":321},{"$f":"F1671/B1671","v":0.19454545454545455},{"$f":"IF(C1671=3,H1670+1,H1670)","v":256},{"$f":"H1671/B1671","v":0.15515151515151515},{"$f":"IF(C1671>3,J1670+1,J1670)","v":828},{"$f":"J1671/B1671","v":0.50181818181818183},{"$f":"SUM(D1671,J1671,H1671,F1671)","v":1650},{"$f":"SUM(K1671,I1671,G1671,E1671)","v":1}]
[null,1651,{"$f":"Urliste!C1654","v":4},245,0.14839491217443973,321,0.19442761962447003,256,0.15505754088431253,829,0.50211992731677768,1651,1]
[null,1652,{"$f":"Urliste!C1655","v":4},245,0.14830508474576271,321,0.19430992736077482,256,0.15496368038740921,830,0.50242130750605329,1652,1]
[null,1653,{"$f":"Urliste!C1656","v":3},245,0.14821536600120991,321,0.19419237749546278,257,0.15547489413188142,830,0.50211736237144589,1653,1]
[null,1654,{"$f":"Urliste!C1657","v":4},245,0.14812575574365175,321,0.19407496977025393,257,0.15538089480048367,831,0.50241837968561065,1654,1]
[null,1655,{"$f":"Urliste!C1658","v":4},245,0.14803625377643503,321,0.19395770392749245,257,0.15528700906344411,832,0.50271903323262845,1655,1]
[null,1656,{"$f":"Urliste!C1659","v":1},246,0.14855072463768115,321,0.19384057971014493,257,0.15519323671497584,832,0.50241545893719808,1656,1]
[null,1657,{"$f":"Urliste!C1660","v":5},246,0.14846107423053712,321,0.19372359686179844,257,0.15509957754978879,833,0.50271575135787572,1657,1]
[null,1658,{"$f":"Urliste!C1661","v":2},246,0.14837153196622438,322,0.19420989143546441,257,0.15500603136308805,833,0.50241254523522316,1658,1]
[null,1659,{"$f":"Urliste!C1662","v":4},246,0.14828209764918626,322,0.1940928270042194,257,0.15491259795057263,834,0.50271247739602165,1659,1]
[null,1660,{"$f":"Urliste!C1663","v":3},246,0.14819277108433734,322,0.19397590361445782,258,0.15542168674698795,834,0.50240963855421683,1660,1]
[null,1661,{"$f":"Urliste!C1664","v":2},246,0.14810355207706202,323,0.19446116797110174,258,0.15532811559301626,834,0.50210716435881997,1661,1]
[null,1662,{"$f":"Urliste!C1665","v":2},246,0.14801444043321299,324,0.19494584837545126,258,0.1552346570397112,834,0.50180505415162457,1662,1]
[null,1663,{"$f":"Urliste!C1666","v":3},246,0.14792543595911004,324,0.19482862297053519,259,0.15574263379434755,834,0.50150330727600723,1663,1]
[null,1664,{"$f":"Urliste!C1667","v":4},246,0.14783653846153846,324,0.19471153846153846,259,0.15564903846153846,835,0.50180288461538458,1664,0.99999999999999989]
[null,1665,{"$f":"Urliste!C1668","v":6},246,0.14774774774774774,324,0.19459459459459461,259,0.15555555555555556,836,0.50210210210210215,1665,1]
[null,1666,{"$f":"Urliste!C1669","v":1},247,0.1482593037214886,324,0.19447779111644659,259,0.15546218487394958,836,0.50180072028811529,1666,1]
[null,1667,{"$f":"Urliste!C1670","v":4},247,0.14817036592681462,324,0.19436112777444511,259,0.15536892621475704,837,0.50209958008398325,1667,1]
[null,1668,{"$f":"Urliste!C1671","v":5},247,0.14808153477218225,324,0.19424460431654678,259,0.15527577937649881,838,0.50239808153477217,1668,1]
[null,1669,{"$f":"Urliste!C1672","v":5},247,0.14799281006590773,324,0.19412822049131218,259,0.15518274415817854,839,0.50269622528460156,1669,1]
[null,1670,{"$f":"Urliste!C1673","v":5},247,0.14790419161676646,324,0.19401197604790418,259,0.15508982035928143,840,0.50299401197604787,1670,1]
[null,1671,{"$f":"Urliste!C1674","v":1},248,0.14841412327947337,324,0.19389587073608616,259,0.1549970077797726,840,0.50269299820466784,1671,0.99999999999999989]
[null,1672,{"$f":"Urliste!C1675","v":1},249,0.14892344497607657,324,0.19377990430622011,259,0.15490430622009568,840,0.50239234449760761,1672,1]
[null,1673,{"$f":"Urliste!C1676","v":1},250,0.14943215780035865,324,0.19366407650926479,259,0.15481171548117154,840,0.502092050209205,1673,1]
[null,1674,{"$f":"Urliste!C1677","v":4},250,0.14934289127837516,324,0.19354838709677419,259,0.15471923536439666,841,0.50238948626045399,1674,1]
[null,1675,{"$f":"Urliste!C1678","v":3},250,0.14925373134328357,324,0.19343283582089552,260,0.15522388059701492,841,0.50208955223880603,1675,1]
[null,1676,{"$f":"Urliste!C1679","v":2},250,0.14916467780429593,325,0.19391408114558473,260,0.15513126491646778,841,0.50178997613365151,1676,1]
[null,1677,{"$f":"Urliste!C1680","v":4},250,0.1490757304710793,325,0.19379844961240311,260,0.15503875968992248,842,0.50208706022659511,1677,1]
[null,1678,{"$f":"Urliste!C1681","v":6},250,0.14898688915375446,325,0.1936829558998808,260,0.15494636471990464,843,0.50238379022646007,1678,1]
[null,1679,{"$f":"Urliste!C1682","v":4},250,0.14889815366289458,325,0.19356759976176297,260,0.15485407980941035,844,0.50268016676593208,1679,1]
[null,1680,{"$f":"Urliste!C1683","v":3},250,0.14880952380952381,325,0.19345238095238096,261,0.15535714285714286,844,0.50238095238095237,1680,1]
[null,1681,{"$f":"Urliste!C1684","v":3},250,0.14872099940511599,325,0.1933372992266508,262,0.15585960737656157,844,0.50208209399167159,1681,0.99999999999999989]
[null,1682,{"$f":"Urliste!C1685","v":1},251,0.14922711058263971,325,0.19322235434007135,262,0.15576694411414982,844,0.50178359096313907,1682,1]
[null,1683,{"$f":"Urliste!C1686","v":6},251,0.14913844325609033,325,0.19310754604872252,262,0.1556743909685086,845,0.50207961972667858,1683,1]
[null,1684,{"$f":"Urliste!C1687","v":1},252,0.1496437054631829,325,0.19299287410926366,262,0.15558194774346792,845,0.50178147268408546,1684,1]
[null,1685,{"$f":"Urliste!C1688","v":6},252,0.14955489614243322,325,0.19287833827893175,262,0.15548961424332344,846,0.50207715133531161,1685,1]
[null,1686,{"$f":"Urliste!C1689","v":4},252,0.1494661921708185,325,0.19276393831553973,262,0.15539739027283511,847,0.50237247924080664,1686,1]
[null,1687,{"$f":"Urliste!C1690","v":3},252,0.14937759336099585,325,0.19264967397747482,263,0.15589804386484885,847,0.50207468879668049,1687,1]
[null,1688,{"$f":"Urliste!C1691","v":3},252,0.14928909952606634,325,0.19253554502369669,264,0.15639810426540285,847,0.50177725118483407,1688,1]
[null,1689,{"$f":"Urliste!C1692","v":1},253,0.14979277679100059,325,0.19242155121373594,264,0.15630550621669628,847,0.50148016577856724,1689,1]
[null,1690,{"$f":"Urliste!C1693","v":6},253,0.14970414201183432,325,0.19230769230769232,264,0.15621301775147928,848,0.50177514792899414,1690,1]
[null,1691,{"$f":"Urliste!C1694","v":2},253,0.14961561206386753,326,0.19278533412182142,264,0.15612063867534004,848,0.50147841513897107,1691,1]
[null,1692,{"$f":"Urliste!C1695","v":5},253,0.14952718676122931,326,0.19267139479905437,264,0.15602836879432624,849,0.50177304964539005,1692,1]
[null,1693,{"$f":"Urliste!C1696","v":1},254,0.15002953337271116,326,0.19255759007678677,264,0.15593620791494389,849,0.50147666863555818,1693,1]
[null,1694,{"$f":"Urliste!C1697","v":1},255,0.15053128689492326,326,0.19244391971664698,264,0.15584415584415584,849,0.50118063754427389,1694,0.99999999999999989]
[null,1695,{"$f":"Urliste!C1698","v":1},256,0.15103244837758112,326,0.19233038348082596,264,0.15575221238938053,849,0.50088495575221237,1695,1]
[null,1696,{"$f":"Urliste!C1699","v":3},256,0.15094339622641509,326,0.19221698113207547,265,0.15625,849,0.50058962264150941,1696,1]
[null,1697,{"$f":"Urliste!C1700","v":6},256,0.15085444902769593,326,0.19210371243370655,265,0.15615792575132587,850,0.50088391278727162,1697,1]
[null,1698,{"$f":"Urliste!C1701","v":5},256,0.15076560659599528,326,0.19199057714958775,265,0.15606595995288575,851,0.50117785630153122,1698,1]
[null,1699,{"$f":"Urliste!C1702","v":1},257,0.15126545026486168,326,0.1918775750441436,265,0.15597410241318421,851,0.50088287227781048,1699,1]
[null,1700,{"$f":"Urliste!C1703","v":1},258,0.15176470588235294,326,0.19176470588235295,265,0.15588235294117647,851,0.50058823529411767,1700,1]
[null,1701,{"$f":"Urliste!C1704","v":5},258,0.15167548500881833,326,0.19165196942974722,265,0.1557907113462669,852,0.50088183421516752,1701,0.99999999999999989]
[null,1702,{"$f":"Urliste!C1705","v":4},258,0.15158636897767333,326,0.19153936545240893,265,0.15569917743830788,853,0.50117508813160982,1702,0.99999999999999989]
[null,1703,{"$f":"Urliste!C1706","v":4},258,0.15149735760422783,326,0.19142689371697005,265,0.15560775102759836,854,0.50146799765120376,1703,1]
[null,1704,{"$f":"Urliste!C1707","v":6},258,0.15140845070422534,326,0.19131455399061034,265,0.15551643192488263,855,0.50176056338028174,1704,1]
[null,1705,{"$f":"Urliste!C1708","v":2},258,0.15131964809384163,327,0.19178885630498535,265,0.15542521994134897,855,0.50146627565982405,1705,1]
[null,1706,{"$f":"Urliste!C1709","v":3},258,0.15123094958968347,327,0.19167643610785462,266,0.15592028135990621,855,0.5011723329425557,1706,1]
[null,1707,{"$f":"Urliste!C1710","v":1},259,0.15172817809021674,327,0.19156414762741653,266,0.15582893966022263,855,0.50087873462214416,1707,1]
[null,1708,{"$f":"Urliste!C1711","v":4},259,0.15163934426229508,327,0.19145199063231849,266,0.15573770491803279,856,0.50117096018735363,1708,0.99999999999999989]
[null,1709,{"$f":"Urliste!C1712","v":1},260,0.1521357519016969,327,0.19133996489174956,266,0.1556465769455822,856,0.50087770626097128,1709,0.99999999999999989]
[null,1710,{"$f":"Urliste!C1713","v":2},260,0.15204678362573099,328,0.19181286549707602,266,0.15555555555555556,856,0.50058479532163747,1710,1]
[null,1711,{"$f":"Urliste!C1714","v":6},260,0.15195791934541203,328,0.19170075978959672,266,0.1554646405610754,857,0.50087668030391586,1711,1]
[null,1712,{"$f":"Urliste!C1715","v":1},261,0.15245327102803738,328,0.19158878504672897,266,0.15537383177570094,857,0.50058411214953269,1712,1]
[null,1713,{"$f":"Urliste!C1716","v":5},261,0.15236427320490367,328,0.19147694103911267,266,0.15528312901342672,858,0.50087565674255696,1713,0.99999999999999989]
[null,1714,{"$f":"Urliste!C1717","v":5},{"$f":"IF(C1735=1,D1734+1,D1734)","v":261},{"$f":"D1735/B1735","v":0.15227537922987164},{"$f":"IF(C1735=2,F1734+1,F1734)","v":328},{"$f":"F1735/B1735","v":0.19136522753792298},{"$f":"IF(C1735=3,H1734+1,H1734)","v":266},{"$f":"H1735/B1735","v":0.15519253208868145},{"$f":"IF(C1735>3,J1734+1,J1734)","v":859},{"$f":"J1735/B1735","v":0.50116686114352393},{"$f":"SUM(D1735,J1735,H1735,F1735)","v":1714},{"$f":"SUM(K1735,I1735,G1735,E1735)","v":1}]
[null,1715,{"$f":"Urliste!C1718","v":4},261,0.15218658892128281,328,0.1912536443148688,266,0.15510204081632653,860,0.50145772594752192,1715,1]
[null,1716,{"$f":"Urliste!C1719","v":1},262,0.15268065268065267,328,0.19114219114219114,266,0.15501165501165501,860,0.50116550116550118,1716,1]
[null,1717,{"$f":"Urliste!C1720","v":4},262,0.15259172976121141,328,0.19103086779266162,266,0.15492137449039023,861,0.50145602795573674,1717,1]
[null,1718,{"$f":"Urliste!C1721","v":2},262,0.15250291036088476,329,0.19150174621653085,266,0.15483119906868451,861,0.50116414435389989,1718,1]
[null,1719,{"$f":"Urliste!C1722","v":4},262,0.15241419429901104,329,0.19139034322280396,266,0.15474112856311809,862,0.50145433391506689,1719,0.99999999999999989]
[null,1720,{"$f":"Urliste!C1723","v":5},262,0.15232558139534882,329,0.19127906976744186,266,0.15465116279069768,863,0.50174418604651161,1720,1]
[null,1721,{"$f":"Urliste!C1724","v":6},262,0.15223707147007554,329,0.19116792562463683,266,0.15456130156885531,864,0.50203370133643233,1721,1]
[null,1722,{"$f":"Urliste!C1725","v":3},262,0.15214866434378629,329,0.1910569105691057,267,0.15505226480836237,864,0.50174216027874563,1722,1]
[null,1723,{"$f":"Urliste!C1726","v":1},263,0.1526407428903076,329,0.19094602437608821,267,0.15496227510156704,864,0.50145095763203718,1723,1]
[null,1724,{"$f":"Urliste!C1727","v":3},263,0.15255220417633411,329,0.19083526682134572,268,0.1554524361948956,864,0.50116009280742457,1724,1]
[null,1725,{"$f":"Urliste!C1728","v":4},263,0.15246376811594203,329,0.19072463768115941,268,0.15536231884057972,865,0.50144927536231887,1725,1]
[null,1726,{"$f":"Urliste!C1729","v":3},263,0.15237543453070684,329,0.19061413673232908,269,0.15585168018539977,865,0.50115874855156428,1726,1]
[null,1727,{"$f":"Urliste!C1730","v":1},264,0.15286624203821655,329,0.1905037637521714,269,0.15576143601621309,865,0.50086855819339893,1727,0.99999999999999989]
[null,1728,{"$f":"Urliste!C1731","v":2},264,0.15277777777777779,330,0.19097222222222221,269,0.15567129629629631,865,0.50057870370370372,1728,1]
[null,1729,{"$f":"Urliste!C1732","v":5},264,0.15268941584731058,330,0.19086176980913824,269,0.15558126084441873,866,0.50086755349913248,1729,1]
[null,1730,{"$f":"Urliste!C1733","v":6},264,0.15260115606936417,330,0.19075144508670519,269,0.15549132947976879,867,0.5011560693641619,1730,1]
[null,1731,{"$f":"Urliste!C1734","v":1},265,0.15309069901790873,330,0.19064124783362218,269,0.15540150202195263,867,0.50086655112651646,1731,0.99999999999999989]
[null,1732,{"$f":"Urliste!C1735","v":1},266,0.1535796766743649,330,0.19053117782909931,269,0.15531177829099307,867,0.50057736720554269,1732,1]
[null,1733,{"$f":"Urliste!C1736","v":5},266,0.15349105597230236,330,0.19042123485285631,269,0.15522215810732834,868,0.50086555106751296,1733,1]
[null,1734,{"$f":"Urliste!C1737","v":3},266,0.15340253748558247,330,0.19031141868512111,270,0.15570934256055363,868,0.50057670126874276,1734,1]
[null,1735,{"$f":"Urliste!C1738","v":3},266,0.15331412103746397,330,0.19020172910662825,271,0.15619596541786743,868,0.50028818443804035,1735,1]
[null,1736,{"$f":"Urliste!C1739","v":2},266,0.15322580645161291,331,0.19066820276497695,271,0.15610599078341014,868,0.5,1736,1]
[null,1737,{"$f":"Urliste!C1740","v":5},266,0.15313759355210133,331,0.19055843408175013,271,0.15601611974668969,869,0.50028785261945885,1737,1]
[null,1738,{"$f":"Urliste!C1741","v":5},266,0.15304948216340622,331,0.19044879171461451,271,0.15592635212888378,870,0.50057537399309548,1738,0.99999999999999989]
[null,1739,{"$f":"Urliste!C1742","v":6},266,0.15296147211040828,331,0.19033927544565843,271,0.15583668775158138,871,0.50086256469235191,1739,1]
[null,1740,{"$f":"Urliste!C1743","v":1},267,0.15344827586206897,331,0.19022988505747127,271,0.1557471264367816,871,0.50057471264367814,1740,1]
[null,1741,{"$f":"Urliste!C1744","v":5},267,0.1533601378518093,331,0.19012062033314187,271,0.1556576680068926,872,0.50086157380815621,1741,1]
[null,1742,{"$f":"Urliste!C1745","v":3},267,0.15327210103329506,331,0.19001148105625718,272,0.15614236509758897,872,0.50057405281285883,1742,1]
[null,1743,{"$f":"Urliste!C1746","v":3},267,0.153184165232358,331,0.18990246701090074,273,0.15662650602409639,872,0.50028686173264492,1743,1]
[null,1744,{"$f":"Urliste!C1747","v":2},267,0.15309633027522937,332,0.19036697247706422,273,0.15653669724770641,872,0.5,1744,1]
[null,1745,{"$f":"Urliste!C1748","v":5},267,0.15300859598853869,332,0.19025787965616045,273,0.15644699140401147,873,0.50028653295128944,1745,1.0000000000000002]
[null,1746,{"$f":"Urliste!C1749","v":2},267,0.15292096219931273,333,0.19072164948453607,273,0.1563573883161512,873,0.5,1746,1]
[null,1747,{"$f":"Urliste!C1750","v":6},267,0.15283342873497424,333,0.19061247853463079,273,0.15626788780767029,874,0.50028620492272469,1747,1]
[null,1748,{"$f":"Urliste!C1751","v":3},267,0.15274599542334097,333,0.19050343249427917,274,0.15675057208237986,874,0.5,1748,1]
[null,1749,{"$f":"Urliste!C1752","v":5},267,0.15265866209262435,333,0.19039451114922812,274,0.15666094911377931,875,0.50028587764436816,1749,1]
[null,1750,{"$f":"Urliste!C1753","v":1},268,0.15314285714285714,333,0.19028571428571428,274,0.15657142857142858,875,0.5,1750,1]
[null,1751,{"$f":"Urliste!C1754","v":5},268,0.15305539691604797,333,0.19017704169046259,274,0.1564820102798401,876,0.50028555111364936,1751,1]
[null,1752,{"$f":"Urliste!C1755","v":4},268,0.15296803652968036,333,0.19006849315068494,274,0.15639269406392695,877,0.50057077625570778,1752,1]
[null,1753,{"$f":"Urliste!C1756","v":6},268,0.15288077581289219,333,0.18996006845407873,274,0.15630347974900172,878,0.50085567598402736,1753,1]
[null,1754,{"$f":"Urliste!C1757","v":6},268,0.15279361459521096,333,0.18985176738882553,274,0.15621436716077536,879,0.5011402508551881,1754,1]
[null,1755,{"$f":"Urliste!C1758","v":4},268,0.1527065527065527,333,0.18974358974358974,274,0.15612535612535614,880,0.50142450142450146,1755,1]
[null,1756,{"$f":"Urliste!C1759","v":6},268,0.15261958997722094,333,0.18963553530751709,274,0.1560364464692483,881,0.50170842824601369,1756,1]
[null,1757,{"$f":"Urliste!C1760","v":3},268,0.15253272623790551,333,0.18952760387023335,275,0.15651678998292545,881,0.50142287990893564,1757,1]
[null,1758,{"$f":"Urliste!C1761","v":6},268,0.15244596131968147,333,0.18941979522184299,275,0.15642775881683732,882,0.50170648464163825,1758,1]
[null,1759,{"$f":"Urliste!C1762","v":3},268,0.15235929505400797,333,0.18931210915292779,276,0.15690733371233656,882,0.50142126208072768,1759,1]
[null,1760,{"$f":"Urliste!C1763","v":2},268,0.15227272727272728,334,0.18977272727272726,276,0.15681818181818183,882,0.5011363636363636,1760,1]
[null,1761,{"$f":"Urliste!C1764","v":6},268,0.15218625780806361,334,0.1896649630891539,276,0.15672913117546849,883,0.50141964792731397,1761,1]
[null,1762,{"$f":"Urliste!C1765","v":6},268,0.15209988649262202,334,0.18955732122587968,276,0.15664018161180476,884,0.50170261066969357,1762,1]
[null,1763,{"$f":"Urliste!C1766","v":5},268,0.15201361315938741,334,0.18944980147475893,276,0.15655133295519003,885,0.50198525241066361,1763,1]
[null,1764,{"$f":"Urliste!C1767","v":4},268,0.15192743764172337,334,0.18934240362811791,276,0.15646258503401361,886,0.50226757369614516,1764,1.0000000000000002]
[null,1765,{"$f":"Urliste!C1768","v":6},268,0.1518413597733711,334,0.18923512747875354,276,0.15637393767705382,887,0.50254957507082154,1765,1]
[null,1766,{"$f":"Urliste!C1769","v":1},269,0.15232163080407701,334,0.18912797281993204,276,0.15628539071347677,887,0.5022650056625142,1766,1]
[null,1767,{"$f":"Urliste!C1770","v":6},269,0.15223542727787209,334,0.18902093944538767,276,0.15619694397283532,888,0.50254668930390489,1767,1]
[null,1768,{"$f":"Urliste!C1771","v":3},269,0.15214932126696831,334,0.18891402714932126,277,0.15667420814479638,888,0.50226244343891402,1768,1]
[null,1769,{"$f":"Urliste!C1772","v":4},269,0.1520633126059921,334,0.1888072357263991,277,0.15658564160542679,889,0.50254381006218207,1769,1]
[null,1770,{"$f":"Urliste!C1773","v":6},269,0.15197740112994351,334,0.18870056497175142,277,0.15649717514124295,890,0.50282485875706218,1770,1]
[null,1771,{"$f":"Urliste!C1774","v":4},269,0.15189158667419536,334,0.1885940146809712,277,0.15640880858272163,891,0.50310559006211175,1771,0.99999999999999989]
[null,1772,{"$f":"Urliste!C1775","v":1},270,0.15237020316027089,334,0.18848758465011287,277,0.15632054176072235,891,0.50282167042889392,1772,1]
[null,1773,{"$f":"Urliste!C1776","v":4},270,0.15228426395939088,334,0.18838127467569091,277,0.15623237450648619,892,0.50310208685843205,1773,1]
[null,1774,{"$f":"Urliste!C1777","v":6},270,0.15219842164599776,334,0.1882750845546787,277,0.15614430665163473,893,0.50338218714768879,1774,0.99999999999999989]
[null,1775,{"$f":"Urliste!C1778","v":1},271,0.15267605633802817,334,0.18816901408450704,277,0.15605633802816901,893,0.50309859154929581,1775,1]
[null,1776,{"$f":"Urliste!C1779","v":5},271,0.15259009009009009,334,0.18806306306306306,277,0.15596846846846846,894,0.5033783783783784,1776,1]
[null,1777,{"$f":"Urliste!C1780","v":3},271,0.15250422059651098,334,0.1879572312886888,278,0.15644344400675295,894,0.50309510410804725,1777,1]
[null,1778,{"$f":"Urliste!C1781","v":4},{"$f":"IF(C1799=1,D1798+1,D1798)","v":271},{"$f":"D1799/B1799","v":0.15241844769403826},{"$f":"IF(C1799=2,F1798+1,F1798)","v":334},{"$f":"F1799/B1799","v":0.18785151856017998},{"$f":"IF(C1799=3,H1798+1,H1798)","v":278},{"$f":"H1799/B1799","v":0.156355455568054},{"$f":"IF(C1799>3,J1798+1,J1798)","v":895},{"$f":"J1799/B1799","v":0.50337457817772779},{"$f":"SUM(D1799,J1799,H1799,F1799)","v":1778},{"$f":"SUM(K1799,I1799,G1799,E1799)","v":1}]
[null,1779,{"$f":"Urliste!C1782","v":3},271,0.15233277121978639,334,0.18774592467678472,279,0.15682967959527824,895,0.50309162450815059,1779,1]
[null,1780,{"$f":"Urliste!C1783","v":3},271,0.15224719101123596,334,0.18764044943820224,280,0.15730337078651685,895,0.5028089887640449,1780,1]
[null,1781,{"$f":"Urliste!C1784","v":6},271,0.15216170690623246,334,0.18753509264458171,280,0.15721504772599662,896,0.50308815272318919,1781,0.99999999999999989]
[null,1782,{"$f":"Urliste!C1785","v":5},271,0.15207631874298541,334,0.18742985409652077,280,0.15712682379349047,897,0.50336700336700335,1782,1]
[null,1783,{"$f":"Urliste!C1786","v":5},271,0.15199102636006731,334,0.18732473359506449,280,0.15703869882220975,898,0.50364554122265848,1783,1]
[null,1784,{"$f":"Urliste!C1787","v":1},272,0.15246636771300448,334,0.18721973094170405,280,0.15695067264573992,898,0.50336322869955152,1784,1]
[null,1785,{"$f":"Urliste!C1788","v":5},272,0.15238095238095239,334,0.18711484593837535,280,0.15686274509803921,899,0.50364145658263304,1785,1]
[null,1786,{"$f":"Urliste!C1789","v":5},272,0.1522956326987682,334,0.18701007838745801,280,0.15677491601343785,900,0.50391937290033595,1786,1]
[null,1787,{"$f":"Urliste!C1790","v":4},272,0.15221040850587578,334,0.18690542809177393,280,0.15668718522663683,901,0.50419697817571352,1787,1]
[null,1788,{"$f":"Urliste!C1791","v":6},272,0.15212527964205816,334,0.18680089485458612,280,0.15659955257270694,902,0.50447427293064873,1788,0.99999999999999989]
[null,1789,{"$f":"Urliste!C1792","v":5},272,0.15204024594745669,334,0.18669647847959753,280,0.15651201788708777,903,0.50475125768585805,1789,1]
[null,1790,{"$f":"Urliste!C1793","v":4},272,0.15195530726256984,334,0.18659217877094972,280,0.15642458100558659,904,0.50502793296089388,1790,1]
[null,1791,{"$f":"Urliste!C1794","v":5},272,0.15187046342825236,334,0.18648799553322165,280,0.15633724176437744,905,0.50530429927414855,1791,1]
[null,1792,{"$f":"Urliste!C1795","v":5},272,0.15178571428571427,334,0.18638392857142858,280,0.15625,906,0.5055803571428571,1792,1]
[null,1793,{"$f":"Urliste!C1796","v":5},272,0.15170105967651981,334,0.18627997769102064,280,0.1561628555493586,907,0.50585610708310091,1793,1]
[null,1794,{"$f":"Urliste!C1797","v":2},272,0.1516164994425864,335,0.1867335562987737,280,0.15607580824972128,907,0.50557413600891865,1794,1]
[null,1795,{"$f":"Urliste!C1798","v":1},273,0.15208913649025069,335,0.18662952646239556,280,0.15598885793871867,907,0.50529247910863506,1795,0.99999999999999989]
[null,1796,{"$f":"Urliste!C1799","v":6},273,0.1520044543429844,335,0.18652561247216035,280,0.15590200445434299,908,0.50556792873051226,1796,1]
[null,1797,{"$f":"Urliste!C1800","v":3},273,0.15191986644407346,335,0.18642181413466891,281,0.1563717306622148,908,0.50528658875904287,1797,1]
[null,1798,{"$f":"Urliste!C1801","v":6},273,0.15183537263626251,335,0.18631813125695218,281,0.15628476084538376,909,0.50556173526140158,1798,1]
[null,1799,{"$f":"Urliste!C1802","v":6},273,0.1517509727626459,335,0.18621456364647027,281,0.15619788771539744,910,0.50583657587548636,1799,1]
[null,1800,{"$f":"Urliste!C1803","v":1},274,0.15222222222222223,335,0.18611111111111112,281,0.15611111111111112,910,0.50555555555555554,1800,1]
[null,1801,{"$f":"Urliste!C1804","v":3},274,0.1521377012770683,335,0.18600777345918934,282,0.15657967795669073,910,0.50527484730705163,1801,0.99999999999999989]
[null,1802,{"$f":"Urliste!C1805","v":5},274,0.15205327413984462,335,0.18590455049944507,282,0.15649278579356271,911,0.50554938956714757,1802,1]
[null,1803,{"$f":"Urliste!C1806","v":6},274,0.15196894065446478,335,0.18580144204104271,282,0.15640599001663893,912,0.50582362728785357,1803,0.99999999999999989]
[null,1804,{"$f":"Urliste!C1807","v":4},274,0.15188470066518847,335,0.18569844789356985,282,0.15631929046563192,913,0.50609756097560976,1804,0.99999999999999989]
[null,1805,{"$f":"Urliste!C1808","v":2},274,0.15180055401662049,336,0.18614958448753463,282,0.15623268698060941,913,0.50581717451523545,1805,1]
[null,1806,{"$f":"Urliste!C1809","v":6},274,0.15171650055370986,336,0.18604651162790697,282,0.15614617940199335,914,0.50609080841638976,1806,1]
[null,1807,{"$f":"Urliste!C1810","v":2},274,0.15163254012174876,337,0.18649695628112894,282,0.15605976757055895,914,0.50581073602656335,1807,1]
[null,1808,{"$f":"Urliste!C1811","v":6},274,0.15154867256637169,337,0.18639380530973451,282,0.15597345132743362,915,0.50608407079646023,1808,1]
[null,1809,{"$f":"Urliste!C1812","v":4},274,0.15146489773355445,337,0.18629076838032063,282,0.1558872305140962,916,0.50635710337202877,1809,1.0000000000000002]
[null,1810,{"$f":"Urliste!C1813","v":5},274,0.15138121546961325,337,0.18618784530386739,282,0.1558011049723757,917,0.50662983425414365,1810,1]
[null,1811,{"$f":"Urliste!C1814","v":6},274,0.15129762562120375,337,0.1860850358917725,282,0.15571507454445058,918,0.50690226394257321,1811,1]
[null,1812,{"$f":"Urliste!C1815","v":1},275,0.15176600441501104,337,0.1859823399558499,282,0.15562913907284767,918,0.50662251655629142,1812,1]
[null,1813,{"$f":"Urliste!C1816","v":5},275,0.15168229453943741,337,0.18587975730832873,282,0.15554329840044126,919,0.50689464975179266,1813,1]
[null,1814,{"$f":"Urliste!C1817","v":1},276,0.15214994487320838,337,0.18577728776185226,282,0.15545755237045203,919,0.50661521499448736,1814,1]
[null,1815,{"$f":"Urliste!C1818","v":1},277,0.15261707988980716,337,0.18567493112947658,282,0.15537190082644628,919,0.50633608815427,1815,1]
[null,1816,{"$f":"Urliste!C1819","v":3},277,0.15253303964757708,337,0.1855726872246696,283,0.15583700440528633,919,0.50605726872246692,1816,1]
[null,1817,{"$f":"Urliste!C1820","v":6},277,0.15244909190974132,337,0.18547055586130984,283,0.15575123830489818,920,0.50632911392405067,1817,1]
[null,1818,{"$f":"Urliste!C1821","v":3},277,0.15236523652365236,337,0.18536853685368537,284,0.15621562156215621,920,0.50605060506050603,1818,1]
[null,1819,{"$f":"Urliste!C1822","v":5},277,0.15228147333699835,337,0.18526663001649257,284,0.15612974161627269,921,0.50632215503023636,1819,1]
[null,1820,{"$f":"Urliste!C1823","v":6},277,0.15219780219780218,337,0.18516483516483517,284,0.15604395604395604,922,0.50659340659340657,1820,1]
[null,1821,{"$f":"Urliste!C1824","v":3},277,0.15211422295442065,337,0.18506315211422295,285,0.15650741350906094,922,0.50631521142229541,1821,1]
[null,1822,{"$f":"Urliste!C1825","v":5},277,0.15203073545554335,337,0.18496158068057081,285,0.15642151481888036,923,0.50658616904500553,1822,1]
[null,1823,{"$f":"Urliste!C1826","v":6},277,0.15194733955019199,337,0.18486012068019747,285,0.15633571036752605,924,0.50685682940208443,1823,1]
[null,1824,{"$f":"Urliste!C1827","v":5},277,0.15186403508771928,337,0.18475877192982457,285,0.15625,925,0.50712719298245612,1824,1]
[null,1825,{"$f":"Urliste!C1828","v":6},277,0.15178082191780823,337,0.18465753424657536,285,0.15616438356164383,926,0.50739726027397258,1825,1]
[null,1826,{"$f":"Urliste!C1829","v":2},277,0.15169769989047097,338,0.18510405257393209,285,0.15607886089813799,926,0.50711938663745892,1826,0.99999999999999989]
[null,1827,{"$f":"Urliste!C1830","v":6},277,0.15161466885604816,338,0.18500273672687464,285,0.15599343185550082,927,0.5073891625615764,1827,1]
[null,1828,{"$f":"Urliste!C1831","v":3},277,0.15153172866520787,338,0.18490153172866522,286,0.15645514223194748,927,0.50711159737417943,1828,1]
[null,1829,{"$f":"Urliste!C1832","v":2},277,0.15144887916894478,339,0.18534718425369054,286,0.15636960087479496,927,0.50683433570256975,1829,1]
[null,1830,{"$f":"Urliste!C1833","v":4},277,0.15136612021857923,339,0.18524590163934426,286,0.15628415300546447,928,0.50710382513661201,1830,1]
[null,1831,{"$f":"Urliste!C1834","v":1},278,0.15182960131075915,339,0.18514472965592571,286,0.156198798470781,928,0.50682687056253417,1831,1]
[null,1832,{"$f":"Urliste!C1835","v":3},278,0.15174672489082969,339,0.18504366812227074,287,0.1566593886462882,928,0.50655021834061131,1832,1]
[null,1833,{"$f":"Urliste!C1836","v":4},278,0.15166393889798144,339,0.18494271685761046,287,0.15657392253136934,929,0.50681942171303873,1833,1]
[null,1834,{"$f":"Urliste!C1837","v":2},278,0.15158124318429661,340,0.18538713195201745,287,0.15648854961832062,929,0.50654307524536535,1834,1]
[null,1835,{"$f":"Urliste!C1838","v":5},278,0.15149863760217983,340,0.18528610354223432,287,0.1564032697547684,930,0.50681198910081748,1835,1]
[null,1836,{"$f":"Urliste!C1839","v":6},278,0.15141612200435731,340,0.18518518518518517,287,0.15631808278867101,931,0.5070806100217865,1836,1]
[null,1837,{"$f":"Urliste!C1840","v":3},278,0.15133369624387588,340,0.18508437670114317,288,0.1567773543821448,931,0.50680457267283618,1837,1]
[null,1838,{"$f":"Urliste!C1841","v":4},278,0.15125136017410229,340,0.18498367791077258,288,0.15669205658324264,932,0.50707290533188243,1838,1]
[null,1839,{"$f":"Urliste!C1842","v":3},278,0.15116911364872213,340,0.18488308863512778,289,0.15715062533985863,932,0.50679717237629152,1839,1]
[null,1840,{"$f":"Urliste!C1843","v":3},278,0.15108695652173912,340,0.18478260869565216,290,0.15760869565217392,932,0.50652173913043474,1840,0.99999999999999989]
[null,1841,{"$f":"Urliste!C1844","v":1},279,0.15154807170016296,340,0.18468223791417707,290,0.15752308527973927,932,0.50624660510592068,1841,0.99999999999999989]
[null,1842,{"$f":"Urliste!C1845","v":3},{"$f":"IF(C1863=1,D1862+1,D1862)","v":279},{"$f":"D1863/B1863","v":0.15146579804560262},{"$f":"IF(C1863=2,F1862+1,F1862)","v":340},{"$f":"F1863/B1863","v":0.18458197611292074},{"$f":"IF(C1863=3,H1862+1,H1862)","v":291},{"$f":"H1863/B1863","v":0.15798045602605862},{"$f":"IF(C1863>3,J1862+1,J1862)","v":932},{"$f":"J1863/B1863","v":0.50597176981541803},{"$f":"SUM(D1863,J1863,H1863,F1863)","v":1842},{"$f":"SUM(K1863,I1863,G1863,E1863)","v":1}]
[null,1843,{"$f":"Urliste!C1846","v":5},279,0.15138361367335865,340,0.18448182311448724,291,0.15789473684210525,933,0.50623982637004883,1843,0.99999999999999989]
[null,1844,{"$f":"Urliste!C1847","v":6},279,0.15130151843817788,340,0.18438177874186551,291,0.15780911062906725,934,0.50650759219088937,1844,1]
[null,1845,{"$f":"Urliste!C1848","v":2},279,0.15121951219512195,341,0.18482384823848239,291,0.15772357723577235,934,0.50623306233062326,1845,1]
[null,1846,{"$f":"Urliste!C1849","v":6},279,0.15113759479956662,341,0.18472372697724809,291,0.15763813651137595,935,0.50650054171180936,1846,1]
[null,1847,{"$f":"Urliste!C1850","v":2},279,0.15105576610720087,342,0.18516513264753653,291,0.15755278830536004,935,0.5062263129399025,1847,0.99999999999999989]
[null,1848,{"$f":"Urliste!C1851","v":1},280,0.15151515151515152,342,0.18506493506493507,291,0.15746753246753248,935,0.50595238095238093,1848,1]
[null,1849,{"$f":"Urliste!C1852","v":1},281,0.15197404002163331,342,0.18496484586262846,291,0.15738236884802595,935,0.50567874526771228,1849,0.99999999999999989]
[null,1850,{"$f":"Urliste!C1853","v":1},282,0.15243243243243243,342,0.18486486486486486,291,0.1572972972972973,935,0.50540540540540535,1850,0.99999999999999989]
[null,1851,{"$f":"Urliste!C1854","v":5},282,0.15235008103727715,342,0.1847649918962723,291,0.15721231766612642,936,0.5056726094003241,1851,1]
[null,1852,{"$f":"Urliste!C1855","v":3},282,0.15226781857451405,342,0.18466522678185746,292,0.15766738660907129,936,0.50539956803455721,1852,1]
[null,1853,{"$f":"Urliste!C1856","v":3},282,0.1521856449001619,342,0.18456556934700485,293,0.15812196438208312,936,0.50512682137075016,1853,1]
[null,1854,{"$f":"Urliste!C1857","v":5},282,0.15210355987055016,342,0.18446601941747573,293,0.15803667745415317,937,0.50539374325782094,1854,1]
[null,1855,{"$f":"Urliste!C1858","v":3},282,0.15202156334231806,342,0.18436657681940702,294,0.15849056603773584,937,0.50512129380053905,1855,1]
[null,1856,{"$f":"Urliste!C1859","v":1},283,0.15247844827586207,342,0.18426724137931033,294,0.15840517241379309,937,0.50484913793103448,1856,1]
[null,1857,{"$f":"Urliste!C1860","v":1},284,0.15293484114162628,342,0.18416801292407109,294,0.15831987075928919,937,0.5045772751750135,1857,1]
[null,1858,{"$f":"Urliste!C1861","v":5},284,0.15285252960172227,342,0.18406889128094725,294,0.15823466092572658,938,0.5048439181916039,1858,1]
[null,1859,{"$f":"Urliste!C1862","v":4},284,0.15277030661646046,342,0.18396987627756858,294,0.15814954276492738,939,0.50511027434104361,1859,1]
[null,1860,{"$f":"Urliste!C1863","v":3},284,0.15268817204301074,342,0.18387096774193548,295,0.15860215053763441,939,0.50483870967741939,1860,1]
[null,1861,{"$f":"Urliste!C1864","v":1},285,0.15314347125201505,342,0.18377216550241807,295,0.15851692638366469,939,0.5045674368619022,1861,1]
[null,1862,{"$f":"Urliste!C1865","v":5},285,0.15306122448979592,342,0.18367346938775511,295,0.15843179377013963,940,0.50483351235230933,1862,1]
[null,1863,{"$f":"Urliste!C1866","v":6},285,0.1529790660225443,342,0.18357487922705315,295,0.15834675254965111,941,0.5050993022007515,1863,1]
[null,1864,{"$f":"Urliste!C1867","v":5},285,0.15289699570815452,342,0.1834763948497854,295,0.1582618025751073,942,0.50536480686695284,1864,1]
[null,1865,{"$f":"Urliste!C1868","v":6},285,0.15281501340482573,342,0.18337801608579088,295,0.1581769436997319,943,0.50563002680965152,1865,1]
[null,1866,{"$f":"Urliste!C1869","v":3},285,0.15273311897106109,342,0.18327974276527331,296,0.15862808145766344,943,0.50535905680600213,1866,0.99999999999999989]
[null,1867,{"$f":"Urliste!C1870","v":4},285,0.15265131226566683,342,0.18318157471880023,296,0.15854311730048207,944,0.5056239957150509,1867,1]
[null,1868,{"$f":"Urliste!C1871","v":6},285,0.15256959314775162,342,0.18308351177730192,296,0.15845824411134904,945,0.50588865096359747,1868,1]
[null,1869,{"$f":"Urliste!C1872","v":3},285,0.15248796147672553,342,0.18298555377207062,297,0.15890850722311398,945,0.5056179775280899,1869,1]
[null,1870,{"$f":"Urliste!C1873","v":3},285,0.15240641711229946,342,0.18288770053475936,298,0.15935828877005348,945,0.50534759358288772,1870,1]
[null,1871,{"$f":"Urliste!C1874","v":6},285,0.15232495991448422,342,0.18278995189738109,298,0.15927311598075894,946,0.50561197220737575,1871,1]
[null,1872,{"$f":"Urliste!C1875","v":3},285,0.15224358974358973,342,0.18269230769230768,299,0.15972222222222221,946,0.50534188034188032,1872,1]
[null,1873,{"$f":"Urliste!C1876","v":5},285,0.15216230646022424,342,0.1825947677522691,299,0.15963694607581419,947,0.50560597971169252,1873,1.0000000000000002]
[null,1874,{"$f":"Urliste!C1877","v":1},286,0.15261472785485591,342,0.1824973319103522,299,0.15955176093916756,947,0.50533617929562435,1874,1]
[null,1875,{"$f":"Urliste!C1878","v":6},286,0.15253333333333333,342,0.18240000000000001,299,0.15946666666666667,948,0.50560000000000005,1875,1]
[null,1876,{"$f":"Urliste!C1879","v":6},286,0.15245202558635396,342,0.18230277185501065,299,0.15938166311300639,949,0.50586353944562901,1876,1]
[null,1877,{"$f":"Urliste!C1880","v":2},286,0.15237080447522641,343,0.18273841236014918,299,0.15929675013319125,949,0.50559403303143313,1877,1]
[null,1878,{"$f":"Urliste!C1881","v":2},286,0.15228966986155484,344,0.18317358892438765,299,0.15921192758253461,949,0.50532481363152293,1878,1]
[null,1879,{"$f":"Urliste!C1882","v":4},286,0.15220862160723789,344,0.18307610431080362,299,0.15912719531665781,950,0.50558807876530065,1879,0.99999999999999989]
[null,1880,{"$f":"Urliste!C1883","v":3},286,0.15212765957446808,344,0.18297872340425531,300,0.15957446808510639,950,0.50531914893617025,1880,1]
[null,1881,{"$f":"Urliste!C1884","v":6},286,0.15204678362573099,344,0.18288144603934078,300,0.15948963317384371,951,0.50558213716108458,1881,1]
[null,1882,{"$f":"Urliste!C1885","v":6},286,0.15196599362380447,344,0.18278427205100956,300,0.1594048884165781,952,0.5058448459086079,1882,1]
[null,1883,{"$f":"Urliste!C1886","v":1},287,0.15241635687732341,344,0.18268720127456187,300,0.15932023366967604,952,0.50557620817843862,1883,1]
[null,1884,{"$f":"Urliste!C1887","v":2},287,0.15233545647558386,345,0.18312101910828024,300,0.15923566878980891,952,0.50530785562632696,1884,1]
[null,1885,{"$f":"Urliste!C1888","v":2},287,0.15225464190981433,346,0.18355437665782492,300,0.15915119363395225,952,0.50503978779840852,1885,1]
[null,1886,{"$f":"Urliste!C1889","v":5},287,0.15217391304347827,346,0.18345705196182396,300,0.15906680805938495,953,0.50530222693531279,1886,1]
[null,1887,{"$f":"Urliste!C1890","v":3},287,0.15209326974032855,346,0.18335983041865395,301,0.15951245363010069,953,0.50503444621091675,1887,1]
[null,1888,{"$f":"Urliste!C1891","v":3},287,0.15201271186440679,346,0.18326271186440679,302,0.15995762711864406,953,0.50476694915254239,1888,1]
[null,1889,{"$f":"Urliste!C1892","v":3},287,0.15193223928004235,346,0.18316569613552144,303,0.16040232927474854,953,0.50449973530968761,1889,1]
[null,1890,{"$f":"Urliste!C1893","v":3},287,0.15185185185185185,346,0.18306878306878308,304,0.16084656084656085,953,0.50423280423280425,1890,1]
[null,1891,{"$f":"Urliste!C1894","v":4},287,0.15177154944473822,346,0.18297197250132205,304,0.16076150185087257,954,0.50449497620306716,1891,1]
[null,1892,{"$f":"Urliste!C1895","v":1},288,0.15221987315010571,346,0.1828752642706131,304,0.16067653276955601,954,0.50422832980972521,1892,1]
[null,1893,{"$f":"Urliste!C1896","v":3},288,0.15213946117274169,346,0.18277865821447437,305,0.16111991547807714,954,0.50396196513470681,1893,1]
[null,1894,{"$f":"Urliste!C1897","v":2},288,0.15205913410770855,347,0.18321013727560717,305,0.16103484688489969,954,0.50369588173178459,1894,1]
[null,1895,{"$f":"Urliste!C1898","v":5},288,0.15197889182058047,347,0.18311345646437996,305,0.16094986807387862,955,0.50395778364116095,1895,1]
[null,1896,{"$f":"Urliste!C1899","v":6},288,0.15189873417721519,347,0.18301687763713081,305,0.16086497890295359,956,0.50421940928270037,1896,1]
[null,1897,{"$f":"Urliste!C1900","v":4},288,0.1518186610437533,347,0.18292040063257775,305,0.16078017923036372,957,0.50448075909330525,1897,1]
[null,1898,{"$f":"Urliste!C1901","v":2},288,0.1517386722866175,348,0.18335089567966281,305,0.160695468914647,957,0.50421496311907266,1898,1]
[null,1899,{"$f":"Urliste!C1902","v":3},288,0.15165876777251186,348,0.18325434439178515,306,0.16113744075829384,957,0.50394944707740918,1899,1]
[null,1900,{"$f":"Urliste!C1903","v":2},288,0.15157894736842106,349,0.18368421052631578,306,0.16105263157894736,957,0.50368421052631573,1900,0.99999999999999989]
[null,1901,{"$f":"Urliste!C1904","v":1},289,0.15202524986849028,349,0.18358758548132562,306,0.16096791162546029,957,0.50341925302472379,1901,1]
[null,1902,{"$f":"Urliste!C1905","v":3},289,0.1519453207150368,349,0.18349106203995794,307,0.16140904311251314,957,0.50315457413249209,1902,1]
[null,1903,{"$f":"Urliste!C1906","v":5},289,0.15186547556489752,349,0.1833946400420389,307,0.16132422490803994,958,0.50341565948502365,1903,1]
[null,1904,{"$f":"Urliste!C1907","v":3},289,0.15178571428571427,349,0.18329831932773108,308,0.16176470588235295,958,0.50315126050420167,1904,1]
[null,1905,{"$f":"Urliste!C1908","v":4},289,0.15170603674540684,349,0.18320209973753282,308,0.16167979002624672,959,0.50341207349081363,1905,1]
[null,1906,{"$f":"Urliste!C1909","v":4},{"$f":"IF(C1927=1,D1926+1,D1926)","v":289},{"$f":"D1927/B1927","v":0.15162644281217208},{"$f":"IF(C1927=2,F1926+1,F1926)","v":349},{"$f":"F1927/B1927","v":0.18310598111227702},{"$f":"IF(C1927=3,H1926+1,H1926)","v":308},{"$f":"H1927/B1927","v":0.16159496327387199},{"$f":"IF(C1927>3,J1926+1,J1926)","v":960},{"$f":"J1927/B1927","v":0.50367261280167885},{"$f":"SUM(D1927,J1927,H1927,F1927)","v":1906},{"$f":"SUM(K1927,I1927,G1927,E1927)","v":1}]
[null,1907,{"$f":"Urliste!C1910","v":4},289,0.15154693235448349,349,0.18300996329313057,308,0.16151022548505506,961,0.50393287886733085,1907,0.99999999999999989]
[null,1908,{"$f":"Urliste!C1911","v":5},289,0.15146750524109015,349,0.18291404612159329,308,0.16142557651991615,962,0.50419287211740038,1908,1]
[null,1909,{"$f":"Urliste!C1912","v":4},289,0.15138816134101624,349,0.18281822943949713,308,0.16134101623886851,963,0.50445259298061818,1909,1]
[null,1910,{"$f":"Urliste!C1913","v":6},289,0.15130890052356022,349,0.18272251308900522,308,0.16125654450261781,964,0.50471204188481678,1910,1]
[null,1911,{"$f":"Urliste!C1914","v":2},289,0.1512297226582941,350,0.18315018315018314,308,0.16117216117216118,964,0.50444793301936164,1911,1]
[null,1912,{"$f":"Urliste!C1915","v":2},289,0.15115062761506276,351,0.18357740585774057,308,0.16108786610878661,964,0.50418410041841,1912,1]
[null,1913,{"$f":"Urliste!C1916","v":1},290,0.15159435441714583,351,0.18348144276006273,308,0.16100365917407214,964,0.5039205436487193,1913,1]
[null,1914,{"$f":"Urliste!C1917","v":6},290,0.15151515151515152,351,0.18338557993730409,308,0.16091954022988506,965,0.50417972831765934,1914,1]
[null,1915,{"$f":"Urliste!C1918","v":5},290,0.1514360313315927,351,0.18328981723237597,308,0.16083550913838121,966,0.50443864229765012,1915,0.99999999999999989]
[null,1916,{"$f":"Urliste!C1919","v":1},291,0.15187891440501045,351,0.18319415448851775,308,0.16075156576200417,966,0.50417536534446761,1916,1]
[null,1917,{"$f":"Urliste!C1920","v":6},291,0.15179968701095461,351,0.18309859154929578,308,0.16066770996348462,967,0.50443401147626499,1917,1]
[null,1918,{"$f":"Urliste!C1921","v":6},291,0.15172054223149115,351,0.18300312825860271,308,0.16058394160583941,968,0.50469238790406679,1918,1]
[null,1919,{"$f":"Urliste!C1922","v":4},291,0.15164147993746743,351,0.1829077644606566,308,0.16050026055237102,969,0.50495049504950495,1919,1]
[null,1920,{"$f":"Urliste!C1923","v":1},292,0.15208333333333332,351,0.18281249999999999,308,0.16041666666666668,969,0.50468749999999996,1920,1]
[null,1921,{"$f":"Urliste!C1924","v":3},292,0.15200416449765747,351,0.18271733472149923,309,0.16085372201978138,969,0.50442477876106195,1921,1]
[null,1922,{"$f":"Urliste!C1925","v":5},292,0.15192507804370448,351,0.18262226847034338,309,0.16077003121748179,970,0.50468262226847038,1922,1]
[null,1923,{"$f":"Urliste!C1926","v":6},292,0.1518460738429537,351,0.18252730109204368,309,0.1606864274570983,971,0.50494019760790432,1923,1]
[null,1924,{"$f":"Urliste!C1927","v":3},292,0.15176715176715178,351,0.18243243243243243,310,0.16112266112266113,971,0.50467775467775466,1924,1]
[null,1925,{"$f":"Urliste!C1928","v":3},292,0.15168831168831168,351,0.18233766233766233,311,0.16155844155844157,971,0.50441558441558443,1925,1]
[null,1926,{"$f":"Urliste!C1929","v":2},292,0.15160955347871236,352,0.18276220145379024,311,0.16147455867082036,971,0.50415368639667701,1926,1]
[null,1927,{"$f":"Urliste!C1930","v":3},292,0.15153087701089776,352,0.18266735858847949,312,0.16190970420342501,971,0.50389206019719768,1927,0.99999999999999989]
[null,1928,{"$f":"Urliste!C1931","v":4},292,0.15145228215767634,352,0.18257261410788381,312,0.16182572614107885,972,0.50414937759336098,1928,1]
[null,1929,{"$f":"Urliste!C1932","v":5},292,0.15137376879212028,352,0.18247796785899431,312,0.16174183514774496,973,0.50440642820114046,1929,1]
[null,1930,{"$f":"Urliste!C1933","v":5},292,0.15129533678756477,352,0.18238341968911917,312,0.16165803108808291,974,0.50466321243523315,1930,1]
[null,1931,{"$f":"Urliste!C1934","v":2},292,0.15121698601760747,353,0.18280683583635421,312,0.16157431382703263,974,0.50440186431900569,1931,0.99999999999999989]
[null,1932,{"$f":"Urliste!C1935","v":1},293,0.15165631469979296,353,0.18271221532091098,312,0.16149068322981366,974,0.50414078674948237,1932,1]
[null,1933,{"$f":"Urliste!C1936","v":1},294,0.15209518882565959,353,0.18261769270563891,312,0.16140713916192448,974,0.50387997930677708,1933,1]
[null,1934,{"$f":"Urliste!C1937","v":4},294,0.15201654601861428,353,0.18252326783867631,312,0.16132368148914167,975,0.50413650465356774,1934,1]
[null,1935,{"$f":"Urliste!C1938","v":6},294,0.15193798449612403,353,0.18242894056847545,312,0.16124031007751938,976,0.50439276485788109,1935,1]
[null,1936,{"$f":"Urliste!C1939","v":5},294,0.1518595041322314,353,0.18233471074380164,312,0.16115702479338842,977,0.50464876033057848,1936,0.99999999999999989]
[null,1937,{"$f":"Urliste!C1940","v":2},294,0.15178110480123902,354,0.18275684047496127,312,0.16107382550335569,977,0.50438822922044402,1937,1]
[null,1938,{"$f":"Urliste!C1941","v":1},295,0.152218782249742,354,0.1826625386996904,312,0.1609907120743034,977,0.50412796697626416,1938,1]
[null,1939,{"$f":"Urliste!C1942","v":1},296,0.15265600825167613,354,0.18256833419288293,312,0.16090768437338834,977,0.50386797318205256,1939,1]
[null,1940,{"$f":"Urliste!C1943","v":2},296,0.15257731958762888,355,0.18298969072164947,312,0.16082474226804125,977,0.5036082474226804,1940,1]
[null,1941,{"$f":"Urliste!C1944","v":5},296,0.1524987120041216,355,0.18289541473467286,312,0.160741885625966,978,0.50386398763523954,1941,1]
[null,1942,{"$f":"Urliste!C1945","v":2},296,0.15242018537590113,356,0.18331616889804325,312,0.16065911431513905,978,0.50360453141091654,1942,1]
[null,1943,{"$f":"Urliste!C1946","v":1},297,0.15285640761708699,356,0.18322182192485847,312,0.16057642820380855,978,0.50334534225424599,1943,1]
[null,1944,{"$f":"Urliste!C1947","v":3},297,0.15277777777777779,356,0.1831275720164609,313,0.1610082304526749,978,0.50308641975308643,1944,1]
[null,1945,{"$f":"Urliste!C1948","v":2},297,0.15269922879177378,357,0.18354755784061696,313,0.16092544987146529,978,0.502827763496144,1945,1]
[null,1946,{"$f":"Urliste!C1949","v":1},298,0.15313463514902365,357,0.18345323741007194,313,0.16084275436793422,978,0.50256937307297023,1946,1]
[null,1947,{"$f":"Urliste!C1950","v":6},298,0.15305598356445815,357,0.18335901386748846,313,0.16076014381099127,979,0.50282485875706218,1947,1]
[null,1948,{"$f":"Urliste!C1951","v":3},298,0.15297741273100615,357,0.18326488706365504,314,0.16119096509240247,979,0.50256673511293637,1948,1]
[null,1949,{"$f":"Urliste!C1952","v":3},298,0.15289892252437148,357,0.1831708568496665,315,0.16162134427911751,979,0.50230887634684451,1949,1]
[null,1950,{"$f":"Urliste!C1953","v":4},298,0.15282051282051282,357,0.18307692307692308,315,0.16153846153846155,980,0.50256410256410255,1950,0.99999999999999989]
[null,1951,{"$f":"Urliste!C1954","v":4},298,0.15274218349564325,357,0.18298308559712967,315,0.16145566376217324,981,0.50281906714505387,1951,1]
[null,1952,{"$f":"Urliste!C1955","v":6},298,0.1526639344262295,357,0.18288934426229508,315,0.16137295081967212,982,0.50307377049180324,1952,0.99999999999999989]
[null,1953,{"$f":"Urliste!C1956","v":5},298,0.1525857654889913,357,0.18279569892473119,315,0.16129032258064516,983,0.50332821300563235,1953,1]
[null,1954,{"$f":"Urliste!C1957","v":2},298,0.15250767656090072,358,0.18321392016376664,315,0.16120777891504606,983,0.5030706243602866,1954,0.99999999999999989]
[null,1955,{"$f":"Urliste!C1958","v":3},298,0.15242966751918158,358,0.18312020460358056,316,0.16163682864450127,983,0.50281329923273654,1955,1]
[null,1956,{"$f":"Urliste!C1959","v":5},298,0.15235173824130879,358,0.18302658486707565,316,0.16155419222903886,984,0.50306748466257667,1956,1]
[null,1957,{"$f":"Urliste!C1960","v":1},299,0.15278487480838018,358,0.18293306080735819,316,0.16147164026571281,984,0.50281042411854882,1957,1]
[null,1958,{"$f":"Urliste!C1961","v":5},299,0.15270684371807966,358,0.18283963227783454,316,0.16138917262512767,985,0.50306435137895811,1958,0.99999999999999989]
[null,1959,{"$f":"Urliste!C1962","v":5},299,0.1526288922919857,358,0.1827462991322103,316,0.16130678917815211,986,0.50331801939765186,1959,1]
[null,1960,{"$f":"Urliste!C1963","v":5},299,0.15255102040816326,358,0.18265306122448979,316,0.16122448979591836,987,0.50357142857142856,1960,0.99999999999999989]
[null,1961,{"$f":"Urliste!C1964","v":5},299,0.15247322794492607,358,0.18255991840897501,316,0.16114227434982151,988,0.50382457929627744,1961,1]
[null,1962,{"$f":"Urliste!C1965","v":5},299,0.15239551478083588,358,0.18246687054026503,316,0.16106014271151886,989,0.50407747196738018,1962,0.99999999999999989]
[null,1963,{"$f":"Urliste!C1966","v":6},299,0.15231788079470199,358,0.18237391747325521,316,0.16097809475292918,990,0.50433010697911362,1963,1]
[null,1964,{"$f":"Urliste!C1967","v":3},299,0.15224032586558045,358,0.18228105906313646,317,0.16140529531568229,990,0.50407331975560077,1964,1]
[null,1965,{"$f":"Urliste!C1968","v":2},299,0.15216284987277354,359,0.1826972010178117,317,0.16132315521628499,990,0.50381679389312972,1965,1]
[null,1966,{"$f":"Urliste!C1969","v":2},299,0.1520854526958291,360,0.18311291963377416,317,0.16124109867751779,990,0.50356052899287895,1966,1]
[null,1967,{"$f":"Urliste!C1970","v":5},299,0.1520081342145399,360,0.18301982714794102,317,0.16115912557193696,991,0.50381291306558207,1967,1]
[null,1968,{"$f":"Urliste!C1971","v":6},299,0.15193089430894308,360,0.18292682926829268,317,0.16107723577235772,992,0.50406504065040647,1968,0.99999999999999978]
[null,1969,{"$f":"Urliste!C1972","v":3},299,0.15185373285931944,360,0.18283392585068561,318,0.16150330116810563,992,0.50380904012188932,1969,1]
[null,1970,{"$f":"Urliste!C1973","v":3},{"$f":"IF(C1991=1,D1990+1,D1990)","v":299},{"$f":"D1991/B1991","v":0.1517766497461929},{"$f":"IF(C1991=2,F1990+1,F1990)","v":360},{"$f":"F1991/B1991","v":0.18274111675126903},{"$f":"IF(C1991=3,H1990+1,H1990)","v":319},{"$f":"H1991/B1991","v":0.16192893401015229},{"$f":"IF(C1991>3,J1990+1,J1990)","v":992},{"$f":"J1991/B1991","v":0.50355329949238581},{"$f":"SUM(D1991,J1991,H1991,F1991)","v":1970},{"$f":"SUM(K1991,I1991,G1991,E1991)","v":1}]
[null,1971,{"$f":"Urliste!C1974","v":5},299,0.15169964485032977,360,0.18264840182648401,319,0.16184677828513444,993,0.50380517503805178,1971,1]
[null,1972,{"$f":"Urliste!C1975","v":3},299,0.15162271805273833,360,0.18255578093306288,320,0.16227180527383367,993,0.50354969574036512,1972,1]
[null,1973,{"$f":"Urliste!C1976","v":6},299,0.15154586923466801,360,0.1824632539280284,320,0.16218955904713633,994,0.50380131779016724,1973,1]
[null,1974,{"$f":"Urliste!C1977","v":2},299,0.1514690982776089,361,0.1828774062816616,320,0.16210739614994935,994,0.50354609929078009,1974,0.99999999999999989]
[null,1975,{"$f":"Urliste!C1978","v":3},299,0.15139240506329113,361,0.18278481012658229,321,0.16253164556962024,994,0.50329113924050628,1975,1]
[null,1976,{"$f":"Urliste!C1979","v":5},299,0.15131578947368421,361,0.18269230769230768,321,0.1624493927125506,995,0.50354251012145745,1976,0.99999999999999989]
[null,1977,{"$f":"Urliste!C1980","v":6},299,0.15123925139099645,361,0.18259989883662114,321,0.16236722306525037,996,0.50379362670713201,1977,0.99999999999999989]
[null,1978,{"$f":"Urliste!C1981","v":5},299,0.15116279069767441,361,0.18250758341759352,321,0.16228513650151669,997,0.50404448938321533,1978,1]
[null,1979,{"$f":"Urliste!C1982","v":1},300,0.15159171298635674,361,0.18241536129358263,321,0.16220313289540172,997,0.50378979282465897,1979,1]
[null,1980,{"$f":"Urliste!C1983","v":3},300,0.15151515151515152,361,0.18232323232323233,322,0.16262626262626262,997,0.5035353535353535,1980,1]
[null,1985,{"$f":"Urliste!C1988","v":4},300,0.15113350125944586,361,0.18186397984886649,323,0.16272040302267002,1001,0.50428211586901761,1985,1]
[null,1990,{"$f":"Urliste!C1993","v":2},300,0.15075376884422109,362,0.18190954773869347,325,0.16331658291457288,1003,0.50402010050251256,1990,1]
[null,1991,{"$f":"Urliste!C1994","v":3},300,0.15067805123053743,362,0.18181818181818182,326,0.16373681567051732,1003,0.50376695128076343,1991,1]
[null,1996,{"$f":"Urliste!C1999","v":1},301,0.15080160320641284,362,0.18136272545090179,327,0.16382765531062124,1006,0.50400801603206413,1996,1]
[null,2001,{"$f":"Urliste!C2004","v":6},301,0.1504247876061969,364,0.18190904547726136,329,0.16441779110444776,1007,0.50324837581209392,2001,1]
[null,2005,{"$f":"Urliste!C2008","v":3},302,0.15062344139650874,364,0.18154613466334166,331,0.16508728179551121,1008,0.50274314214463844,2005,1]
[null,2006,{"$f":"Urliste!C2009","v":3},302,0.15054835493519442,364,0.1814556331006979,332,0.16550348953140578,1008,0.50249252243270193,2006,1]
[null,2011,{"$f":"Urliste!C2014","v":5},302,0.15017404276479362,365,0.18150174042764794,332,0.16509199403281949,1012,0.50323222277473889,2011,0.99999999999999989]
[null,2016,{"$f":"Urliste!C2019","v":2},302,0.1498015873015873,368,0.18253968253968253,332,0.16468253968253968,1014,0.50297619047619047,2016,1]
[null,2019,{"$f":"Urliste!C2022","v":1},304,0.1505695889053987,369,0.18276374442793461,332,0.16443784051510649,1014,0.50222882615156017,2019,1]
[null,2021,{"$f":"Urliste!C2024","v":4},304,0.1504205838693716,369,0.18258287976249382,333,0.16476991588322612,1015,0.50222662048490851,2021,1]
[null,2026,{"$f":"Urliste!C2029","v":5},305,0.15054294175715696,370,0.18262586377097728,333,0.16436327739387957,1018,0.50246791707798621,2026,1]
[null,2031,{"$f":"Urliste!C2034","v":6},305,0.1501723289020187,371,0.18266863613983259,336,0.16543574593796159,1019,0.50172328902018715,2031,1]
[null,2036,{"$f":"Urliste!C2039","v":6},305,0.14980353634577603,372,0.18271119842829076,336,0.16502946954813361,1023,0.50245579567779963,2036,1]
[null,2037,{"$f":"Urliste!C2040","v":2},305,0.14972999509081983,373,0.18311242022582228,336,0.16494845360824742,1023,0.50220913107511045,2037,1]
[null,2042,{"$f":"Urliste!C2045","v":5},306,0.14985308521057786,373,0.18266405484818804,339,0.16601371204701273,1024,0.50146914789422137,2042,1]
[null,2046,{"$f":"Urliste!C2049","v":1},307,0.15004887585532747,373,0.18230694037145651,340,0.16617790811339198,1026,0.50146627565982405,2046,0.99999999999999989]
[null,2051,{"$f":"Urliste!C2054","v":3},307,0.14968308142369577,374,0.18235007313505608,341,0.16626036079960996,1029,0.50170648464163825,2051,1]
[null,2052,{"$f":"Urliste!C2055","v":5},307,0.14961013645224172,374,0.18226120857699804,341,0.16617933723196882,1030,0.50194931773879148,2052,1]
[null,2057,{"$f":"Urliste!C2060","v":5},307,0.149246475449684,374,0.18181818181818182,342,0.16626154594069031,1034,0.50267379679144386,2057,1]
[null,2060,{"$f":"Urliste!C2063","v":3},308,0.14951456310679612,375,0.18203883495145631,343,0.16650485436893203,1034,0.50194174757281551,2060,1]
[null,2066,{"$f":"Urliste!C2069","v":1},311,0.15053242981606971,376,0.1819941916747338,344,0.1665053242981607,1035,0.50096805421103585,2066,1]
[null,2067,{"$f":"Urliste!C2070","v":2},311,0.15045960328979197,377,0.18238993710691823,344,0.16642477019835511,1035,0.50072568940493467,2067,1]
[null,2072,{"$f":"Urliste!C2075","v":1},313,0.15106177606177607,377,0.18194980694980695,344,0.16602316602316602,1038,0.50096525096525102,2072,1]
[null,2077,{"$f":"Urliste!C2080","v":3},313,0.15069812229176696,377,0.18151179585941263,346,0.16658642272508425,1041,0.50120365912373621,2077,1]
[null,2080,{"$f":"Urliste!C2083","v":5},314,0.15096153846153845,378,0.18173076923076922,346,0.16634615384615384,1042,0.50096153846153846,2080,1]
[null,2082,{"$f":"Urliste!C2085","v":2},315,0.15129682997118155,379,0.18203650336215177,346,0.16618635926993275,1042,0.50048030739673388,2082,0.99999999999999989]
[null,2087,{"$f":"Urliste!C2090","v":6},315,0.15093435553425971,380,0.18207954000958312,347,0.16626736942980355,1045,0.50071873502635367,2087,1]
[null,2092,{"$f":"Urliste!C2095","v":5},316,0.15105162523900573,380,0.18164435946462715,348,0.16634799235181644,1048,0.50095602294455066,2092,1]
[null,2097,{"$f":"Urliste!C2100","v":1},317,0.15116833571769195,381,0.18168812589413447,348,0.16595135908440631,1051,0.50119217930376725,2097,0.99999999999999989]
[null,2098,{"$f":"Urliste!C2101","v":5},{"$f":"IF(C2119=1,D2118+1,D2118)","v":317},{"$f":"D2119/B2119","v":0.15109628217349858},{"$f":"IF(C2119=2,F2118+1,F2118)","v":381},{"$f":"F2119/B2119","v":0.18160152526215442},{"$f":"IF(C2119=3,H2118+1,H2118)","v":348},{"$f":"H2119/B2119","v":0.16587225929456625},{"$f":"IF(C2119>3,J2118+1,J2118)","v":1052},{"$f":"J2119/B2119","v":0.50142993326978069},{"$f":"SUM(D2119,J2119,H2119,F2119)","v":2098},{"$f":"SUM(K2119,I2119,G2119,E2119)","v":1}]
[null,2103,{"$f":"Urliste!C2106","v":3},317,0.15073704232049454,382,0.18164526866381359,352,0.16737993342843557,1052,0.50023775558725625,2103,1]
[null,2107,{"$f":"Urliste!C2110","v":2},317,0.15045087802562884,384,0.18224964404366398,353,0.16753678215472234,1053,0.49976269577598481,2107,0.99999999999999989]
[null,2112,{"$f":"Urliste!C2115","v":6},318,0.15056818181818182,384,0.18181818181818182,354,0.16761363636363635,1056,0.5,2112,1]
[null,2113,{"$f":"Urliste!C2116","v":4},318,0.15049692380501656,384,0.18173213440605773,354,0.16753431140558447,1057,0.50023663038334121,2113,1]
[null,2118,{"$f":"Urliste!C2121","v":1},319,0.15061378659112371,385,0.1817752596789424,356,0.1680830972615675,1058,0.49952785646836639,2118,1]
[null,2121,{"$f":"Urliste!C2124","v":2},319,0.15040075436115041,387,0.18246110325318246,356,0.16784535596416786,1059,0.49929278642149927,2121,1]
[null,2127,{"$f":"Urliste!C2130","v":1},320,0.15044663845792194,389,0.18288669487541137,356,0.16737188528443817,1062,0.49929478138222849,2127,1]
[null,2128,{"$f":"Urliste!C2131","v":6},320,0.15037593984962405,389,0.18280075187969924,356,0.16729323308270677,1063,0.49953007518796994,2128,1]
[null,2133,{"$f":"Urliste!C2136","v":2},320,0.15002344116268168,392,0.18377871542428503,356,0.16690107829348336,1065,0.49929676511954996,2133,1]
[null,2138,{"$f":"Urliste!C2141","v":6},320,0.14967259120673526,394,0.1842843779232928,357,0.16697848456501402,1067,0.49906454630495789,2138,0.99999999999999989]
[null,2142,{"$f":"Urliste!C2145","v":3},320,0.14939309056956115,395,0.18440709617180207,360,0.16806722689075632,1067,0.49813258636788049,2142,1]
[null,2143,{"$f":"Urliste!C2146","v":4},320,0.14932337844143723,395,0.18432104526364909,360,0.1679888007466169,1068,0.49836677554829678,2143,1]
[null,2148,{"$f":"Urliste!C2151","v":6},322,0.14990689013035383,396,0.18435754189944134,360,0.16759776536312848,1070,0.49813780260707635,2148,1]
[null,2153,{"$f":"Urliste!C2156","v":6},322,0.14955875522526707,397,0.18439386901997212,363,0.16860195076637249,1071,0.49744542498838829,2153,1]
[null,2158,{"$f":"Urliste!C2161","v":4},324,0.15013901760889714,398,0.18443002780352177,363,0.16821130676552362,1073,0.49721964782205746,2158,1]
[null,2159,{"$f":"Urliste!C2162","v":5},324,0.15006947660954145,398,0.18434460398332561,363,0.1681333950903196,1074,0.49745252431681336,2159,1]
[null,2164,{"$f":"Urliste!C2167","v":2},325,0.150184842883549,400,0.18484288354898337,363,0.16774491682070242,1076,0.49722735674676527,2164,1]
[null,2168,{"$f":"Urliste!C2171","v":4},326,0.15036900369003689,401,0.1849630996309963,364,0.16789667896678967,1077,0.49677121771217714,2168,1]
[null,2173,{"$f":"Urliste!C2176","v":3},328,0.15094339622641509,402,0.18499769903359412,365,0.1679705476300046,1078,0.49608835710998617,2173,0.99999999999999989]
[null,2174,{"$f":"Urliste!C2177","v":1},329,0.15133394664213431,402,0.18491260349586017,365,0.16789328426862926,1078,0.49586016559337626,2174,0.99999999999999989]
[null,2179,{"$f":"Urliste!C2182","v":2},329,0.15098669114272603,403,0.18494722349701698,365,0.16750803120697569,1082,0.4965580541532813,2179,1]
[null,2182,{"$f":"Urliste!C2185","v":1},331,0.15169569202566452,403,0.18469294225481209,365,0.16727772685609532,1083,0.49633363886342807,2182,1]
[null,2188,{"$f":"Urliste!C2191","v":5},333,0.15219378427787933,403,0.18418647166361973,365,0.16681901279707495,1087,0.49680073126142599,2188,1]
[null,2189,{"$f":"Urliste!C2192","v":3},333,0.15212425765189586,403,0.18410232983097305,366,0.16719963453631795,1087,0.49657377798081315,2189,1]
[null,2194,{"$f":"Urliste!C2197","v":4},333,0.15177757520510482,403,0.1836827711941659,367,0.16727438468550593,1091,0.49726526891522332,2194,1]
[null,2199,{"$f":"Urliste!C2202","v":1},334,0.15188722146430195,403,0.18326512050932242,369,0.16780354706684858,1093,0.49704411095952705,2199,1]
[null,2203,{"$f":"Urliste!C2206","v":1},336,0.1525192918747163,403,0.18293236495687698,369,0.16749886518384022,1095,0.4970494779845665,2203,1]
[null,2204,{"$f":"Urliste!C2207","v":3},336,0.15245009074410162,403,0.18284936479128858,370,0.16787658802177857,1095,0.49682395644283123,2204,1]
[null,2209,{"$f":"Urliste!C2212","v":3},337,0.15255771842462654,405,0.18334087822544137,371,0.16794929832503394,1096,0.49615210502489815,2209,1]
[null,2214,{"$f":"Urliste!C2217","v":3},338,0.15266485998193316,406,0.18337850045167117,372,0.16802168021680217,1098,0.49593495934959347,2214,0.99999999999999989]
[null,2219,{"$f":"Urliste!C2222","v":1},341,0.15367282559711581,406,0.18296529968454259,372,0.1676430824695809,1100,0.4957187922487607,2219,1]
[null,2220,{"$f":"Urliste!C2223","v":1},342,0.15405405405405406,406,0.18288288288288287,372,0.16756756756756758,1100,0.49549549549549549,2220,1]
[null,2225,{"$f":"Urliste!C2228","v":5},343,0.15415730337078651,407,0.18292134831460674,372,0.16719101123595506,1103,0.49573033707865166,2225,0.99999999999999989]
[null,2229,{"$f":"Urliste!C2232","v":1},344,0.15432929564827277,408,0.18304172274562583,373,0.16733961417676088,1104,0.49528936742934049,2229,1]
[null,2234,{"$f":"Urliste!C2237","v":1},345,0.15443151298119964,409,0.18307967770814682,373,0.16696508504923904,1107,0.4955237242614145,2234,1]
[null,2235,{"$f":"Urliste!C2238","v":5},345,0.15436241610738255,409,0.18299776286353467,373,0.16689038031319911,1108,0.49574944071588367,2235,1]
[null,2240,{"$f":"Urliste!C2243","v":6},346,0.15446428571428572,409,0.1825892857142857,375,0.16741071428571427,1110,0.4955357142857143,2240,1]
[null,2243,{"$f":"Urliste!C2246","v":2},346,0.15425769059295585,410,0.18279090503789566,375,0.16718680338831921,1112,0.49576460098082925,2243,1]
[null,2249,{"$f":"Urliste!C2252","v":1},347,0.15429079590929301,411,0.18274788795020008,375,0.16674077367718987,1116,0.49622054246331704,2249,1]
[null,2250,{"$f":"Urliste!C2253","v":3},347,0.15422222222222223,411,0.18266666666666667,376,0.1671111111111111,1116,0.496,2250,1]
[null,2255,{"$f":"Urliste!C2258","v":3},347,0.15388026607538802,412,0.18270509977827051,377,0.1671840354767184,1119,0.49623059866962305,2255,1]
[null,2260,{"$f":"Urliste!C2263","v":4},347,0.15353982300884955,413,0.18274336283185841,379,0.16769911504424778,1121,0.49601769911504423,2260,1]
[null,2264,{"$f":"Urliste!C2267","v":6},347,0.15326855123674912,413,0.18242049469964663,380,0.16784452296819788,1124,0.49646643109540634,2264,0.99999999999999989]
[null,2265,{"$f":"Urliste!C2268","v":4},347,0.15320088300220749,413,0.18233995584988963,380,0.16777041942604856,1125,0.49668874172185429,2265,0.99999999999999989]
[null,2270,{"$f":"Urliste!C2273","v":5},347,0.15286343612334802,415,0.1828193832599119,380,0.16740088105726872,1128,0.49691629955947136,2270,1]
[null,2275,{"$f":"Urliste!C2278","v":1},349,0.15340659340659341,415,0.18241758241758241,381,0.16747252747252747,1130,0.49670329670329672,2275,1]
[null,2280,{"$f":"Urliste!C2283","v":6},350,0.15350877192982457,418,0.18333333333333332,381,0.16710526315789473,1131,0.49605263157894736,2280,1]
[null,2281,{"$f":"Urliste!C2284","v":3},350,0.15344147303814118,418,0.18325295922840859,382,0.16747040771591407,1131,0.49583516001753619,2281,1]
[null,2286,{"$f":"Urliste!C2289","v":4},350,0.15310586176727908,418,0.18285214348206474,382,0.16710411198600175,1136,0.49693788276465439,2286,1]
[null,2290,{"$f":"Urliste!C2293","v":6},{"$f":"IF(C2311=1,D2310+1,D2310)","v":350},{"$f":"D2311/B2311","v":0.15283842794759825},{"$f":"IF(C2311=2,F2310+1,F2310)","v":419},{"$f":"F2311/B2311","v":0.18296943231441049},{"$f":"IF(C2311=3,H2310+1,H2310)","v":383},{"$f":"H2311/B2311","v":0.16724890829694322},{"$f":"IF(C2311>3,J2310+1,J2310)","v":1138},{"$f":"J2311/B2311","v":0.49694323144104802},{"$f":"SUM(D2311,J2311,H2311,F2311)","v":2290},{"$f":"SUM(K2311,I2311,G2311,E2311)","v":1}]
[null,2295,{"$f":"Urliste!C2298","v":6},350,0.15250544662309368,419,0.18257080610021786,385,0.16775599128540306,1141,0.49716775599128538,2295,1]
[null,2296,{"$f":"Urliste!C2299","v":4},350,0.1524390243902439,419,0.18249128919860627,385,0.1676829268292683,1142,0.49738675958188155,2296,1]
[null,2301,{"$f":"Urliste!C2304","v":1},353,0.15341156019122121,419,0.18209474141677531,386,0.16775315080399827,1143,0.49674054758800523,2301,1]
[null,2304,{"$f":"Urliste!C2307","v":6},353,0.15321180555555555,419,0.1818576388888889,386,0.16753472222222221,1146,0.49739583333333331,2304,1]
[null,2310,{"$f":"Urliste!C2313","v":5},354,0.15324675324675324,419,0.18138528138528137,386,0.16709956709956711,1151,0.49826839826839825,2310,1]
[null,2311,{"$f":"Urliste!C2314","v":5},354,0.15318044136737344,419,0.18130679359584595,386,0.16702726092600606,1152,0.49848550411077458,2311,1]
[null,2316,{"$f":"Urliste!C2319","v":3},354,0.15284974093264247,421,0.18177892918825561,389,0.16796200345423143,1152,0.49740932642487046,2316,0.99999999999999989]
[null,2321,{"$f":"Urliste!C2324","v":2},356,0.15338216286083584,423,0.18224903059026282,389,0.16760017233950883,1153,0.49676863420939249,2321,1]
[null,2325,{"$f":"Urliste!C2328","v":2},357,0.15354838709677418,425,0.18279569892473119,390,0.16774193548387098,1153,0.49591397849462365,2325,1]
[null,2326,{"$f":"Urliste!C2329","v":3},357,0.1534823731728289,425,0.1827171109200344,391,0.16809974204643163,1153,0.49570077386070505,2326,1]
[null,2331,{"$f":"Urliste!C2334","v":1},359,0.15401115401115401,425,0.18232518232518233,392,0.16816816816816818,1155,0.49549549549549549,2331,1]
[null,2336,{"$f":"Urliste!C2339","v":5},359,0.15368150684931506,426,0.18236301369863014,393,0.16823630136986301,1158,0.49571917808219179,2336,1]
[null,2341,{"$f":"Urliste!C2344","v":4},362,0.15463477146518581,426,0.1819735155916275,393,0.167876975651431,1160,0.49551473729175566,2341,0.99999999999999989]
[null,2342,{"$f":"Urliste!C2345","v":6},362,0.15456874466268147,426,0.18189581554227155,393,0.16780529461998292,1161,0.49573014517506403,2342,0.99999999999999989]
[null,2347,{"$f":"Urliste!C2350","v":6},362,0.15423945462292288,428,0.18236046016190882,394,0.16787388155091607,1163,0.49552620366425226,2347,1]
[null,2351,{"$f":"Urliste!C2354","v":1},364,0.1548277328796257,428,0.18205019140791154,394,0.16758826031475968,1165,0.49553381539770308,2351,1]
[null,2356,{"$f":"Urliste!C2359","v":4},365,0.15492359932088284,430,0.18251273344651953,395,0.16765704584040747,1166,0.49490662139219016,2356,1]
[null,2357,{"$f":"Urliste!C2360","v":6},365,0.15485787017394995,430,0.18243529910903691,395,0.16758591429783623,1167,0.49512091641917694,2357,1]
[null,2362,{"$f":"Urliste!C2365","v":3},367,0.15537679932260795,431,0.18247248094834886,396,0.16765453005927181,1168,0.49449618966977138,2362,1]
[null,2365,{"$f":"Urliste!C2368","v":1},368,0.15560253699788584,432,0.18266384778012684,397,0.16786469344608879,1168,0.49386892177589853,2365,0.99999999999999989]
[null,2371,{"$f":"Urliste!C2374","v":6},369,0.15563053563897089,432,0.18220160269928301,398,0.16786166174609871,1172,0.49430619991564739,2371,1]
[null,2372,{"$f":"Urliste!C2375","v":4},369,0.15556492411467115,432,0.1821247892074199,398,0.16779089376053963,1173,0.49451939291736929,2372,1]
[null,2377,{"$f":"Urliste!C2380","v":4},369,0.15523769457299116,432,0.1817416912074043,399,0.16785864535128314,1177,0.49516196886832142,2377,1]
[null,2382,{"$f":"Urliste!C2385","v":4},371,0.15575146935348447,432,0.181360201511335,400,0.16792611251049538,1179,0.49496221662468515,2382,1]
[null,2386,{"$f":"Urliste!C2389","v":1},372,0.15590947191953058,432,0.18105616093880972,402,0.16848281642917015,1180,0.49455155071248952,2386,1]
[null,2387,{"$f":"Urliste!C2390","v":6},372,0.15584415584415584,432,0.18098031001256809,402,0.16841223292836197,1181,0.49476330121491413,2387,1]
[null,2392,{"$f":"Urliste!C2395","v":3},372,0.15551839464882944,435,0.18185618729096989,404,0.16889632107023411,1181,0.49372909698996653,2392,1]
[null,2397,{"$f":"Urliste!C2400","v":2},372,0.15519399249061328,437,0.18231122236128494,405,0.16896120150187735,1183,0.49353358364622446,2397,1]
[null,2402,{"$f":"Urliste!C2405","v":5},373,0.15528726061615319,437,0.18193172356369691,405,0.16860949208992507,1187,0.49417152373022483,2402,1]
[null,2403,{"$f":"Urliste!C2406","v":4},373,0.15522263836870578,437,0.18185601331668746,405,0.16853932584269662,1188,0.4943820224719101,2403,0.99999999999999989]
[null,2408,{"$f":"Urliste!C2411","v":3},374,0.15531561461794019,437,0.18147840531561463,406,0.16860465116279069,1191,0.49460132890365449,2408,1]
[null,2412,{"$f":"Urliste!C2415","v":5},374,0.1550580431177446,437,0.18117744610281925,407,0.16873963515754561,1194,0.49502487562189057,2412,1]
[null,2417,{"$f":"Urliste!C2420","v":3},374,0.15473727761688044,439,0.18163011998345055,408,0.16880430285477865,1196,0.49482829954489038,2417,1]
[null,2418,{"$f":"Urliste!C2421","v":5},{"$f":"IF(C2439=1,D2438+1,D2438)","v":374},{"$f":"D2439/B2439","v":0.15467328370554176},{"$f":"IF(C2439=2,F2438+1,F2438)","v":439},{"$f":"F2439/B2439","v":0.18155500413564929},{"$f":"IF(C2439=3,H2438+1,H2438)","v":408},{"$f":"H2439/B2439","v":0.16873449131513649},{"$f":"IF(C2439>3,J2438+1,J2438)","v":1197},{"$f":"J2439/B2439","v":0.49503722084367247},{"$f":"SUM(D2439,J2439,H2439,F2439)","v":2418},{"$f":"SUM(K2439,I2439,G2439,E2439)","v":1}]
[null,2423,{"$f":"Urliste!C2426","v":2},374,0.15435410647957079,441,0.18200577796120512,408,0.16838629797771357,1200,0.49525381758151055,2423,1]
[null,2426,{"$f":"Urliste!C2429","v":6},374,0.15416323165704865,441,0.18178070898598517,409,0.16859027205276175,1202,0.49546578730420443,2426,1]
[null,2432,{"$f":"Urliste!C2435","v":5},376,0.15460526315789475,441,0.18133223684210525,410,0.16858552631578946,1205,0.49547697368421051,2432,1]
[null,2433,{"$f":"Urliste!C2436","v":2},376,0.15454171804356762,442,0.18166872174270449,410,0.16851623510069871,1205,0.49527332511302918,2433,1]
[null,2438,{"$f":"Urliste!C2441","v":5},378,0.15504511894995898,442,0.18129614438063987,411,0.16858080393765382,1207,0.49507793273174733,2438,1]
[null,2443,{"$f":"Urliste!C2446","v":4},380,0.15554645927138763,444,0.18174375767498976,411,0.16823577568563242,1208,0.49447400736799019,2443,1]
[null,2447,{"$f":"Urliste!C2450","v":1},381,0.15570085819370658,445,0.18185533306089088,413,0.16877809562729873,1208,0.49366571311810381,2447,1]
[null,2448,{"$f":"Urliste!C2451","v":5},381,0.15563725490196079,445,0.18178104575163398,413,0.1687091503267974,1209,0.49387254901960786,2448,1]
[null,2453,{"$f":"Urliste!C2456","v":6},381,0.15532001630656339,445,0.18141051773338768,416,0.16958825927435792,1211,0.49368120668569099,2453,1]
[null,2458,{"$f":"Urliste!C2461","v":3},381,0.15500406834825062,445,0.18104149715215623,419,0.17046379170056958,1213,0.4934906427990236,2458,1]
[null,2463,{"$f":"Urliste!C2466","v":5},381,0.15468940316686966,446,0.18107998375964271,420,0.17052375152253349,1216,0.49370686155095411,2463,1]
[null,2464,{"$f":"Urliste!C2467","v":1},382,0.15503246753246752,446,0.1810064935064935,420,0.17045454545454544,1216,0.4935064935064935,2464,1]
[null,2469,{"$f":"Urliste!C2472","v":6},383,0.15512353179424868,447,0.181044957472661,420,0.1701093560145808,1219,0.4937221547185095,2469,1]
[null,2473,{"$f":"Urliste!C2476","v":3},383,0.15487262434290336,448,0.18115649009300444,421,0.17023857662757785,1221,0.49373230893651437,2473,1]
[null,2478,{"$f":"Urliste!C2481","v":2},384,0.15496368038740921,450,0.18159806295399517,422,0.17029862792574657,1222,0.49313962873284906,2478,1]
[null,2479,{"$f":"Urliste!C2482","v":3},384,0.15490116982654295,450,0.18152480839048002,423,0.17063331988705124,1222,0.49294070189592576,2479,1]
[null,2484,{"$f":"Urliste!C2487","v":6},385,0.15499194847020933,450,0.18115942028985507,423,0.17028985507246377,1226,0.49355877616747185,2484,1]
[null,2487,{"$f":"Urliste!C2490","v":6},385,0.15480498592681946,451,0.18134298351427422,423,0.17008443908323281,1228,0.49376759147567351,2487,1]
[null,2493,{"$f":"Urliste!C2496","v":6},387,0.1552346570397112,451,0.18090653830726033,425,0.1704773365423185,1230,0.49338146811070999,2493,1]
[null,2494,{"$f":"Urliste!C2497","v":2},387,0.15517241379310345,452,0.18123496391339214,425,0.17040898155573375,1230,0.49318364073777066,2494,1]
[null,2499,{"$f":"Urliste!C2502","v":6},389,0.15566226490596238,452,0.18087234893957582,425,0.17006802721088435,1233,0.49339735894357745,2499,1]
[null,2504,{"$f":"Urliste!C2507","v":1},391,0.15615015974440893,452,0.18051118210862621,427,0.17052715654952078,1234,0.49281150159744408,2504,1]
[null,2509,{"$f":"Urliste!C2512","v":4},392,0.1562375448385811,454,0.18094858509366282,428,0.17058589079314468,1235,0.49222797927461137,2509,1]
[null,2510,{"$f":"Urliste!C2513","v":3},392,0.15617529880478087,454,0.18087649402390438,429,0.17091633466135459,1235,0.49203187250996017,2510,1]
[null,2514,{"$f":"Urliste!C2517","v":5},393,0.15632458233890215,454,0.18058870326173429,431,0.17143993635640414,1236,0.49164677804295942,2514,0.99999999999999989]
[null,2519,{"$f":"Urliste!C2522","v":5},394,0.15641127431520443,455,0.18062723302897976,431,0.17109964271536324,1239,0.49186184994045257,2519,1]
[null,2524,{"$f":"Urliste!C2527","v":3},395,0.15649762282091917,455,0.18026941362916007,434,0.17194928684627575,1240,0.49128367670364503,2524,1]
[null,2525,{"$f":"Urliste!C2528","v":6},395,0.15643564356435644,455,0.18019801980198019,434,0.17188118811881187,1241,0.49148514851485148,2525,0.99999999999999989]
[null,2531,{"$f":"Urliste!C2534","v":4},396,0.15645989727380483,455,0.17977084156459897,435,0.17186882655077046,1245,0.49190043461082578,2531,1]
[null,2534,{"$f":"Urliste!C2537","v":3},397,0.15666929755327547,456,0.17995264404104183,436,0.17205998421468036,1245,0.49131807419100237,2534,1]
[null,2539,{"$f":"Urliste!C2542","v":5},397,0.15636077195746356,457,0.17999212288302482,436,0.17172115005907837,1249,0.49192595510043324,2539,1]
[null,2540,{"$f":"Urliste!C2543","v":4},397,0.15629921259842519,457,0.17992125984251969,436,0.17165354330708663,1250,0.49212598425196852,2540,1]
[null,2545,{"$f":"Urliste!C2548","v":2},397,0.15599214145383103,458,0.1799607072691552,437,0.17170923379174852,1253,0.49233791748526523,2545,1]
[null,2548,{"$f":"Urliste!C2551","v":2},398,0.15620094191522763,459,0.18014128728414441,438,0.17189952904238617,1253,0.49175824175824173,2548,0.99999999999999989]
[null,2554,{"$f":"Urliste!C2557","v":2},401,0.15700861393891935,460,0.18010963194988253,439,0.17188723570869224,1254,0.49099451840250585,2554,1]
[null,2555,{"$f":"Urliste!C2558","v":6},401,0.15694716242661449,460,0.18003913894324852,439,0.17181996086105675,1255,0.49119373776908021,2555,1]
[null,2560,{"$f":"Urliste!C2563","v":4},402,0.15703125000000001,460,0.1796875,440,0.171875,1258,0.49140624999999999,2560,1]
[null,2565,{"$f":"Urliste!C2568","v":6},403,0.15711500974658871,460,0.17933723196881091,441,0.17192982456140352,1261,0.4916179337231969,2565,1]
[null,2570,{"$f":"Urliste!C2573","v":4},405,0.15758754863813229,462,0.17976653696498054,441,0.17159533073929961,1262,0.49105058365758752,2570,1]
[null,2571,{"$f":"Urliste!C2574","v":4},405,0.15752625437572929,462,0.17969661610268378,441,0.17152858809801633,1263,0.49124854142357061,2571,1]
[null,2575,{"$f":"Urliste!C2578","v":5},405,0.15728155339805824,462,0.17941747572815533,441,0.17126213592233008,1267,0.49203883495145628,2575,1]
[null,2580,{"$f":"Urliste!C2583","v":4},405,0.15697674418604651,464,0.17984496124031008,442,0.17131782945736435,1269,0.49186046511627907,2580,1]
[null,2585,{"$f":"Urliste!C2588","v":1},407,0.1574468085106383,464,0.1794970986460348,443,0.17137330754352031,1271,0.49168278529980658,2585,1]
[null,2586,{"$f":"Urliste!C2589","v":2},407,0.15738592420726991,465,0.17981438515081208,443,0.17130703789636503,1271,0.49149265274555298,2586,1]
[null,2592,{"$f":"Urliste!C2595","v":2},408,0.15740740740740741,466,0.17978395061728394,444,0.17129629629629631,1274,0.49151234567901236,2592,1]
[null,2595,{"$f":"Urliste!C2598","v":2},408,0.15722543352601157,467,0.17996146435452795,445,0.17148362235067438,1275,0.4913294797687861,2595,1]
[null,2600,{"$f":"Urliste!C2603","v":2},408,0.15692307692307692,469,0.18038461538461539,445,0.17115384615384616,1278,0.49153846153846154,2600,1]
[null,2601,{"$f":"Urliste!C2604","v":2},408,0.15686274509803921,470,0.18069973087274124,445,0.17108804306036141,1278,0.49134948096885811,2601,1]
[null,2606,{"$f":"Urliste!C2609","v":3},410,0.15732924021488873,471,0.18073676132003069,446,0.17114351496546432,1279,0.49079048349961629,2606,1]
[null,2610,{"$f":"Urliste!C2613","v":4},{"$f":"IF(C2631=1,D2630+1,D2630)","v":411},{"$f":"D2631/B2631","v":0.15747126436781608},{"$f":"IF(C2631=2,F2630+1,F2630)","v":471},{"$f":"F2631/B2631","v":0.18045977011494252},{"$f":"IF(C2631=3,H2630+1,H2630)","v":447},{"$f":"H2631/B2631","v":0.17126436781609194},{"$f":"IF(C2631>3,J2630+1,J2630)","v":1281},{"$f":"J2631/B2631","v":0.49080459770114943},{"$f":"SUM(D2631,J2631,H2631,F2631)","v":2610},{"$f":"SUM(K2631,I2631,G2631,E2631)","v":1}]
[null,2615,{"$f":"Urliste!C2618","v":2},412,0.15755258126195029,473,0.1808795411089866,447,0.17093690248565965,1283,0.49063097514340342,2615,1]
[null,2616,{"$f":"Urliste!C2619","v":4},412,0.15749235474006115,473,0.18081039755351683,447,0.17087155963302753,1284,0.49082568807339449,2616,1]
[null,2621,{"$f":"Urliste!C2624","v":5},413,0.1575734452499046,473,0.1804654711942007,449,0.17130866081648227,1286,0.49065242273941245,2621,0.99999999999999989]
[null,2626,{"$f":"Urliste!C2629","v":5},416,0.15841584158415842,473,0.18012185833968011,449,0.17098248286367099,1288,0.49047981721249045,2626,1]
[null,2631,{"$f":"Urliste!C2634","v":5},416,0.1581147852527556,473,0.17977955150133029,451,0.17141771189661725,1291,0.49068795134929682,2631,1]
[null,2632,{"$f":"Urliste!C2635","v":6},416,0.1580547112462006,473,0.17971124620060791,451,0.17135258358662614,1292,0.49088145896656538,2632,1]
[null,2636,{"$f":"Urliste!C2639","v":4},416,0.15781487101669195,473,0.17943854324734446,451,0.17109256449165403,1296,0.49165402124430957,2636,1]
[null,2641,{"$f":"Urliste!C2644","v":4},418,0.15827338129496402,473,0.17909882620219614,451,0.17076864823930329,1299,0.49185914426353655,2641,1]
[null,2646,{"$f":"Urliste!C2649","v":6},419,0.15835222978080121,474,0.17913832199546487,451,0.17044595616024188,1302,0.49206349206349204,2646,1]
[null,2647,{"$f":"Urliste!C2650","v":5},419,0.15829240649792217,474,0.17907064601435588,451,0.17038156403475632,1303,0.4922553834529656,2647,1]
[null,2653,{"$f":"Urliste!C2656","v":3},419,0.15793441387108934,476,0.17941952506596306,453,0.17075009423294385,1305,0.49189596683000375,2653,1]
[null,2656,{"$f":"Urliste!C2659","v":2},419,0.15775602409638553,477,0.17959337349397592,453,0.17055722891566266,1307,0.49209337349397592,2656,1]
[null,2661,{"$f":"Urliste!C2664","v":4},419,0.15745960165351372,478,0.17963171739947389,454,0.17061255167230366,1310,0.49229612927470878,2661,1]
[null,2662,{"$f":"Urliste!C2665","v":1},420,0.15777610818933133,478,0.17956423741547708,454,0.17054845980465816,1310,0.49211119459053343,2662,1]
[null,2667,{"$f":"Urliste!C2670","v":3},421,0.15785526809148856,480,0.17997750281214847,455,0.17060367454068243,1311,0.49156355455568052,2667,0.99999999999999989]
[null,2671,{"$f":"Urliste!C2674","v":6},423,0.15836765256458255,480,0.17970797454137027,455,0.17034818420067391,1313,0.49157618869337327,2671,1]
[null,2676,{"$f":"Urliste!C2679","v":3},423,0.15807174887892378,480,0.17937219730941703,456,0.17040358744394618,1317,0.49215246636771298,2676,1]
[null,2677,{"$f":"Urliste!C2680","v":4},423,0.15801270078446022,480,0.17930519237952933,456,0.17033993276055287,1318,0.49234217407545761,2677,1]
[null,2682,{"$f":"Urliste!C2685","v":2},424,0.1580909768829232,482,0.17971662938105892,456,0.17002237136465326,1320,0.49217002237136465,2682,1]
[null,2687,{"$f":"Urliste!C2690","v":3},424,0.15779679940454039,482,0.17938221064384072,459,0.1708224786006699,1322,0.49199851135094902,2687,1]
[null,2692,{"$f":"Urliste!C2695","v":6},424,0.1575037147102526,484,0.17979197622585438,459,0.17050520059435365,1325,0.4921991084695394,2692,1]
[null,2693,{"$f":"Urliste!C2696","v":4},424,0.15744522836984776,484,0.17972521351652432,459,0.17044188637207575,1326,0.49238767174155218,2693,1]
[null,2697,{"$f":"Urliste!C2700","v":1},426,0.15795328142380421,484,0.17945865776789025,460,0.17055988134964775,1327,0.49202817945865779,2697,1]
[null,2702,{"$f":"Urliste!C2705","v":2},427,0.15803108808290156,485,0.17949666913397483,461,0.17061435973353073,1329,0.49185788304959288,2702,0.99999999999999989]
[null,2707,{"$f":"Urliste!C2710","v":5},429,0.15847801994828223,486,0.17953454008127079,461,0.17029922423346877,1331,0.49168821573697818,2707,1]
[null,2708,{"$f":"Urliste!C2711","v":2},429,0.15841949778434269,487,0.17983751846381094,461,0.17023633677991137,1331,0.49150664697193502,2708,1]
[null,2714,{"$f":"Urliste!C2717","v":2},429,0.15806927044952102,490,0.18054532056005895,462,0.17022844509948415,1333,0.49115696389093588,2714,1]
[null,2717,{"$f":"Urliste!C2720","v":5},429,0.15789473684210525,490,0.18034596981965403,462,0.17004048582995951,1336,0.49171880750828117,2717,1]
[null,2722,{"$f":"Urliste!C2725","v":1},430,0.15797207935341662,490,0.18001469507714915,462,0.16972814107274062,1340,0.49228508449669361,2722,1]
[null,2723,{"$f":"Urliste!C2726","v":3},430,0.15791406536907823,490,0.17994858611825193,463,0.17003305178112377,1340,0.4921042967315461,2723,1]
[null,2728,{"$f":"Urliste!C2731","v":1},432,0.15835777126099707,492,0.18035190615835778,463,0.16972140762463342,1341,0.49156891495601174,2728,0.99999999999999989]
[null,2732,{"$f":"Urliste!C2735","v":4},432,0.15812591508052709,493,0.18045387994143486,464,0.1698389458272328,1343,0.49158125915080525,2732,0.99999999999999989]
[null,2737,{"$f":"Urliste!C2740","v":4},433,0.15820241139934235,494,0.18048958713920352,464,0.16952868103763244,1346,0.49177932042382172,2737,1]
[null,2738,{"$f":"Urliste!C2741","v":6},{"$f":"IF(C2759=1,D2758+1,D2758)","v":433},{"$f":"D2759/B2759","v":0.1581446311176041},{"$f":"IF(C2759=2,F2758+1,F2758)","v":494},{"$f":"F2759/B2759","v":0.18042366691015341},{"$f":"IF(C2759=3,H2758+1,H2758)","v":464},{"$f":"H2759/B2759","v":0.16946676406135866},{"$f":"IF(C2759>3,J2758+1,J2758)","v":1347},{"$f":"J2759/B2759","v":0.49196493791088386},{"$f":"SUM(D2759,J2759,H2759,F2759)","v":2738},{"$f":"SUM(K2759,I2759,G2759,E2759)","v":1}]
[null,2743,{"$f":"Urliste!C2746","v":6},434,0.15822092599343784,494,0.18009478672985782,464,0.16915785636164782,1351,0.49252643091505649,2743,1]
[null,2748,{"$f":"Urliste!C2751","v":5},434,0.15793304221251819,495,0.18013100436681223,466,0.16957787481804948,1353,0.4923580786026201,2748,1]
[null,2753,{"$f":"Urliste!C2756","v":1},438,0.15909916454776607,496,0.18016709044678533,466,0.16926988739556847,1353,0.49146385760988015,2753,1]
[null,2754,{"$f":"Urliste!C2757","v":6},438,0.15904139433551198,496,0.18010167029774873,466,0.16920842411038489,1354,0.49164851125635439,2754,1]
[null,2758,{"$f":"Urliste!C2761","v":1},440,0.15953589557650472,497,0.1802030456852792,466,0.16896301667875271,1355,0.49129804205946337,2758,1]
[null,2763,{"$f":"Urliste!C2766","v":2},442,0.15997104596453129,499,0.18060079623597539,466,0.16865725660513933,1356,0.49077090119435396,2763,0.99999999999999989]
[null,2768,{"$f":"Urliste!C2771","v":4},444,0.16040462427745664,499,0.18027456647398843,466,0.16835260115606937,1359,0.49096820809248554,2768,1]
[null,2769,{"$f":"Urliste!C2772","v":2},444,0.16034669555796316,500,0.18057060310581438,466,0.168291802094619,1359,0.49079089924160346,2769,1]
[null,2775,{"$f":"Urliste!C2778","v":1},445,0.16036036036036036,501,0.18054054054054053,468,0.16864864864864865,1361,0.49045045045045044,2775,0.99999999999999989]
[null,2778,{"$f":"Urliste!C2781","v":5},446,0.16054715622750179,501,0.18034557235421167,468,0.16846652267818574,1363,0.49064074874010077,2778,1]
[null,2783,{"$f":"Urliste!C2786","v":6},447,0.16061803808839381,504,0.181099532878189,468,0.16816385195831837,1364,0.49011857707509882,2783,1]
[null,2784,{"$f":"Urliste!C2787","v":2},447,0.16056034482758622,505,0.18139367816091953,468,0.16810344827586207,1364,0.48994252873563221,2784,1]
[null,2789,{"$f":"Urliste!C2792","v":5},447,0.16027249910362137,506,0.18142703477949085,468,0.16780207959842236,1368,0.49049838651846539,2789,1]
[null,2793,{"$f":"Urliste!C2796","v":6},448,0.16040100250626566,506,0.18116720372359471,469,0.16791979949874686,1370,0.49051199427139275,2793,1]
[null,2798,{"$f":"Urliste!C2801","v":2},448,0.1601143674052895,508,0.18155825589706934,469,0.16761972837741243,1373,0.49070764832022873,2798,1]
[null,2799,{"$f":"Urliste!C2802","v":2},448,0.16005716327259736,509,0.18185066095033942,469,0.16755984280100036,1373,0.49053233297606286,2799,1]
[null,2804,{"$f":"Urliste!C2807","v":4},448,0.15977175463623394,511,0.18223965763195435,469,0.16726105563480742,1376,0.49072753209700426,2804,1]
[null,2809,{"$f":"Urliste!C2812","v":1},449,0.15984336062655749,511,0.18191527233891064,469,0.16696333214667142,1380,0.49127803488786043,2809,1]
[null,2814,{"$f":"Urliste!C2817","v":4},449,0.15955934612651029,511,0.18159203980099503,470,0.16702203269367449,1384,0.49182658137882018,2814,1]
[null,2815,{"$f":"Urliste!C2818","v":1},450,0.15985790408525755,511,0.18152753108348135,470,0.1669626998223801,1384,0.49165186500888097,2815,1]
[null,2819,{"$f":"Urliste!C2822","v":1},451,0.15998581057112451,511,0.18126995388435616,472,0.1674352607307556,1385,0.49130897481376373,2819,1]
[null,2824,{"$f":"Urliste!C2827","v":3},452,0.16005665722379603,512,0.18130311614730879,473,0.1674929178470255,1387,0.49114730878186968,2824,1]
[null,2829,{"$f":"Urliste!C2832","v":6},455,0.16083421703782255,512,0.18098267939201132,474,0.16755037115588547,1388,0.49063273241428068,2829,1]
[null,2830,{"$f":"Urliste!C2833","v":1},456,0.16113074204946998,512,0.18091872791519434,474,0.16749116607773851,1388,0.49045936395759715,2830,1]
[null,2836,{"$f":"Urliste!C2839","v":3},456,0.16078984485190409,513,0.1808885754583921,475,0.16748942172073342,1392,0.4908321579689704,2836,1]
[null,2839,{"$f":"Urliste!C2842","v":6},456,0.16061993659739346,513,0.18069742867206762,476,0.16766467065868262,1394,0.49101796407185627,2839,1]
[null,2844,{"$f":"Urliste!C2847","v":1},460,0.16174402250351619,513,0.18037974683544303,477,0.16772151898734178,1394,0.49015471167369901,2844,1]
[null,2845,{"$f":"Urliste!C2848","v":1},461,0.16203866432337435,513,0.18031634446397188,477,0.16766256590509665,1394,0.48998242530755709,2845,0.99999999999999989]
[null,2850,{"$f":"Urliste!C2853","v":5},463,0.16245614035087719,513,0.18,477,0.16736842105263158,1397,0.49017543859649121,2850,0.99999999999999989]
[null,2854,{"$f":"Urliste!C2857","v":2},463,0.16222845129642607,514,0.18009810791871059,478,0.16748423265592152,1399,0.49018920812894184,2854,1]
[null,2859,{"$f":"Urliste!C2862","v":4},463,0.16194473592165093,514,0.17978314095837705,478,0.16719132563833508,1404,0.49108079748163691,2859,0.99999999999999989]
[null,2860,{"$f":"Urliste!C2863","v":5},463,0.16188811188811189,514,0.17972027972027971,478,0.16713286713286712,1405,0.49125874125874125,2860,1]
[null,2865,{"$f":"Urliste!C2868","v":5},463,0.16160558464223385,516,0.18010471204188483,479,0.16719022687609075,1407,0.49109947643979057,2865,1]
[null,2870,{"$f":"Urliste!C2873","v":1},465,0.16202090592334495,517,0.18013937282229966,479,0.16689895470383276,1409,0.49094076655052266,2870,1]
[null,2875,{"$f":"Urliste!C2878","v":5},466,0.16208695652173913,517,0.17982608695652175,479,0.1666086956521739,1413,0.4914782608695652,2875,1]
[null,2876,{"$f":"Urliste!C2879","v":1},467,0.16237830319888735,517,0.17976356050069542,479,0.16655076495132129,1413,0.49130737134909597,2876,1]
[null,2880,{"$f":"Urliste!C2883","v":1},468,0.16250000000000001,519,0.18020833333333333,479,0.16631944444444444,1414,0.4909722222222222,2880,0.99999999999999989]
[null,2885,{"$f":"Urliste!C2888","v":3},469,0.16256499133448873,519,0.17989601386481802,480,0.16637781629116119,1417,0.49116117850953206,2885,1]
[null,2890,{"$f":"Urliste!C2893","v":1},470,0.16262975778546712,519,0.17958477508650519,480,0.16608996539792387,1421,0.49169550173010379,2890,1]
[null,2891,{"$f":"Urliste!C2894","v":6},470,0.16257350397786233,519,0.17952265652023522,480,0.16603251470079558,1422,0.4918713248011069,2891,1]
[null,2897,{"$f":"Urliste!C2900","v":3},470,0.16223679668622712,519,0.17915084570245082,482,0.16637901277183292,1426,0.49223334483948911,2897,1]
[null,2900,{"$f":"Urliste!C2903","v":6},470,0.16206896551724137,519,0.17896551724137932,483,0.16655172413793104,1428,0.49241379310344829,2900,1]
[null,2905,{"$f":"Urliste!C2908","v":3},471,0.1621342512908778,520,0.17900172117039587,484,0.16660929432013769,1430,0.49225473321858865,2905,0.99999999999999989]
[null,2906,{"$f":"Urliste!C2909","v":4},471,0.16207845836200963,520,0.17894012388162422,484,0.16655196145905024,1431,0.49242945629731588,2906,1]
[null,2911,{"$f":"Urliste!C2914","v":5},471,0.1618000687049124,520,0.17863277224321539,484,0.16626588801099279,1436,0.4933012710408794,2911,0.99999999999999989]
[null,2915,{"$f":"Urliste!C2918","v":6},471,0.16157804459691252,520,0.17838765008576329,485,0.16638078902229847,1439,0.49365351629502574,2915,1]
[null,2920,{"$f":"Urliste!C2923","v":2},471,0.16130136986301369,522,0.17876712328767122,485,0.1660958904109589,1442,0.49383561643835616,2920,0.99999999999999989]
[null,2921,{"$f":"Urliste!C2924","v":1},472,0.16158849709003767,522,0.17870592262923657,485,0.16603902773022938,1442,0.49366655255049641,2921,1]
[null,2926,{"$f":"Urliste!C2929","v":2},472,0.16131237183868763,523,0.1787423103212577,486,0.16609706083390294,1445,0.49384825700615176,2926,1]
[null,2931,{"$f":"Urliste!C2934","v":3},472,0.16103718867280792,525,0.17911975435005117,487,0.16615489593995222,1447,0.49368816103718866,2931,1]
[null,2936,{"$f":"Urliste!C2939","v":1},474,0.16144414168937329,526,0.17915531335149865,487,0.16587193460490463,1449,0.49352861035422341,2936,1]
[null,2937,{"$f":"Urliste!C2940","v":5},474,0.16138917262512767,526,0.1790943139257746,487,0.1658154579502894,1450,0.49370105549880833,2937,0.99999999999999989]
[null,2941,{"$f":"Urliste!C2944","v":5},474,0.16116967018021081,527,0.1791907514450867,488,0.16592995579734784,1452,0.49370962257735462,2941,0.99999999999999989]
[null,2946,{"$f":"Urliste!C2949","v":3},475,0.16123557365919891,528,0.17922606924643583,489,0.1659877800407332,1454,0.49355057705363203,2946,1]
[null,2951,{"$f":"Urliste!C2954","v":1},477,0.16164012199254491,531,0.17993900372754998,489,0.16570654015587935,1454,0.49271433412402577,2951,1]
[null,2952,{"$f":"Urliste!C2955","v":5},477,0.16158536585365854,531,0.1798780487804878,489,0.16565040650406504,1455,0.49288617886178859,2952,1]
[null,2958,{"$f":"Urliste!C2961","v":1},480,0.16227180527383367,533,0.1801893171061528,489,0.16531440162271804,1456,0.49222447599729546,2958,1]
[null,2961,{"$f":"Urliste!C2964","v":4},480,0.16210739614994935,533,0.18000675447483958,490,0.16548463356973994,1458,0.49240121580547114,2961,1]
[null,2966,{"$f":"Urliste!C2969","v":4},480,0.16183412002697237,533,0.17970330411328389,492,0.16587997302764665,1461,0.49258260283209709,2966,1]
[null,2967,{"$f":"Urliste!C2970","v":2},480,0.16177957532861476,534,0.17997977755308392,492,0.16582406471183014,1461,0.49241658240647118,2967,1]
[null,2972,{"$f":"Urliste!C2975","v":4},480,0.16150740242261102,534,0.17967698519515476,492,0.16554508748317631,1466,0.49327052489905787,2972,1]
[null,2977,{"$f":"Urliste!C2980","v":5},481,0.16157205240174671,534,0.17937520994289552,493,0.16560295599596911,1469,0.49344978165938863,2977,1]
[null,2981,{"$f":"Urliste!C2984","v":6},482,0.16169070781616907,534,0.17913451861791346,493,0.16538074471653808,1472,0.4937940288493794,2981,1]
[null,2982,{"$f":"Urliste!C2985","v":3},482,0.16163648558014757,534,0.17907444668008049,494,0.16566063044936286,1472,0.49362843729040912,2982,1]
[null,2987,{"$f":"Urliste!C2990","v":2},482,0.16136591898225644,536,0.17944425845329762,495,0.16571811181787746,1474,0.49347171074656848,2987,1]
[null,2992,{"$f":"Urliste!C2995","v":3},482,0.16109625668449198,537,0.17947860962566844,499,0.16677807486631016,1474,0.49264705882352944,2992,1]
[null,2997,{"$f":"Urliste!C3000","v":1},484,0.16149482816149482,537,0.17917917917917917,499,0.16649983316649983,1477,0.49282615949282615,2997,1]
[null,2998,{"$f":"Urliste!C3001","v":1},485,0.16177451634422949,537,0.17911941294196132,499,0.16644429619746498,1477,0.49266177451634424,2998,1]
[null,3002,{"$f":"Urliste!C3005","v":1},487,0.16222518321119253,537,0.17888074616922051,499,0.16622251832111926,1479,0.49267155229846771,3002,1]
[null,3007,{"$f":"Urliste!C3010","v":3},488,0.16228799467908214,537,0.17858330562021948,501,0.16661124043897571,1481,0.49251745926172263,3007,1]
[null,3012,{"$f":"Urliste!C3015","v":2},490,0.16268260292164674,538,0.17861885790172644,501,0.16633466135458166,1483,0.49236387782204516,3012,0.99999999999999989]
[null,3013,{"$f":"Urliste!C3016","v":6},490,0.16262860935944243,538,0.17855957517424495,501,0.16627945569200134,1484,0.49253235977431131,3013,1]
[null,3019,{"$f":"Urliste!C3022","v":3},491,0.16263663464723419,538,0.17820470354421994,502,0.16628022524014574,1488,0.49287843656840014,3019,1]
[null,3022,{"$f":"Urliste!C3025","v":4},491,0.16247518199867636,538,0.17802779616148245,502,0.16611515552614162,1491,0.49338186631369951,3022,1]
[null,3027,{"$f":"Urliste!C3030","v":3},491,0.16220680541790553,540,0.17839444995044598,503,0.16617112652791544,1493,0.49322761810373306,3027,1]
[null,3028,{"$f":"Urliste!C3031","v":3},491,0.16215323645970939,540,0.17833553500660501,504,0.16644649933949801,1493,0.49306472919418759,3028,1]
[null,3033,{"$f":"Urliste!C3036","v":6},493,0.16254533465215959,540,0.17804154302670624,505,0.16650181338608638,1495,0.49291130893504781,3033,1]
[null,3038,{"$f":"Urliste!C3041","v":3},495,0.162936142198815,541,0.17807768268597762,506,0.16655694535878868,1496,0.49242922975641867,3038,0.99999999999999989]
[null,3042,{"$f":"Urliste!C3045","v":2},496,0.16305062458908612,542,0.17817225509533202,507,0.16666666666666666,1497,0.4921104536489152,3042,1]
[null,3043,{"$f":"Urliste!C3046","v":6},496,0.16299704239237595,542,0.17811370358199147,507,0.1666118961551101,1498,0.49227735787052251,3043,1]
[null,3048,{"$f":"Urliste!C3051","v":1},497,0.16305774278215224,543,0.17814960629921259,508,0.16666666666666666,1500,0.49212598425196852,3048,1]
[null,3053,{"$f":"Urliste!C3056","v":1},499,0.16344579102522108,544,0.17818539141827711,508,0.1663937111038323,1502,0.49197510645266951,3053,0.99999999999999989]
[null,3058,{"$f":"Urliste!C3061","v":6},{"$f":"IF(C3079=1,D3078+1,D3078)","v":500},{"$f":"D3079/B3079","v":0.16350555918901244},{"$f":"IF(C3079=2,F3078+1,F3078)","v":544},{"$f":"F3079/B3079","v":0.17789404839764553},{"$f":"IF(C3079=3,H3078+1,H3078)","v":508},{"$f":"H3079/B3079","v":0.16612164813603664},{"$f":"IF(C3079>3,J3078+1,J3078)","v":1506},{"$f":"J3079/B3079","v":0.49247874427730542},{"$f":"SUM(D3079,J3079,H3079,F3079)","v":3058},{"$f":"SUM(K3079,I3079,G3079,E3079)","v":1}]
[null,3060,{"$f":"Urliste!C3063","v":6},501,0.16372549019607843,544,0.17777777777777778,508,0.16601307189542483,1507,0.49248366013071898,3060,1]
[null,3063,{"$f":"Urliste!C3066","v":4},501,0.16356513222331048,544,0.17760365654587007,508,0.16585047339209924,1510,0.49298073783872021,3063,1]
[null,3068,{"$f":"Urliste!C3071","v":6},501,0.16329856584093871,545,0.17764015645371578,509,0.16590612777053454,1513,0.49315514993481097,3068,1]
[null,3073,{"$f":"Urliste!C3076","v":4},504,0.16400911161731208,545,0.17735112268141881,509,0.16563618613732509,1515,0.49300357956394403,3073,1]
[null,3074,{"$f":"Urliste!C3077","v":6},504,0.16395575797007156,545,0.17729342875731946,509,0.16558230318802863,1516,0.49316851008458035,3074,1]
[null,3078,{"$f":"Urliste!C3081","v":2},505,0.16406757634827809,547,0.17771280051981805,509,0.16536712150747238,1517,0.49285250162443145,3078,1]
[null,3083,{"$f":"Urliste!C3086","v":3},506,0.16412585144339928,548,0.17774894583198184,510,0.16542328900421668,1519,0.49270191372040223,3083,1]
[null,3088,{"$f":"Urliste!C3091","v":5},507,0.1641839378238342,550,0.17810880829015543,511,0.16547927461139897,1520,0.49222797927461137,3088,1]
[null,3089,{"$f":"Urliste!C3092","v":2},507,0.16413078666235029,551,0.17837487860148915,511,0.1654257041113629,1520,0.49206863062479766,3089,1]
[null,3094,{"$f":"Urliste!C3097","v":6},508,0.16418875242404654,552,0.178409825468649,512,0.16548157724628312,1522,0.4919198448610213,3094,1]
[null,3099,{"$f":"Urliste!C3102","v":2},510,0.16456921587608905,553,0.17844465956760244,513,0.16553727008712488,1523,0.49144885446918363,3099,1]
[null,3103,{"$f":"Urliste!C3106","v":4},510,0.16435707379954884,555,0.17885916854656783,513,0.16532388011601676,1525,0.49145987753786657,3103,1]
[null,3104,{"$f":"Urliste!C3107","v":5},510,0.16430412371134021,555,0.17880154639175258,513,0.16527061855670103,1526,0.49162371134020616,3104,1]
[null,3109,{"$f":"Urliste!C3112","v":5},512,0.16468317787069797,557,0.17915728530073979,513,0.16500482470247668,1527,0.49115471212608558,3109,1]
[null,3114,{"$f":"Urliste!C3117","v":5},513,0.16473988439306358,559,0.17951188182402056,513,0.16473988439306358,1529,0.49100834938985227,3114,1]
[null,3119,{"$f":"Urliste!C3122","v":1},515,0.1651170246873998,559,0.17922411029176019,513,0.16447579352356526,1532,0.49118307149727475,3119,1]
[null,3121,{"$f":"Urliste!C3124","v":5},515,0.1650112143543736,559,0.17910925985261134,513,0.1643703941044537,1534,0.49150913168856136,3121,1]
[null,3124,{"$f":"Urliste!C3127","v":4},515,0.16485275288092188,560,0.17925736235595391,513,0.16421254801536492,1536,0.49167733674775926,3124,1]
[null,3129,{"$f":"Urliste!C3132","v":1},517,0.1652285075103867,561,0.17929050814956854,514,0.16426973473953341,1537,0.49121124960051132,3129,1]
[null,3134,{"$f":"Urliste!C3137","v":4},517,0.16496490108487555,562,0.17932354818123802,515,0.16432673899170389,1540,0.49138481174218251,3134,1]
[null,3135,{"$f":"Urliste!C3138","v":5},517,0.1649122807017544,562,0.17926634768740032,515,0.16427432216905902,1541,0.49154704944178629,3135,1]
[null,3139,{"$f":"Urliste!C3142","v":1},518,0.16502070723160242,563,0.17935648295635553,515,0.16406498884995221,1543,0.49155782096208983,3139,1]
[null,3144,{"$f":"Urliste!C3147","v":1},519,0.16507633587786261,564,0.17938931297709923,516,0.16412213740458015,1545,0.49141221374045801,3144,1]
[null,3149,{"$f":"Urliste!C3152","v":6},519,0.16481422673864718,564,0.17910447761194029,517,0.16417910447761194,1549,0.49190219117180056,3149,1]
[null,3150,{"$f":"Urliste!C3153","v":3},519,0.16476190476190475,564,0.17904761904761904,518,0.16444444444444445,1549,0.49174603174603176,3150,1]
[null,3155,{"$f":"Urliste!C3158","v":2},520,0.16481774960380349,565,0.17908082408874801,519,0.16450079239302695,1551,0.49160063391442155,3155,1]
[null,3160,{"$f":"Urliste!C3163","v":4},521,0.16487341772151898,567,0.17943037974683546,520,0.16455696202531644,1552,0.49113924050632912,3160,1]
[null,3164,{"$f":"Urliste!C3167","v":2},521,0.16466498103666244,569,0.17983565107458913,521,0.16466498103666244,1553,0.49083438685208597,3164,1]
[null,3165,{"$f":"Urliste!C3168","v":6},521,0.16461295418641389,569,0.17977883096366509,521,0.16461295418641389,1554,0.49099526066350713,3165,1]
[null,3170,{"$f":"Urliste!C3173","v":2},522,0.16466876971608832,571,0.1801261829652997,521,0.16435331230283912,1556,0.49085173501577289,3170,1]
[null,3175,{"$f":"Urliste!C3178","v":4},523,0.16472440944881889,572,0.18015748031496062,521,0.16409448818897637,1559,0.49102362204724409,3175,1]
[null,3180,{"$f":"Urliste!C3183","v":6},524,0.16477987421383647,572,0.17987421383647798,521,0.16383647798742138,1563,0.49150943396226415,3180,0.99999999999999989]
[null,3182,{"$f":"Urliste!C3185","v":2},524,0.16467630421118792,574,0.180389692017599,521,0.16373350094280326,1563,0.49120050282840982,3182,1]
[null,3185,{"$f":"Urliste!C3188","v":1},525,0.16483516483516483,574,0.18021978021978022,522,0.16389324960753532,1564,0.49105180533751963,3185,1]
[null,3190,{"$f":"Urliste!C3193","v":1},526,0.16489028213166143,575,0.18025078369905956,522,0.16363636363636364,1567,0.49122257053291535,3190,1]
[null,3195,{"$f":"Urliste!C3198","v":1},527,0.1649452269170579,576,0.18028169014084508,523,0.16369327073552425,1569,0.49107981220657276,3195,1]
[null,3196,{"$f":"Urliste!C3199","v":6},527,0.16489361702127658,576,0.18022528160200249,523,0.16364205256570713,1570,0.49123904881101377,3196,0.99999999999999989]
[null,3200,{"$f":"Urliste!C3203","v":6},528,0.16500000000000001,576,0.18,523,0.16343750000000001,1573,0.49156250000000001,3200,1]
[null,3205,{"$f":"Urliste!C3208","v":6},529,0.16505460218408735,576,0.17971918876755069,525,0.16380655226209048,1575,0.49141965678627147,3205,1]
[null,3210,{"$f":"Urliste!C3213","v":2},530,0.16510903426791276,577,0.17975077881619939,525,0.16355140186915887,1578,0.49158878504672898,3210,1]
[null,3211,{"$f":"Urliste!C3214","v":5},530,0.16505761445032699,577,0.17969479912799752,525,0.16350046714419184,1579,0.49174711927748366,3211,0.99999999999999989]
[null,3216,{"$f":"Urliste!C3219","v":1},532,0.1654228855721393,577,0.17941542288557213,527,0.1638681592039801,1580,0.49129353233830847,3216,1]
[null,3221,{"$f":"Urliste!C3224","v":3},532,0.16516609748525302,577,0.17913691400186277,529,0.16423470971747905,1583,0.49146227879540516,3221,1]
[null,3225,{"$f":"Urliste!C3228","v":6},532,0.16496124031007753,577,0.17891472868217054,530,0.16434108527131783,1586,0.49178294573643411,3225,1]
[null,3226,{"$f":"Urliste!C3229","v":5},532,0.16491010539367637,577,0.17885926844389335,530,0.1642901425914445,1587,0.49194048357098574,3226,0.99999999999999989]
[null,3231,{"$f":"Urliste!C3234","v":6},532,0.16465490560198082,578,0.17889198390591149,530,0.16403590219746209,1591,0.49241720829464564,3231,1]
[null,3236,{"$f":"Urliste!C3239","v":3},532,0.16440049443757726,579,0.17892459826946849,532,0.16440049443757726,1593,0.49227441285537699,3236,1]
[null,3241,{"$f":"Urliste!C3244","v":1},534,0.16476396174020363,580,0.17895711200246836,532,0.16414686825053995,1595,0.49213205800678805,3241,1]
[null,3243,{"$f":"Urliste!C3246","v":5},535,0.16497070613629355,580,0.17884674683934629,532,0.16404563675609005,1596,0.49213691026827011,3243,1]
[null,3246,{"$f":"Urliste!C3249","v":2},535,0.16481823783117683,582,0.17929759704251386,532,0.16389402341343193,1597,0.49199014171287736,3246,1]
[null,3251,{"$f":"Urliste!C3254","v":2},537,0.16517994463242081,585,0.17994463242079362,532,0.16364195632113196,1597,0.49123346662565365,3251,1]
[null,3256,{"$f":"Urliste!C3259","v":2},538,0.16523341523341523,587,0.1802825552825553,532,0.16339066339066338,1599,0.49109336609336607,3256,1]
[null,3257,{"$f":"Urliste!C3260","v":5},538,0.16518268345102854,587,0.18022720294749769,532,0.16334049739023643,1600,0.49124961621123736,3257,1]
[null,3261,{"$f":"Urliste!C3264","v":6},538,0.16498006746396809,587,0.18000613308800981,532,0.16314014106102423,1604,0.49187365838699787,3261,1]
[null,3266,{"$f":"Urliste!C3269","v":3},538,0.16472749540722598,587,0.17973055725658296,534,0.16350275566442132,1607,0.49203919167176974,3266,1]
[null,3271,{"$f":"Urliste!C3274","v":2},539,0.16478141241210639,590,0.18037297462549678,534,0.16325282788138185,1608,0.491592785081015,3271,1]
[null,3272,{"$f":"Urliste!C3275","v":6},539,0.16473105134474328,590,0.18031784841075796,534,0.16320293398533006,1609,0.49174816625916873,3272,1]
[null,3277,{"$f":"Urliste!C3280","v":6},539,0.16447970704913031,592,0.18065303631370155,534,0.16295392126945377,1612,0.49191333536771437,3277,1]
[null,3282,{"$f":"Urliste!C3285","v":4},539,0.16422912858013405,593,0.18068251066422913,534,0.16270566727605118,1616,0.49238269347958563,3282,1]
[null,3286,{"$f":"Urliste!C3289","v":5},539,0.16402921485088254,595,0.18107121119902617,534,0.16250760803408398,1618,0.49239196591600731,3286,1]
[null,3287,{"$f":"Urliste!C3290","v":5},539,0.1639793124429571,595,0.18101612412534226,534,0.16245816854274414,1619,0.49254639488895652,3287,1]
[null,3292,{"$f":"Urliste!C3295","v":3},539,0.16373025516403403,595,0.18074119076549211,537,0.16312272174969622,1621,0.49240583232077767,3292,1]
[null,3297,{"$f":"Urliste!C3300","v":2},541,0.1640885653624507,596,0.18077039733090688,537,0.16287534121929026,1623,0.49226569608735216,3297,1]
[null,3302,{"$f":"Urliste!C3305","v":5},541,0.16384009691096305,596,0.18049666868564507,538,0.16293155663234404,1627,0.49273167777104787,3302,1]
[null,3304,{"$f":"Urliste!C3307","v":3},541,0.16374092009685229,596,0.18038740920096852,540,0.16343825665859565,1627,0.49243341404358354,3304,1]
[null,3307,{"$f":"Urliste!C3310","v":1},543,0.16419715754460235,597,0.18052615663743574,540,0.16328999092833385,1627,0.49198669488962804,3307,1]
[null,3312,{"$f":"Urliste!C3315","v":4},544,0.16425120772946861,599,0.18085748792270531,540,0.16304347826086957,1629,0.49184782608695654,3312,1]
[null,3317,{"$f":"Urliste!C3320","v":6},544,0.16400361772686162,599,0.18058486584262889,540,0.16279770877298763,1634,0.49261380765752183,3317,1]
[null,3318,{"$f":"Urliste!C3321","v":5},544,0.16395418927064498,599,0.18053044002411092,540,0.16274864376130199,1635,0.49276672694394213,3318,1]
[null,3322,{"$f":"Urliste!C3325","v":2},545,0.16405779650812763,600,0.18061408789885611,542,0.16315472606863335,1635,0.49217338952438289,3322,1]
[null,3327,{"$f":"Urliste!C3330","v":5},545,0.1638112413585813,601,0.18064322212203185,543,0.16321009918845808,1638,0.49233543733092877,3327,1]
[null,3332,{"$f":"Urliste!C3335","v":4},545,0.16356542617046818,602,0.18067226890756302,544,0.16326530612244897,1641,0.4924969987995198,3332,1]
[null,3333,{"$f":"Urliste!C3336","v":6},545,0.16351635163516351,602,0.18061806180618062,544,0.16321632163216321,1642,0.49264926492649264,3333,0.99999999999999989]
[null,3338,{"$f":"Urliste!C3341","v":3},546,0.16357100059916119,604,0.18094667465548234,546,0.16357100059916119,1642,0.49191132414619532,3338,1]
[null,3343,{"$f":"Urliste!C3346","v":2},547,0.16362548609033803,606,0.18127430451690099,547,0.16362548609033803,1643,0.49147472330242298,3343,1]
[null,3347,{"$f":"Urliste!C3350","v":1},548,0.16372871227965341,606,0.18105766357932476,549,0.16402748730206154,1644,0.49118613683896029,3347,1]
[null,3348,{"$f":"Urliste!C3351","v":4},548,0.16367980884109917,606,0.18100358422939067,549,0.16397849462365591,1645,0.49133811230585422,3348,1]
[null,3353,{"$f":"Urliste!C3356","v":3},548,0.16343572919773336,607,0.18103191172084701,550,0.16403220996122875,1648,0.49150014912019085,3353,1]
[null,3358,{"$f":"Urliste!C3361","v":2},549,0.16349017272185826,609,0.1813579511614056,550,0.16378796902918405,1650,0.49136390708755212,3358,1]
[null,3363,{"$f":"Urliste!C3366","v":4},549,0.16324710080285459,609,0.18108831400535236,550,0.16354445435622955,1655,0.4921201308355635,3363,1]
[null,3365,{"$f":"Urliste!C3368","v":5},549,0.16315007429420506,609,0.18098068350668647,550,0.16344725111441308,1657,0.49242199108469542,3365,1]
[null,3368,{"$f":"Urliste!C3371","v":2},550,0.16330166270783847,611,0.18141330166270783,550,0.16330166270783847,1657,0.4919833729216152,3368,1]
[null,3373,{"$f":"Urliste!C3376","v":5},551,0.16335606285206047,611,0.18114438185591461,551,0.16335606285206047,1660,0.49214349243996441,3373,1]
[null,3378,{"$f":"Urliste!C3381","v":3},{"$f":"IF(C3399=1,D3398+1,D3398)","v":551},{"$f":"D3399/B3399","v":0.16311426879810539},{"$f":"IF(C3399=2,F3398+1,F3398)","v":612},{"$f":"F3399/B3399","v":0.18117229129662521},{"$f":"IF(C3399=3,H3398+1,H3398)","v":553},{"$f":"H3399/B3399","v":0.16370633510953228},{"$f":"IF(C3399>3,J3398+1,J3398)","v":1662},{"$f":"J3399/B3399","v":0.49200710479573712},{"$f":"SUM(D3399,J3399,H3399,F3399)","v":3378},{"$f":"SUM(K3399,I3399,G3399,E3399)","v":1}]
[null,3379,{"$f":"Urliste!C3382","v":6},551,0.16306599585676235,612,0.18111867416395383,553,0.16365788694880143,1663,0.49215744303048237,3379,1]
[null,3383,{"$f":"Urliste!C3386","v":3},552,0.16316878510198049,612,0.18090452261306533,555,0.16405557197753473,1664,0.49187112030741947,3383,1]
[null,3388,{"$f":"Urliste!C3391","v":5},552,0.16292798110979928,612,0.18063754427390791,558,0.16469893742621014,1666,0.49173553719008267,3388,1]
[null,3393,{"$f":"Urliste!C3396","v":6},553,0.16298261125847333,612,0.18037135278514588,559,0.16475095785440613,1669,0.49189507810197464,3393,1]
[null,3394,{"$f":"Urliste!C3397","v":5},553,0.1629345904537419,612,0.1803182086034178,559,0.1647024160282852,1670,0.49204478491455511,3394,1]
[null,3399,{"$f":"Urliste!C3402","v":1},555,0.16328331862312445,613,0.1803471609296852,560,0.16475433951162108,1671,0.49161518093556927,3399,1]
[null,3404,{"$f":"Urliste!C3407","v":2},555,0.16304347826086957,616,0.18096357226792009,561,0.16480611045828436,1672,0.49118683901292598,3404,1]
[null,3408,{"$f":"Urliste!C3411","v":5},556,0.16314553990610328,616,0.18075117370892019,561,0.16461267605633803,1675,0.4914906103286385,3408,1]
[null,3409,{"$f":"Urliste!C3412","v":3},556,0.16309768260486945,616,0.1806981519507187,562,0.16485772953945438,1675,0.49134643590495747,3409,1]
[null,3414,{"$f":"Urliste!C3417","v":1},557,0.16315172817809021,617,0.18072642062097247,563,0.16490919742237845,1677,0.49121265377855888,3414,1]
[null,3419,{"$f":"Urliste!C3422","v":1},558,0.16320561567709857,617,0.18046212342790288,565,0.16525299795261772,1679,0.4910792629423808,3419,1]
[null,3424,{"$f":"Urliste!C3427","v":3},559,0.16325934579439252,617,0.18019859813084113,566,0.16530373831775702,1682,0.49123831775700932,3424,1]
[null,3426,{"$f":"Urliste!C3429","v":6},559,0.163164039696439,617,0.18009340338587274,567,0.16549912434325745,1683,0.49124343257443082,3426,1]
[null,3429,{"$f":"Urliste!C3432","v":2},559,0.16302128900554097,618,0.18022747156605423,568,0.16564596092155148,1684,0.49110527850685332,3429,1]
[null,3434,{"$f":"Urliste!C3437","v":5},559,0.16278392545136866,618,0.17996505532906232,569,0.16569598136284217,1688,0.49155503785672683,3434,0.99999999999999989]
[null,3439,{"$f":"Urliste!C3442","v":3},560,0.1628380343123001,618,0.17970340215178832,571,0.16603663855772027,1690,0.49142192497819132,3439,1]
[null,3440,{"$f":"Urliste!C3443","v":6},560,0.16279069767441862,618,0.17965116279069768,571,0.16598837209302325,1691,0.49156976744186048,3440,1]
[null,3445,{"$f":"Urliste!C3448","v":6},561,0.16284470246734398,618,0.17939042089985485,572,0.16603773584905659,1694,0.49172714078374458,3445,0.99999999999999989]
[null,3449,{"$f":"Urliste!C3452","v":1},563,0.16323572049869528,618,0.17918237170194259,573,0.16613511162655842,1695,0.49144679617280373,3449,1]
[null,3454,{"$f":"Urliste!C3457","v":5},563,0.1629994209612044,620,0.1795020266357846,573,0.16589461493920094,1698,0.49160393746381009,3454,1]
[null,3455,{"$f":"Urliste!C3458","v":2},563,0.16295224312590448,621,0.17973950795947902,573,0.1658465991316932,1698,0.49146164978292328,3455,1]
[null,3460,{"$f":"Urliste!C3463","v":1},566,0.16358381502890174,621,0.17947976878612718,574,0.16589595375722543,1699,0.49104046242774568,3460,1]
[null,3465,{"$f":"Urliste!C3468","v":3},566,0.16334776334776335,622,0.17950937950937951,575,0.16594516594516595,1702,0.49119769119769119,3465,1]
[null,3469,{"$f":"Urliste!C3472","v":1},567,0.16344767944652638,622,0.17930239262035169,576,0.16604208705678869,1704,0.49120784087633323,3469,0.99999999999999989]
[null,3470,{"$f":"Urliste!C3473","v":2},567,0.16340057636887609,623,0.17953890489913546,576,0.16599423631123919,1704,0.49106628242074929,3470,1]
[null,3475,{"$f":"Urliste!C3478","v":5},567,0.16316546762589929,624,0.179568345323741,578,0.16633093525179857,1706,0.49093525179856118,3475,1]
[null,3480,{"$f":"Urliste!C3483","v":1},569,0.16350574712643678,625,0.17959770114942528,578,0.16609195402298851,1708,0.49080459770114943,3480,1]
[null,3485,{"$f":"Urliste!C3488","v":2},569,0.16327116212338594,626,0.17962697274031564,578,0.16585365853658537,1712,0.49124820659971308,3485,1]
[null,3487,{"$f":"Urliste!C3490","v":6},569,0.16317751648981932,626,0.17952394608546027,579,0.16604531115572124,1713,0.49125322626899914,3487,1]
[null,3490,{"$f":"Urliste!C3493","v":1},571,0.16361031518624641,627,0.17965616045845273,579,0.16590257879656162,1713,0.49083094555873924,3490,1]
[null,3495,{"$f":"Urliste!C3498","v":3},571,0.16337625178826895,628,0.17968526466380544,580,0.16595135908440631,1716,0.49098712446351933,3495,1]
[null,3500,{"$f":"Urliste!C3503","v":6},571,0.16314285714285715,628,0.17942857142857144,581,0.16600000000000001,1720,0.49142857142857144,3500,1]
[null,3501,{"$f":"Urliste!C3504","v":6},571,0.16309625821193943,628,0.17937732076549556,581,0.16595258497572121,1721,0.49157383604684374,3501,0.99999999999999989]
[null,3506,{"$f":"Urliste!C3509","v":5},{"$f":"IF(C3527=1,D3526+1,D3526)","v":571},{"$f":"D3527/B3527","v":0.16286366229321164},{"$f":"IF(C3527=2,F3526+1,F3526)","v":628},{"$f":"F3527/B3527","v":0.17912150598973189},{"$f":"IF(C3527=3,H3526+1,H3526)","v":582},{"$f":"H3527/B3527","v":0.16600114090131204},{"$f":"IF(C3527>3,J3526+1,J3526)","v":1725},{"$f":"J3527/B3527","v":0.49201369081574442},{"$f":"SUM(D3527,J3527,H3527,F3527)","v":3506},{"$f":"SUM(K3527,I3527,G3527,E3527)","v":1}]
[null,3510,{"$f":"Urliste!C3513","v":3},572,0.16296296296296298,629,0.17920227920227921,583,0.16609686609686611,1726,0.49173789173789173,3510,1]
[null,3515,{"$f":"Urliste!C3518","v":5},572,0.16273115220483642,631,0.17951635846372688,583,0.16586059743954482,1729,0.49189189189189192,3515,1]
[null,3516,{"$f":"Urliste!C3519","v":5},572,0.1626848691695108,631,0.17946530147895334,583,0.16581342434584756,1730,0.49203640500568829,3516,1]
[null,3521,{"$f":"Urliste!C3524","v":2},573,0.16273785856290826,634,0.18006248224936097,583,0.16557796080658904,1731,0.49162169838114173,3521,0.99999999999999989]
[null,3526,{"$f":"Urliste!C3529","v":2},573,0.16250709018718093,637,0.18065796937039139,583,0.16534316505955757,1733,0.49149177538287009,3526,0.99999999999999989]
[null,3528,{"$f":"Urliste!C3531","v":1},574,0.1626984126984127,637,0.18055555555555555,584,0.1655328798185941,1733,0.49121315192743764,3528,1]
[null,3531,{"$f":"Urliste!C3534","v":2},574,0.16256018125177005,638,0.18068535825545171,585,0.16567544604927784,1734,0.49107901444350044,3531,1]
[null,3536,{"$f":"Urliste!C3539","v":2},574,0.16233031674208145,639,0.18071266968325791,585,0.16544117647058823,1738,0.49151583710407237,3536,1]
[null,3541,{"$f":"Urliste!C3544","v":5},575,0.16238350748376165,640,0.18073990398192602,586,0.16548997458345099,1740,0.49138661395086136,3541,1]
[null,3546,{"$f":"Urliste!C3549","v":4},576,0.16243654822335024,640,0.18048505358150027,586,0.16525662718556119,1744,0.49182177100958829,3546,1]
[null,3548,{"$f":"Urliste!C3551","v":2},576,0.16234498308906425,641,0.18066516347237879,586,0.16516347237880497,1745,0.49182638105975196,3548,1]
[null,3551,{"$f":"Urliste!C3554","v":6},576,0.16220782878062517,641,0.18051253168121656,586,0.16502393691917769,1748,0.49225570261898055,3551,1]
[null,3556,{"$f":"Urliste!C3559","v":3},577,0.16226096737907761,641,0.18025871766029247,588,0.16535433070866143,1750,0.49212598425196852,3556,1]
[null,3561,{"$f":"Urliste!C3564","v":4},577,0.16203313675933725,643,0.18056725638865487,588,0.16512215669755687,1753,0.49227745015445101,3561,1]
[null,3562,{"$f":"Urliste!C3565","v":6},577,0.16198764738910723,643,0.18051656372824257,588,0.16507580011229647,1754,0.49241998877035376,3562,1]
[null,3567,{"$f":"Urliste!C3570","v":3},580,0.16260162601626016,644,0.18054387440426128,589,0.16512475469582283,1754,0.49172974488365573,3567,1]
[null,3571,{"$f":"Urliste!C3574","v":5},581,0.16269952394287315,645,0.1806216746009521,590,0.16521982637916549,1755,0.49145897507700925,3571,1]
[null,3576,{"$f":"Urliste!C3579","v":4},581,0.16247203579418346,647,0.18092841163310963,590,0.16498881431767337,1758,0.49161073825503354,3576,0.99999999999999989]
[null,3577,{"$f":"Urliste!C3580","v":2},581,0.16242661448140899,648,0.18115739446463516,590,0.16494268940452894,1758,0.49147330164942687,3577,1]
[null,3582,{"$f":"Urliste!C3585","v":3},581,0.16219988833054161,648,0.18090452261306533,591,0.16499162479061977,1762,0.49190396426577332,3582,1]
[null,3587,{"$f":"Urliste!C3590","v":4},582,0.16225257875662114,650,0.18120992472818512,591,0.16476163925285753,1764,0.49177585726233619,3587,1]
[null,3589,{"$f":"Urliste!C3592","v":5},582,0.16216216216216217,650,0.18110894399554192,592,0.16494845360824742,1765,0.49178044023404849,3589,1]
[null,3592,{"$f":"Urliste!C3595","v":2},582,0.16202672605790647,651,0.18123608017817372,593,0.16508908685968821,1766,0.49164810690423161,3592,1]
[null,3597,{"$f":"Urliste!C3600","v":5},584,0.1623575201556853,651,0.18098415346121768,594,0.16513761467889909,1768,0.49152071170419792,3597,0.99999999999999989]
[null,3602,{"$f":"Urliste!C3605","v":4},584,0.16213214880621876,653,0.18128817323709051,594,0.16490838423098278,1771,0.49167129372570795,3602,0.99999999999999989]
[null,3607,{"$f":"Urliste!C3610","v":3},584,0.16190740227335737,655,0.18159135015248129,595,0.16495702800110895,1773,0.49154421957305239,3607,1]
[null,3610,{"$f":"Urliste!C3613","v":6},584,0.16177285318559556,655,0.18144044321329639,596,0.16509695290858725,1775,0.4916897506925208,3610,1]
[null,3612,{"$f":"Urliste!C3615","v":6},584,0.16168327796234774,655,0.18133997785160577,596,0.16500553709856036,1777,0.49197120708748615,3612,1.0000000000000002]
[null,3617,{"$f":"Urliste!C3620","v":3},585,0.16173624550732651,656,0.18136577273983964,598,0.16533038429637822,1778,0.49156759745645562,3617,1]
[null,3622,{"$f":"Urliste!C3625","v":5},585,0.16151297625621203,656,0.18111540585311983,598,0.16510215350635007,1783,0.49226946438431807,3622,1]
[null,3623,{"$f":"Urliste!C3626","v":3},585,0.16146839635661053,656,0.18106541540160087,599,0.16533259729505934,1783,0.4921335909467292,3623,1]
[null,3628,{"$f":"Urliste!C3631","v":1},586,0.16152149944873209,657,0.18109151047409042,599,0.16510474090407939,1786,0.49228224917309815,3628,1.0000000000000002]
[null,3632,{"$f":"Urliste!C3635","v":6},586,0.16134361233480177,658,0.18116740088105726,599,0.16492290748898678,1789,0.49256607929515417,3632,1]
[null,3637,{"$f":"Urliste!C3640","v":3},586,0.16112180368435525,658,0.18091833929062415,601,0.16524608193566126,1792,0.49271377508935937,3637,1]
[null,3638,{"$f":"Urliste!C3641","v":2},586,0.16107751511819682,659,0.18114348543155581,601,0.16520065970313358,1792,0.49257833974711379,3638,1]
[null,3643,{"$f":"Urliste!C3646","v":3},586,0.16085643700247049,659,0.18089486686796596,602,0.16524842163052431,1796,0.49300027449903927,3643,1]
[null,3648,{"$f":"Urliste!C3651","v":1},589,0.16145833333333334,660,0.18092105263157895,602,0.1650219298245614,1797,0.49259868421052633,3648,1]
[null,3650,{"$f":"Urliste!C3653","v":6},589,0.16136986301369863,660,0.18082191780821918,602,0.16493150684931507,1799,0.49287671232876712,3650,1]
[null,3653,{"$f":"Urliste!C3656","v":4},589,0.16123733917328223,660,0.18067341910758281,603,0.16506980563920065,1801,0.49301943607993431,3653,1]
[null,3658,{"$f":"Urliste!C3661","v":5},589,0.16101694915254236,661,0.18069983597594313,604,0.1651175505740842,1804,0.49316566429743031,3658,1]
[null,3663,{"$f":"Urliste!C3666","v":4},590,0.16107016107016106,661,0.18045318045318046,604,0.16489216489216491,1808,0.49358449358449358,3663,1]
[null,3668,{"$f":"Urliste!C3671","v":3},592,0.16139585605234461,661,0.18020719738276991,605,0.16494002181025083,1810,0.49345692475463465,3668,1]
[null,3671,{"$f":"Urliste!C3674","v":4},593,0.1615363661127758,662,0.18033233451375646,605,0.16480523018251159,1811,0.49332606919095612,3671,1]
[null,3673,{"$f":"Urliste!C3676","v":6},593,0.16144840729648788,662,0.18023414102913149,605,0.16471549142390415,1813,0.49360196025047642,3673,1]
[null,3678,{"$f":"Urliste!C3681","v":2},593,0.16122892876563349,665,0.18080478520935292,605,0.1644915715062534,1815,0.49347471451876018,3678,1]
[null,3683,{"$f":"Urliste!C3686","v":5},593,0.16101004615802336,665,0.18055932663589466,606,0.16453977735541678,1819,0.49389084985066523,3683,1]
[null,3684,{"$f":"Urliste!C3687","v":2},593,0.16096634093376763,666,0.18078175895765472,606,0.16449511400651465,1819,0.49375678610206297,3684,0.99999999999999989]
[null,3689,{"$f":"Urliste!C3692","v":6},594,0.16101924640824072,668,0.18107888316616969,606,0.16427216047709406,1821,0.49362970994849553,3689,1]
[null,3693,{"$f":"Urliste!C3696","v":4},594,0.16084484159220147,668,0.18088275115082589,607,0.16436501489304089,1824,0.49390739236393177,3693,1]
[null,3698,{"$f":"Urliste!C3701","v":4},{"$f":"IF(C3719=1,D3718+1,D3718)","v":595},{"$f":"D3719/B3719","v":0.16089778258518117},{"$f":"IF(C3719=2,F3718+1,F3718)","v":668},{"$f":"F3719/B3719","v":0.18063818280151434},{"$f":"IF(C3719=3,H3718+1,H3718)","v":607},{"$f":"H3719/B3719","v":0.16414277988101678},{"$f":"IF(C3719>3,J3718+1,J3718)","v":1828},{"$f":"J3719/B3719","v":0.49432125473228772},{"$f":"SUM(D3719,J3719,H3719,F3719)","v":3698},{"$f":"SUM(K3719,I3719,G3719,E3719)","v":1}]
[null,3699,{"$f":"Urliste!C3702","v":4},595,0.16085428494187617,668,0.18058934847256014,607,0.16409840497431738,1829,0.49445796161124628,3699,0.99999999999999989]
[null,3704,{"$f":"Urliste!C3707","v":1},597,0.16117710583153347,668,0.18034557235421167,608,0.16414686825053995,1831,0.49433045356371491,3704,1]
[null,3709,{"$f":"Urliste!C3712","v":5},597,0.16095982744675114,669,0.18037206794284175,609,0.16419520086276623,1834,0.49447290374764086,3709,1]
[null,3711,{"$f":"Urliste!C3714","v":6},597,0.1608730800323363,670,0.18054432767448128,609,0.16410670978173,1835,0.49447588251145241,3711,1]
[null,3714,{"$f":"Urliste!C3717","v":3},598,0.16101238556812061,670,0.18039849219170706,611,0.16451265481960151,1835,0.49407646742057082,3714,0.99999999999999989]
[null,3719,{"$f":"Urliste!C3722","v":4},598,0.16079591287980641,670,0.18015595590212422,613,0.16482925517612262,1838,0.49421887604194675,3719,1]
[null,3724,{"$f":"Urliste!C3727","v":2},598,0.16058002148227712,671,0.18018259935553169,615,0.16514500537056928,1840,0.49409237379162191,3724,1]
[null,3729,{"$f":"Urliste!C3732","v":6},598,0.1603647090372754,671,0.17994100294985252,615,0.16492357200321803,1845,0.49477071600965405,3729,1]
[null,3732,{"$f":"Urliste!C3735","v":4},598,0.16023579849946409,671,0.17979635584137191,615,0.16479099678456591,1848,0.49517684887459806,3732,1]
[null,3734,{"$f":"Urliste!C3737","v":2},598,0.16014997321906801,672,0.17996786288162828,615,0.16470273165506161,1849,0.4951794322442421,3734,1]
[null,3739,{"$f":"Urliste!C3742","v":6},598,0.15993581171436214,673,0.17999465097619685,615,0.16448248194704465,1853,0.49558705536239639,3739,1]
[null,3744,{"$f":"Urliste!C3747","v":6},599,0.15998931623931623,674,0.18002136752136752,617,0.16479700854700854,1854,0.49519230769230771,3744,1]
[null,3745,{"$f":"Urliste!C3748","v":5},599,0.15994659546061415,674,0.17997329773030707,617,0.16475300400534046,1855,0.49532710280373832,3745,1]
[null,3750,{"$f":"Urliste!C3753","v":6},601,0.16026666666666667,674,0.17973333333333333,617,0.16453333333333334,1858,0.49546666666666667,3750,1]
[null,3754,{"$f":"Urliste!C3757","v":5},602,0.16036228023441662,674,0.17954182205647309,618,0.16462440063931805,1860,0.49547149706979221,3754,1]
[null,3759,{"$f":"Urliste!C3762","v":4},602,0.16014897579143389,675,0.17956903431763768,619,0.16467145517424847,1863,0.49561053471667998,3759,1]
[null,3760,{"$f":"Urliste!C3763","v":3},602,0.1601063829787234,675,0.17952127659574468,620,0.16489361702127658,1863,0.49547872340425531,3760,1]
[null,3765,{"$f":"Urliste!C3768","v":3},603,0.16015936254980079,676,0.1795484727755644,622,0.16520584329349269,1864,0.49508632138114211,3765,1]
[null,3770,{"$f":"Urliste!C3773","v":5},604,0.16021220159151195,679,0.18010610079575598,622,0.16498673740053049,1865,0.49469496021220161,3770,1]
[null,3772,{"$f":"Urliste!C3775","v":4},604,0.16012725344644752,679,0.18001060445387063,622,0.16489925768822905,1867,0.49496288441145281,3772,1]
[null,3775,{"$f":"Urliste!C3778","v":1},606,0.16052980132450331,679,0.17986754966887417,622,0.16476821192052979,1868,0.4948344370860927,3775,1]
[null,3780,{"$f":"Urliste!C3783","v":5},606,0.16031746031746033,679,0.17962962962962964,623,0.1648148148148148,1872,0.49523809523809526,3780,0.99999999999999989]
[null,3785,{"$f":"Urliste!C3788","v":6},607,0.16036988110964334,679,0.17939233817701453,623,0.16459709379128137,1876,0.49564068692206076,3785,1]
[null,3790,{"$f":"Urliste!C3793","v":1},609,0.16068601583113457,679,0.17915567282321901,625,0.16490765171503957,1877,0.49525065963060688,3790,1]
[null,3793,{"$f":"Urliste!C3796","v":3},609,0.16055892433430002,680,0.1792776166622726,627,0.16530450830477195,1877,0.49485895069865543,3793,1]
[null,3795,{"$f":"Urliste!C3798","v":1},611,0.16100131752305666,680,0.17918313570487485,627,0.16521739130434782,1877,0.49459815546772068,3795,1]
[null,3800,{"$f":"Urliste!C3803","v":4},612,0.16105263157894736,682,0.17947368421052631,628,0.16526315789473683,1878,0.49421052631578949,3800,1]
[null,3805,{"$f":"Urliste!C3808","v":1},614,0.16136662286465178,682,0.17923784494086728,628,0.16504599211563731,1881,0.49434954007884363,3805,0.99999999999999989]
[null,3806,{"$f":"Urliste!C3809","v":3},614,0.16132422490803994,682,0.1791907514450867,629,0.16526537046768261,1881,0.49421965317919075,3806,1]
[null,3811,{"$f":"Urliste!C3814","v":6},615,0.16137496720020991,683,0.17921805300446078,629,0.1650485436893204,1884,0.49435843610600894,3811,1]
[null,3815,{"$f":"Urliste!C3818","v":5},616,0.16146788990825689,684,0.17929226736566187,629,0.16487549148099606,1886,0.49436435124508521,3815,1]
[null,3820,{"$f":"Urliste!C3823","v":2},617,0.16151832460732984,685,0.1793193717277487,629,0.16465968586387433,1889,0.4945026178010471,3820,1]
[null,3821,{"$f":"Urliste!C3824","v":5},617,0.16147605338916515,685,0.17927244176917037,629,0.16461659251504843,1890,0.49463491232661605,3821,1]
[null,3826,{"$f":"Urliste!C3829","v":2},{"$f":"IF(C3847=1,D3846+1,D3846)","v":618},{"$f":"D3847/B3847","v":0.1615263983272347},{"$f":"IF(C3847=2,F3846+1,F3846)","v":687},{"$f":"F3847/B3847","v":0.17956089911134343},{"$f":"IF(C3847=3,H3846+1,H3846)","v":629},{"$f":"H3847/B3847","v":0.16440146366962885},{"$f":"IF(C3847>3,J3846+1,J3846)","v":1892},{"$f":"J3847/B3847","v":0.49451123889179299},{"$f":"SUM(D3847,J3847,H3847,F3847)","v":3826},{"$f":"SUM(K3847,I3847,G3847,E3847)","v":1}]
[null,3831,{"$f":"Urliste!C3834","v":4},618,0.16131558339859045,687,0.17932654659357869,631,0.16470895327590707,1895,0.49464891673192379,3831,1]
[null,3833,{"$f":"Urliste!C3836","v":2},618,0.16123141142708061,688,0.17949386903208975,631,0.16462301069658231,1896,0.49465170884424731,3833,1]
[null,3836,{"$f":"Urliste!C3839","v":2},618,0.16110531803962461,689,0.17961418143899896,632,0.16475495307612095,1897,0.49452554744525545,3836,1]
[null,3841,{"$f":"Urliste!C3844","v":1},619,0.16115594897162197,690,0.17964071856287425,633,0.16480083311637594,1899,0.49440249934912783,3841,1]
[null,3846,{"$f":"Urliste!C3849","v":4},619,0.16094643785751431,690,0.1794071762870515,636,0.16536661466458658,1901,0.49427977119084765,3846,1]
[null,3851,{"$f":"Urliste!C3854","v":4},621,0.16125681641132172,690,0.17917424045702415,636,0.16515190859517009,1904,0.49441703453648406,3851,1]
[null,3854,{"$f":"Urliste!C3857","v":5},621,0.16113129216398547,691,0.17929423975090814,637,0.16528282304099637,1905,0.49429164504411,3854,0.99999999999999989]
[null,3856,{"$f":"Urliste!C3859","v":1},622,0.16130705394190872,691,0.17920124481327801,637,0.16519709543568464,1906,0.49429460580912865,3856,1]
[null,3861,{"$f":"Urliste!C3864","v":1},624,0.16161616161616163,692,0.17922817922817924,637,0.16498316498316498,1908,0.49417249417249415,3861,1]
[null,3866,{"$f":"Urliste!C3869","v":3},625,0.16166580444904294,692,0.17899637868598034,639,0.1652871184687015,1910,0.49405069839627525,3866,1]
[null,3867,{"$f":"Urliste!C3870","v":2},625,0.16162399793121282,693,0.17920868890612879,639,0.165244375484872,1910,0.49392293767778639,3867,1]
[null,3872,{"$f":"Urliste!C3875","v":1},626,0.16167355371900827,694,0.17923553719008264,640,0.16528925619834711,1912,0.493801652892562,3872,1]
[null,3876,{"$f":"Urliste!C3879","v":1},627,0.16176470588235295,694,0.17905056759545923,640,0.1651186790505676,1915,0.49406604747162025,3876,1]
[null,3881,{"$f":"Urliste!C3884","v":1},629,0.16207163102293223,694,0.17881989178046895,640,0.16490595207420769,1918,0.49420252512239116,3881,1]
[null,3882,{"$f":"Urliste!C3885","v":3},629,0.16202988150437919,694,0.17877382792375066,641,0.16512107161257084,1918,0.49407521895929934,3882,1]
[null,3887,{"$f":"Urliste!C3890","v":4},629,0.1618214561358374,694,0.17854386416259327,642,0.16516593774118857,1922,0.49446874196038076,3887,1]
[null,3892,{"$f":"Urliste!C3895","v":5},631,0.16212744090441933,695,0.17857142857142858,642,0.16495375128468653,1924,0.49434737923946559,3892,1]
[null,3894,{"$f":"Urliste!C3897","v":1},632,0.1623009758602979,695,0.17847971237801746,642,0.16486902927580893,1925,0.4943502824858757,3894,1]
[null,3897,{"$f":"Urliste!C3900","v":5},633,0.16243264049268669,695,0.1783423146009751,642,0.16474210931485758,1927,0.4944829355914806,3897,0.99999999999999989]
[null,3902,{"$f":"Urliste!C3905","v":6},633,0.16222450025627883,696,0.17837006663249616,642,0.16453100973859558,1931,0.49487442337262944,3902,1]
[null,3907,{"$f":"Urliste!C3910","v":3},635,0.16252879447146149,697,0.17839774763245456,643,0.16457640133094445,1932,0.49449705656513948,3907,1]
[null,3912,{"$f":"Urliste!C3915","v":2},635,0.16232106339468302,699,0.17868098159509202,643,0.16436605316973416,1935,0.49463190184049077,3912,1]
[null,3913,{"$f":"Urliste!C3916","v":5},635,0.16227958088423206,699,0.1786353181702019,643,0.16432404804497827,1936,0.49476105290058781,3913,1]
[null,3917,{"$f":"Urliste!C3920","v":3},635,0.16211386264998723,700,0.17870819504723001,645,0.16466683686494765,1937,0.49451110543783505,3917,1]
[null,3922,{"$f":"Urliste!C3925","v":5},636,0.16216216216216217,702,0.17899031106578275,645,0.1644569097399286,1939,0.49439061703212644,3922,1]
[null,3927,{"$f":"Urliste!C3930","v":6},636,0.16195569136745608,702,0.1787624140565317,645,0.16424751718869365,1944,0.49503437738731859,3927,1]
[null,3928,{"$f":"Urliste!C3931","v":1},637,0.16216904276985744,702,0.17871690427698575,645,0.16420570264765785,1944,0.49490835030549896,3928,1]
[null,3933,{"$f":"Urliste!C3936","v":5},637,0.16196287821001779,702,0.17848970251716248,647,0.16450546656496312,1947,0.49504195270785661,3933,0.99999999999999989]
[null,3937,{"$f":"Urliste!C3940","v":1},638,0.1620523241046482,703,0.17856235712471424,647,0.16433832867665735,1949,0.49504699009398018,3937,1]
[null,3942,{"$f":"Urliste!C3945","v":3},639,0.16210045662100456,703,0.17833587011669202,650,0.16489091831557584,1950,0.49467275494672752,3942,1]
[null,3943,{"$f":"Urliste!C3946","v":6},639,0.16205934567588132,703,0.17829064164341871,650,0.16484909967030181,1951,0.49480091301039819,3943,1]
[null,3948,{"$f":"Urliste!C3951","v":3},639,0.16185410334346503,703,0.17806484295845998,654,0.16565349544072949,1952,0.49442755825734547,3948,1]
[null,3953,{"$f":"Urliste!C3956","v":5},640,0.16190235264356184,703,0.17783961548191246,656,0.16594991145965091,1954,0.49430812041487476,3953,1]
[null,3955,{"$f":"Urliste!C3958","v":5},640,0.16182048040455121,704,0.17800252844500633,656,0.16586599241466499,1955,0.4943109987357775,3955,1]
[null,3958,{"$f":"Urliste!C3961","v":2},642,0.16220313289540172,705,0.17812026275896917,656,0.16574027286508339,1955,0.49393633148054572,3958,1]
[null,3963,{"$f":"Urliste!C3966","v":6},643,0.16225082008579358,706,0.17814786777693667,656,0.16553116326015646,1958,0.49407014887711331,3963,1]
[null,3968,{"$f":"Urliste!C3971","v":2},643,0.16204637096774194,709,0.17867943548387097,656,0.16532258064516128,1960,0.49395161290322581,3968,1]
[null,3973,{"$f":"Urliste!C3976","v":6},643,0.16184243644601057,709,0.17845456833626983,656,0.16511452303045557,1965,0.49458847218726404,3973,1]
[null,3974,{"$f":"Urliste!C3977","v":2},643,0.16180171112229491,710,0.17866129843985909,656,0.16507297433316559,1965,0.49446401610468044,3974,1]
[null,3978,{"$f":"Urliste!C3981","v":2},643,0.16163901458019106,712,0.17898441427853193,657,0.16515837104072398,1966,0.49421820010055306,3978,1]
[null,3983,{"$f":"Urliste!C3986","v":6},644,0.16168717047451669,713,0.17901079588250063,658,0.16520210896309315,1968,0.49409992467988956,3983,1]
[null,3988,{"$f":"Urliste!C3991","v":4},645,0.16173520561685056,713,0.1787863590772317,659,0.16524573721163491,1971,0.49423269809428283,3988,1]
[null,3989,{"$f":"Urliste!C3992","v":3},645,0.16169466031586863,713,0.17874153923289046,660,0.16545500125344698,1971,0.49410879919779394,3989,1]
[null,3994,{"$f":"Urliste!C3997","v":4},645,0.16149223835753632,713,0.17851777666499749,661,0.16549824737105659,1975,0.49449173760640963,3994,1]
[null,3999,{"$f":"Urliste!C4002","v":5},645,0.16129032258064516,715,0.17879469867466866,662,0.16554138534633658,1977,0.49437359339834958,3999,1]
[null,4003,{"$f":"Urliste!C4006","v":4},645,0.16112915313514864,716,0.17886585061204097,662,0.16537596802398202,1980,0.49462902822882837,4003,1]
[null,4004,{"$f":"Urliste!C4007","v":2},645,0.1610889110889111,717,0.17907092907092906,662,0.16533466533466534,1980,0.49450549450549453,4004,1]
[null,4009,{"$f":"Urliste!C4012","v":1},648,0.16163631828386132,718,0.17909703167872287,662,0.16512846096283362,1981,0.49413818907458218,4009,1]
[null,4014,{"$f":"Urliste!C4017","v":3},649,0.16168410563029398,718,0.17887394120577976,663,0.16517189835575485,1984,0.49427005480817138,4014,1]
[null,4016,{"$f":"Urliste!C4019","v":4},649,0.16160358565737051,718,0.17878486055776893,663,0.16508964143426294,1986,0.49452191235059761,4016,1]
[null,4019,{"$f":"Urliste!C4022","v":6},649,0.16148295595919382,718,0.17865140582234387,663,0.16496640955461558,1989,0.49489922866384672,4019,1]
[null,4024,{"$f":"Urliste!C4027","v":6},649,0.16128230616302186,718,0.17842942345924453,666,0.16550695825049702,1991,0.49478131212723658,4024,1]
[null,4029,{"$f":"Urliste!C4032","v":4},649,0.16108215438073964,719,0.17845619260362372,666,0.16530156366344007,1995,0.49516008935219658,4029,1]
[null,4034,{"$f":"Urliste!C4037","v":1},650,0.16113039167079821,720,0.17848289538919188,667,0.16534457114526524,1997,0.49504214179474465,4034,1]
[null,4035,{"$f":"Urliste!C4038","v":3},650,0.16109045848822801,720,0.17843866171003717,668,0.16555142503097894,1997,0.49491945477075588,4035,1]
[null,4039,{"$f":"Urliste!C4042","v":3},651,0.16117850953206239,720,0.17826194602624412,670,0.16588264421886606,1998,0.49467690022282745,4039,1]
[null,4044,{"$f":"Urliste!C4047","v":5},652,0.16122650840751732,721,0.17828882294757667,671,0.16592482690405538,2000,0.49455984174085066,4044,1]
[null,4049,{"$f":"Urliste!C4052","v":1},653,0.16127438873795999,721,0.1780686589281304,672,0.1659669054087429,2003,0.49469004692516672,4049,1]
[null,4050,{"$f":"Urliste!C4053","v":4},653,0.16123456790123455,721,0.17802469135802468,672,0.16592592592592592,2004,0.49481481481481482,4050,1]
[null,4055,{"$f":"Urliste!C4058","v":1},654,0.16128236744759555,722,0.17805178791615289,673,0.16596794081381011,2006,0.49469790382244144,4055,1]
[null,4060,{"$f":"Urliste!C4063","v":5},655,0.16133004926108374,723,0.17807881773399015,673,0.16576354679802954,2009,0.49482758620689654,4060,1]
[null,4064,{"$f":"Urliste!C4067","v":1},656,0.16141732283464566,723,0.1779035433070866,675,0.16609251968503938,2010,0.49458661417322836,4064,1]
[null,4065,{"$f":"Urliste!C4068","v":1},657,0.16162361623616237,723,0.17785977859778598,675,0.16605166051660517,2010,0.49446494464944651,4065,1]
[null,4070,{"$f":"Urliste!C4073","v":4},658,0.16167076167076166,723,0.17764127764127763,676,0.16609336609336608,2013,0.49459459459459459,4070,0.99999999999999989]
[null,4075,{"$f":"Urliste!C4078","v":3},659,0.16171779141104295,725,0.17791411042944785,677,0.16613496932515337,2014,0.49423312883435583,4075,1]
[null,4078,{"$f":"Urliste!C4081","v":5},659,0.16159882295242767,725,0.17778322707209415,677,0.16601275134870033,2017,0.49460519862677782,4078,1]
[null,4080,{"$f":"Urliste!C4083","v":5},659,0.16151960784313726,726,0.17794117647058824,677,0.1659313725490196,2018,0.49460784313725492,4080,1]
[null,4085,{"$f":"Urliste!C4088","v":5},660,0.16156670746634028,727,0.17796817625458997,677,0.16572827417380662,2021,0.49473684210526314,4085,1]
[null,4090,{"$f":"Urliste!C4093","v":3},661,0.16161369193154035,727,0.17775061124694377,678,0.16577017114914425,2024,0.49486552567237163,4090,1]
[null,4095,{"$f":"Urliste!C4098","v":2},663,0.16190476190476191,728,0.17777777777777778,678,0.16556776556776556,2026,0.49474969474969477,4095,1]
[null,4096,{"$f":"Urliste!C4099","v":6},663,0.161865234375,728,0.177734375,678,0.16552734375,2027,0.494873046875,4096,1]
[null,4100,{"$f":"Urliste!C4103","v":6},663,0.16170731707317074,728,0.17756097560975609,679,0.16560975609756098,2030,0.49512195121951219,4100,1]
[null,4105,{"$f":"Urliste!C4108","v":6},663,0.16151035322777102,730,0.17783191230207065,680,0.16565164433617541,2032,0.49500609013398295,4105,1]
[null,4110,{"$f":"Urliste!C4113","v":4},664,0.16155717761557178,730,0.17761557177615572,681,0.16569343065693432,2035,0.49513381995133821,4110,1]
[null,4111,{"$f":"Urliste!C4114","v":4},664,0.16151787886159086,730,0.17757236682072489,681,0.16565312576015567,2036,0.49525662855752856,4111,1]
[null,4116,{"$f":"Urliste!C4119","v":6},665,0.16156462585034015,731,0.17759961127308066,681,0.16545189504373178,2039,0.49538386783284744,4116,1]
[null,4121,{"$f":"Urliste!C4124","v":4},666,0.16161125940305751,731,0.17738413006551809,683,0.16573647173016259,2041,0.4952681388012618,4121,1]
[null,4125,{"$f":"Urliste!C4128","v":1},668,0.16193939393939394,731,0.17721212121212121,684,0.16581818181818181,2042,0.49503030303030304,4125,0.99999999999999989]
[null,4126,{"$f":"Urliste!C4129","v":6},668,0.16190014541929229,731,0.17716917111003394,684,0.16577799321376635,2043,0.49515269025690739,4126,1]
[null,4131,{"$f":"Urliste!C4134","v":6},670,0.16218833212297265,731,0.17695473251028807,686,0.16606148632292422,2044,0.49479544904381506,4131,1]
[null,4136,{"$f":"Urliste!C4139","v":3},670,0.16199226305609285,734,0.17746615087040618,687,0.16610251450676983,2045,0.49443907156673111,4136,0.99999999999999989]
[null,4139,{"$f":"Urliste!C4142","v":1},671,0.16211645324957719,734,0.17733752114037207,687,0.16598212128533463,2047,0.49456390432471614,4139,1]
[null,4141,{"$f":"Urliste!C4144","v":6},671,0.1620381550350157,734,0.17725187152861627,688,0.16614344361265396,2048,0.49456652982371407,4141,1]
[null,4146,{"$f":"Urliste!C4149","v":4},{"$f":"IF(C4167=1,D4166+1,D4166)","v":672},{"$f":"D4167/B4167","v":0.16208393632416787},{"$f":"IF(C4167=2,F4166+1,F4166)","v":736},{"$f":"F4167/B4167","v":0.17752050168837433},{"$f":"IF(C4167=3,H4166+1,H4166)","v":688},{"$f":"H4167/B4167","v":0.16594307766521948},{"$f":"IF(C4167>3,J4166+1,J4166)","v":2050},{"$f":"J4167/B4167","v":0.49445248432223832},{"$f":"SUM(D4167,J4167,H4167,F4167)","v":4146},{"$f":"SUM(K4167,I4167,G4167,E4167)","v":0.99999999999999989}]
[null,4151,{"$f":"Urliste!C4154","v":2},672,0.16188870151770657,739,0.17802939050831126,688,0.16574319441098531,2052,0.49433871356299686,4151,1]
[null,4156,{"$f":"Urliste!C4159","v":6},673,0.16193455245428295,739,0.17781520692974012,688,0.16554379210779596,2056,0.49470644850818096,4156,1]
[null,4157,{"$f":"Urliste!C4160","v":5},673,0.16189559778686552,739,0.17777243204233822,688,0.16550396920856386,2057,0.49482800096223239,4157,1]
[null,4161,{"$f":"Urliste!C4164","v":2},674,0.16198029319875029,740,0.17784186493631338,688,0.16534486902186973,2059,0.49483297284306654,4161,0.99999999999999989]
[null,4166,{"$f":"Urliste!C4169","v":6},675,0.16202592414786365,740,0.17762842054728756,689,0.16538646183389341,2062,0.49495919347095535,4166,1]
[null,4171,{"$f":"Urliste!C4174","v":3},676,0.16207144569647566,741,0.17765523855190601,692,0.16590745624550468,2062,0.49436585950611367,4171,1]
[null,4172,{"$f":"Urliste!C4175","v":4},676,0.16203259827420902,741,0.17761265580057525,692,0.16586768935762225,2063,0.49448705656759345,4172,1]
[null,4177,{"$f":"Urliste!C4180","v":1},678,0.1623174527172612,741,0.17740004788125449,693,0.16590854680392628,2065,0.49437395259755806,4177,1]
[null,4182,{"$f":"Urliste!C4185","v":1},679,0.16236250597800095,741,0.17718794835007173,693,0.16571018651362984,2069,0.49473935915829748,4182,1]
[null,4186,{"$f":"Urliste!C4189","v":4},679,0.16220735785953178,741,0.17701863354037267,693,0.16555183946488294,2073,0.49522216913521261,4186,1]
[null,4187,{"$f":"Urliste!C4190","v":4},679,0.16216861714831621,741,0.17697635538571771,693,0.16551229997611655,2074,0.49534272748984953,4187,1]
[null,4192,{"$f":"Urliste!C4195","v":6},681,0.16245229007633588,741,0.17676526717557253,694,0.16555343511450382,2076,0.49522900763358779,4192,1]
[null,4197,{"$f":"Urliste!C4200","v":1},682,0.16249702168215391,742,0.17679294734334047,695,0.16559447224207768,2078,0.49511555873242791,4197,1]
[null,4200,{"$f":"Urliste!C4203","v":4},682,0.16238095238095238,742,0.17666666666666667,695,0.16547619047619047,2081,0.49547619047619046,4200,1]
[null,4202,{"$f":"Urliste!C4205","v":5},682,0.16230366492146597,743,0.17682056163731558,695,0.16539742979533556,2082,0.49547834364588289,4202,1]
[null,4207,{"$f":"Urliste!C4210","v":5},683,0.16234846684097931,743,0.17661041121939625,695,0.16520085571666271,2086,0.49584026622296173,4207,1]
[null,4212,{"$f":"Urliste!C4215","v":4},684,0.1623931623931624,744,0.17663817663817663,695,0.16500474833808168,2089,0.49596391263057932,4212,1]
[null,4217,{"$f":"Urliste!C4220","v":2},685,0.16243775195636709,748,0.17737728242826653,695,0.16480910599952572,2089,0.49537585961584063,4217,1]
[null,4218,{"$f":"Urliste!C4221","v":4},685,0.16239924134660977,748,0.17733522996680892,695,0.16477003319108582,2090,0.49549549549549549,4218,1]
[null,4222,{"$f":"Urliste!C4225","v":1},686,0.16248223590715299,749,0.17740407389862625,695,0.16461392704879205,2092,0.49549976314542871,4222,1]
[null,4227,{"$f":"Urliste!C4230","v":1},687,0.16252661462029808,752,0.17790395079252425,695,0.16441920984149516,2093,0.49515022474568254,4227,0.99999999999999989]
[null,4232,{"$f":"Urliste!C4235","v":6},687,0.16233459357277882,753,0.17793005671077505,695,0.16422495274102081,2097,0.49551039697542532,4232,0.99999999999999989]
[null,4233,{"$f":"Urliste!C4236","v":3},687,0.16229624379872432,753,0.1778880226789511,696,0.16442239546420978,2097,0.49539333805811481,4233,1]
[null,4238,{"$f":"Urliste!C4241","v":6},688,0.16234072675790467,753,0.1776781500707881,696,0.16422840962718263,2101,0.49575271354412459,4238,1]
[null,4243,{"$f":"Urliste!C4246","v":6},688,0.16214942257836437,754,0.17770445439547489,698,0.16450624558095686,2103,0.49563987744520388,4243,1]
[null,4247,{"$f":"Urliste!C4250","v":6},688,0.1619967035554509,754,0.17753708500117729,699,0.16458676712973863,2106,0.49587944431363318,4247,1]
[null,4248,{"$f":"Urliste!C4251","v":5},688,0.16195856873822975,754,0.17749529190207156,699,0.16454802259887005,2107,0.49599811676082861,4248,1]
[null,4253,{"$f":"Urliste!C4256","v":5},689,0.16200329179402775,755,0.1775217493533976,699,0.16435457324241712,2110,0.49612038561015753,4253,1]
[null,4258,{"$f":"Urliste!C4261","v":5},690,0.16204790981681541,756,0.17754814466885863,699,0.16416157820573038,2113,0.49624236730859561,4258,1]
[null,4261,{"$f":"Urliste!C4264","v":3},690,0.16193381835249943,757,0.17765782680122036,701,0.16451537197840882,2113,0.49589298286787137,4261,1]
[null,4263,{"$f":"Urliste!C4266","v":2},690,0.16185784658691063,758,0.17780905465634531,701,0.16443818906873095,2114,0.49589490968801314,4263,1]
[null,4268,{"$f":"Urliste!C4271","v":2},690,0.16166822867853795,759,0.17783505154639176,702,0.16447985004686036,2117,0.49601686972820991,4268,1]
[null,4273,{"$f":"Urliste!C4276","v":6},691,0.16171308214369295,760,0.1778609875965364,702,0.16428738591153755,2120,0.49613854434823307,4273,1]
[null,4278,{"$f":"Urliste!C4281","v":3},692,0.16175783076203834,760,0.17765310892940628,703,0.16432912575970079,2123,0.49625993454885459,4278,0.99999999999999989]
[null,4279,{"$f":"Urliste!C4282","v":6},692,0.16172002804393551,760,0.17761159149333958,703,0.16429072213133911,2124,0.49637765833138586,4279,1]
[null,4283,{"$f":"Urliste!C4286","v":3},693,0.16180247490077049,760,0.17744571561989259,704,0.16437076815316368,2126,0.49638104132617322,4283,1]
[null,4288,{"$f":"Urliste!C4291","v":1},696,0.16231343283582089,761,0.17747201492537312,704,0.16417910447761194,2127,0.49603544776119401,4288,1]
[null,4293,{"$f":"Urliste!C4296","v":2},697,0.16235732587933846,762,0.17749825296995109,704,0.1639878872583275,2130,0.49615653389238296,4293,1]
[null,4294,{"$f":"Urliste!C4297","v":3},697,0.16231951560316721,762,0.17745691662785282,705,0.16418258034466698,2130,0.49604098742431302,4294,1]
[null,4299,{"$f":"Urliste!C4302","v":1},698,0.16236334031170038,763,0.17748313561293325,705,0.16399162595952546,2133,0.49616189811584088,4299,1]
[null,4304,{"$f":"Urliste!C4307","v":5},698,0.16217472118959109,764,0.17750929368029739,705,0.16380111524163568,2137,0.49651486988847582,4304,0.99999999999999989]
[null,4308,{"$f":"Urliste!C4311","v":1},699,0.16225626740947074,764,0.17734447539461468,706,0.16388115134633241,2139,0.49651810584958217,4308,1]
[null,4309,{"$f":"Urliste!C4312","v":4},699,0.16221861220700859,764,0.17730331863541424,706,0.16384311905314458,2140,0.49663495010443259,4309,1]
[null,4314,{"$f":"Urliste!C4317","v":2},699,0.16203059805285119,766,0.17756142790913307,706,0.16365322206768659,2143,0.49675475197032914,4314,1]
[null,4319,{"$f":"Urliste!C4322","v":5},699,0.16184301921741143,767,0.17758740449178051,707,0.16369529983792544,2146,0.49687427645288262,4319,1]
[null,4322,{"$f":"Urliste!C4325","v":2},700,0.16196205460434984,768,0.17769551133734382,707,0.16358167515039335,2147,0.49676075890791299,4322,1]
[null,4324,{"$f":"Urliste!C4327","v":1},701,0.16211840888066606,768,0.17761332099907493,707,0.16350601295097134,2148,0.49676225716928768,4324,1]
[null,4329,{"$f":"Urliste!C4332","v":4},701,0.16193116193116194,769,0.17763917763917764,707,0.16331716331716331,2152,0.49711249711249711,4329,1]
[null,4334,{"$f":"Urliste!C4337","v":1},702,0.16197508075680664,771,0.17789570835256113,708,0.16335948315643747,2153,0.49676972773419475,4334,1]
[null,4339,{"$f":"Urliste!C4342","v":2},703,0.16201889836367828,772,0.17792117999539064,710,0.163632173311823,2154,0.49642774832910808,4339,1]
[null,4340,{"$f":"Urliste!C4343","v":4},703,0.16198156682027651,772,0.17788018433179723,710,0.16359447004608296,2155,0.49654377880184331,4340,1]
[null,4344,{"$f":"Urliste!C4347","v":6},704,0.16206261510128914,772,0.17771639042357273,712,0.16390423572744015,2156,0.49631675874769798,4344,1]
[null,4349,{"$f":"Urliste!C4352","v":5},705,0.16210623131754426,773,0.17774200965739251,713,0.16394573465164405,2158,0.49620602437341915,4349,1]
[null,4354,{"$f":"Urliste!C4357","v":2},706,0.16214974735875057,774,0.17776757005052826,714,0.16398713826366559,2160,0.4960955443270556,4354,1]
[null,4355,{"$f":"Urliste!C4358","v":1},707,0.16234213547646384,774,0.17772675086107922,714,0.16394948335246842,2160,0.49598163030998854,4355,1]
[null,4360,{"$f":"Urliste!C4363","v":4},707,0.16215596330275228,775,0.17775229357798164,714,0.16376146788990825,2164,0.4963302752293578,4360,1]
[null,4365,{"$f":"Urliste!C4368","v":5},708,0.16219931271477664,775,0.17754868270332189,715,0.16380297823596793,2167,0.49644902634593358,4365,1]
[null,4369,{"$f":"Urliste!C4372","v":2},709,0.16227969787136645,776,0.17761501487754636,715,0.16365300984206912,2169,0.49645227740901809,4369,1]
[null,4370,{"$f":"Urliste!C4373","v":2},709,0.16224256292906178,777,0.17780320366132724,715,0.16361556064073227,2169,0.49633867276887872,4370,1]
[null,4375,{"$f":"Urliste!C4378","v":6},709,0.16205714285714284,778,0.17782857142857142,716,0.16365714285714286,2172,0.49645714285714287,4375,1]
[null,4380,{"$f":"Urliste!C4383","v":6},709,0.16187214611872147,779,0.17785388127853882,716,0.16347031963470321,2176,0.49680365296803652,4380,1]
[null,4385,{"$f":"Urliste!C4388","v":5},710,0.16191562143671609,780,0.17787913340935005,717,0.16351197263397949,2178,0.49669327251995438,4385,1]
[null,4388,{"$f":"Urliste!C4391","v":1},711,0.16203281677301731,781,0.17798541476754787,718,0.16362807657247036,2178,0.49635369188696443,4388,0.99999999999999989]
[null,4390,{"$f":"Urliste!C4393","v":5},711,0.16195899772209568,782,0.17813211845102506,718,0.16355353075170842,2179,0.49635535307517087,4390,1]
[null,4395,{"$f":"Urliste!C4398","v":2},711,0.16177474402730374,783,0.17815699658703071,721,0.1640500568828214,2180,0.49601820250284412,4395,0.99999999999999989]
[null,4400,{"$f":"Urliste!C4403","v":5},711,0.16159090909090909,785,0.17840909090909091,721,0.16386363636363635,2183,0.49613636363636365,4400,1]
[null,4401,{"$f":"Urliste!C4404","v":3},711,0.16155419222903886,785,0.17836855260168144,722,0.16405362417632358,2183,0.49602363099295615,4401,1]
[null,4405,{"$f":"Urliste!C4408","v":2},711,0.16140749148694666,786,0.17843359818388196,722,0.16390465380249716,2186,0.49625425652667421,4405,1]
[null,4410,{"$f":"Urliste!C4413","v":3},711,0.16122448979591836,786,0.17823129251700681,724,0.16417233560090702,2189,0.49637188208616778,4410,1]
[null,4415,{"$f":"Urliste!C4418","v":3},712,0.16126840317100793,787,0.17825594563986411,726,0.16443941109852775,2190,0.49603624009060021,4415,1]
[null,4416,{"$f":"Urliste!C4419","v":5},712,0.16123188405797101,787,0.17821557971014493,726,0.16440217391304349,2191,0.49615036231884058,4416,1]
[null,4421,{"$f":"Urliste!C4424","v":2},714,0.16150192264193622,789,0.17846641031440849,726,0.16421624066953178,2192,0.49581542637412351,4421,0.99999999999999989]
[null,4426,{"$f":"Urliste!C4429","v":3},714,0.1613194758246724,791,0.17871667419792137,727,0.16425666516041573,2194,0.4957071848169905,4426,1]
[null,4430,{"$f":"Urliste!C4433","v":2},715,0.16139954853273139,792,0.17878103837471784,727,0.16410835214446953,2196,0.49571106094808126,4430,1]
[null,4431,{"$f":"Urliste!C4434","v":5},715,0.16136312344843151,792,0.17874069058903183,727,0.16407131573008349,2197,0.4958248702324532,4431,1]
[null,4436,{"$f":"Urliste!C4439","v":1},716,0.16140667267808836,792,0.17853922452660054,727,0.16388638412984671,2201,0.49616771866546439,4436,1]
[null,4441,{"$f":"Urliste!C4444","v":6},716,0.1612249493357352,792,0.17833821211438866,728,0.16392704345868048,2205,0.49650979509119569,4441,1]
[null,4446,{"$f":"Urliste!C4449","v":2},716,0.16104363472784525,793,0.17836257309941519,728,0.16374269005847952,2209,0.49685110211426003,4446,1]
[null,4449,{"$f":"Urliste!C4452","v":1},718,0.16138458080467522,793,0.17824230164081817,728,0.16363227691616095,2210,0.49674084063834567,4449,1]
[null,4451,{"$f":"Urliste!C4454","v":5},718,0.16131206470456078,794,0.17838687935295439,728,0.16355875084250729,2211,0.49674230509997752,4451,1]
[null,4456,{"$f":"Urliste!C4459","v":2},721,0.16180430879712746,795,0.17841113105924597,729,0.16359964093357271,2211,0.49618491921005387,4456,1]
[null,4461,{"$f":"Urliste!C4464","v":1},722,0.16184711947993724,795,0.17821116341627438,729,0.16341627437794218,2215,0.4965254427258462,4461,1]
[null,4462,{"$f":"Urliste!C4465","v":5},722,0.16181084715374272,795,0.17817122366651725,729,0.16337965038099506,2216,0.49663827879874495,4462,1]
[null,4467,{"$f":"Urliste!C4470","v":3},723,0.16185359301544661,796,0.17819565704051937,730,0.16342064025072756,2218,0.49653010969330647,4467,1]
[null,4471,{"$f":"Urliste!C4474","v":4},723,0.16170878997987029,797,0.17825989711473944,730,0.16327443524938492,2221,0.49675687765600535,4471,1]
[null,4476,{"$f":"Urliste!C4479","v":1},725,0.16197497765862376,797,0.17806076854334227,731,0.1633154602323503,2223,0.49664879356568364,4476,1]
[null,4477,{"$f":"Urliste!C4480","v":1},726,0.16216216216216217,797,0.17802099620281439,731,0.16327898146079964,2223,0.4965378601742238,4477,1]
[null,4482,{"$f":"Urliste!C4485","v":2},727,0.16220437304774654,798,0.17804551539491298,732,0.16331994645247658,2225,0.49643016510486387,4482,1]
[null,4487,{"$f":"Urliste!C4490","v":5},728,0.16224648985959439,798,0.17784711388455537,732,0.16313795408959217,2229,0.4967684421662581,4487,1]
[null,4491,{"$f":"Urliste!C4494","v":5},728,0.16210198174126031,798,0.17768871075484302,734,0.16343798708528168,2231,0.49677132041861499,4491,1]
[null,4492,{"$f":"Urliste!C4495","v":1},729,0.16228851291184326,798,0.17764915405164738,734,0.16340160284951025,2231,0.49666073018699913,4492,1]
[null,4497,{"$f":"Urliste!C4500","v":6},731,0.1625528129864354,798,0.17745163442294865,734,0.16321992439404048,2234,0.4967756281965755,4497,1]
[null,4502,{"$f":"Urliste!C4505","v":5},731,0.16237227898711684,799,0.17747667703243003,734,0.16303864948911595,2238,0.49711239449133721,4502,1.0000000000000002]
[null,4507,{"$f":"Urliste!C4510","v":5},731,0.16219214555136455,799,0.17727978699800312,737,0.16352340803195031,2240,0.49700465941868205,4507,1.0000000000000002]
[null,4510,{"$f":"Urliste!C4513","v":1},733,0.16252771618625278,799,0.17716186252771618,737,0.16341463414634147,2241,0.49689578713968957,4510,1]
[null,4512,{"$f":"Urliste!C4515","v":3},733,0.16245567375886524,800,0.1773049645390071,738,0.16356382978723405,2241,0.49667553191489361,4512,1]
[null,4517,{"$f":"Urliste!C4520","v":3},733,0.16227584680097409,801,0.17733008634049147,740,0.16382554793004206,2243,0.49656851892849235,4517,0.99999999999999989]
[null,4522,{"$f":"Urliste!C4525","v":6},733,0.16209641751437417,803,0.17757629367536487,740,0.16364440513047324,2246,0.49668288367978769,4522,1]
[null,4523,{"$f":"Urliste!C4526","v":4},733,0.16206057926155207,803,0.17753703294273712,740,0.16360822462967056,2247,0.49679416316604025,4523,1]
[null,4528,{"$f":"Urliste!C4531","v":2},733,0.16188162544169613,805,0.17778268551236748,740,0.16342756183745583,2250,0.49690812720848054,4528,1]
[null,4532,{"$f":"Urliste!C4535","v":2},734,0.16195939982347748,807,0.17806707855251544,740,0.16328331862312445,2251,0.49669020300088262,4532,1]
[null,4537,{"$f":"Urliste!C4540","v":2},734,0.16178091249724488,808,0.17809124972448756,741,0.16332378223495703,2254,0.49680405554331059,4537,1]
[null,4538,{"$f":"Urliste!C4541","v":5},734,0.16174526223005731,808,0.17805200528867343,741,0.1632877919788453,2255,0.49691494050242396,4538,1]
[null,4543,{"$f":"Urliste!C4546","v":6},734,0.16156724631300903,809,0.17807616112700858,743,0.16354831609068898,2257,0.49680827646929343,4543,0.99999999999999989]
[null,4546,{"$f":"Urliste!C4549","v":2},734,0.161460624725033,810,0.17817861856577211,743,0.16344038715354159,2259,0.49692036955565333,4546,1]
[null,4552,{"$f":"Urliste!C4555","v":2},736,0.16168717047451669,812,0.17838312829525482,744,0.16344463971880491,2260,0.49648506151142358,4552,1]
[null,4553,{"$f":"Urliste!C4556","v":4},736,0.16165165824730945,812,0.17834394904458598,744,0.16340874148912804,2261,0.49659565121897647,4553,0.99999999999999989]
[null,4558,{"$f":"Urliste!C4561","v":3},736,0.16147433084686266,812,0.17814831066257131,747,0.16388767003071522,2263,0.49648968845985081,4558,1]
[null,4563,{"$f":"Urliste!C4566","v":1},738,0.16173570019723865,813,0.17817225509533202,747,0.16370808678500987,2265,0.49638395792241946,4563,1]
[null,4568,{"$f":"Urliste!C4571","v":6},738,0.16155866900175131,814,0.17819614711033274,749,0.16396672504378285,2267,0.49627845884413307,4568,1]
[null,4571,{"$f":"Urliste!C4574","v":1},739,0.1616714066943776,816,0.17851673594399475,749,0.16385911179173049,2267,0.49595274556989716,4571,1]
[null,4573,{"$f":"Urliste!C4576","v":1},740,0.16181937458998469,816,0.17843866171003717,749,0.16378744806472775,2268,0.49595451563525039,4573,1]
[null,4578,{"$f":"Urliste!C4581","v":3},742,0.1620795107033639,816,0.1782437745740498,750,0.16382699868938402,2270,0.49584971603320227,4578,1]
[null,4583,{"$f":"Urliste!C4586","v":2},742,0.16190268383155137,818,0.17848570805149466,750,0.16364826532838753,2273,0.49596334278856646,4583,1]
[null,4584,{"$f":"Urliste!C4587","v":6},742,0.16186736474694591,818,0.17844677137870854,750,0.16361256544502617,2274,0.49607329842931935,4584,1]
[null,4589,{"$f":"Urliste!C4592","v":5},743,0.16190891261712792,819,0.17847025495750707,750,0.16343429941163654,2277,0.4961865330137285,4589,1]
[null,4593,{"$f":"Urliste!C4596","v":2},744,0.1619856303069889,820,0.17853254953189637,751,0.16350968865665141,2278,0.49597213150446329,4593,0.99999999999999989]
[null,4598,{"$f":"Urliste!C4601","v":4},744,0.16180948238364506,821,0.17855589386689866,751,0.16333188342757721,2282,0.4963027403218791,4598,1]
[null,4599,{"$f":"Urliste!C4602","v":6},744,0.16177429876060012,821,0.17851706892802782,751,0.16329636877582082,2283,0.49641226353555118,4599,1]
[null,4604,{"$f":"Urliste!C4607","v":4},744,0.16159860990443092,823,0.17875760208514335,751,0.16311902693310165,2286,0.49652476107732407,4604,1]
[null,4607,{"$f":"Urliste!C4610","v":4},744,0.16149337963967875,823,0.17864119817668764,751,0.16301280659865422,2289,0.4968526155849794,4607,1]
[null,4613,{"$f":"Urliste!C4616","v":6},744,0.16128332972035553,824,0.17862562323867331,752,0.16301755907218729,2293,0.49707348796878387,4613,1]
[null,4614,{"$f":"Urliste!C4617","v":5},744,0.16124837451235371,824,0.17858690940615518,752,0.16298222800173384,2294,0.49718248807975723,4614,1]
[null,4619,{"$f":"Urliste!C4622","v":6},746,0.16150681965793462,824,0.17839359168651223,753,0.1630222991989608,2296,0.49707728945659235,4619,1]
[null,4624,{"$f":"Urliste!C4627","v":1},747,0.16154844290657439,825,0.17841695501730104,755,0.16327854671280276,2297,0.49675605536332179,4624,1]
[null,4629,{"$f":"Urliste!C4632","v":5},749,0.16180600561676389,825,0.17822423849643551,757,0.16353424065672931,2298,0.49643551523007129,4629,1]
[null,4632,{"$f":"Urliste!C4635","v":4},749,0.16170120898100174,826,0.17832469775474957,757,0.16342832469775476,2300,0.49654576856649396,4632,1]
[null,4634,{"$f":"Urliste!C4637","v":3},749,0.16163141993957703,826,0.1782477341389728,758,0.16357358653431162,2301,0.49654725938713856,4634,1]
[null,4639,{"$f":"Urliste!C4642","v":4},750,0.16167277430480706,827,0.17827117913343393,758,0.16339728389739169,2304,0.49665876266436731,4639,1]
[null,4644,{"$f":"Urliste!C4647","v":6},750,0.16149870801033592,828,0.17829457364341086,758,0.16322136089577949,2308,0.49698535745047373,4644,1]
[null,4645,{"$f":"Urliste!C4648","v":6},750,0.16146393972012918,828,0.17825618945102262,758,0.16318622174381056,2309,0.49709364908503767,4645,1]
[null,4650,{"$f":"Urliste!C4653","v":6},750,0.16129032258064516,829,0.17827956989247312,760,0.16344086021505377,2311,0.49698924731182798,4650,0.99999999999999989]
[null,4654,{"$f":"Urliste!C4657","v":1},752,0.16158143532445207,830,0.17834121186076493,761,0.16351525569402664,2311,0.49656209712075633,4654,1]
[null,4659,{"$f":"Urliste!C4662","v":1},753,0.16162266580811332,831,0.17836445589182229,761,0.16333977248336554,2314,0.49667310581669888,4659,1]
[null,4660,{"$f":"Urliste!C4663","v":6},753,0.16158798283261802,831,0.17832618025751074,761,0.16330472103004293,2315,0.49678111587982832,4660,0.99999999999999989]
[null,4665,{"$f":"Urliste!C4668","v":6},754,0.16162915326902466,831,0.17813504823151124,762,0.16334405144694533,2318,0.49689174705251876,4665,1]
[null,4668,{"$f":"Urliste!C4671","v":4},754,0.16152527849185946,832,0.17823479005998286,763,0.16345329905741215,2319,0.4967866323907455,4668,1]
[null,4674,{"$f":"Urliste!C4677","v":1},756,0.16174582798459564,832,0.17800599058622166,763,0.16324347454000857,2323,0.49700470688917414,4674,1]
[null,4675,{"$f":"Urliste!C4678","v":2},756,0.16171122994652407,833,0.17818181818181819,763,0.16320855614973262,2323,0.49689839572192512,4675,1]
[null,4680,{"$f":"Urliste!C4683","v":3},759,0.16217948717948719,833,0.177991452991453,764,0.16324786324786325,2324,0.49658119658119659,4680,1]
[null,4685,{"$f":"Urliste!C4688","v":1},761,0.16243329775880469,833,0.17780149413020277,764,0.16307363927427962,2327,0.49669156883671289,4685,0.99999999999999989]
[null,4690,{"$f":"Urliste!C4693","v":5},761,0.16226012793176972,835,0.17803837953091683,764,0.1628997867803838,2330,0.49680170575692961,4690,1]
[null,4693,{"$f":"Urliste!C4696","v":2},761,0.16215640315363308,838,0.17856381845301514,764,0.16279565310036223,2330,0.49648412529298958,4693,1]
[null,4695,{"$f":"Urliste!C4698","v":1},762,0.1623003194888179,839,0.17870074547390841,764,0.16272630457933973,2330,0.49627263045793396,4695,1]
[null,4700,{"$f":"Urliste!C4703","v":1},763,0.16234042553191488,840,0.17872340425531916,765,0.16276595744680852,2332,0.49617021276595746,4700,1]
[null,4705,{"$f":"Urliste!C4708","v":5},764,0.16238044633368756,841,0.17874601487778957,765,0.16259298618490967,2335,0.4962805526036132,4705,1]
[null,4706,{"$f":"Urliste!C4709","v":5},764,0.16234594135146621,841,0.17870803229919252,765,0.16255843603909903,2336,0.49638759031024227,4706,1]
[null,4711,{"$f":"Urliste!C4714","v":1},765,0.16238590532795585,842,0.17873063043939716,765,0.16238590532795585,2339,0.49649755890469116,4711,1]
[null,4715,{"$f":"Urliste!C4718","v":6},767,0.16267232237539767,842,0.17857900318133615,765,0.16224814422057265,2341,0.49650053022269353,4715,1]
[null,4720,{"$f":"Urliste!C4723","v":3},767,0.16250000000000001,843,0.17860169491525424,767,0.16250000000000001,2343,0.49639830508474575,4720,1]
[null,4721,{"$f":"Urliste!C4724","v":5},767,0.16246557932641389,843,0.17856386358822282,767,0.16246557932641389,2344,0.49650497775894936,4721,1]
[null,4726,{"$f":"Urliste!C4729","v":6},767,0.16229369445619973,846,0.17900973338975879,767,0.16229369445619973,2346,0.49640287769784175,4726,1]
[null,4729,{"$f":"Urliste!C4732","v":2},768,0.16240219919644744,847,0.17910763374920702,768,0.16240219919644744,2346,0.49608796785789805,4729,1]
[null,4735,{"$f":"Urliste!C4738","v":1},770,0.16261879619852165,847,0.1788806758183738,768,0.16219640971488913,2350,0.49630411826821541,4735,1]
[null,4736,{"$f":"Urliste!C4739","v":5},770,0.16258445945945946,847,0.1788429054054054,768,0.16216216216216217,2351,0.49641047297297297,4736,0.99999999999999989]
[null,4741,{"$f":"Urliste!C4744","v":2},770,0.16241299303944315,849,0.17907614427336005,768,0.16199114110947058,2354,0.49651972157772623,4741,1]
[null,4746,{"$f":"Urliste!C4749","v":6},770,0.16224188790560473,851,0.17930889169827222,768,0.16182048040455121,2357,0.49662873999157187,4746,1]
[null,4751,{"$f":"Urliste!C4754","v":3},771,0.16228162492106926,851,0.17912018522416334,769,0.16186066091349188,2360,0.49673752894127554,4751,1]
[null,4754,{"$f":"Urliste!C4757","v":5},772,0.16238956668068993,851,0.17900715187210769,769,0.16175851914177536,2362,0.49684476230542701,4754,1]
[null,4756,{"$f":"Urliste!C4759","v":1},774,0.16274179983179143,851,0.17893187552565182,769,0.16169049621530698,2362,0.49663582842724979,4756,1]
[null,4761,{"$f":"Urliste!C4764","v":2},774,0.16257088846880907,855,0.17958412098298676,769,0.16152068893089688,2363,0.49632430161730728,4761,1]
[null,4766,{"$f":"Urliste!C4769","v":2},776,0.16281997482165339,857,0.17981535879143937,769,0.16135123793537556,2364,0.49601342845153168,4766,1]
[null,4767,{"$f":"Urliste!C4770","v":5},776,0.16278581917348436,857,0.17977763792741766,769,0.16131739039228027,2365,0.49611915250681771,4767,1]
[null,4772,{"$f":"Urliste!C4775","v":4},778,0.16303436714165967,857,0.17958927074601844,769,0.16114836546521374,2368,0.49622799664710815,4772,1]
[null,4776,{"$f":"Urliste!C4779","v":3},778,0.16289782244556114,858,0.17964824120603015,770,0.16122278056951425,2370,0.49623115577889448,4776,1]
[null,4781,{"$f":"Urliste!C4784","v":4},778,0.16272746287387577,859,0.17966952520393223,771,0.16126333403053755,2373,0.49633967789165445,4781,1]
[null,4782,{"$f":"Urliste!C4785","v":6},778,0.16269343370974487,859,0.17963195315767461,771,0.16122961104140526,2374,0.49644500209117526,4782,1]
[null,4787,{"$f":"Urliste!C4790","v":5},778,0.16252350114894507,860,0.17965322749112178,771,0.16106120743680802,2378,0.49676206392312511,4787,1]
[null,4790,{"$f":"Urliste!C4793","v":2},778,0.16242171189979124,861,0.17974947807933195,771,0.16096033402922755,2380,0.49686847599164929,4790,1]
[null,4796,{"$f":"Urliste!C4799","v":1},780,0.16263552960800667,862,0.17973311092577149,771,0.16075896580483737,2383,0.49687239366138447,4796,1]
[null,4797,{"$f":"Urliste!C4800","v":5},780,0.16260162601626016,862,0.17969564311027725,771,0.16072545340838024,2384,0.49697727746508236,4797,1]
[null,4802,{"$f":"Urliste!C4805","v":6},780,0.16243231986672219,862,0.17950853810912121,772,0.16076634735526865,2388,0.49729279466888798,4802,1]
[null,4807,{"$f":"Urliste!C4810","v":4},782,0.16267942583732056,863,0.17952985229873103,772,0.16059912627418349,2390,0.49719159558976495,4807,1]
[null,4812,{"$f":"Urliste!C4815","v":2},783,0.16271820448877805,864,0.17955112219451372,772,0.16043225270157938,2393,0.49729842061512886,4812,1]
[null,4815,{"$f":"Urliste!C4818","v":2},784,0.16282450674974039,866,0.17985462097611629,772,0.16033229491173417,2393,0.49698857736240915,4815,0.99999999999999989]
[null,4817,{"$f":"Urliste!C4820","v":6},784,0.16275690263649575,866,0.17977994602449657,772,0.16026572555532489,2395,0.49719742578368281,4817,1]
[null,4822,{"$f":"Urliste!C4825","v":4},784,0.16258813770219827,867,0.1798009124844463,772,0.16009954375777685,2399,0.49751140605557859,4822,1]
[null,4827,{"$f":"Urliste!C4830","v":3},784,0.16241972239486224,869,0.18002900352185622,773,0.16014087424901596,2401,0.4974103998342656,4827,1]
[null,4828,{"$f":"Urliste!C4831","v":4},784,0.1623860811930406,869,0.1799917149958575,773,0.16010770505385252,2402,0.4975144987572494,4828,1]
[null,4833,{"$f":"Urliste!C4836","v":4},784,0.16221808400579349,869,0.17980550382785018,774,0.16014897579143389,2406,0.49782743637492238,4833,1]
[null,4837,{"$f":"Urliste!C4840","v":1},786,0.16249741575356627,869,0.17965681207359935,775,0.16022327889187513,2407,0.49762249328095925,4837,0.99999999999999989]
[null,4842,{"$f":"Urliste!C4845","v":5},788,0.16274266831887649,869,0.17947129285419247,776,0.16026435357290375,2409,0.49752168525402723,4842,1]
[null,4843,{"$f":"Urliste!C4846","v":2},788,0.16270906462936197,870,0.17964071856287425,776,0.16023126161470164,2409,0.49741895519306217,4843,1]
[null,4848,{"$f":"Urliste!C4851","v":4},789,0.16274752475247525,870,0.17945544554455445,777,0.16027227722772278,2412,0.49752475247524752,4848,1]
[null,4853,{"$f":"Urliste!C4856","v":1},790,0.16278590562538636,870,0.17927055429631156,777,0.16010715021636102,2416,0.49783638986194106,4853,1]
[null,4856,{"$f":"Urliste!C4859","v":1},791,0.16289126853377264,870,0.17915980230642503,777,0.16000823723228996,2418,0.49794069192751234,4856,1]
[null,4858,{"$f":"Urliste!C4861","v":1},792,0.16303005351996708,870,0.17908604363935776,777,0.15994236311239193,2419,0.49794153972828326,4858,1]
[null,4863,{"$f":"Urliste!C4866","v":4},793,0.16306806498046472,870,0.17890191239975323,778,0.1599835492494345,2422,0.49804647337034752,4863,1]
[null,4868,{"$f":"Urliste!C4871","v":6},793,0.16290057518488085,871,0.17892358258011504,779,0.16002465078060804,2425,0.49815119145439607,4868,1]
[null,4873,{"$f":"Urliste!C4876","v":1},795,0.16314385388877489,871,0.1787399958957521,780,0.16006566796634517,2427,0.49805048224912785,4873,1]
[null,4876,{"$f":"Urliste!C4879","v":5},795,0.16304347826086957,871,0.17863002461033634,781,0.16017227235438886,2429,0.49815422477440524,4876,1]
[null,4878,{"$f":"Urliste!C4881","v":5},795,0.16297662976629768,871,0.17855678556785567,781,0.16010660106601066,2431,0.49835998359983602,4878,1]
[null,4883,{"$f":"Urliste!C4886","v":6},797,0.16321933237763669,871,0.1783739504403031,781,0.15994265820192505,2434,0.49846405898013518,4883,1]
[null,4888,{"$f":"Urliste!C4891","v":6},797,0.16305237315875615,871,0.17819148936170212,783,0.16018821603927988,2437,0.49856792144026185,4888,1]
[null,4889,{"$f":"Urliste!C4892","v":1},798,0.16322356310083863,871,0.1781550419308652,783,0.160155451012477,2437,0.49846594395581917,4889,1]
[null,4894,{"$f":"Urliste!C4897","v":6},798,0.16305680425010216,872,0.17817736003269311,784,0.16019615856150388,2440,0.49856967715570089,4894,1]
[null,4898,{"$f":"Urliste!C4901","v":1},799,0.16312780726827275,872,0.17803184973458555,784,0.16006533278889343,2443,0.49877501020824827,4898,1]
[null,4903,{"$f":"Urliste!C4906","v":5},799,0.1629614521721395,873,0.17805425249847032,785,0.16010605751580664,2446,0.49887823781358354,4903,1]
[null,4904,{"$f":"Urliste!C4907","v":4},799,0.16292822185970637,873,0.17801794453507341,785,0.16007340946166396,2447,0.49898042414355626,4904,1]
[null,4909,{"$f":"Urliste!C4912","v":4},799,0.16276227337543289,874,0.17804033408026074,785,0.15991036871053169,2451,0.49928702383377471,4909,1]
[null,4914,{"$f":"Urliste!C4917","v":3},{"$f":"IF(C4935=1,D4934+1,D4934)","v":800},{"$f":"D4935/B4935","v":0.1628001628001628},{"$f":"IF(C4935=2,F4934+1,F4934)","v":876},{"$f":"F4935/B4935","v":0.17826617826617827},{"$f":"IF(C4935=3,H4934+1,H4934)","v":786},{"$f":"H4935/B4935","v":0.15995115995115994},{"$f":"IF(C4935>3,J4934+1,J4934)","v":2452},{"$f":"J4935/B4935","v":0.49898249898249897},{"$f":"SUM(D4935,J4935,H4935,F4935)","v":4914},{"$f":"SUM(K4935,I4935,G4935,E4935)","v":1}]
[null,4917,{"$f":"Urliste!C4920","v":3},801,0.16290420988407567,876,0.1781574130567419,787,0.16005694529184461,2453,0.49888143176733779,4917,1]
[null,4919,{"$f":"Urliste!C4922","v":3},801,0.16283797519821103,876,0.17808497662126449,788,0.16019516161821509,2454,0.49888188656230942,4919,1]
[null,4924,{"$f":"Urliste!C4927","v":3},801,0.16267262388302192,878,0.17831031681559709,789,0.16023558082859463,2456,0.49878147847278637,4924,1]
[null,4929,{"$f":"Urliste!C4932","v":2},801,0.16250760803408398,879,0.17833231892878881,790,0.1602759180361128,2459,0.49888415500101441,4929,1]
[null,4934,{"$f":"Urliste!C4937","v":1},802,0.16254560194568302,880,0.17835427644912849,791,0.16031617349006891,2461,0.49878394811511956,4934,1]
[null,4935,{"$f":"Urliste!C4938","v":1},803,0.16271529888551164,880,0.17831813576494426,791,0.16028368794326242,2461,0.49868287740628164,4935,0.99999999999999989]
[null,4939,{"$f":"Urliste!C4942","v":3},804,0.16278598906661268,880,0.17817371937639198,792,0.16035634743875279,2463,0.49868394411824257,4939,1]
[null,4944,{"$f":"Urliste!C4947","v":3},805,0.16282362459546926,880,0.17799352750809061,793,0.16039644012944984,2466,0.49878640776699029,4944,1]
[null,4949,{"$f":"Urliste!C4952","v":4},806,0.16286118407759143,882,0.17821782178217821,793,0.16023439078601737,2468,0.498686603354213,4949,0.99999999999999989]
[null,4950,{"$f":"Urliste!C4953","v":5},806,0.16282828282828282,882,0.17818181818181819,793,0.16020202020202021,2469,0.49878787878787878,4950,1]
[null,4955,{"$f":"Urliste!C4958","v":6},806,0.16266397578203834,883,0.17820383451059535,794,0.16024217961654894,2472,0.49889001009081735,4955,1]
[null,4959,{"$f":"Urliste!C4962","v":5},807,0.16273442226255294,883,0.17806009276063722,794,0.16011292599314378,2475,0.49909255898366606,4959,1]
[null,4964,{"$f":"Urliste!C4967","v":5},808,0.16277195809830783,884,0.17808219178082191,795,0.16015310233682514,2477,0.49899274778404512,4964,1]
[null,4965,{"$f":"Urliste!C4968","v":1},809,0.16294058408862033,884,0.17804632426988923,795,0.16012084592145015,2477,0.49889224572004026,4965,1]
[null,4970,{"$f":"Urliste!C4973","v":6},809,0.16277665995975854,884,0.1778672032193159,795,0.15995975855130784,2482,0.49939637826961769,4970,1]
[null,4975,{"$f":"Urliste!C4978","v":3},809,0.16261306532663317,885,0.17788944723618091,796,0.16,2485,0.49949748743718592,4975,1]
[null,4978,{"$f":"Urliste!C4981","v":4},{"$f":"IF(C4999=1,D4998+1,D4998)","v":809},{"$f":"D4999/B4999","v":0.16251506629168341},{"$f":"IF(C4999=2,F4998+1,F4998)","v":886},{"$f":"F4999/B4999","v":0.1779831257533146},{"$f":"IF(C4999=3,H4998+1,H4998)","v":796},{"$f":"H4999/B4999","v":0.15990357573322619},{"$f":"IF(C4999>3,J4998+1,J4998)","v":2487},{"$f":"J4999/B4999","v":0.4995982322217758},{"$f":"SUM(D4999,J4999,H4999,F4999)","v":4978},{"$f":"SUM(K4999,I4999,G4999,E4999)","v":1}]
[null,4980,{"$f":"Urliste!C4983","v":3},809,0.16244979919678715,886,0.17791164658634537,798,0.16024096385542169,2487,0.49939759036144576,4980,1]
[null,4985,{"$f":"Urliste!C4988","v":1},810,0.1624874623871615,887,0.17793380140421264,798,0.16008024072216651,2490,0.49949849548645936,4985,1]
[null,4990,{"$f":"Urliste!C4993","v":2},810,0.16232464929859719,888,0.17795591182364728,800,0.16032064128256512,2492,0.4993987975951904,4990,1]
[null,4995,{"$f":"Urliste!C4998","v":6},811,0.16236236236236237,888,0.17777777777777778,801,0.16036036036036036,2495,0.49949949949949951,4995,1]
[null,4996,{"$f":"Urliste!C4999","v":6},811,0.1623298638911129,888,0.177742193755004,801,0.16032826261008806,2496,0.49959967974379504,4996,1]
[null,5000,{"$f":"Urliste!C5003","v":6},812,0.16239999999999999,888,0.17760000000000001,801,0.16020000000000001,2499,0.49980000000000002,5000,1]
[null,5005,{"$f":"Urliste!C5008","v":3},812,0.16223776223776223,889,0.17762237762237762,802,0.16023976023976025,2502,0.49990009990009993,5005,1]
[null,5010,{"$f":"Urliste!C5013","v":4},813,0.16227544910179642,890,0.17764471057884232,802,0.16007984031936129,2505,0.5,5010,1]
[null,5011,{"$f":"Urliste!C5014","v":2},813,0.16224306525643584,891,0.17780882059469169,802,0.16004789463181002,2505,0.49990021951706248,5011,1]
[null,5017,{"$f":"Urliste!C5020","v":3},813,0.1620490332868248,892,0.17779549531592584,803,0.16005581024516644,2509,0.50009966115208293,5017,1]
[null,5020,{"$f":"Urliste!C5023","v":5},813,0.16195219123505977,892,0.17768924302788844,804,0.16015936254980079,2511,0.50019920318725097,5020,1]
[null,5025,{"$f":"Urliste!C5028","v":6},813,0.16179104477611941,894,0.17791044776119402,805,0.16019900497512438,2513,0.50009950248756219,5025,1]
[null,5026,{"$f":"Urliste!C5029","v":1},814,0.16195781933943493,894,0.17787504974134499,805,0.16016713091922005,2513,0.5,5026,1]
[null,5031,{"$f":"Urliste!C5034","v":3},815,0.16199562711190618,895,0.17789703836215465,806,0.16020671834625322,2515,0.49990061617968595,5031,1]
[null,5036,{"$f":"Urliste!C5039","v":1},817,0.16223193010325657,895,0.17772041302621128,808,0.16044479745830023,2516,0.49960285941223193,5036,0.99999999999999989]
[null,5039,{"$f":"Urliste!C5042","v":4},817,0.16213534431434809,895,0.17761460607263346,809,0.16054772772375472,2518,0.49970232188926372,5039,1]
[null,5041,{"$f":"Urliste!C5044","v":4},818,0.16226939099385043,895,0.17754413806784369,809,0.16048403094624084,2519,0.49970243999206504,5041,1]
[null,5046,{"$f":"Urliste!C5049","v":4},818,0.16210860087197781,898,0.17796274276654775,809,0.16032500990883869,2521,0.49960364645263577,5046,1]
[null,5051,{"$f":"Urliste!C5054","v":1},822,0.16274005147495546,898,0.17778657691546229,809,0.16016630370223717,2522,0.49930706790734508,5051,1]
[null,5056,{"$f":"Urliste!C5059","v":4},824,0.16297468354430381,899,0.17780854430379747,809,0.16000791139240506,2524,0.49920886075949367,5056,0.99999999999999989]
[null,5057,{"$f":"Urliste!C5060","v":5},824,0.16294245600158197,899,0.17777338342891041,809,0.15997627051611626,2525,0.49930789005339132,5057,1]
[null,5061,{"$f":"Urliste!C5064","v":4},825,0.16301126259632484,900,0.17783046828689983,810,0.16004742145820983,2526,0.4991108476585655,5061,1]
[null,5066,{"$f":"Urliste!C5069","v":6},825,0.1628503750493486,901,0.17785234899328858,811,0.16008685353335966,2529,0.49921042242400315,5066,1]
[null,5071,{"$f":"Urliste!C5074","v":1},828,0.16328140406231512,901,0.17767698678761584,812,0.16012620784855058,2530,0.49891540130151846,5071,1]
[null,5072,{"$f":"Urliste!C5075","v":4},828,0.16324921135646689,901,0.17764195583596215,812,0.16009463722397477,2531,0.49901419558359622,5072,0.99999999999999989]
[null,5078,{"$f":"Urliste!C5081","v":4},829,0.16325324931075227,902,0.17762898779046868,814,0.16029933044505712,2533,0.49881843245372193,5078,0.99999999999999989]
[null,5081,{"$f":"Urliste!C5084","v":4},829,0.16315685888604606,902,0.17752410942727809,814,0.16020468411729974,2536,0.49911434756937612,5081,0.99999999999999989]
[null,5086,{"$f":"Urliste!C5089","v":2},829,0.16299646087298467,904,0.17774282343688558,815,0.16024380652772316,2538,0.4990169091624066,5086,1]
[null,5087,{"$f":"Urliste!C5090","v":4},829,0.16296441910752898,904,0.17770788283860822,815,0.16021230587772753,2539,0.49911539217613526,5087,1]
[null,5092,{"$f":"Urliste!C5095","v":3},829,0.16280439905734487,904,0.17753338570306362,816,0.16025137470542028,2543,0.49941084053417123,5092,1]
[null,5097,{"$f":"Urliste!C5100","v":6},831,0.16303708063566805,905,0.17755542475966254,816,0.16009417304296644,2545,0.49931332156170294,5097,1]
[null,5100,{"$f":"Urliste!C5103","v":1},832,0.16313725490196079,906,0.17764705882352941,816,0.16,2546,0.4992156862745098,5100,1]
[null,5102,{"$f":"Urliste!C5105","v":4},832,0.16307330458643668,907,0.17777342218737749,816,0.159937279498236,2547,0.49921599372794984,5102,0.99999999999999989]
[null,5107,{"$f":"Urliste!C5110","v":2},832,0.16291364793420796,909,0.1779909927550421,817,0.15997650283924025,2549,0.49911885647150972,5107,1]
[null,5112,{"$f":"Urliste!C5115","v":6},832,0.16275430359937401,911,0.17820813771517996,817,0.15982003129890454,2552,0.49921752738654146,5112,1]
[null,5117,{"$f":"Urliste!C5120","v":2},832,0.16259527066640611,912,0.17822943130740668,819,0.16005471956224351,2554,0.4991205784639437,5117,1]
[null,5118,{"$f":"Urliste!C5121","v":1},833,0.16275889019148104,912,0.17819460726846426,819,0.16002344665885113,2554,0.4990230558812036,5118,1]
[null,5122,{"$f":"Urliste!C5125","v":5},833,0.16263178445919563,913,0.17825068332682545,820,0.16009371339320577,2556,0.49902381882077312,5122,1]
[null,5127,{"$f":"Urliste!C5130","v":5},834,0.16266822703335285,913,0.17807684805929394,820,0.15993758533255314,2560,0.49931733957480007,5127,0.99999999999999989]
[null,5132,{"$f":"Urliste!C5135","v":6},834,0.16250974279033514,916,0.17848791893998442,821,0.15997661730319562,2561,0.49902572096648479,5132,0.99999999999999989]
[null,5133,{"$f":"Urliste!C5136","v":2},834,0.1624780829924021,917,0.17864796415351647,821,0.15994545100331189,2561,0.49892850185076953,5133,1]
[null,5139,{"$f":"Urliste!C5142","v":6},836,0.16267756372835182,918,0.1786339754816112,821,0.15975870791982877,2564,0.49892975287020819,5139,1]
[null,5142,{"$f":"Urliste!C5145","v":5},836,0.16258265266433294,918,0.17852975495915985,821,0.15966549980552314,2567,0.49922209257098404,5142,0.99999999999999989]
[null,5147,{"$f":"Urliste!C5150","v":5},837,0.16261900136001553,919,0.17855061200699437,821,0.15951039440450748,2570,0.49931999222848261,5147,1]
[null,5148,{"$f":"Urliste!C5151","v":3},837,0.16258741258741258,919,0.17851592851592851,822,0.15967365967365968,2570,0.49922299922299923,5148,1]
[null,5153,{"$f":"Urliste!C5156","v":6},837,0.16242965262953618,921,0.17873083640597709,822,0.15951872695517175,2573,0.49932078400931496,5153,1]
[null,5158,{"$f":"Urliste!C5161","v":1},838,0.16246607212097713,921,0.17855758045754169,824,0.15975184179914695,2575,0.49922450562233422,5158,1]
[null,5161,{"$f":"Urliste!C5164","v":1},839,0.16256539430342956,921,0.17845378802557643,824,0.15965898081767099,2577,0.49932183685332299,5161,0.99999999999999989]
[null,5163,{"$f":"Urliste!C5166","v":2},839,0.16250242107301957,922,0.17857834592291302,824,0.15959713344954485,2578,0.49932209955452256,5163,1]
[null,5168,{"$f":"Urliste!C5171","v":2},840,0.16253869969040247,924,0.17879256965944273,826,0.15982972136222912,2578,0.49883900928792568,5168,1]
[null,5173,{"$f":"Urliste!C5176","v":4},841,0.16257490817707326,924,0.17861975642760486,826,0.15967523680649526,2582,0.49913009858882662,5173,1]
[null,5178,{"$f":"Urliste!C5181","v":4},841,0.16241792197759752,925,0.17864040169949788,827,0.1597141753572808,2585,0.49922750096562379,5178,1]
[null,5179,{"$f":"Urliste!C5182","v":6},841,0.16238656111218383,925,0.17860590847653987,827,0.15968333655145781,2586,0.49932419385981852,5179,1]
[null,5183,{"$f":"Urliste!C5186","v":5},841,0.16226123866486591,925,0.17846806868608914,828,0.15975303878062899,2589,0.49951765386841596,5183,1]
[null,5188,{"$f":"Urliste!C5191","v":1},843,0.16249036237471087,926,0.17848882035466462,829,0.15979182729375482,2590,0.49922898997686971,5188,1]
[null,5193,{"$f":"Urliste!C5196","v":4},844,0.16252647795108802,927,0.17850953206239167,831,0.16002310803004044,2591,0.4989408819564799,5193,1]
[null,5194,{"$f":"Urliste!C5197","v":3},844,0.16249518675394686,927,0.17847516365036581,832,0.1601848286484405,2591,0.4988448209472468,5194,1]
[null,5200,{"$f":"Urliste!C5203","v":4},844,0.16230769230769232,927,0.17826923076923076,833,0.16019230769230769,2596,0.49923076923076926,5200,1]
[null,5203,{"$f":"Urliste!C5206","v":6},844,0.16221410724581972,927,0.17816644243705554,834,0.16029213915049009,2598,0.49932731116663465,5203,1]
[null,5208,{"$f":"Urliste!C5211","v":5},844,0.1620583717357911,927,0.17799539170506912,835,0.16033026113671275,2602,0.49961597542242703,5208,1]
[null,5209,{"$f":"Urliste!C5212","v":1},845,0.16221923593779997,927,0.17796122096371664,835,0.16029948166634672,2602,0.49952006143213667,5209,1]
[null,5214,{"$f":"Urliste!C5217","v":3},846,0.16225546605293439,928,0.17798235519754507,837,0.16052934407364788,2603,0.49923283467587265,5214,0.99999999999999989]
[null,5219,{"$f":"Urliste!C5222","v":6},847,0.16229162674841924,928,0.17781184134891742,837,0.16037555087181452,2607,0.4995209810308488,5219,0.99999999999999989]
[null,5222,{"$f":"Urliste!C5225","v":5},848,0.1623898889314439,928,0.17770968977403293,837,0.1602834163155879,2609,0.4996170049789353,5222,1]
[null,5224,{"$f":"Urliste!C5227","v":1},849,0.16251914241960183,928,0.1776416539050536,837,0.16022205206738133,2610,0.49961715160796327,5224,1]
[null,5229,{"$f":"Urliste!C5232","v":5},849,0.16236374067699369,930,0.1778542742398164,838,0.16026008797093133,2612,0.49952189711225858,5229,0.99999999999999989]
[null,5234,{"$f":"Urliste!C5237","v":3},{"$f":"IF(C5255=1,D5254+1,D5254)","v":849},{"$f":"D5255/B5255","v":0.16220863584256784},{"$f":"IF(C5255=2,F5254+1,F5254)","v":932},{"$f":"F5255/B5255","v":0.1780664883454337},{"$f":"IF(C5255=3,H5254+1,H5254)","v":840},{"$f":"H5255/B5255","v":0.16048910966755828},{"$f":"IF(C5255>3,J5254+1,J5254)","v":2613},{"$f":"J5255/B5255","v":0.49923576614444021},{"$f":"SUM(D5255,J5255,H5255,F5255)","v":5234},{"$f":"SUM(K5255,I5255,G5255,E5255)","v":1}]
[null,5239,{"$f":"Urliste!C5242","v":4},850,0.16224470318763123,932,0.17789654514220271,840,0.16033594197365911,2617,0.49952280969650698,5239,1]
[null,5240,{"$f":"Urliste!C5243","v":1},851,0.16240458015267176,932,0.17786259541984734,840,0.16030534351145037,2617,0.49942748091603051,5240,1]
[null,5244,{"$f":"Urliste!C5247","v":3},853,0.16266209000762777,932,0.17772692601067888,841,0.16037376048817698,2618,0.4992372234935164,5244,1]
[null,5249,{"$f":"Urliste!C5252","v":1},856,0.16307868165364831,932,0.17755763002476663,841,0.16022099447513813,2620,0.49914269384644694,5249,1]
[null,5254,{"$f":"Urliste!C5257","v":5},858,0.16330414921964218,932,0.17738865626189571,842,0.16025885039969548,2622,0.49904834411876664,5254,1]
[null,5255,{"$f":"Urliste!C5258","v":2},858,0.16327307326355853,933,0.1775451950523311,842,0.16022835394862037,2622,0.49895337773549003,5255,1]
[null,5261,{"$f":"Urliste!C5264","v":4},861,0.1636570994107584,934,0.17753278844326173,842,0.16004561870366851,2624,0.49876449344231133,5261,1]
[null,5264,{"$f":"Urliste!C5267","v":3},861,0.16356382978723405,936,0.17781155015197569,843,0.16014437689969604,2624,0.49848024316109424,5264,1]
[null,5269,{"$f":"Urliste!C5272","v":6},861,0.1634086164357563,938,0.17802239514139306,844,0.16018219776048587,2626,0.4983867906623648,5269,1]
[null,5270,{"$f":"Urliste!C5273","v":2},861,0.16337760910815941,939,0.17817836812144214,844,0.16015180265654649,2626,0.49829222011385199,5270,1]
[null,5275,{"$f":"Urliste!C5278","v":1},863,0.16360189573459716,940,0.17819905213270143,845,0.16018957345971563,2627,0.49800947867298578,5275,1]
[null,5280,{"$f":"Urliste!C5283","v":3},864,0.16363636363636364,940,0.17803030303030304,847,0.16041666666666668,2629,0.49791666666666667,5280,1]
[null,5283,{"$f":"Urliste!C5286","v":3},864,0.1635434412265758,940,0.17792920689002462,849,0.16070414537194777,2630,0.49782320651145184,5283,1]
[null,5285,{"$f":"Urliste!C5288","v":2},864,0.16348155156102176,941,0.17805108798486283,850,0.16083254493850521,2630,0.49763481551561023,5285,1]
[null,5290,{"$f":"Urliste!C5293","v":3},864,0.16332703213610586,942,0.17807183364839319,852,0.1610586011342155,2632,0.49754253308128543,5290,1]
[null,5295,{"$f":"Urliste!C5298","v":2},864,0.1631728045325779,943,0.17809254013220019,852,0.16090651558073654,2636,0.49782813975448537,5295,1]
[null,5300,{"$f":"Urliste!C5303","v":6},865,0.16320754716981131,944,0.17811320754716981,852,0.16075471698113208,2639,0.49792452830188677,5300,1]
[null,5301,{"$f":"Urliste!C5304","v":3},865,0.16317675910205623,944,0.17807960762120353,853,0.16091303527636294,2639,0.49783059800037727,5301,1]
[null,5305,{"$f":"Urliste!C5308","v":5},866,0.16324222431668237,945,0.17813383600377003,853,0.16079170593779454,2641,0.49783223374175306,5305,0.99999999999999989]
[null,5310,{"$f":"Urliste!C5313","v":2},866,0.16308851224105461,947,0.17834274952919021,853,0.16064030131826743,2644,0.49792843691148775,5310,1]
[null,5315,{"$f":"Urliste!C5318","v":4},866,0.16293508936970838,948,0.17836312323612419,855,0.16086547507055504,2646,0.49783631232361242,5315,1]
[null,5316,{"$f":"Urliste!C5319","v":2},866,0.16290443942814145,949,0.17851768246802108,855,0.16083521444695259,2646,0.49774266365688485,5316,0.99999999999999989]
[null,5321,{"$f":"Urliste!C5324","v":1},867,0.16293929712460065,949,0.17834993422289044,858,0.16124788573576396,2647,0.49746288291674495,5321,1]
[null,5326,{"$f":"Urliste!C5329","v":6},867,0.16278633120540745,949,0.17818250093879084,858,0.16109650769808487,2652,0.49793466015771687,5326,1]
[null,5330,{"$f":"Urliste!C5333","v":3},867,0.16266416510318948,950,0.17823639774859287,859,0.16116322701688554,2654,0.4979362101313321,5330,1]
[null,5331,{"$f":"Urliste!C5334","v":4},867,0.16263365222284751,950,0.17820296379666103,859,0.16113299568561246,2655,0.498030388294879,5331,1]
[null,5336,{"$f":"Urliste!C5339","v":5},867,0.16248125937031485,952,0.17841079460269865,859,0.16098200899550225,2658,0.49812593703148428,5336,1]
[null,5341,{"$f":"Urliste!C5344","v":3},867,0.16232915184422392,953,0.17843100542969481,861,0.16120576671035386,2660,0.49803407601572741,5341,1]
[null,5344,{"$f":"Urliste!C5347","v":2},867,0.1622380239520958,954,0.1785179640718563,862,0.16130239520958084,2661,0.49794161676646709,5344,1]
[null,5346,{"$f":"Urliste!C5349","v":6},867,0.16217732884399552,954,0.17845117845117844,863,0.1614291058735503,2662,0.49794238683127573,5346,0.99999999999999989]
[null,5351,{"$f":"Urliste!C5354","v":4},868,0.16221267052887312,954,0.17828443281629602,864,0.1614651467015511,2665,0.49803774995327976,5351,1]
[null,5356,{"$f":"Urliste!C5359","v":4},870,0.16243465272591487,954,0.17811799850634802,864,0.16131441374159822,2668,0.49813293502613892,5356,1]
[null,5361,{"$f":"Urliste!C5364","v":4},871,0.16246968849095317,956,0.17832493937698191,864,0.16116396194739788,2670,0.49804141018466702,5361,1]
[null,5362,{"$f":"Urliste!C5365","v":2},{"$f":"IF(C5383=1,D5382+1,D5382)","v":871},{"$f":"D5383/B5383","v":0.16243938828795226},{"$f":"IF(C5383=2,F5382+1,F5382)","v":957},{"$f":"F5383/B5383","v":0.17847817978366282},{"$f":"IF(C5383=3,H5382+1,H5382)","v":864},{"$f":"H5383/B5383","v":0.16113390525923163},{"$f":"IF(C5383>3,J5382+1,J5382)","v":2670},{"$f":"J5383/B5383","v":0.49794852666915329},{"$f":"SUM(D5383,J5383,H5383,F5383)","v":5362},{"$f":"SUM(K5383,I5383,G5383,E5383)","v":1}]
[null,5366,{"$f":"Urliste!C5369","v":6},871,0.16231830040998882,957,0.17834513604174432,865,0.16120014908684308,2673,0.49813641446142376,5366,1]
[null,5371,{"$f":"Urliste!C5374","v":3},872,0.16235337925898344,959,0.17855148017129027,866,0.16123626885123812,2674,0.49785887171848819,5371,1]
[null,5376,{"$f":"Urliste!C5379","v":5},872,0.16220238095238096,959,0.17838541666666666,866,0.16108630952380953,2679,0.49832589285714285,5376,0.99999999999999989]
[null,5377,{"$f":"Urliste!C5380","v":6},872,0.16217221498977125,959,0.17835224102659475,866,0.16105635112516273,2680,0.49841919285847125,5377,1]
[null,5382,{"$f":"Urliste!C5385","v":5},873,0.16220735785953178,959,0.17818654775176515,866,0.16090672612411744,2684,0.49869936826458566,5382,1]
[null,5385,{"$f":"Urliste!C5388","v":2},873,0.16211699164345403,960,0.17827298050139276,866,0.16081708449396473,2686,0.49879294336118851,5385,1]
[null,5391,{"$f":"Urliste!C5394","v":2},875,0.16230754961973659,963,0.17863105175292154,867,0.16082359488035614,2686,0.49823780374698573,5391,1]
[null,5392,{"$f":"Urliste!C5395","v":4},875,0.16227744807121661,963,0.17859792284866469,867,0.16079376854599406,2687,0.49833086053412462,5392,1]
[null,5397,{"$f":"Urliste!C5400","v":1},877,0.16249768389846211,966,0.17898832684824903,867,0.16064480266814898,2687,0.4978691865851399,5397,1]
[null,5402,{"$f":"Urliste!C5405","v":5},878,0.16253239540910774,967,0.17900777489818587,867,0.16049611255090707,2690,0.49796371714179932,5402,1]
[null,5406,{"$f":"Urliste!C5409","v":4},878,0.16241213466518684,967,0.17887532371439141,869,0.16074731779504253,2692,0.49796522382537922,5406,1]
[null,5407,{"$f":"Urliste!C5410","v":5},878,0.16238209728130201,967,0.17884224153874606,869,0.16071758831144811,2693,0.49805807286850379,5407,1]
[null,5412,{"$f":"Urliste!C5415","v":5},878,0.16223207686622321,967,0.1786770140428677,869,0.16056910569105692,2698,0.49852180339985219,5412,1]
[null,5417,{"$f":"Urliste!C5420","v":4},878,0.16208233339486799,968,0.17869669558796381,871,0.16079010522429388,2700,0.49843086579287427,5417,1]
[null,5422,{"$f":"Urliste!C5425","v":4},879,0.16211729988933973,969,0.17871634083364071,871,0.16064182958317963,2703,0.49852452969383992,5422,1]
[null,5423,{"$f":"Urliste!C5426","v":6},879,0.16208740549511341,969,0.17868338557993729,871,0.16061220726535128,2704,0.49861700165959799,5423,1]
[null,5427,{"$f":"Urliste!C5430","v":3},879,0.16196793808734108,969,0.17855168601437257,873,0.16086235489220563,2706,0.49861802100608071,5427,1]
[null,5432,{"$f":"Urliste!C5435","v":1},881,0.16218703976435936,969,0.17838733431516937,875,0.16108247422680413,2707,0.49834315169366716,5432,1]
[null,5437,{"$f":"Urliste!C5440","v":4},882,0.16222181350009196,969,0.17822328489976089,876,0.16111826374839067,2710,0.49843663785175646,5437,1]
[null,5438,{"$f":"Urliste!C5441","v":3},882,0.16219198234645091,969,0.17819051121735932,877,0.16127252666421479,2710,0.49834497977197501,5438,1]
[null,5443,{"$f":"Urliste!C5446","v":3},884,0.16241043542164246,969,0.17802682344295426,878,0.16130810214954988,2712,0.49825463898585337,5443,1]
[null,5446,{"$f":"Urliste!C5449","v":5},884,0.16232096951891295,970,0.17811237605582078,878,0.16121924348145428,2714,0.49834741094381196,5446,1]
[null,5452,{"$f":"Urliste!C5455","v":1},886,0.16250917094644168,971,0.1780997798972854,878,0.16104181951577404,2717,0.49834922964049888,5452,1]
[null,5453,{"$f":"Urliste!C5456","v":1},887,0.16266275444709336,971,0.17806711901705483,878,0.16101228681459748,2717,0.49825783972125437,5453,1]
[null,5458,{"$f":"Urliste!C5461","v":6},888,0.16269695859289116,971,0.17790399413704655,878,0.16086478563576401,2721,0.49853426163429826,5458,0.99999999999999989]
[null,5463,{"$f":"Urliste!C5466","v":5},889,0.16273110012813471,972,0.17792421746293247,879,0.16090060406370127,2723,0.49844407834523158,5463,1]
[null,5467,{"$f":"Urliste!C5470","v":3},890,0.16279495152734588,973,0.17797695262483995,880,0.16096579476861167,2724,0.4982623010792025,5467,1]
[null,5468,{"$f":"Urliste!C5471","v":2},890,0.16276517922457936,974,0.17812728602779809,880,0.16093635698610095,2724,0.49817117776152159,5468,0.99999999999999989]
[null,5473,{"$f":"Urliste!C5476","v":1},891,0.16279919605335283,974,0.17796455326146537,881,0.16097204458249589,2727,0.4982642061026859,5473,1]
[null,5478,{"$f":"Urliste!C5481","v":6},892,0.16283315078495803,975,0.17798466593647316,882,0.16100766703176342,2729,0.49817451624680542,5478,1]
[null,5483,{"$f":"Urliste!C5486","v":5},893,0.16286704358927595,976,0.17800474192960059,882,0.16086084260441363,2732,0.49826737187670983,5483,1]
[null,5485,{"$f":"Urliste!C5488","v":4},894,0.16298997265268916,976,0.17793983591613491,882,0.16080218778486782,2733,0.49826800364630813,5485,1]
[null,5488,{"$f":"Urliste!C5491","v":2},895,0.16308309037900875,977,0.17802478134110788,882,0.16071428571428573,2734,0.49817784256559766,5488,1]
[null,5493,{"$f":"Urliste!C5496","v":2},896,0.16311669397414891,979,0.1782268341525578,883,0.16075004551247041,2735,0.49790642636082288,5493,1]
[null,5498,{"$f":"Urliste!C5501","v":6},897,0.16315023644961804,980,0.17824663514005093,884,0.16078574026918879,2737,0.49781738814114224,5498,1]
[null,5499,{"$f":"Urliste!C5502","v":2},897,0.16312056737588654,981,0.17839607201309329,884,0.16075650118203311,2737,0.49772685942898709,5499,1]
[null,5504,{"$f":"Urliste!C5507","v":3},898,0.16315406976744187,982,0.17841569767441862,885,0.16079215116279069,2739,0.49763808139534882,5504,1]
[null,5507,{"$f":"Urliste!C5510","v":3},898,0.16306518975848919,983,0.17850009079353549,886,0.16088614490648265,2740,0.49754857454149265,5507,0.99999999999999989]
[null,5513,{"$f":"Urliste!C5516","v":2},899,0.1630691093778342,985,0.17866860148739344,886,0.16071104661708688,2743,0.49755124251768545,5513,1]
[null,5514,{"$f":"Urliste!C5517","v":3},899,0.16303953572723975,985,0.17863619876677547,887,0.1608632571635836,2743,0.49746100834240115,5514,1]
[null,5519,{"$f":"Urliste!C5522","v":1},902,0.16343540496466752,985,0.17847436129733649,887,0.16071752129008879,2745,0.49737271244790721,5519,1]
[null,5524,{"$f":"Urliste!C5527","v":4},903,0.16346850108616945,988,0.17885590152063721,887,0.16057204923968138,2746,0.49710354815351193,5524,1]
[null,5528,{"$f":"Urliste!C5531","v":2},903,0.16335021707670044,989,0.17890738060781475,888,0.16063675832127353,2748,0.49710564399421131,5528,1]
[null,5529,{"$f":"Urliste!C5532","v":1},904,0.16350153734852596,989,0.17887502260806656,888,0.16060770482908301,2748,0.49701573521432446,5529,1]
[null,5534,{"$f":"Urliste!C5537","v":3},904,0.16335381279363931,989,0.17871340802312974,890,0.16082399710878206,2751,0.49710878207444886,5534,1]
[null,5539,{"$f":"Urliste!C5542","v":6},905,0.16338689294096406,989,0.17855208521393753,891,0.16085936089546848,2754,0.49720166094962992,5539,1]
[null,5544,{"$f":"Urliste!C5547","v":1},907,0.16360028860028861,991,0.17875180375180375,891,0.16071428571428573,2755,0.49693362193362195,5544,1]
[null,5546,{"$f":"Urliste!C5549","v":1},908,0.16372160115398485,991,0.17868734222863325,892,0.16083663901911288,2755,0.49675441759826905,5546,1]
[null,5549,{"$f":"Urliste!C5552","v":2},909,0.1638132996936385,992,0.1787709497206704,892,0.16074968462786088,2756,0.49666606595783025,5549,1]
[null,5554,{"$f":"Urliste!C5557","v":5},{"$f":"IF(C5575=1,D5574+1,D5574)","v":911},{"$f":"D5575/B5575","v":0.16402592725963269},{"$f":"IF(C5575=2,F5574+1,F5574)","v":992},{"$f":"F5575/B5575","v":0.17861001080302485},{"$f":"IF(C5575=3,H5574+1,H5574)","v":893},{"$f":"H5575/B5575","v":0.16078501980554555},{"$f":"IF(C5575>3,J5574+1,J5574)","v":2758},{"$f":"J5575/B5575","v":0.49657904213179688},{"$f":"SUM(D5575,J5575,H5575,F5575)","v":5554},{"$f":"SUM(K5575,I5575,G5575,E5575)","v":1}]
[null,5559,{"$f":"Urliste!C5562","v":4},912,0.16405828386400431,993,0.17862924986508366,894,0.16082029141932003,2760,0.49649217485159203,5559,1]
[null,5560,{"$f":"Urliste!C5563","v":3},912,0.16402877697841728,993,0.17859712230215827,895,0.16097122302158273,2760,0.49640287769784175,5560,1]
[null,5565,{"$f":"Urliste!C5568","v":6},912,0.16388140161725068,994,0.17861635220125785,895,0.16082659478885894,2764,0.49667565139263253,5565,1]
[null,5568,{"$f":"Urliste!C5571","v":2},913,0.16397270114942528,995,0.17869971264367815,895,0.16073994252873564,2765,0.49658764367816094,5568,1]
[null,5574,{"$f":"Urliste!C5577","v":5},913,0.16379619662719772,996,0.17868675995694294,897,0.16092572658772875,2768,0.49659131682813062,5574,1]
[null,5575,{"$f":"Urliste!C5578","v":6},913,0.16376681614349775,996,0.17865470852017937,897,0.1608968609865471,2769,0.49668161434977576,5575,1]
[null,5580,{"$f":"Urliste!C5583","v":4},913,0.16362007168458781,997,0.17867383512544802,897,0.16075268817204302,2773,0.49695340501792112,5580,0.99999999999999989]
[null,5585,{"$f":"Urliste!C5588","v":3},913,0.16347358997314235,998,0.17869292748433305,898,0.16078782452999105,2776,0.49704565801253359,5585,1]
[null,5589,{"$f":"Urliste!C5592","v":1},915,0.16371443907675792,998,0.17856503846842012,899,0.16085167292896763,2777,0.49686884952585436,5589,1]
[null,5590,{"$f":"Urliste!C5593","v":2},915,0.16368515205724507,999,0.17871198568872987,899,0.16082289803220035,2777,0.49677996422182469,5590,1]
[null,5595,{"$f":"Urliste!C5598","v":6},917,0.16389633601429848,999,0.17855227882037533,900,0.16085790884718498,2779,0.4966934763181412,5595,1]
[null,5600,{"$f":"Urliste!C5603","v":3},917,0.16375000000000001,1001,0.17874999999999999,901,0.16089285714285714,2781,0.49660714285714286,5600,1]
[null,5605,{"$f":"Urliste!C5608","v":6},917,0.16360392506690455,1001,0.17859054415700268,902,0.16092774308652988,2785,0.49687778768956287,5605,1]
[null,5607,{"$f":"Urliste!C5610","v":4},917,0.16354556803995007,1002,0.17870518994114501,902,0.16087034064562156,2786,0.49687890137328339,5607,1]
[null,5610,{"$f":"Urliste!C5613","v":4},917,0.16345811051693404,1002,0.17860962566844921,902,0.16078431372549021,2789,0.49714795008912654,5610,1]
[null,5615,{"$f":"Urliste!C5618","v":5},918,0.16349065004452359,1003,0.17862867319679429,902,0.16064113980409617,2792,0.49723953695458595,5615,1]
[null,5620,{"$f":"Urliste!C5623","v":4},918,0.16334519572953737,1004,0.17864768683274021,903,0.16067615658362988,2795,0.49733096085409251,5620,1]
[null,5621,{"$f":"Urliste!C5624","v":1},919,0.16349404020636898,1004,0.1786159046433019,903,0.16064757160647572,2795,0.49724248354385342,5621,1]
[null,5626,{"$f":"Urliste!C5629","v":1},921,0.16370423035904727,1004,0.17845716317099183,904,0.16068254532527551,2797,0.49715606114468541,5626,1]
[null,5629,{"$f":"Urliste!C5632","v":5},921,0.16361698347841536,1004,0.17836205365073726,904,0.16059690886480724,2800,0.49742405400604017,5629,1]
[null,5635,{"$f":"Urliste!C5638","v":5},922,0.16362023070097603,1006,0.1785270629991127,905,0.16060337178349601,2802,0.49724933451641529,5635,1]
[null,5636,{"$f":"Urliste!C5639","v":4},922,0.16359119943222145,1006,0.17849538679914834,905,0.1605748757984386,2803,0.49733853797019162,5636,1]
[null,5641,{"$f":"Urliste!C5644","v":5},923,0.16362347101577734,1007,0.17851444779294451,906,0.16060982095373161,2805,0.49725226023754654,5641,1]
[null,5646,{"$f":"Urliste!C5649","v":6},923,0.16347856889833509,1008,0.1785334750265675,906,0.16046758767268862,2809,0.49752036840240876,5646,1]
[null,5650,{"$f":"Urliste!C5653","v":2},923,0.16336283185840708,1009,0.17858407079646019,908,0.16070796460176992,2810,0.49734513274336284,5650,1]
[null,5651,{"$f":"Urliste!C5654","v":3},923,0.16333392319943374,1009,0.17855246858963014,909,0.16085648557777385,2810,0.4972571226331623,5651,1]
[null,5656,{"$f":"Urliste!C5659","v":1},924,0.16336633663366337,1009,0.17839462517680341,910,0.1608910891089109,2813,0.49734794908062235,5656,1]
[null,5661,{"$f":"Urliste!C5664","v":4},925,0.16339869281045752,1010,0.17841370782547253,910,0.16074898427839604,2816,0.49743861508567389,5661,0.99999999999999989]
[null,5666,{"$f":"Urliste!C5669","v":3},926,0.16343099188139781,1010,0.17825626544299331,911,0.16078362160254148,2819,0.4975291210730674,5666,1]
[null,5668,{"$f":"Urliste!C5671","v":1},927,0.16354975299929428,1010,0.17819336626676077,912,0.16090331686661963,2819,0.49735356386732532,5668,1]
[null,5671,{"$f":"Urliste!C5674","v":4},928,0.16363956974078644,1010,0.1780991006877094,913,0.16099453359195909,2820,0.49726679597954504,5671,0.99999999999999989]
[null,5676,{"$f":"Urliste!C5679","v":5},929,0.16367159971811135,1011,0.1781183932346723,915,0.16120507399577166,2821,0.49700493305144466,5676,1]
[null,5681,{"$f":"Urliste!C5684","v":5},929,0.16352754796690724,1013,0.17831367716951241,915,0.16106319309980638,2824,0.497095581763774,5681,1]
[null,5682,{"$f":"Urliste!C5685","v":2},{"$f":"IF(C5703=1,D5702+1,D5702)","v":929},{"$f":"D5703/B5703","v":0.16349876803942273},{"$f":"IF(C5703=2,F5702+1,F5702)","v":1014},{"$f":"F5703/B5703","v":0.17845828933474128},{"$f":"IF(C5703=3,H5702+1,H5702)","v":915},{"$f":"H5703/B5703","v":0.16103484688489969},{"$f":"IF(C5703>3,J5702+1,J5702)","v":2824},{"$f":"J5703/B5703","v":0.4970080957409363},{"$f":"SUM(D5703,J5703,H5703,F5703)","v":5682},{"$f":"SUM(K5703,I5703,G5703,E5703)","v":1}]
[null,5687,{"$f":"Urliste!C5690","v":3},930,0.16353085985581151,1015,0.17847722876736416,917,0.16124494461051522,2825,0.49674696676630914,5687,1]
[null,5690,{"$f":"Urliste!C5693","v":2},931,0.16362038664323375,1016,0.17855887521968367,918,0.16133567662565906,2825,0.49648506151142358,5690,1]
[null,5696,{"$f":"Urliste!C5699","v":4},932,0.16362359550561797,1017,0.17854634831460675,918,0.16116573033707865,2829,0.49666432584269665,5696,1]
[null,5697,{"$f":"Urliste!C5700","v":5},932,0.16359487449534843,1017,0.17851500789889416,918,0.16113744075829384,2830,0.4967526768474636,5697,1]
[null,5702,{"$f":"Urliste!C5705","v":4},933,0.16362679761487198,1017,0.17835847071203087,918,0.16099614170466503,2834,0.49701858996843212,5702,1]
[null,5707,{"$f":"Urliste!C5710","v":2},933,0.16348344138776941,1020,0.17872787804450674,919,0.16103031364990364,2835,0.49675836691782022,5707,1]
[null,5711,{"$f":"Urliste!C5714","v":4},933,0.16336893713885484,1020,0.17860269655051655,920,0.16109262826125023,2838,0.49693573804937841,5711,1]
[null,5712,{"$f":"Urliste!C5715","v":3},933,0.16334033613445378,1020,0.17857142857142858,921,0.16123949579831934,2838,0.49684873949579833,5712,1]
[null,5717,{"$f":"Urliste!C5720","v":6},933,0.16319748119643168,1021,0.17859016966940702,922,0.16127339513730979,2841,0.49693895399685151,5717,1]
[null,5722,{"$f":"Urliste!C5725","v":6},935,0.16340440405452639,1021,0.17843411394617267,922,0.1611324711639287,2844,0.49702901083537226,5722,1]
[null,5727,{"$f":"Urliste!C5730","v":4},935,0.16326174262266457,1021,0.17827833071416099,923,0.1611664047494325,2848,0.49729352191374193,5727,1]
[null,5729,{"$f":"Urliste!C5732","v":3},935,0.16320474777448071,1021,0.17821609355908535,924,0.16128469191831035,2849,0.49729446674812361,5729,1]
[null,5732,{"$f":"Urliste!C5735","v":4},935,0.16311933007676205,1021,0.17812281926029308,925,0.16137473831123517,2851,0.49738311235170968,5732,0.99999999999999989]
[null,5737,{"$f":"Urliste!C5740","v":4},937,0.16332578002440301,1021,0.17796757887397593,926,0.1614084016036256,2853,0.49729823949799545,5737,1]
[null,5742,{"$f":"Urliste!C5745","v":6},938,0.16335771508185301,1022,0.17798676419366075,928,0.16161616161616163,2854,0.49703935910832464,5742,1]
[null,5743,{"$f":"Urliste!C5746","v":6},938,0.1633292704161588,1022,0.17795577224447154,928,0.16158802019850252,2855,0.49712693714086714,5743,1]
[null,5748,{"$f":"Urliste!C5751","v":1},939,0.16336116910229645,1022,0.17780097425191371,928,0.16144745998608212,2859,0.49739039665970775,5748,1]
[null,5751,{"$f":"Urliste!C5754","v":2},939,0.16327595200834638,1023,0.17788210745957225,929,0.16153712397843853,2860,0.49730481655364284,5751,1]
[null,5757,{"$f":"Urliste!C5760","v":3},939,0.16310578426263678,1023,0.17769671704012507,931,0.1617161716171617,2864,0.49748132708007642,5757,0.99999999999999989]
[null,5758,{"$f":"Urliste!C5761","v":6},939,0.16307745745050364,1023,0.17766585620006947,931,0.16168808614102118,2865,0.49756860020840571,5758,1]
[null,5763,{"$f":"Urliste!C5766","v":4},940,0.16310949158424431,1023,0.17751171264966165,932,0.16172132569842096,2868,0.49765747006767308,5763,1]
[null,5768,{"$f":"Urliste!C5771","v":3},942,0.16331484049930653,1025,0.17770457697642164,933,0.16175450762829405,2868,0.49722607489597781,5768,1]
[null,5772,{"$f":"Urliste!C5775","v":6},942,0.16320166320166321,1026,0.17775467775467776,933,0.16164241164241164,2871,0.49740124740124741,5772,1]
[null,5773,{"$f":"Urliste!C5776","v":2},942,0.16317339338298978,1027,0.17789710722328078,933,0.16161441191754719,2871,0.49731508747618225,5773,1]
[null,5778,{"$f":"Urliste!C5781","v":6},943,0.16320526133610247,1028,0.17791623399100034,933,0.16147455867082036,2874,0.49740394600207682,5778,1]
[null,5783,{"$f":"Urliste!C5786","v":1},945,0.16340999481238111,1029,0.17793532768459278,934,0.16150786788863911,2875,0.49714680961438701,5783,1]
[null,5788,{"$f":"Urliste!C5791","v":1},947,0.16361437456807187,1029,0.17778161713890808,935,0.16154111955770559,2877,0.49706288873531446,5788,1]
[null,5789,{"$f":"Urliste!C5792","v":1},948,0.16375885299706339,1029,0.1777509068923821,935,0.1615132147175678,2877,0.49697702539298672,5789,1]
[null,5794,{"$f":"Urliste!C5797","v":3},948,0.16361753538142906,1030,0.17777010700724888,936,0.16154642733862618,2880,0.49706593027269591,5794,1]
[null,5798,{"$f":"Urliste!C5801","v":3},949,0.16367713004484305,1030,0.17764746464298034,937,0.16160745084511902,2882,0.49706795446705759,5798,1]
[null,5803,{"$f":"Urliste!C5806","v":1},950,0.1637084266758573,1030,0.1774943994485611,938,0.16164053075995174,2885,0.49715664311562985,5803,1]
[null,5804,{"$f":"Urliste!C5807","v":4},950,0.16368022053756032,1030,0.17746381805651276,938,0.16161268090971745,2886,0.49724328049620953,5804,1]
[null,5809,{"$f":"Urliste!C5812","v":1},952,0.16388362885178173,1032,0.17765536236873816,938,0.16147357548631433,2887,0.4969874332931658,5809,1]
[null,5812,{"$f":"Urliste!C5815","v":6},952,0.16379903647625602,1032,0.17756366139022711,938,0.16139022711631107,2890,0.49724707501720578,5812,1]
[null,5818,{"$f":"Urliste!C5821","v":4},953,0.16380199381230665,1032,0.17738054314197318,938,0.1612237882433826,2895,0.49759367480233757,5818,1]
[null,5819,{"$f":"Urliste!C5822","v":3},953,0.16377384430314487,1032,0.17735006014779173,939,0.16136793263447327,2895,0.49750816291459016,5819,1]
[null,5824,{"$f":"Urliste!C5827","v":1},955,0.16397664835164835,1034,0.1775412087912088,940,0.16140109890109891,2895,0.49708104395604397,5824,1]
[null,5829,{"$f":"Urliste!C5832","v":1},956,0.16400754846457369,1036,0.17773202950763425,940,0.16126265225596156,2897,0.49699776977183052,5829,1]
[null,5833,{"$f":"Urliste!C5836","v":1},958,0.16423795645465455,1036,0.17761014915138007,941,0.16132350420024003,2898,0.49682839019372538,5833,1]
[null,5834,{"$f":"Urliste!C5837","v":1},959,0.16438121357559135,1036,0.17757970517655125,941,0.1612958519026397,2898,0.4967432293452177,5834,1]
[null,5839,{"$f":"Urliste!C5842","v":4},959,0.16424045213221442,1036,0.17742764171947251,943,0.16150025689330363,2901,0.49683164925500944,5839,0.99999999999999989]
[null,5844,{"$f":"Urliste!C5847","v":1},961,0.16444216290212182,1039,0.17778918548939082,943,0.16136208076659822,2901,0.49640657084188911,5844,1]
[null,5849,{"$f":"Urliste!C5852","v":2},961,0.16430159001538724,1041,0.17797914173362969,943,0.1612241408787827,2904,0.49649512737220036,5849,1]
[null,5850,{"$f":"Urliste!C5853","v":2},961,0.16427350427350426,1042,0.17811965811965813,943,0.1611965811965812,2904,0.49641025641025643,5850,1]
[null,5856,{"$f":"Urliste!C5859","v":4},961,0.1641051912568306,1044,0.17827868852459017,943,0.16103142076502733,2908,0.49658469945355194,5856,1]
[null,5859,{"$f":"Urliste!C5862","v":4},961,0.16402116402116401,1045,0.17835808158388802,944,0.16111964499061274,2909,0.49650110940433523,5859,1]
[null,5864,{"$f":"Urliste!C5867","v":5},963,0.16422237380627558,1047,0.17854706684856753,944,0.16098226466575716,2910,0.49624829467939974,5864,1]
[null,5865,{"$f":"Urliste!C5868","v":3},963,0.16419437340153453,1047,0.17851662404092072,945,0.16112531969309463,2910,0.49616368286445012,5865,1]
[null,5870,{"$f":"Urliste!C5873","v":6},963,0.16405451448040886,1047,0.17836456558773425,946,0.16115843270868824,2914,0.49642248722316867,5870,1]
[null,5873,{"$f":"Urliste!C5876","v":2},964,0.16414098416482206,1048,0.17844372552358251,947,0.1612463817469777,2914,0.49616890856461776,5873,1]
[null,5879,{"$f":"Urliste!C5882","v":4},966,0.16431365878550774,1048,0.1782616091171968,948,0.16125191359074673,2917,0.49617281850654871,5879,1]
[null,5880,{"$f":"Urliste!C5883","v":4},966,0.16428571428571428,1048,0.17823129251700681,948,0.16122448979591836,2918,0.49625850340136052,5880,0.99999999999999989]
[null,5885,{"$f":"Urliste!C5888","v":1},968,0.16448598130841122,1048,0.17807986406117246,949,0.16125743415463042,2920,0.49617672047578587,5885,1]
[null,5890,{"$f":"Urliste!C5893","v":2},970,0.16468590831918506,1049,0.17809847198641765,950,0.16129032258064516,2921,0.49592529711375211,5890,0.99999999999999989]
[null,5894,{"$f":"Urliste!C5897","v":4},970,0.16457414319647098,1051,0.17831693247370206,950,0.16118086189345096,2923,0.49592806243637599,5894,1]
[null,5895,{"$f":"Urliste!C5898","v":3},970,0.1645462256149279,1051,0.17828668363019509,951,0.16132315521628499,2923,0.49584393553859202,5895,1]
[null,5900,{"$f":"Urliste!C5903","v":5},971,0.16457627118644066,1051,0.17813559322033898,952,0.16135593220338984,2926,0.49593220338983052,5900,1]
[null,5905,{"$f":"Urliste!C5908","v":1},973,0.16477561388653683,1051,0.17798475867908553,955,0.16172734970364097,2926,0.49551227773073664,5905,1]
[null,5910,{"$f":"Urliste!C5913","v":1},974,0.16480541455160744,1052,0.17800338409475466,957,0.16192893401015229,2927,0.49526226734348561,5910,1]
[null,5911,{"$f":"Urliste!C5914","v":2},974,0.16477753341228218,1053,0.17814244628658432,957,0.16190153950262223,2927,0.49517848079851123,5911,0.99999999999999989]
[null,5917,{"$f":"Urliste!C5920","v":1},976,0.16494845360824742,1054,0.17813080953185736,957,0.16173736690890653,2930,0.49518336995098866,5917,0.99999999999999989]
[null,5920,{"$f":"Urliste!C5923","v":4},976,0.16486486486486487,1054,0.17804054054054055,958,0.16182432432432434,2932,0.49527027027027026,5920,1]
[null,5925,{"$f":"Urliste!C5928","v":2},979,0.16523206751054853,1056,0.17822784810126582,958,0.16168776371308016,2932,0.49485232067510548,5925,1]
[null,5926,{"$f":"Urliste!C5929","v":2},979,0.16520418494768815,1057,0.17836652041849477,958,0.16166047924400945,2932,0.4947688153898076,5926,1]
[null,5931,{"$f":"Urliste!C5934","v":2},979,0.16506491316809982,1059,0.17855336368234698,958,0.16152419490810993,2935,0.49485752824144325,5931,1]
[null,5935,{"$f":"Urliste!C5938","v":3},979,0.16495366470092671,1059,0.17843302443133952,960,0.16175231676495366,2937,0.49486099410278012,5935,1]
[null,5940,{"$f":"Urliste!C5943","v":1},980,0.16498316498316498,1059,0.17828282828282829,962,0.16195286195286196,2939,0.49478114478114477,5940,1]
[null,5941,{"$f":"Urliste!C5944","v":3},980,0.1649553947146945,1059,0.17825281939067497,963,0.16209392358188857,2939,0.49469786231274199,5941,1]
[null,5946,{"$f":"Urliste!C5949","v":6},981,0.16498486377396568,1060,0.17827110662630341,963,0.16195761856710394,2942,0.49478641103262699,5946,1]
[null,5951,{"$f":"Urliste!C5954","v":2},981,0.16484624432868425,1061,0.17828936313224669,963,0.1618215425978827,2946,0.49504284994118636,5951,1]
[null,5953,{"$f":"Urliste!C5956","v":5},981,0.16479086175037796,1061,0.17822946413572988,963,0.16176717621367379,2948,0.49521249790021837,5953,1]
[null,5956,{"$f":"Urliste!C5959","v":2},981,0.16470785762256548,1062,0.17830758898589658,964,0.16185359301544661,2949,0.49513096037609133,5956,1]
[null,5961,{"$f":"Urliste!C5964","v":2},982,0.16473746015769167,1063,0.17832578426438517,964,0.16171783257842645,2952,0.49521892299949671,5961,1]
[null,5966,{"$f":"Urliste!C5969","v":2},983,0.16476701307408648,1065,0.17851156553804895,964,0.1615822996982903,2954,0.49513912168957425,5966,0.99999999999999989]
[null,5971,{"$f":"Urliste!C5974","v":6},983,0.16462904036174844,1066,0.17852955953776586,964,0.16144699380338301,2958,0.49539440629710269,5971,0.99999999999999989]
[null,5972,{"$f":"Urliste!C5975","v":3},983,0.16460147354320162,1066,0.17849966510381782,965,0.16158740790354989,2958,0.49531145344943067,5972,1]
[null,5978,{"$f":"Urliste!C5981","v":5},983,0.1644362663098026,1067,0.17848778855804617,965,0.16142522582803615,2963,0.49565071930411508,5978,1]
[null,5981,{"$f":"Urliste!C5984","v":5},983,0.16435378699214179,1068,0.17856545728139106,965,0.16134425681324194,2965,0.49573649891322519,5981,0.99999999999999989]
[null,5986,{"$f":"Urliste!C5989","v":5},984,0.16438356164383561,1068,0.17841630471099232,966,0.16137654527230202,2968,0.49582358837287005,5986,1]
[null,5987,{"$f":"Urliste!C5990","v":1},985,0.16452313345582095,1068,0.17838650409219978,966,0.16134959078002339,2968,0.4957407716719559,5987,1]
[null,5992,{"$f":"Urliste!C5995","v":2},986,0.16455273698264353,1069,0.1784045393858478,966,0.16121495327102803,2971,0.49582777036048065,5992,0.99999999999999989]
[null,5996,{"$f":"Urliste!C5999","v":2},987,0.16460973982655103,1072,0.17878585723815876,966,0.16110740493662443,2971,0.49549699799866576,5996,1]
[null,6001,{"$f":"Urliste!C6004","v":5},987,0.16447258790201633,1075,0.17913681053157807,966,0.16097317113814363,2973,0.49541743042826197,6001,1]
[null,6002,{"$f":"Urliste!C6005","v":5},{"$f":"IF(C6023=1,D6022+1,D6022)","v":987},{"$f":"D6023/B6023","v":0.16444518493835389},{"$f":"IF(C6023=2,F6022+1,F6022)","v":1075},{"$f":"F6023/B6023","v":0.17910696434521825},{"$f":"IF(C6023=3,H6022+1,H6022)","v":966},{"$f":"H6023/B6023","v":0.16094635121626125},{"$f":"IF(C6023>3,J6022+1,J6022)","v":2974},{"$f":"J6023/B6023","v":0.49550149950016659},{"$f":"SUM(D6023,J6023,H6023,F6023)","v":6002},{"$f":"SUM(K6023,I6023,G6023,E6023)","v":1}]
[null,6007,{"$f":"Urliste!C6010","v":4},987,0.16430830697519561,1076,0.17912435491926088,967,0.16097885799900116,2977,0.49558848010654238,6007,1]
[null,6012,{"$f":"Urliste!C6015","v":3},987,0.16417165668662675,1078,0.17930805056553559,969,0.16117764471057885,2978,0.4953426480372588,6012,1]
[null,6014,{"$f":"Urliste!C6017","v":6},987,0.16411706019288327,1078,0.17924842035251082,969,0.16112404389757234,2980,0.49551047555703359,6014,1]
[null,6017,{"$f":"Urliste!C6020","v":6},987,0.16403523350506896,1079,0.17932524513877349,970,0.16120990526840617,2981,0.49542961608775138,6017,1]
[null,6022,{"$f":"Urliste!C6025","v":6},988,0.16406509465293923,1081,0.17950846894719363,970,0.1610760544669545,2983,0.49535038193291264,6022,1]
[null,6027,{"$f":"Urliste!C6030","v":3},989,0.164094906255185,1081,0.17935954869752779,971,0.16110834577733532,2986,0.49543719926995189,6027,1]
[null,6032,{"$f":"Urliste!C6035","v":4},989,0.16395888594164457,1081,0.17921087533156499,972,0.16114058355437666,2990,0.49568965517241381,6032,1]
[null,6033,{"$f":"Urliste!C6036","v":4},989,0.16393170893419526,1081,0.17918117023039948,972,0.16111387369467928,2991,0.49577324714072601,6033,1]
[null,6039,{"$f":"Urliste!C6042","v":5},990,0.16393442622950818,1081,0.17900314621626098,972,0.16095380029806258,2996,0.49610862725616822,6039,1]
[null,6042,{"$f":"Urliste!C6045","v":6},991,0.1640185369083085,1081,0.17891426679907316,973,0.16103939093015557,2997,0.49602780536246277,6042,1]
[null,6047,{"$f":"Urliste!C6050","v":2},993,0.16421365966595006,1084,0.17926244418720028,973,0.16090623449644451,2997,0.49561766165040516,6047,1]
[null,6048,{"$f":"Urliste!C6051","v":6},993,0.16418650793650794,1084,0.17923280423280424,973,0.16087962962962962,2998,0.4957010582010582,6048,1]
[null,6053,{"$f":"Urliste!C6056","v":5},996,0.16454650586486039,1084,0.17908475136296051,973,0.16074673715512969,3000,0.49562200561704939,6053,1]
[null,6057,{"$f":"Urliste!C6060","v":2},996,0.16443784051510649,1085,0.17913158329205878,974,0.16080567937923065,3002,0.49562489681360411,6057,1]
[null,6062,{"$f":"Urliste!C6065","v":4},997,0.16446717255031343,1085,0.17898383371824481,976,0.16100296931705707,3004,0.49554602441438467,6062,0.99999999999999989]
[null,6063,{"$f":"Urliste!C6066","v":4},997,0.1644400461817582,1085,0.17895431304634668,976,0.16097641431634505,3005,0.49562922645555008,6063,1]
[null,6068,{"$f":"Urliste!C6071","v":4},998,0.16446934739617666,1087,0.17913645352669744,976,0.16084377059986815,3007,0.49555042847725772,6068,1]
[null,6073,{"$f":"Urliste!C6076","v":4},1001,0.16482792688951095,1088,0.17915363082496294,976,0.16071134529886383,3008,0.49530709698666225,6073,1]
[null,6075,{"$f":"Urliste!C6078","v":5},1001,0.16477366255144033,1088,0.17909465020576132,976,0.16065843621399176,3010,0.49547325102880657,6075,1]
[null,6078,{"$f":"Urliste!C6081","v":6},1001,0.16469233300427771,1089,0.17917077986179664,977,0.16074366567949983,3011,0.49539322145442583,6078,1]
[null,6083,{"$f":"Urliste!C6086","v":5},1002,0.16472135459477233,1089,0.17902350813743217,979,0.16094032549728751,3013,0.49531481177050796,6083,1]
[null,6088,{"$f":"Urliste!C6091","v":4},1002,0.16458607095926411,1089,0.17887647831800263,980,0.16097240473061761,3017,0.49556504599211565,6088,1]
[null,6093,{"$f":"Urliste!C6096","v":1},1003,0.16461513211882489,1089,0.17872968980797638,980,0.16084030855079601,3021,0.49581486952240278,6093,1.0000000000000002]
[null,6094,{"$f":"Urliste!C6097","v":2},1003,0.16458811946176566,1090,0.1788644568427962,980,0.1608139153265507,3021,0.49573350836888741,6094,0.99999999999999989]
[null,6100,{"$f":"Urliste!C6103","v":5},1004,0.16459016393442624,1090,0.17868852459016393,982,0.16098360655737706,3024,0.49573770491803276,6100,1]
[null,6103,{"$f":"Urliste!C6106","v":3},1004,0.16450925774209404,1090,0.17860068818613797,985,0.16139603473701458,3024,0.4954940193347534,6103,0.99999999999999989]
[null,6108,{"$f":"Urliste!C6111","v":3},1004,0.16437459070072036,1091,0.1786182056319581,986,0.16142763588736084,3027,0.49557956777996071,6108,1]
[null,6109,{"$f":"Urliste!C6112","v":2},1004,0.16434768374529382,1092,0.17875266000982157,986,0.1614012113275495,3027,0.49549844491733508,6109,1]
[null,6114,{"$f":"Urliste!C6117","v":4},1004,0.16421328099443899,1092,0.17860647693817469,987,0.16143277723258095,3031,0.49574746483480536,6114,1]
[null,6118,{"$f":"Urliste!C6121","v":6},1004,0.16410591696632887,1092,0.17848970251716248,987,0.16132723112128147,3035,0.49607714939522718,6118,1]
[null,6123,{"$f":"Urliste!C6126","v":2},1005,0.16413522782949536,1095,0.17883390494855464,988,0.16135881104033969,3035,0.49567205618161031,6123,1]
[null,6124,{"$f":"Urliste!C6127","v":6},1005,0.16410842586544741,1095,0.17880470280862182,988,0.16133246244284782,3036,0.49575440888308298,6124,1]
[null,6129,{"$f":"Urliste!C6132","v":6},1005,0.16397454723445912,1095,0.17865883504650024,990,0.16152716593245228,3039,0.49583945178658834,6129,1]
[null,6134,{"$f":"Urliste!C6137","v":2},1006,0.16400391261819366,1096,0.17867623084447343,991,0.16155852624714706,3041,0.49576133029018588,6134,1]
[null,6136,{"$f":"Urliste!C6139","v":4},1006,0.16395045632333768,1096,0.17861799217731422,992,0.16166883963494133,3042,0.49576271186440679,6136,1]
[null,6139,{"$f":"Urliste!C6142","v":4},1007,0.16403323016777976,1097,0.17869359830591303,992,0.16158983547809089,3043,0.49568333604821629,6139,1]
[null,6144,{"$f":"Urliste!C6147","v":1},1008,0.1640625,1100,0.17903645833333334,992,0.16145833333333334,3044,0.49544270833333331,6144,1]
[null,6149,{"$f":"Urliste!C6152","v":4},1008,0.1639290941616523,1101,0.1790535046349,992,0.16132704504797529,3048,0.49569035615547241,6149,1]
[null,6154,{"$f":"Urliste!C6157","v":1},1009,0.163958401039974,1103,0.17923301917452064,992,0.16119597010074749,3050,0.4956126096847579,6154,1]
[null,6155,{"$f":"Urliste!C6158","v":3},1009,0.16393176279447605,1103,0.17920389926888708,993,0.16133225020308692,3050,0.49553208773354995,6155,1]
[null,6161,{"$f":"Urliste!C6164","v":1},1013,0.16442136016880377,1104,0.17919168966076934,994,0.16133744521993182,3050,0.49504950495049505,6161,1]
[null,6164,{"$f":"Urliste!C6167","v":2},1013,0.16434133679428942,1105,0.17926670992861779,994,0.16125892277741727,3052,0.49513303049967555,6164,1]
[null,6169,{"$f":"Urliste!C6172","v":2},1013,0.16420813746150106,1106,0.17928351434592316,994,0.16112822175393093,3056,0.49538012643864482,6169,1]
[null,6170,{"$f":"Urliste!C6173","v":6},1013,0.16418152350081036,1106,0.17925445705024312,994,0.16110210696920582,3057,0.4954619124797407,6170,1]
[null,6175,{"$f":"Urliste!C6178","v":4},1013,0.16404858299595143,1107,0.17927125506072875,994,0.16097165991902834,3061,0.49570850202429151,6175,1]
[null,6179,{"$f":"Urliste!C6182","v":3},1014,0.1641042239844635,1107,0.1791552031072989,997,0.16135296973620328,3061,0.49538760317203429,6179,1]
[null,6184,{"$f":"Urliste!C6187","v":5},1014,0.16397153945666235,1107,0.17901034928848641,998,0.16138421733505823,3065,0.49563389391979301,6184,1]
[null,6185,{"$f":"Urliste!C6188","v":3},1014,0.1639450282942603,1107,0.17898140662894099,999,0.16151980598221505,3065,0.49555375909458366,6185,1]
[null,6190,{"$f":"Urliste!C6193","v":1},1015,0.16397415185783523,1107,0.17883683360258482,999,0.16138933764135702,3069,0.49579967689822296,6190,1]
[null,6195,{"$f":"Urliste!C6198","v":5},1015,0.16384180790960451,1107,0.17869249394673123,1001,0.16158192090395479,3072,0.49588377723970944,6195,1]
[null,6197,{"$f":"Urliste!C6200","v":6},1016,0.16395029853154752,1107,0.17863482330159755,1001,0.16152977247055025,3073,0.49588510569630467,6197,1]
[null,6200,{"$f":"Urliste!C6203","v":2},1016,0.16387096774193549,1108,0.17870967741935484,1001,0.16145161290322579,3075,0.49596774193548387,6200,1]
[null,6205,{"$f":"Urliste!C6208","v":1},1017,0.16390008058017727,1109,0.17872683319903304,1002,0.16148267526188559,3077,0.49589041095890413,6205,1]
[null,6210,{"$f":"Urliste!C6213","v":5},1018,0.16392914653784219,1109,0.17858293075684381,1003,0.16151368760064413,3080,0.49597423510466987,6210,1]
[null,6215,{"$f":"Urliste!C6218","v":2},1018,0.16379726468222044,1112,0.17892196299275945,1003,0.16138374899436847,3082,0.49589702333065167,6215,1]
[null,6216,{"$f":"Urliste!C6219","v":2},1018,0.16377091377091377,1113,0.17905405405405406,1003,0.16135778635778636,3082,0.49581724581724584,6216,1]
[null,6222,{"$f":"Urliste!C6225","v":4},1019,0.163773706203793,1114,0.17904210864673739,1003,0.16120218579234974,3086,0.4959819993571199,6222,1]
[null,6225,{"$f":"Urliste!C6228","v":3},1019,0.16369477911646588,1114,0.17895582329317269,1005,0.16144578313253011,3087,0.49590361445783132,6225,1]
[null,6230,{"$f":"Urliste!C6233","v":1},1021,0.16388443017656501,1114,0.17881219903691814,1005,0.16131621187800962,3090,0.4959871589085072,6230,1]
[null,6231,{"$f":"Urliste!C6234","v":3},1021,0.1638581287112823,1114,0.17878350184561065,1006,0.16145081046380999,3090,0.49590755897929706,6231,1]
[null,6236,{"$f":"Urliste!C6239","v":2},1021,0.16372674791533035,1116,0.17896087235407312,1006,0.16132135984605517,3093,0.49599101988454136,6236,1]
[null,6240,{"$f":"Urliste!C6243","v":4},1022,0.16378205128205128,1116,0.17884615384615385,1006,0.16121794871794873,3096,0.49615384615384617,6240,1]
[null,6245,{"$f":"Urliste!C6248","v":4},1024,0.16397117694155325,1117,0.17886309047237789,1006,0.1610888710968775,3098,0.49607686148919133,6245,1]
[null,6246,{"$f":"Urliste!C6249","v":5},1024,0.16394492475184116,1117,0.17883445405059237,1006,0.16106308037143771,3099,0.49615754082612873,6246,1]
[null,6251,{"$f":"Urliste!C6254","v":3},1025,0.16397376419772836,1117,0.17869140937450009,1007,0.16109422492401215,3102,0.49624060150375937,6251,1]
[null,6256,{"$f":"Urliste!C6259","v":6},1026,0.16400255754475704,1117,0.17854859335038364,1009,0.1612851662404092,3104,0.49616368286445012,6256,1]
[null,6258,{"$f":"Urliste!C6261","v":5},{"$f":"IF(C6279=1,D6278+1,D6278)","v":1027},{"$f":"D6279/B6279","v":0.16410993927772452},{"$f":"IF(C6279=2,F6278+1,F6278)","v":1117},{"$f":"F6279/B6279","v":0.17849153084052413},{"$f":"IF(C6279=3,H6278+1,H6278)","v":1009},{"$f":"H6279/B6279","v":0.16123362096516458},{"$f":"IF(C6279>3,J6278+1,J6278)","v":3105},{"$f":"J6279/B6279","v":0.49616490891658677},{"$f":"SUM(D6279,J6279,H6279,F6279)","v":6258},{"$f":"SUM(K6279,I6279,G6279,E6279)","v":1}]
[null,6261,{"$f":"Urliste!C6264","v":4},1027,0.16403130490337006,1117,0.17840600543044241,1009,0.16115636479795559,3108,0.49640632486823189,6261,0.99999999999999989]
[null,6266,{"$f":"Urliste!C6269","v":4},1028,0.16406000638365784,1118,0.17842323651452283,1009,0.16102776891158635,3111,0.49648898819023302,6266,1]
[null,6271,{"$f":"Urliste!C6274","v":5},1030,0.16424812629564664,1118,0.17828097592090575,1009,0.16089937808961888,3114,0.49657151969382873,6271,1]
[null,6276,{"$f":"Urliste!C6279","v":1},1031,0.16427660930529001,1118,0.1781389420012747,1010,0.16093052899936264,3117,0.49665391969407263,6276,0.99999999999999989]
[null,6277,{"$f":"Urliste!C6280","v":3},1031,0.16425043810737613,1118,0.17811056237055919,1011,0.16106420264457544,3117,0.49657479687748923,6277,1]
[null,6283,{"$f":"Urliste!C6286","v":5},1032,0.16425274550374025,1119,0.17809963393283462,1011,0.16091039312430366,3121,0.49673722743912146,6283,1]
[null,6286,{"$f":"Urliste!C6289","v":6},1032,0.16417435571110403,1119,0.17801463569837736,1013,0.16115176582882595,3122,0.49665924276169265,6286,1]
[null,6291,{"$f":"Urliste!C6294","v":1},1034,0.16436178667938325,1119,0.17787315212207916,1013,0.16102368462883485,3125,0.49674137656970274,6291,1]
[null,6292,{"$f":"Urliste!C6295","v":4},1034,0.16433566433566432,1119,0.17784488239033694,1013,0.16099809281627464,3126,0.49682136045772407,6292,1]
[null,6297,{"$f":"Urliste!C6300","v":5},1034,0.16420517706844528,1120,0.17786247419406068,1014,0.16102906145783707,3129,0.49690328727965699,6297,1]
[null,6301,{"$f":"Urliste!C6304","v":5},1034,0.16410093635930806,1121,0.17790826852880495,1014,0.16092683700999841,3132,0.49706395810188858,6301,1]
[null,6306,{"$f":"Urliste!C6309","v":3},1034,0.16397082143989852,1122,0.17792578496669839,1015,0.16095781795115763,3135,0.49714557564224549,6306,1]
[null,6307,{"$f":"Urliste!C6310","v":2},1034,0.1639448232123038,1123,0.178056128111622,1015,0.1609322974472808,3135,0.4970667512287934,6307,1]
[null,6312,{"$f":"Urliste!C6315","v":1},1035,0.16397338403041825,1125,0.17823193916349811,1016,0.16096324461343473,3136,0.49683143219264891,6312,1]
[null,6317,{"$f":"Urliste!C6320","v":5},1036,0.16400189963590311,1126,0.17824916890929238,1017,0.16099414278929872,3138,0.49675478866550576,6317,1]
[null,6322,{"$f":"Urliste!C6325","v":4},{"$f":"IF(C6343=1,D6342+1,D6342)","v":1038},{"$f":"D6343/B6343","v":0.16418854792787094},{"$f":"IF(C6343=2,F6342+1,F6342)","v":1127},{"$f":"F6343/B6343","v":0.17826637140145524},{"$f":"IF(C6343=3,H6342+1,H6342)","v":1017},{"$f":"H6343/B6343","v":0.16086681429927238},{"$f":"IF(C6343>3,J6342+1,J6342)","v":3140},{"$f":"J6343/B6343","v":0.49667826637140144},{"$f":"SUM(D6343,J6343,H6343,F6343)","v":6322},{"$f":"SUM(K6343,I6343,G6343,E6343)","v":1}]
[null,6324,{"$f":"Urliste!C6327","v":3},1039,0.16429475015812778,1127,0.17820999367488932,1018,0.16097406704617331,3140,0.49652118912080961,6324,1]
[null,6327,{"$f":"Urliste!C6330","v":1},1041,0.16453295400663823,1128,0.17828354670459934,1018,0.16089773984510827,3140,0.49628575944365416,6327,1]
[null,6332,{"$f":"Urliste!C6335","v":5},1042,0.16456096020214783,1128,0.17814276689829439,1019,0.1609286165508528,3143,0.496367656348705,6332,1]
[null,6337,{"$f":"Urliste!C6340","v":2},1044,0.16474672557992742,1130,0.17831781600126242,1020,0.160959444532113,3143,0.49597601388669715,6337,1]
[null,6338,{"$f":"Urliste!C6341","v":5},1044,0.16472073209214264,1130,0.17828968128747238,1020,0.16093404859577154,3144,0.49605553802461344,6338,1]
[null,6344,{"$f":"Urliste!C6347","v":1},1045,0.16472257250945777,1131,0.17827868852459017,1021,0.16093947036569986,3147,0.49605926860025223,6344,1]
[null,6347,{"$f":"Urliste!C6350","v":4},1045,0.16464471403812825,1132,0.17835197731211597,1021,0.16086340003151095,3149,0.49613990861824486,6347,1]
[null,6352,{"$f":"Urliste!C6355","v":3},1046,0.16467254408060453,1132,0.17821158690176322,1023,0.16105163727959698,3151,0.49606423173803527,6352,0.99999999999999989]
[null,6353,{"$f":"Urliste!C6356","v":5},1046,0.16464662364237367,1132,0.17818353533763576,1023,0.16102628679364081,3152,0.49614355422634976,6353,1]
[null,6358,{"$f":"Urliste!C6361","v":1},1048,0.16483170808430325,1132,0.17804340987731992,1024,0.16105693614344133,3154,0.49606794589493552,6358,1]
[null,6362,{"$f":"Urliste!C6365","v":1},1050,0.16504243948443886,1132,0.17793146809179503,1025,0.16111285759195221,3155,0.49591323483181388,6362,1]
[null,6367,{"$f":"Urliste!C6370","v":6},1050,0.16491283178891158,1132,0.17779173865242656,1025,0.16098633579393748,3160,0.49630909376472437,6367,1]
[null,6368,{"$f":"Urliste!C6371","v":4},1050,0.16488693467336685,1132,0.17776381909547739,1025,0.16096105527638191,3161,0.49638819095477388,6368,1]
[null,6373,{"$f":"Urliste!C6376","v":2},1051,0.16491448297505099,1134,0.17793817668288089,1026,0.16099168366546368,3162,0.49615565667660444,6373,1]
[null,6378,{"$f":"Urliste!C6381","v":3},1051,0.16478519912198181,1134,0.17779868297271872,1028,0.16117905299466917,3165,0.4962370649106303,6378,1]
[null,6383,{"$f":"Urliste!C6386","v":5},1052,0.1648127839573868,1134,0.17765940780197401,1029,0.16120946263512456,3168,0.49631834560551463,6383,1]
[null,6385,{"$f":"Urliste!C6388","v":3},1052,0.16476115896632734,1134,0.17760375880971027,1030,0.16131558339859045,3169,0.49631949882537196,6385,1]
[null,6388,{"$f":"Urliste!C6391","v":2},1052,0.16468378209142143,1135,0.17767689417658108,1030,0.16123982467125861,3171,0.49639949906073888,6388,1]
[null,6393,{"$f":"Urliste!C6396","v":6},1053,0.1647114030971375,1137,0.17785077428437354,1030,0.1611137181292038,3173,0.49632410448928516,6393,1]
[null,6398,{"$f":"Urliste!C6401","v":3},1053,0.16458268208815255,1138,0.17786808377618005,1032,0.16130040637699281,3175,0.49624882775867457,6398,0.99999999999999989]
[null,6399,{"$f":"Urliste!C6402","v":6},1053,0.16455696202531644,1138,0.17784028754492889,1032,0.16127519924988279,3176,0.49632755117987187,6399,1]
[null,6403,{"$f":"Urliste!C6406","v":1},1057,0.16507886928002499,1138,0.17772918944244886,1032,0.16117444947680776,3176,0.49601749180071841,6403,1]
[null,6408,{"$f":"Urliste!C6411","v":5},1057,0.16495006242197252,1139,0.1777465667915106,1033,0.16120474406991261,3179,0.49609862671660426,6408,1]
[null,6413,{"$f":"Urliste!C6416","v":5},1058,0.16497738967721814,1139,0.1776079837829409,1033,0.16107905816310619,3183,0.49633556837673476,6413,1]
[null,6414,{"$f":"Urliste!C6417","v":2},1058,0.16495166822575616,1140,0.17773620205799812,1033,0.16105394449641408,3183,0.49625818521983162,6414,0.99999999999999989]
[null,6419,{"$f":"Urliste!C6422","v":5},1059,0.16497896868671133,1141,0.17775354416575789,1033,0.1609284935348185,3186,0.49633899361271228,6419,1]
[null,6423,{"$f":"Urliste!C6426","v":1},1060,0.16503191654989879,1141,0.17764284602210806,1033,0.16082827339249572,3189,0.49649696403549742,6423,1]
[null,6428,{"$f":"Urliste!C6431","v":1},1061,0.16505911636589918,1141,0.17750466708151835,1033,0.16070317361543249,3193,0.49673304293714998,6428,1]
[null,6429,{"$f":"Urliste!C6432","v":3},1061,0.16503344221496344,1141,0.17747705708508321,1034,0.16083372219629802,3193,0.49665577850365533,6429,1]
[null,6434,{"$f":"Urliste!C6437","v":4},1061,0.16490519117189928,1142,0.17749456014920734,1035,0.16086415915449176,3196,0.49673608952440163,6434,1]
[null,6439,{"$f":"Urliste!C6442","v":3},1063,0.16508774654449448,1142,0.1773567324118652,1036,0.16089454884298804,3198,0.49666097220065225,6439,1]
[null,6444,{"$f":"Urliste!C6447","v":5},1065,0.16527001862197394,1142,0.17721911855990069,1036,0.16076970825574177,3201,0.4967411545623836,6444,1]
[null,6446,{"$f":"Urliste!C6449","v":6},1065,0.16521874030406453,1142,0.17716413279553211,1036,0.16071982624883649,3203,0.49689730065156684,6446,1]
[null,6449,{"$f":"Urliste!C6452","v":1},1066,0.16529694526283145,1142,0.17708171809582882,1037,0.16080012405024036,3204,0.4968212125910994,6449,1]
[null,6454,{"$f":"Urliste!C6457","v":4},1068,0.165478772854044,1143,0.17709947319491787,1037,0.16067555004648279,3206,0.49674620390455532,6454,0.99999999999999989]
[null,6459,{"$f":"Urliste!C6462","v":3},1068,0.1653506734788667,1144,0.17711720080507817,1038,0.16070599163957269,3209,0.49682613407648241,6459,1]
[null,6460,{"$f":"Urliste!C6463","v":2},1068,0.16532507739938079,1145,0.17724458204334365,1038,0.16068111455108358,3209,0.49674922600619192,6460,1]
[null,6464,{"$f":"Urliste!C6467","v":6},1068,0.16522277227722773,1146,0.17728960396039603,1039,0.16073638613861385,3211,0.49675123762376239,6464,1]
[null,6469,{"$f":"Urliste!C6472","v":6},1069,0.16524965218735507,1148,0.17746174060905859,1039,0.16061215025506262,3213,0.49667645694852375,6469,1]
[null,6474,{"$f":"Urliste!C6477","v":1},1070,0.16527649057769539,1148,0.17732468334877974,1041,0.16079703429101019,3215,0.49660179178251468,6474,1]
[null,6475,{"$f":"Urliste!C6478","v":5},1070,0.16525096525096525,1148,0.17729729729729729,1041,0.16077220077220078,3216,0.49667953667953668,6475,1]
[null,6480,{"$f":"Urliste!C6483","v":3},1070,0.16512345679012347,1148,0.17716049382716048,1043,0.16095679012345679,3219,0.49675925925925923,6480,1]
[null,6485,{"$f":"Urliste!C6488","v":4},1070,0.16499614494988435,1149,0.17717810331534309,1044,0.16098689282960679,3222,0.49683885890516577,6485,1]
[null,6489,{"$f":"Urliste!C6492","v":1},1072,0.16520265063954384,1150,0.17722299275697334,1044,0.16088765603328711,3223,0.4966867005701957,6489,1]
[null,6490,{"$f":"Urliste!C6493","v":6},1072,0.16517719568567027,1150,0.17719568567026195,1044,0.16086286594761171,3224,0.49676425269645608,6490,1]
[null,6495,{"$f":"Urliste!C6498","v":5},1074,0.16535796766743649,1150,0.17705927636643573,1045,0.1608929946112394,3226,0.49668976135488835,6495,1]
[null,6500,{"$f":"Urliste!C6503","v":5},1074,0.16523076923076924,1154,0.17753846153846153,1045,0.16076923076923078,3227,0.49646153846153845,6500,1]
[null,6505,{"$f":"Urliste!C6508","v":3},1074,0.16510376633358956,1155,0.17755572636433511,1047,0.1609531129900077,3229,0.49638739431206763,6505,1]
[null,6507,{"$f":"Urliste!C6510","v":4},1074,0.16505301982480405,1155,0.17750115260488705,1047,0.16090364223144307,3231,0.49654218533886585,6507,1]
[null,6510,{"$f":"Urliste!C6513","v":6},1076,0.16528417818740399,1155,0.17741935483870969,1047,0.16082949308755759,3232,0.49646697388632871,6510,1]
[null,6515,{"$f":"Urliste!C6518","v":5},1077,0.16531082118188795,1157,0.17759017651573292,1048,0.16085955487336914,3233,0.49623944742900999,6515,1]
[null,6520,{"$f":"Urliste!C6523","v":2},1078,0.16533742331288342,1158,0.17760736196319019,1049,0.16088957055214723,3235,0.49616564417177916,6520,1]
[null,6521,{"$f":"Urliste!C6524","v":6},1078,0.16531206870111945,1158,0.17758012574758472,1049,0.16086489802177581,3236,0.49624290752951999,6521,1]
[null,6525,{"$f":"Urliste!C6528","v":4},1079,0.1653639846743295,1158,0.1774712643678161,1049,0.16076628352490421,3239,0.49639846743295019,6525,1]
[null,6530,{"$f":"Urliste!C6533","v":4},1079,0.1652373660030628,1159,0.17748851454823888,1049,0.16064318529862173,3243,0.49663093415007659,6530,1]
[null,6535,{"$f":"Urliste!C6538","v":6},1081,0.16541698546289213,1160,0.17750573833205815,1049,0.1605202754399388,3245,0.49655700076511095,6535,1]
[null,6536,{"$f":"Urliste!C6539","v":4},1081,0.16539167686658507,1160,0.17747858017135862,1049,0.16049571603427173,3246,0.49663402692778458,6536,1]
[null,6541,{"$f":"Urliste!C6544","v":6},1081,0.16526524996177955,1160,0.17734291392753401,1052,0.1608316771135912,3248,0.49656015899709527,6541,1]
[null,6546,{"$f":"Urliste!C6549","v":2},1081,0.16513901619309501,1164,0.1778185151237397,1052,0.16070882981973725,3249,0.49633363886342807,6546,1]
[null,6550,{"$f":"Urliste!C6553","v":4},1082,0.16519083969465648,1164,0.17770992366412214,1054,0.16091603053435113,3250,0.49618320610687022,6550,1]
[null,6551,{"$f":"Urliste!C6554","v":6},1082,0.16516562356892078,1164,0.17768279651961533,1054,0.16089146695161044,3251,0.49626011295985345,6551,1]
[null,6556,{"$f":"Urliste!C6559","v":1},1083,0.16519219035997559,1164,0.17754728492983526,1056,0.16107382550335569,3253,0.49618669920683345,6556,1]
[null,6561,{"$f":"Urliste!C6564","v":2},1084,0.16521871665904589,1166,0.17771681146166743,1057,0.16110349032159732,3254,0.49596098155768936,6561,0.99999999999999989]
[null,6566,{"$f":"Urliste!C6569","v":6},1084,0.16509290283277489,1167,0.17773378007919585,1057,0.16098081023454158,3258,0.49619250685348765,6566,0.99999999999999989]
[null,6568,{"$f":"Urliste!C6571","v":3},1084,0.16504263093788063,1167,0.17767965895249696,1059,0.16123629719853838,3258,0.49604141291108406,6568,1]
[null,6571,{"$f":"Urliste!C6574","v":4},1084,0.16496728047481357,1167,0.17759853903515446,1059,0.16116268452290367,3261,0.49627149596712827,6571,0.99999999999999989]
[null,6576,{"$f":"Urliste!C6579","v":4},1084,0.16484184914841848,1167,0.17746350364963503,1061,0.16134428223844283,3264,0.49635036496350365,6576,1]
[null,6581,{"$f":"Urliste!C6584","v":2},1087,0.16517246619054854,1168,0.17748062604467407,1061,0.16122169882996504,3265,0.49612520893481232,6581,1]
[null,6582,{"$f":"Urliste!C6585","v":4},1087,0.16514737161956852,1168,0.17745366150106351,1061,0.16119720449711333,3266,0.49620176238225461,6582,0.99999999999999989]
[null,6586,{"$f":"Urliste!C6589","v":2},1088,0.16519890677194049,1169,0.17749772244154266,1061,0.16109930154873975,3268,0.4962040692377771,6586,0.99999999999999989]
[null,6591,{"$f":"Urliste!C6594","v":2},1089,0.16522530723714154,1170,0.17751479289940827,1061,0.1609770899711728,3271,0.49628280989227735,6591,1]
[null,6596,{"$f":"Urliste!C6599","v":2},1089,0.16510006064281382,1171,0.17753183747725895,1062,0.16100667070952093,3274,0.49636143117040632,6596,1]
[null,6597,{"$f":"Urliste!C6600","v":1},1090,0.16522661815976961,1171,0.17750492648173413,1062,0.16098226466575716,3274,0.4962861906927391,6597,0.99999999999999989]
[null,6602,{"$f":"Urliste!C6605","v":6},1091,0.16525295365040896,1171,0.17737049378976069,1064,0.16116328385337778,3276,0.4962132687064526,6602,1]
[null,6607,{"$f":"Urliste!C6610","v":1},1093,0.16543060390494929,1172,0.17738761919176632,1064,0.16104131981232025,3278,0.4961404570909641,6607,1]
[null,6611,{"$f":"Urliste!C6614","v":6},1093,0.16533050975646649,1172,0.17728029042504917,1064,0.16094388140977159,3282,0.49644531840871275,6611,0.99999999999999989]
[null,6612,{"$f":"Urliste!C6615","v":2},1093,0.16530550514216577,1173,0.17740471869328495,1064,0.16091954022988506,3282,0.49637023593466423,6612,1]
[null,6617,{"$f":"Urliste!C6620","v":4},1093,0.1651805954359982,1173,0.17727066646516548,1067,0.16125132235151882,3284,0.49629741574731751,6617,1]
[null,6622,{"$f":"Urliste!C6625","v":5},1094,0.1652068861371187,1173,0.17713681667170039,1068,0.16128057988523103,3287,0.49637571730594987,6622,1]
[null,6627,{"$f":"Urliste!C6630","v":1},1096,0.16538403500829937,1173,0.17700316885468537,1069,0.16130979326995623,3289,0.49630300286705903,6627,1]
[null,6629,{"$f":"Urliste!C6632","v":3},1097,0.16548499019459947,1173,0.17694976617891084,1070,0.16141197767385729,3289,0.49615326595263237,6629,0.99999999999999989]
[null,6632,{"$f":"Urliste!C6635","v":3},1098,0.1655609167671894,1173,0.17686972255729794,1071,0.16148974668275029,3290,0.49607961399276235,6632,1]
[null,6637,{"$f":"Urliste!C6640","v":6},1099,0.16558686153382551,1173,0.1767364773240922,1072,0.16151875847521471,3293,0.49615790266686755,6637,0.99999999999999989]
[null,6642,{"$f":"Urliste!C6645","v":1},{"$f":"IF(C6663=1,D6662+1,D6662)","v":1100},{"$f":"D6663/B6663","v":0.16561276723878349},{"$f":"IF(C6663=2,F6662+1,F6662)","v":1175},{"$f":"F6663/B6663","v":0.17690454682324602},{"$f":"IF(C6663=3,H6662+1,H6662)","v":1073},{"$f":"H6663/B6663","v":0.16154772658837699},{"$f":"IF(C6663>3,J6662+1,J6662)","v":3294},{"$f":"J6663/B6663","v":0.49593495934959347},{"$f":"SUM(D6663,J6663,H6663,F6663)","v":6642},{"$f":"SUM(K6663,I6663,G6663,E6663)","v":1}]
[null,6643,{"$f":"Urliste!C6646","v":6},1100,0.16558783682071354,1175,0.176877916603944,1073,0.16152340809875057,3295,0.49601083847659189,6643,1]
[null,6647,{"$f":"Urliste!C6650","v":5},1102,0.16578907777944937,1175,0.17677147585376862,1073,0.16142620731156912,3297,0.49601323905521288,6647,1]
[null,6652,{"$f":"Urliste!C6655","v":4},1105,0.16611545399879735,1175,0.17663860493084788,1074,0.16145520144317499,3298,0.49579073962717979,6652,1]
[null,6657,{"$f":"Urliste!C6660","v":3},1106,0.16614090431125131,1175,0.17650593360372541,1075,0.16148415202042962,3301,0.49586901006459366,6657,0.99999999999999989]
[null,6658,{"$f":"Urliste!C6661","v":2},1106,0.16611595073595675,1176,0.17662961850405526,1075,0.16145989786722739,3301,0.4957945328927606,6658,1]
[null,6663,{"$f":"Urliste!C6666","v":1},1107,0.16614137775776677,1177,0.17664715593576466,1076,0.1614888188503677,3303,0.49572264745610084,6663,1]
[null,6668,{"$f":"Urliste!C6671","v":1},1109,0.16631673665266947,1180,0.17696460707858427,1076,0.16136772645470907,3303,0.49535092981403717,6668,1]
[null,6672,{"$f":"Urliste!C6675","v":6},1109,0.16621702637889688,1181,0.17700839328537171,1076,0.16127098321342925,3306,0.49550359712230213,6672,1]
[null,6673,{"$f":"Urliste!C6676","v":3},1109,0.16619211748838603,1181,0.17698186722613518,1077,0.16139667316049752,3306,0.49542934212498124,6673,1]
[null,6678,{"$f":"Urliste!C6681","v":6},1110,0.16621743036837378,1182,0.17699910152740342,1078,0.16142557651991615,3308,0.49535789158430665,6678,1]
[null,6683,{"$f":"Urliste!C6686","v":4},1111,0.16624270537183899,1182,0.17686667664222655,1078,0.16130480323208141,3312,0.49558581475385305,6683,1]
[null,6688,{"$f":"Urliste!C6691","v":2},1113,0.16641746411483255,1184,0.17703349282296652,1079,0.16133373205741627,3312,0.49521531100478466,6688,1]
[null,6690,{"$f":"Urliste!C6693","v":2},1113,0.1663677130044843,1185,0.17713004484304934,1079,0.16128550074738415,3313,0.49521674140508221,6690,1]
[null,6693,{"$f":"Urliste!C6696","v":1},1114,0.16644255191991633,1185,0.17705064993276556,1079,0.16121320782907517,3315,0.49529359031824294,6693,0.99999999999999989]
[null,6698,{"$f":"Urliste!C6701","v":3},1115,0.16646760226933413,1186,0.17706778142729174,1080,0.16124216183935502,3317,0.49522245446401914,6698,1]
[null,6703,{"$f":"Urliste!C6706","v":4},1116,0.16649261524690437,1186,0.17693570043264209,1080,0.16112188572281069,3321,0.49544979859764282,6703,1]
[null,6704,{"$f":"Urliste!C6707","v":2},1116,0.16646778042959426,1187,0.17705847255369928,1080,0.1610978520286396,3321,0.49537589498806683,6704,1]
[null,6708,{"$f":"Urliste!C6711","v":6},1117,0.16651759093619559,1187,0.17695289206917114,1081,0.16115086463923672,3323,0.49537865235539652,6708,1]
[null,6713,{"$f":"Urliste!C6716","v":1},1118,0.16654252942052733,1187,0.17682109340086399,1083,0.16132876508267541,3325,0.49530761209593327,6713,1]
[null,6718,{"$f":"Urliste!C6721","v":4},1119,0.16656743078297112,1189,0.17698719857100328,1083,0.16120869306341173,3327,0.49523667758261386,6718,1]
[null,6719,{"$f":"Urliste!C6722","v":4},1119,0.16654264027385027,1189,0.17696085727042715,1083,0.16118470010418218,3328,0.49531180235154043,6719,0.99999999999999989]
[null,6724,{"$f":"Urliste!C6727","v":3},1120,0.16656751933372993,1191,0.17712671029149316,1084,0.16121356335514575,3329,0.49509220701963119,6724,1]
[null,6729,{"$f":"Urliste!C6732","v":3},1120,0.16644375092881558,1191,0.17699509585376727,1086,0.16139099420419081,3332,0.49517015901322631,6729,1]
[null,6733,{"$f":"Urliste!C6736","v":4},1120,0.16634486855784938,1193,0.1771869894549235,1086,0.16129511361948612,3334,0.49517302836774096,6733,1]
[null,6734,{"$f":"Urliste!C6737","v":2},1120,0.16632016632016633,1194,0.17730917730917731,1086,0.16127116127116128,3334,0.49509949509949508,6734,1]
[null,6739,{"$f":"Urliste!C6742","v":4},1121,0.16634515506751743,1194,0.17717762279269922,1086,0.16115150615818372,3338,0.49532571598159963,6739,1]
[null,6744,{"$f":"Urliste!C6747","v":3},1122,0.16637010676156583,1197,0.17749110320284697,1087,0.1611803084223013,3338,0.49495848161328587,6744,1]
[null,6749,{"$f":"Urliste!C6752","v":2},1122,0.16624685138539042,1198,0.17750777893021188,1090,0.1615054082086235,3339,0.4947399614757742,6749,1]
[null,6751,{"$f":"Urliste!C6754","v":4},1122,0.16619760035550288,1198,0.17745519182343356,1091,0.16160568804621536,3340,0.49474151977484815,6751,0.99999999999999989]
[null,6754,{"$f":"Urliste!C6757","v":2},1123,0.16627183891027539,1200,0.17767249037607344,1091,0.1615339058335801,3340,0.49452176488007105,6754,1]
[null,6759,{"$f":"Urliste!C6762","v":4},1123,0.1661488385855896,1202,0.17783695812990089,1091,0.16141441041574198,3343,0.4945997928687676,6759,1]
[null,6764,{"$f":"Urliste!C6767","v":3},1123,0.16602602010644588,1203,0.17785334121821408,1092,0.16144293317563571,3346,0.4946777054997043,6764,0.99999999999999989]
[null,6765,{"$f":"Urliste!C6768","v":2},1123,0.16600147819660016,1204,0.17797487065779749,1092,0.1614190687361419,3346,0.49460458240946048,6765,1]
[null,6769,{"$f":"Urliste!C6772","v":2},1123,0.16590338306987737,1206,0.1781651647215246,1092,0.16132368148914167,3348,0.49460777071945633,6769,0.99999999999999989]
[null,6774,{"$f":"Urliste!C6777","v":5},1124,0.16592855033953352,1206,0.17803365810451727,1092,0.16120460584588131,3352,0.4948331857100679,6774,1]
[null,6779,{"$f":"Urliste!C6782","v":1},1125,0.16595368048384718,1207,0.17804985986133648,1093,0.1612332202389733,3354,0.49476323941584305,6779,1]
[null,6780,{"$f":"Urliste!C6783","v":6},1125,0.16592920353982302,1207,0.178023598820059,1093,0.16120943952802361,3355,0.49483775811209441,6780,1]
[null,6785,{"$f":"Urliste!C6788","v":3},1125,0.16580692704495209,1208,0.17803979366249079,1096,0.1615327929255711,3356,0.49462048636698602,6785,1]
[null,6790,{"$f":"Urliste!C6793","v":5},1126,0.1658321060382916,1209,0.1780559646539028,1096,0.1614138438880707,3359,0.49469808541973492,6790,1]
[null,6792,{"$f":"Urliste!C6795","v":2},1126,0.16578327444051827,1210,0.17815076560659598,1096,0.16136631330977622,3360,0.49469964664310956,6792,1]
[null,6795,{"$f":"Urliste!C6798","v":3},1126,0.16571008094186901,1211,0.17821927888153052,1097,0.16144223693892568,3361,0.49462840323767476,6795,1]
[null,6800,{"$f":"Urliste!C6803","v":2},1128,0.16588235294117648,1213,0.17838235294117646,1097,0.1613235294117647,3362,0.49441176470588233,6800,1]
[null,6805,{"$f":"Urliste!C6808","v":2},1129,0.16590742101396033,1215,0.17854518736223365,1097,0.16120499632623073,3364,0.49434239529757529,6805,1]
[null,6810,{"$f":"Urliste!C6813","v":2},1129,0.16578560939794421,1216,0.17856093979441998,1098,0.16123348017621145,3367,0.4944199706314244,6810,1]
[null,6812,{"$f":"Urliste!C6815","v":2},1129,0.16573693482090429,1217,0.17865531415149735,1099,0.16133294186729302,3367,0.49427480916030536,6812,1]
[null,6815,{"$f":"Urliste!C6818","v":5},1129,0.1656639765223771,1218,0.17872340425531916,1100,0.16140865737344093,3368,0.49420396184886278,6815,1]
[null,6820,{"$f":"Urliste!C6823","v":2},1129,0.16554252199413488,1219,0.17873900293255132,1100,0.16129032258064516,3372,0.49442815249266864,6820,1]
[null,6825,{"$f":"Urliste!C6828","v":6},1130,0.16556776556776556,1219,0.17860805860805862,1101,0.16131868131868132,3375,0.49450549450549453,6825,1]
[null,6826,{"$f":"Urliste!C6829","v":4},1130,0.16554351010840904,1219,0.17858189276296513,1101,0.1612950483445649,3376,0.49457954878406096,6826,1]
[null,6830,{"$f":"Urliste!C6833","v":6},1130,0.16544655929721816,1220,0.17862371888726208,1101,0.16120058565153733,3379,0.49472913616398245,6830,1]
[null,6835,{"$f":"Urliste!C6838","v":1},1131,0.16547183613752744,1220,0.17849305047549377,1103,0.16137527432333576,3381,0.49465983906364303,6835,1]
[null,6840,{"$f":"Urliste!C6843","v":5},1133,0.16564327485380118,1220,0.17836257309941519,1103,0.16125730994152046,3384,0.49473684210526314,6840,0.99999999999999989]
[null,6841,{"$f":"Urliste!C6844","v":1},1134,0.16576523900014617,1220,0.17833650051162112,1103,0.16123373775763777,3384,0.49466452273059497,6841,1]
[null,6846,{"$f":"Urliste!C6849","v":3},1134,0.16564417177914109,1220,0.17820625182588373,1106,0.16155419222903886,3386,0.49459538416593629,6846,1]
[null,6851,{"$f":"Urliste!C6854","v":6},1135,0.16566924536564004,1222,0.17836812144212524,1106,0.16143628667347831,3388,0.49452634651875638,6851,1]
[null,6853,{"$f":"Urliste!C6856","v":4},1135,0.16562089595797461,1222,0.17831606595651539,1106,0.16138917262512767,3390,0.49467386546038233,6853,1]
[null,6856,{"$f":"Urliste!C6859","v":3},1136,0.16569428238039674,1222,0.17823803967327889,1108,0.161610268378063,3390,0.4944574095682614,6856,1]
[null,6861,{"$f":"Urliste!C6864","v":4},1136,0.16557353155516688,1222,0.17810814750036438,1109,0.16163824515376768,3394,0.49468007579070106,6861,1]
[null,6866,{"$f":"Urliste!C6869","v":3},1138,0.16574424701427323,1223,0.17812408971744831,1110,0.16166618118263909,3395,0.4944654820856394,6866,1]
[null,6871,{"$f":"Urliste!C6874","v":2},1139,0.16576917479260661,1224,0.17814000873235336,1111,0.16169407655363122,3397,0.49439673992140881,6871,1]
[null,6874,{"$f":"Urliste!C6877","v":3},1140,0.16584230433517602,1224,0.17806226360197847,1112,0.1617689845795752,3398,0.49432644748327031,6874,1]
[null,6876,{"$f":"Urliste!C6879","v":6},1140,0.16579406631762653,1224,0.17801047120418848,1113,0.16186736474694591,3399,0.49432809773123909,6876,0.99999999999999989]
[null,6881,{"$f":"Urliste!C6884","v":2},1143,0.16610957709635227,1226,0.17817177735794215,1113,0.16174974567650049,3399,0.49396889986920506,6881,1]
[null,6886,{"$f":"Urliste!C6889","v":3},1143,0.16598896311356376,1227,0.17818762706941621,1115,0.16192274179494626,3401,0.49390066802207377,6886,1]
[null,6887,{"$f":"Urliste!C6890","v":6},1143,0.16596486133294613,1227,0.17816175402933063,1115,0.1618992304341513,3402,0.49397415420357194,6887,1]
[null,6891,{"$f":"Urliste!C6894","v":3},1143,0.16586852416195036,1228,0.17820345378029315,1116,0.16195037004788854,3404,0.49397765200986793,6891,1]
[null,6896,{"$f":"Urliste!C6899","v":1},1146,0.16618329466357309,1229,0.17821925754060325,1116,0.16183294663573086,3405,0.49376450116009279,6896,1]
[null,6901,{"$f":"Urliste!C6904","v":6},1147,0.16620779597159832,1229,0.1780901318649471,1116,0.16171569337777134,3409,0.49398637878568324,6901,0.99999999999999989]
[null,6902,{"$f":"Urliste!C6905","v":1},1148,0.16632860040567951,1229,0.17806432917994783,1116,0.16169226311214141,3409,0.49391480730223125,6902,1]
[null,6907,{"$f":"Urliste!C6910","v":5},1149,0.16635297524250761,1229,0.17793542782684232,1117,0.1617199942087737,3412,0.49399160272187637,6907,1]
[null,6912,{"$f":"Urliste!C6915","v":3},1150,0.16637731481481483,1230,0.1779513888888889,1118,0.16174768518518517,3414,0.4939236111111111,6912,1]
[null,6914,{"$f":"Urliste!C6917","v":4},1151,0.16647382123228233,1230,0.17789991321955453,1118,0.16170089673126989,3415,0.49392536881689325,6914,1]
[null,6917,{"$f":"Urliste!C6920","v":2},1151,0.16640161919907473,1231,0.17796732687581321,1118,0.16163076478242011,3417,0.4940002891426919,6917,0.99999999999999989]
[null,6922,{"$f":"Urliste!C6925","v":2},1151,0.16628142155446402,1233,0.17812770875469516,1119,0.16165848020803236,3419,0.49393238948280843,6922,1]
[null,6927,{"$f":"Urliste!C6930","v":3},1151,0.16616139743034503,1234,0.17814349646311534,1120,0.16168615562292479,3422,0.49400895048361482,6927,1]
[null,6932,{"$f":"Urliste!C6935","v":1},1152,0.1661858049624928,1236,0.17830351990767454,1121,0.1617137911136757,3423,0.49379688401615696,6932,1]
[null,6935,{"$f":"Urliste!C6938","v":6},1152,0.16611391492429706,1236,0.17822638788752704,1121,0.16164383561643836,3426,0.49401586157173755,6935,0.99999999999999989]
[null,6937,{"$f":"Urliste!C6940","v":4},1152,0.16606602277641633,1236,0.17817500360386335,1121,0.16159723223295372,3428,0.49416174138676661,6937,1]
[null,6942,{"$f":"Urliste!C6945","v":1},1153,0.16609046384327283,1237,0.17819072313454337,1121,0.16148084125612217,3431,0.49423797176606166,6942,1]
[null,6947,{"$f":"Urliste!C6950","v":1},1154,0.16611486972794012,1238,0.17820642003742623,1121,0.16136461782064201,3434,0.49431409241399166,6947,1]
[null,6948,{"$f":"Urliste!C6951","v":3},1154,0.16609096142774898,1238,0.17818077144502015,1122,0.1614853195164076,3434,0.49424294761082327,6948,1]
[null,6953,{"$f":"Urliste!C6956","v":6},1154,0.16597152308356106,1239,0.17819646195886668,1124,0.16165683877462966,3436,0.4941751761829426,6953,1]
[null,6957,{"$f":"Urliste!C6960","v":5},1155,0.16601983613626564,1240,0.17823774615495186,1124,0.16156389248239184,3438,0.49417852522639066,6957,1]
[null,6962,{"$f":"Urliste!C6965","v":6},{"$f":"IF(C6983=1,D6982+1,D6982)","v":1155},{"$f":"D6983/B6983","v":0.16590060327492101},{"$f":"IF(C6983=2,F6982+1,F6982)","v":1241},{"$f":"F6983/B6983","v":0.17825337546681988},{"$f":"IF(C6983=3,H6982+1,H6982)","v":1125},{"$f":"H6983/B6983","v":0.16159149669635162},{"$f":"IF(C6983>3,J6982+1,J6982)","v":3441},{"$f":"J6983/B6983","v":0.49425452456190749},{"$f":"SUM(D6983,J6983,H6983,F6983)","v":6962},{"$f":"SUM(K6983,I6983,G6983,E6983)","v":1}]
[null,6963,{"$f":"Urliste!C6966","v":3},1155,0.16587677725118483,1241,0.17822777538417348,1126,0.16171190578773517,3441,0.49418354157690653,6963,1]
[null,6968,{"$f":"Urliste!C6971","v":1},1156,0.16590126291618829,1242,0.17824339839265213,1126,0.16159586681974741,3444,0.49425947187141217,6968,1]
[null,6973,{"$f":"Urliste!C6976","v":4},1156,0.16578230316936757,1242,0.17811558869926861,1127,0.16162340456044744,3448,0.49447870357091639,6973,1]
[null,6975,{"$f":"Urliste!C6978","v":5},1156,0.1657347670250896,1242,0.17806451612903226,1127,0.16157706093189964,3450,0.4946236559139785,6975,1]
[null,6978,{"$f":"Urliste!C6981","v":4},1156,0.16566351390083117,1242,0.17798796216680998,1128,0.16165090283748926,3452,0.49469762109486959,6978,1]
[null,6983,{"$f":"Urliste!C6986","v":3},1156,0.1655448947443792,1243,0.17800372332808248,1129,0.16167836173564371,3455,0.49477302019189462,6983,1]
[null,6988,{"$f":"Urliste!C6991","v":2},1157,0.1655695477962221,1245,0.17816256439610761,1130,0.16170578133943903,3456,0.49456210646823123,6988,0.99999999999999989]
[null,6993,{"$f":"Urliste!C6996","v":4},1158,0.16559416559416559,1245,0.17803517803517804,1131,0.16173316173316174,3459,0.49463749463749462,6993,1]
[null,6996,{"$f":"Urliste!C6999","v":2},1159,0.16566609491137793,1246,0.17810177244139508,1131,0.16166380789022297,3460,0.49456832475700402,6996,1]
[null,6998,{"$f":"Urliste!C7001","v":6},1159,0.16561874821377537,1246,0.17805087167762218,1131,0.16161760503000858,3462,0.4947127750785939,6998,1]
[null,7003,{"$f":"Urliste!C7006","v":6},1160,0.16564329573040126,1248,0.17820933885477652,1132,0.16164500928173639,3463,0.4945023561330858,7003,1]
[null,7008,{"$f":"Urliste!C7011","v":2},1160,0.16552511415525115,1249,0.17822488584474885,1133,0.16167237442922375,3466,0.49457762557077628,7008,1]
[null,7009,{"$f":"Urliste!C7012","v":3},1160,0.16550149807390499,1249,0.17819945783992011,1134,0.16179198173776574,3466,0.49450706234840919,7009,1]
[null,7014,{"$f":"Urliste!C7017","v":6},1162,0.16566866267465069,1250,0.17821499857428,1134,0.16167664670658682,3468,0.49443969204448246,7014,1]
[null,7018,{"$f":"Urliste!C7021","v":5},1162,0.16557423767455115,1251,0.17825591336563124,1134,0.16158449700769451,3471,0.49458535195212311,7018,0.99999999999999989]
[null,7023,{"$f":"Urliste!C7026","v":4},1163,0.16559874697422755,1253,0.17841378328349708,1135,0.16161184678912147,3472,0.4943756229531539,7023,1]
[null,7024,{"$f":"Urliste!C7027","v":6},1163,0.16557517084282461,1253,0.17838838268792712,1135,0.16158883826879272,3473,0.49444760820045558,7024,1]
[null,7029,{"$f":"Urliste!C7032","v":1},1164,0.16559965855740505,1253,0.17826148812064305,1136,0.16161616161616163,3476,0.49452269170579027,7029,1]
[null,7034,{"$f":"Urliste!C7037","v":3},1164,0.16548194483935172,1254,0.17827694057435314,1137,0.16164344611885129,3479,0.49459766846744385,7034,1]
[null,7036,{"$f":"Urliste!C7039","v":2},1164,0.16543490619670267,1256,0.17851051733939738,1137,0.16159749857873792,3479,0.49445707788516202,7036,1]
[null,7039,{"$f":"Urliste!C7042","v":3},1164,0.16536439835203864,1256,0.17843443670975992,1138,0.16167069185963914,3481,0.49453047307856229,7039,1]
[null,7044,{"$f":"Urliste!C7047","v":5},1165,0.16538898353208403,1257,0.17844974446337308,1138,0.16155593412833616,3484,0.4946053378762067,7044,1]
[null,7049,{"$f":"Urliste!C7052","v":2},1166,0.16541353383458646,1258,0.17846503050078025,1139,0.16158320329124698,3486,0.49453823237338629,7049,0.99999999999999989]
[null,7054,{"$f":"Urliste!C7057","v":5},1166,0.16529628579529346,1259,0.17848029486815992,1140,0.16161043379642756,3489,0.49461298554011907,7054,0.99999999999999989]
[null,7057,{"$f":"Urliste!C7060","v":3},1166,0.16522601672098625,1259,0.17840442114212837,1141,0.16168343488734591,3491,0.49468612724953948,7057,1]
[null,7059,{"$f":"Urliste!C7062","v":3},1166,0.16517920385323701,1259,0.17835387448647116,1143,0.1619209519762006,3491,0.49454596968409126,7059,1]
[null,7064,{"$f":"Urliste!C7067","v":2},1167,0.16520385050962627,1260,0.1783691959229898,1143,0.16180634201585503,3494,0.49462061155152887,7064,1]
[null,7069,{"$f":"Urliste!C7072","v":3},1168,0.1652284623001839,1260,0.17824303296081481,1145,0.16197481963502616,3496,0.49455368510397513,7069,1]
[null,7070,{"$f":"Urliste!C7073","v":1},1169,0.16534653465346535,1260,0.17821782178217821,1145,0.16195190947666196,3496,0.49448373408769447,7070,1]
[null,7075,{"$f":"Urliste!C7078","v":2},1170,0.16537102473498233,1262,0.17837455830388693,1146,0.16197879858657244,3497,0.4942756183745583,7075,1]
[null,7079,{"$f":"Urliste!C7082","v":2},1170,0.1652775815793191,1264,0.17855629326176015,1147,0.16202853510382823,3498,0.4941375900550925,7079,1]
[null,7084,{"$f":"Urliste!C7087","v":3},1171,0.1653020892151327,1264,0.17843026538678713,1149,0.1621964991530209,3500,0.49407114624505927,7084,1]
[null,7085,{"$f":"Urliste!C7088","v":5},1171,0.16527875793930841,1264,0.17840508115737475,1149,0.16217360621030347,3501,0.49414255469301344,7085,1]
[null,7090,{"$f":"Urliste!C7093","v":2},{"$f":"IF(C7111=1,D7110+1,D7110)","v":1172},{"$f":"D7111/B7111","v":0.16530324400564175},{"$f":"IF(C7111=2,F7110+1,F7110)","v":1265},{"$f":"F7111/B7111","v":0.17842031029619182},{"$f":"IF(C7111=3,H7110+1,H7110)","v":1150},{"$f":"H7111/B7111","v":0.16220028208744711},{"$f":"IF(C7111>3,J7110+1,J7110)","v":3503},{"$f":"J7111/B7111","v":0.49407616361071932},{"$f":"SUM(D7111,J7111,H7111,F7111)","v":7090},{"$f":"SUM(K7111,I7111,G7111,E7111)","v":1}]
[null,7095,{"$f":"Urliste!C7098","v":4},1172,0.16518675123326287,1265,0.17829457364341086,1151,0.16222692036645525,3507,0.49429175475687104,7095,1]
[null,7097,{"$f":"Urliste!C7100","v":2},1172,0.16514020008454278,1266,0.17838523319712554,1152,0.16232210793292939,3507,0.49415245878540226,7097,0.99999999999999989]
[null,7100,{"$f":"Urliste!C7103","v":4},1172,0.16507042253521126,1266,0.17830985915492958,1152,0.16225352112676056,3510,0.4943661971830986,7100,1]
[null,7105,{"$f":"Urliste!C7108","v":5},1173,0.16509500351864884,1267,0.17832512315270935,1152,0.16213933849401829,3513,0.49444053483462352,7105,1]
[null,7110,{"$f":"Urliste!C7113","v":4},1174,0.16511954992967651,1268,0.17834036568213785,1153,0.16216596343178621,3515,0.49437412095639943,7110,1]
[null,7115,{"$f":"Urliste!C7118","v":1},1175,0.16514406184118061,1268,0.17821503865073787,1154,0.16219255094869994,3518,0.49444834855938158,7115,0.99999999999999989]
[null,7118,{"$f":"Urliste!C7121","v":4},1176,0.16521494801910649,1268,0.17813992694577127,1154,0.16212419218881707,3520,0.49452093284630516,7118,1]
[null,7120,{"$f":"Urliste!C7123","v":3},1176,0.16516853932584269,1268,0.17808988764044945,1155,0.1622191011235955,3521,0.49452247191011234,7120,1]
[null,7125,{"$f":"Urliste!C7128","v":2},1176,0.16505263157894737,1270,0.17824561403508771,1156,0.16224561403508772,3523,0.4944561403508772,7125,1]
[null,7130,{"$f":"Urliste!C7133","v":3},1177,0.16507713884992986,1270,0.17812061711079943,1158,0.16241234221598877,3525,0.49438990182328191,7130,1]
[null,7131,{"$f":"Urliste!C7134","v":1},1178,0.16519422240919926,1270,0.17809563876034218,1158,0.16238956668068993,3525,0.4943205721497686,7131,1]
[null,7136,{"$f":"Urliste!C7139","v":1},1179,0.16521860986547085,1270,0.17797085201793722,1159,0.1624159192825112,3528,0.4943946188340807,7136,1]
[null,7140,{"$f":"Urliste!C7143","v":2},1179,0.16512605042016806,1272,0.17815126050420169,1160,0.16246498599439776,3529,0.49425770308123251,7140,1]
[null,7145,{"$f":"Urliste!C7148","v":1},1182,0.16543037088873339,1272,0.17802659202239329,1160,0.16235129461161651,3531,0.49419174247725683,7145,1.0000000000000002]
[null,7146,{"$f":"Urliste!C7149","v":3},1182,0.16540722082283796,1272,0.17800167926112512,1161,0.16246851385390429,3531,0.49412258606213266,7146,1]
[null,7151,{"$f":"Urliste!C7154","v":2},1183,0.1654314081946581,1273,0.17801706055097188,1162,0.16249475597818486,3533,0.49405677527618513,7151,0.99999999999999989]
[null,7156,{"$f":"Urliste!C7159","v":6},1184,0.16545556176634993,1273,0.17789267747344886,1163,0.16252096143096703,3536,0.4941307993292342,7156,1]
[null,7158,{"$f":"Urliste!C7161","v":1},1185,0.16554903604358759,1273,0.1778429728974574,1163,0.16247555183012014,3537,0.49413243922883487,7158,1]
[null,7161,{"$f":"Urliste!C7164","v":1},1186,0.16561932690964948,1273,0.17776846809104874,1164,0.16254713028906578,3538,0.49406507471023597,7161,1]
[null,7166,{"$f":"Urliste!C7169","v":4},1186,0.16550376779235279,1274,0.17778397990510744,1164,0.1624337147641641,3542,0.49427853753837564,7166,0.99999999999999989]
[null,7171,{"$f":"Urliste!C7174","v":2},1186,0.16538836982289778,1278,0.17821782178217821,1164,0.16232045739785247,3543,0.49407335099707156,7171,1]
[null,7176,{"$f":"Urliste!C7179","v":4},1186,0.16527313266443702,1279,0.1782329988851728,1164,0.16220735785953178,3547,0.49428651059085843,7176,1]
[null,7179,{"$f":"Urliste!C7182","v":3},1187,0.16534336258531829,1279,0.17815851789942888,1166,0.16241816408970608,3547,0.49407995542554672,7179,1]
[null,7181,{"$f":"Urliste!C7184","v":1},1188,0.16543656872301907,1280,0.17824815485308454,1166,0.16237292856148169,3547,0.4939423478624147,7181,1]
[null,7186,{"$f":"Urliste!C7189","v":1},1191,0.16573893682159754,1280,0.17812413025327026,1166,0.16225994990258838,3549,0.49387698302254385,7186,1]
[null,7191,{"$f":"Urliste!C7194","v":1},1193,0.16590182172159643,1280,0.17800027812543456,1167,0.16228619107217354,3551,0.49381170908079541,7191,1]
[null,7192,{"$f":"Urliste!C7195","v":5},1193,0.16587875417130143,1280,0.17797552836484984,1167,0.16226362625139043,3552,0.4938820912124583,7192,1]
[null,7197,{"$f":"Urliste!C7200","v":4},1194,0.16590245935806586,1281,0.17799082951229678,1168,0.16228984299013477,3554,0.4938168681395026,7197,1]
[null,7201,{"$f":"Urliste!C7204","v":4},1195,0.1659491737258714,1281,0.17789195945007638,1170,0.1624774336897653,3555,0.49368143313428692,7201,1]
[null,7206,{"$f":"Urliste!C7209","v":6},1195,0.16583402719955592,1281,0.17776852622814321,1171,0.16250346933111295,3559,0.49389397724118789,7206,1]
[null,7207,{"$f":"Urliste!C7210","v":3},1195,0.16581101706674067,1281,0.1777438601359789,1172,0.16261967531566532,3559,0.49382544748161511,7207,1]
[null,7212,{"$f":"Urliste!C7215","v":2},1196,0.165834719911259,1282,0.17775929007210206,1174,0.16278424847476428,3560,0.49362174154187466,7212,0.99999999999999989]
[null,7217,{"$f":"Urliste!C7220","v":4},1197,0.1658583899127061,1283,0.17777469862823889,1175,0.16281003186919774,3562,0.49355687958985728,7217,1]
[null,7219,{"$f":"Urliste!C7222","v":6},1197,0.16581243939603824,1283,0.17772544673777532,1175,0.16276492589001246,3564,0.49369718797617401,7219,1]
[null,7222,{"$f":"Urliste!C7225","v":3},1197,0.16574356134034893,1283,0.17765162004984769,1176,0.16283577956244807,3566,0.49376903904735531,7222,1]
[null,7227,{"$f":"Urliste!C7230","v":6},1198,0.16576726165767261,1283,0.17752871177528712,1177,0.16286149162861491,3569,0.49384253493842534,7227,1]
[null,7232,{"$f":"Urliste!C7235","v":2},1198,0.16565265486725664,1285,0.17768252212389379,1178,0.16288716814159293,3571,0.49377765486725661,7232,1]
[null,7237,{"$f":"Urliste!C7240","v":4},1199,0.1656763852425038,1285,0.17755976233245821,1179,0.16291280917507253,3574,0.49385104324996548,7237,1]
[null,7240,{"$f":"Urliste!C7243","v":6},1199,0.16560773480662982,1286,0.1776243093922652,1180,0.16298342541436464,3575,0.49378453038674031,7240,1]
[null,7242,{"$f":"Urliste!C7245","v":3},1200,0.16570008285004142,1286,0.1775752554542944,1181,0.16307649820491577,3575,0.49364816349074842,7242,1]
[null,7247,{"$f":"Urliste!C7250","v":6},1201,0.16572374775769283,1287,0.17759072719746102,1181,0.16296398509728163,3578,0.49372153994756451,7247,1]
[null,7252,{"$f":"Urliste!C7255","v":3},1201,0.16560948703805847,1288,0.17760617760617761,1184,0.16326530612244897,3579,0.49351902923331492,7252,0.99999999999999989]
[null,7253,{"$f":"Urliste!C7256","v":1},1202,0.16572452778160762,1288,0.17758169033503379,1184,0.16324279608437889,3579,0.49345098579897972,7253,1]
[null,7258,{"$f":"Urliste!C7261","v":6},1203,0.16574813998346652,1288,0.17745935519426839,1185,0.16326811793882612,3582,0.49352438688343897,7258,1]
[null,7263,{"$f":"Urliste!C7266","v":4},1204,0.1657717196750654,1288,0.17733718848960484,1185,0.16315572077653862,3586,0.49373537105879112,7263,1]
[null,7267,{"$f":"Urliste!C7270","v":6},1204,0.16568047337278108,1289,0.17737718453281959,1186,0.16320352277418468,3588,0.49373881932021468,7267,1]
[null,7268,{"$f":"Urliste!C7271","v":3},1204,0.16565767749036875,1289,0.17735277930654925,1187,0.16331865712713264,3588,0.49367088607594939,7268,1]
[null,7273,{"$f":"Urliste!C7276","v":2},1204,0.16554379210779596,1291,0.1775058435308676,1187,0.16320637976075897,3591,0.4937439846005775,7273,1]
[null,7278,{"$f":"Urliste!C7281","v":3},1206,0.16570486397361914,1292,0.17752129705963177,1188,0.16323165704863973,3592,0.49354218191810939,7278,1]
[null,7280,{"$f":"Urliste!C7283","v":2},1206,0.16565934065934065,1293,0.17760989010989012,1189,0.16332417582417583,3592,0.49340659340659343,7280,1]
[null,7283,{"$f":"Urliste!C7286","v":5},1207,0.16572840862282026,1293,0.17753672936976519,1189,0.16325689962927364,3594,0.4934779623781409,7283,0.99999999999999989]
[null,7288,{"$f":"Urliste!C7291","v":6},1207,0.16561470911086718,1294,0.17755214050493962,1191,0.16341931942919868,3596,0.49341383095499453,7288,1]
[null,7293,{"$f":"Urliste!C7296","v":2},1208,0.16563828328534211,1295,0.17756753050870697,1193,0.16358151652269298,3597,0.49321266968325794,7293,1]
[null,7298,{"$f":"Urliste!C7301","v":1},1211,0.1659358728418745,1295,0.17744587558235134,1193,0.16346944368320088,3599,0.49314880789257332,7298,1]
[null,7301,{"$f":"Urliste!C7304","v":2},1211,0.16586768935762225,1296,0.17750993014655528,1193,0.16340227366114232,3601,0.49322010683468021,7301,1]
[null,7303,{"$f":"Urliste!C7306","v":5},1212,0.16595919485143093,1296,0.17746131726687664,1193,0.1633575243050801,3602,0.49322196357661235,7303,1]
[null,7308,{"$f":"Urliste!C7311","v":6},1213,0.16598248494800219,1297,0.17747673782156539,1194,0.16338259441707717,3604,0.49315818281335522,7308,0.99999999999999989]
[null,7313,{"$f":"Urliste!C7316","v":4},1213,0.16586900041022837,1298,0.17749213728975796,1195,0.16340763024750443,3607,0.49323123205250924,7313,1]
[null,7314,{"$f":"Urliste!C7317","v":1},1214,0.16598304621274268,1298,0.17746786983866558,1195,0.16338528848783154,3607,0.49316379546076017,7314,1]
[null,7319,{"$f":"Urliste!C7322","v":5},1215,0.1660062850116136,1299,0.17748326274081158,1196,0.16341030195381884,3609,0.49310015029375598,7319,1]
[null,7324,{"$f":"Urliste!C7327","v":4},1216,0.16602949208083015,1300,0.1774986346258875,1196,0.1632987438558165,3612,0.49317312943746588,7324,1]
[null,7328,{"$f":"Urliste!C7331","v":2},1217,0.16607532751091703,1301,0.17753820960698691,1196,0.16320960698689957,3614,0.4931768558951965,7328,1]
[null,7329,{"$f":"Urliste!C7332","v":6},1217,0.16605266748533223,1301,0.17751398553690817,1196,0.16318733797243826,3615,0.49324600900532134,7329,1]
[null,7334,{"$f":"Urliste!C7337","v":2},1218,0.16607581128988275,1303,0.17766566675756748,1196,0.16307608399236434,3617,0.49318243796018546,7334,1]
[null,7339,{"$f":"Urliste!C7342","v":1},1220,0.16623518190489167,1303,0.17754462460825726,1196,0.16296498160512332,3620,0.49325521188172777,7339,1]
[null,7342,{"$f":"Urliste!C7345","v":6},1220,0.1661672568782348,1304,0.17760828112231,1196,0.16289839280849905,3622,0.49332606919095612,7342,1]
[null,7344,{"$f":"Urliste!C7347","v":2},1220,0.16612200435729849,1305,0.17769607843137256,1196,0.16285403050108932,3623,0.49332788671023964,7344,1]
[null,7349,{"$f":"Urliste!C7352","v":5},1220,0.16600898081371615,1307,0.17784732616682541,1197,0.16287930330657233,3625,0.49326438971288611,7349,1]
[null,7354,{"$f":"Urliste!C7357","v":2},1221,0.16603209137884145,1308,0.17786238781615446,1198,0.16290454174598859,3627,0.4932009790590155,7354,1]
[null,7359,{"$f":"Urliste!C7362","v":3},1222,0.16605517053947547,1308,0.17774154097024053,1200,0.16306563391765186,3629,0.49313765457263214,7359,1]
[null,7362,{"$f":"Urliste!C7365","v":1},1223,0.16612333604998641,1309,0.1778049443086118,1201,0.16313501765824504,3629,0.49293670198315676,7362,1]
[null,7364,{"$f":"Urliste!C7367","v":5},1223,0.16607821835958719,1309,0.17775665399239543,1201,0.16309071156979901,3631,0.49307441607821834,7364,1]
[null,7369,{"$f":"Urliste!C7372","v":2},1223,0.16596553127968516,1310,0.17777174650563171,1201,0.16298005156737685,3635,0.4932826706473063,7369,1]
[null,7374,{"$f":"Urliste!C7377","v":1},1225,0.16612422023325196,1310,0.17765120694331435,1202,0.16300515324111745,3637,0.49321941958231624,7374,1]
[null,7375,{"$f":"Urliste!C7378","v":1},1226,0.16623728813559321,1310,0.1776271186440678,1202,0.16298305084745762,3637,0.49315254237288136,7375,1]
[null,7380,{"$f":"Urliste!C7383","v":1},1228,0.16639566395663957,1311,0.17764227642276423,1202,0.16287262872628727,3639,0.49308943089430896,7380,1]
[null,7385,{"$f":"Urliste!C7388","v":4},1229,0.16641841570751523,1311,0.17752200406228844,1202,0.16276235612728504,3643,0.49329722410291132,7385,1]
[null,7389,{"$f":"Urliste!C7392","v":6},1229,0.16632832588983623,1312,0.1775612396806063,1202,0.16267424550006768,3646,0.49343618892948976,7389,1]
[null,7390,{"$f":"Urliste!C7393","v":5},1229,0.16630581867388364,1312,0.17753721244925574,1202,0.16265223274695534,3647,0.49350473612990525,7390,0.99999999999999989]
[null,7395,{"$f":"Urliste!C7398","v":2},1229,0.16619337390128466,1314,0.17768762677484787,1204,0.16281271129141311,3648,0.49330628803245435,7395,0.99999999999999989]
[null,7400,{"$f":"Urliste!C7403","v":6},1229,0.16608108108108108,1315,0.17770270270270269,1205,0.16283783783783784,3651,0.49337837837837839,7400,1]
[null,7403,{"$f":"Urliste!C7406","v":2},1229,0.16601377819802782,1316,0.17776577063352694,1206,0.16290692962312575,3652,0.49331352154531949,7403,1]
[null,7405,{"$f":"Urliste!C7408","v":2},1230,0.16610398379473329,1317,0.17785280216070223,1206,0.16286293045239703,3652,0.49318028359216748,7405,1]
[null,7410,{"$f":"Urliste!C7413","v":3},{"$f":"IF(C7431=1,D7430+1,D7430)","v":1231},{"$f":"D7431/B7431","v":0.1661268556005398},{"$f":"IF(C7431=2,F7430+1,F7430)","v":1318},{"$f":"F7431/B7431","v":0.17786774628879892},{"$f":"IF(C7431=3,H7430+1,H7430)","v":1208},{"$f":"H7431/B7431","v":0.16302294197031039},{"$f":"IF(C7431>3,J7430+1,J7430)","v":3653},{"$f":"J7431/B7431","v":0.49298245614035086},{"$f":"SUM(D7431,J7431,H7431,F7431)","v":7410},{"$f":"SUM(K7431,I7431,G7431,E7431)","v":1}]
[null,7415,{"$f":"Urliste!C7418","v":6},1232,0.16614969656102496,1319,0.17788267026298044,1208,0.16291301416048551,3656,0.49305461901550912,7415,1]
[null,7420,{"$f":"Urliste!C7423","v":6},1232,0.16603773584905659,1320,0.17789757412398921,1208,0.1628032345013477,3660,0.49326145552560646,7420,1]
[null,7421,{"$f":"Urliste!C7424","v":6},1232,0.16601536181107668,1320,0.1778736019404393,1208,0.16278129632125052,3661,0.4933297399272335,7421,1]
[null,7425,{"$f":"Urliste!C7428","v":4},1232,0.16592592592592592,1320,0.17777777777777778,1209,0.16282828282828282,3664,0.49346801346801344,7425,1]
[null,7430,{"$f":"Urliste!C7433","v":4},1232,0.16581426648721401,1320,0.17765814266487215,1209,0.16271870794078061,3669,0.49380888290713326,7430,1]
[null,7435,{"$f":"Urliste!C7438","v":4},1232,0.16570275722932079,1321,0.17767316745124412,1209,0.16260928043039677,3673,0.49401479488903832,7435,1]
[null,7436,{"$f":"Urliste!C7439","v":2},1232,0.16568047337278108,1322,0.17778375470683164,1209,0.16258741258741258,3673,0.49394835933297471,7436,1]
[null,7441,{"$f":"Urliste!C7444","v":3},1233,0.16570353447117322,1322,0.17766429243381265,1211,0.16274694261523989,3675,0.49388523047977423,7441,1]
[null,7446,{"$f":"Urliste!C7449","v":3},1234,0.16572656459844212,1322,0.17754499059897932,1212,0.16277195809830783,3678,0.49395648670427073,7446,1]
[null,7450,{"$f":"Urliste!C7453","v":1},1236,0.16590604026845637,1323,0.17758389261744967,1212,0.16268456375838927,3679,0.49382550335570469,7450,1]
[null,7451,{"$f":"Urliste!C7454","v":6},1236,0.16588377399006846,1323,0.17756005905247618,1212,0.1626627298349215,3680,0.49389343712253386,7451,1]
[null,7456,{"$f":"Urliste!C7459","v":3},1237,0.16590665236051502,1323,0.17744098712446352,1213,0.16268776824034334,3683,0.49396459227467809,7456,1]
[null,7461,{"$f":"Urliste!C7464","v":5},1237,0.16579546977616941,1324,0.17745610507974802,1214,0.16271277308671761,3686,0.49403565205736494,7461,1]
[null,7464,{"$f":"Urliste!C7467","v":6},1237,0.16572883172561628,1324,0.17738478027867097,1215,0.16278135048231512,3688,0.49410503751339763,7464,1]
[null,7466,{"$f":"Urliste!C7469","v":6},1237,0.16568443611036698,1325,0.17747120278596304,1215,0.16273774444146799,3689,0.49410661666220196,7466,1]
[null,7471,{"$f":"Urliste!C7474","v":3},1239,0.1658412528443314,1325,0.17735242939365548,1217,0.1628965332619462,3690,0.49390978450006695,7471,1]
[null,7476,{"$f":"Urliste!C7479","v":3},1240,0.16586409844836811,1325,0.17723381487426432,1218,0.16292134831460675,3693,0.49398073836276085,7476,1]
[null,7481,{"$f":"Urliste!C7484","v":2},1240,0.16575324154524795,1328,0.17751637481620106,1219,0.16294613019649778,3694,0.49378425344205318,7481,1]
[null,7482,{"$f":"Urliste!C7485","v":3},1240,0.16573108794439989,1328,0.17749264902432504,1220,0.16305800588078054,3694,0.4937182571504945,7482,1]
[null,7486,{"$f":"Urliste!C7489","v":3},1240,0.16564253272775847,1329,0.17753139193160566,1222,0.1632380443494523,3695,0.49358803099118354,7486,1]
[null,7491,{"$f":"Urliste!C7494","v":3},1240,0.16553197169937259,1329,0.17741289547456948,1223,0.16326258176478442,3699,0.49379255106127351,7491,1]
[null,7496,{"$f":"Urliste!C7499","v":3},1240,0.16542155816435433,1330,0.17742796157950907,1225,0.1634204909284952,3701,0.49372998932764139,7496,1]
[null,7497,{"$f":"Urliste!C7500","v":1},1241,0.1655328798185941,1330,0.17740429505135388,1225,0.16339869281045752,3701,0.4936641323195945,7497,1]
[null,7502,{"$f":"Urliste!C7505","v":1},1242,0.16555585177286056,1330,0.17728605705145295,1225,0.16328978938949612,3705,0.49386830178619034,7502,1]
[null,7507,{"$f":"Urliste!C7510","v":5},1242,0.16544558412148661,1331,0.17730118556014388,1226,0.16331424004262687,3708,0.49393899027574262,7507,0.99999999999999989]
[null,7511,{"$f":"Urliste!C7514","v":2},1243,0.16549061376647584,1334,0.17760617760617761,1226,0.16322726667554255,3708,0.49367594195180403,7511,1]
[null,7512,{"$f":"Urliste!C7515","v":2},1243,0.165468583599574,1335,0.17771565495207667,1226,0.16320553780617678,3708,0.4936102236421725,7512,1]
[null,7517,{"$f":"Urliste!C7520","v":4},1243,0.16535852068644405,1336,0.17773047758414262,1228,0.16336304376746041,3710,0.49354795796195289,7517,1]
[null,7522,{"$f":"Urliste!C7525","v":4},1245,0.16551449082690775,1337,0.17774528051050253,1228,0.16325445360276522,3712,0.49348577505982449,7522,1]
[null,7525,{"$f":"Urliste!C7528","v":4},1245,0.1654485049833887,1337,0.17767441860465116,1228,0.16318936877076412,3715,0.49368770764119602,7525,1]
[null,7527,{"$f":"Urliste!C7530","v":5},1245,0.16540454364288562,1338,0.17776006377042647,1228,0.1631460077055932,3716,0.49368938488109471,7527,0.99999999999999989]
[null,7532,{"$f":"Urliste!C7535","v":1},1249,0.16582580987785447,1339,0.1777748274030802,1228,0.16303770578863516,3716,0.49336165693043016,7532,1]
[null,7537,{"$f":"Urliste!C7540","v":2},1251,0.16598115961257795,1340,0.17778957144752555,1229,0.16306222635000664,3717,0.49316704258988986,7537,1]
[null,7542,{"$f":"Urliste!C7545","v":5},1251,0.16587112171837709,1341,0.17780429594272076,1229,0.16295412357464864,3721,0.49337045876425351,7542,1]
[null,7543,{"$f":"Urliste!C7546","v":3},1251,0.16584913164523399,1341,0.17778072384992707,1230,0.16306509346413894,3721,0.49330505104069999,7543,0.99999999999999989]
[null,7547,{"$f":"Urliste!C7550","v":4},1252,0.16589373260898371,1341,0.17768649794620378,1231,0.16311117000132502,3723,0.49330859944348748,7547,1]
[null,7552,{"$f":"Urliste!C7555","v":4},1252,0.16578389830508475,1343,0.17783368644067796,1231,0.1630031779661017,3726,0.4933792372881356,7552,1]
[null,7557,{"$f":"Urliste!C7560","v":5},1252,0.16567420934233162,1343,0.17771602487759694,1231,0.16289532883419347,3731,0.49371443694587802,7557,1]
[null,7558,{"$f":"Urliste!C7561","v":1},1253,0.16578459910029109,1343,0.17769251124636148,1231,0.16287377613125165,3731,0.49364911352209578,7558,1]
[null,7563,{"$f":"Urliste!C7566","v":4},1253,0.16567499669443342,1343,0.17757503636123231,1234,0.1631627660981092,3733,0.49358720084622504,7563,0.99999999999999989]
[null,7568,{"$f":"Urliste!C7571","v":3},1254,0.16569767441860464,1343,0.17745771670190275,1237,0.16345137420718817,3734,0.49339323467230445,7568,0.99999999999999989]
[null,7572,{"$f":"Urliste!C7575","v":2},1255,0.16574220813523508,1344,0.1774960380348653,1237,0.163365029054411,3736,0.49339672477548863,7572,1]
[null,7573,{"$f":"Urliste!C7576","v":2},1255,0.16572032219727981,1345,0.17760464809190546,1237,0.16334345701835468,3736,0.49333157269246003,7573,1]
[null,7578,{"$f":"Urliste!C7581","v":3},1255,0.16561097915017156,1347,0.17775138558986539,1238,0.16336764317761943,3738,0.49326999208234362,7578,0.99999999999999989]
[null,7583,{"$f":"Urliste!C7586","v":2},1256,0.1656336542265594,1348,0.17776605565079784,1240,0.16352367137017013,3739,0.49307661875247266,7583,1]
[null,7586,{"$f":"Urliste!C7589","v":5},1256,0.16556815185868706,1350,0.17795939889269707,1240,0.16345900342736619,3740,0.49301344582124967,7586,1]
[null,7588,{"$f":"Urliste!C7591","v":5},1256,0.16552451238798102,1350,0.17791249341064838,1240,0.16341591987348444,3742,0.49314707432788613,7588,1]
[null,7593,{"$f":"Urliste!C7596","v":6},1257,0.16554721453970764,1350,0.17779533781114185,1241,0.16344001053602003,3745,0.49321743711313054,7593,1]
[null,7598,{"$f":"Urliste!C7601","v":6},1258,0.16556988681231904,1351,0.17780994998683863,1241,0.16333245590944986,3748,0.49328770729139249,7598,1]
[null,7603,{"$f":"Urliste!C7606","v":6},1259,0.16559252926476392,1353,0.17795606997237931,1242,0.16335656977508878,3749,0.49309483098776796,7603,1]
[null,7604,{"$f":"Urliste!C7607","v":1},1260,0.16570226196738558,1353,0.1779326670173593,1242,0.16333508679642295,3749,0.49302998421883221,7604,1]
[null,7608,{"$f":"Urliste!C7611","v":2},1260,0.16561514195583596,1355,0.17810199789695058,1242,0.16324921135646689,3751,0.49303364879074657,7608,1]
[null,7613,{"$f":"Urliste!C7616","v":4},1260,0.16550637068172863,1355,0.17798502561408117,1242,0.16314199395770393,3756,0.49336660974648627,7613,1]
[null,7618,{"$f":"Urliste!C7621","v":6},1261,0.16552901023890784,1356,0.17799947492780258,1243,0.16316618535048569,3758,0.49330532948280387,7618,1]
[null,7619,{"$f":"Urliste!C7622","v":4},1261,0.16550728442052762,1356,0.17797611235070218,1243,0.16314476965481034,3759,0.49337183357395986,7619,1]
[null,7624,{"$f":"Urliste!C7627","v":6},1261,0.165398740818468,1357,0.17799055613850998,1243,0.16303777544596013,3763,0.49357292759706189,7624,1]
[null,7629,{"$f":"Urliste!C7632","v":5},1261,0.1652903394940359,1357,0.17787390221523136,1244,0.16306200026215756,3767,0.49377375802857515,7629,1]
[null,7633,{"$f":"Urliste!C7636","v":4},1262,0.16533473077426961,1357,0.17778068911306172,1244,0.16297654919428797,3770,0.4939080309183807,7633,1]
[null,7634,{"$f":"Urliste!C7637","v":6},1262,0.16531307309405291,1357,0.17775740110034058,1244,0.16295520041917735,3771,0.49397432538642916,7634,1]
[null,7639,{"$f":"Urliste!C7642","v":6},1264,0.16546668412095825,1357,0.1776410524937819,1244,0.16284854038486712,3774,0.49404372300039273,7639,1]
[null,7644,{"$f":"Urliste!C7647","v":4},1265,0.16548927263212979,1358,0.17765567765567766,1245,0.16287284144427003,3776,0.49398220826792255,7644,1]
[null,7647,{"$f":"Urliste!C7650","v":6},1266,0.16555511965476657,1358,0.1775859814306264,1245,0.16280894468418988,3778,0.49404995423041714,7647,1]
[null,7649,{"$f":"Urliste!C7652","v":1},1267,0.16564256765590274,1358,0.177539547653288,1246,0.16289711073342922,3778,0.49392077395738004,7649,1]
[null,7654,{"$f":"Urliste!C7657","v":6},1269,0.16579566239874574,1358,0.17742356937548995,1246,0.16279069767441862,3781,0.49399007055134569,7654,1]
[null,7659,{"$f":"Urliste!C7662","v":1},1270,0.16581799190494842,1359,0.17743830787309048,1246,0.16268442355398877,3784,0.49405927666797234,7659,1]
[null,7664,{"$f":"Urliste!C7667","v":4},1271,0.16584029227557412,1361,0.17758350730688935,1247,0.16270876826722339,3785,0.49386743215031315,7664,1]
[null,7665,{"$f":"Urliste!C7668","v":5},1271,0.16581865622961514,1361,0.17756033920417483,1247,0.16268754076973255,3786,0.49393346379647751,7665,1]
[null,7669,{"$f":"Urliste!C7672","v":4},1271,0.16573216847046551,1361,0.17746772721345677,1248,0.16273308123614552,3789,0.49406702307993222,7669,1]
[null,7674,{"$f":"Urliste!C7677","v":4},1273,0.16588480583789419,1363,0.17761271826948136,1248,0.16262705238467554,3790,0.49387542350794894,7674,1]
[null,7679,{"$f":"Urliste!C7682","v":3},1275,0.16603724443286885,1364,0.17762729522073187,1249,0.16265138689933586,3791,0.49368407344706344,7679,1]
[null,7680,{"$f":"Urliste!C7683","v":6},1275,0.166015625,1364,0.17760416666666667,1249,0.16263020833333333,3792,0.49375000000000002,7680,1]
[null,7685,{"$f":"Urliste!C7688","v":1},1277,0.16616785946649318,1364,0.17748861418347431,1250,0.16265452179570591,3794,0.49368900455432663,7685,1]
[null,7690,{"$f":"Urliste!C7693","v":4},1277,0.1660598179453836,1366,0.1776332899869961,1251,0.16267880364109233,3796,0.49362808842652794,7690,1]
[null,7694,{"$f":"Urliste!C7697","v":5},1277,0.16597348583311672,1367,0.17767091239927216,1252,0.1627242006758513,3798,0.49363140109175979,7694,1]
[null,7695,{"$f":"Urliste!C7698","v":5},1277,0.16595191682910981,1367,0.17764782326185835,1252,0.16270305393112411,3799,0.49369720597790773,7695,1]
[null,7700,{"$f":"Urliste!C7703","v":2},1277,0.16584415584415585,1371,0.17805194805194804,1252,0.1625974025974026,3800,0.4935064935064935,7700,1]
[null,7705,{"$f":"Urliste!C7708","v":3},1279,0.16599610642439974,1371,0.17793640493186244,1253,0.16262167423750812,3802,0.4934458144062297,7705,1]
[null,7708,{"$f":"Urliste!C7711","v":1},1280,0.16606123508043591,1371,0.17786715101193565,1253,0.16255838090295796,3804,0.49351323300467048,7708,1]
[null,7710,{"$f":"Urliste!C7713","v":4},1281,0.16614785992217898,1371,0.17782101167315176,1253,0.16251621271076525,3805,0.49351491569390404,7710,1]
[null,7715,{"$f":"Urliste!C7718","v":5},1281,0.16604018146467919,1372,0.1778353856124433,1255,0.16267012313674659,3807,0.49345430978613092,7715,1]
[null,7720,{"$f":"Urliste!C7723","v":3},1282,0.1660621761658031,1372,0.17772020725388601,1256,0.16269430051813472,3810,0.49352331606217614,7720,1]
[null,7725,{"$f":"Urliste!C7728","v":3},1282,0.16595469255663431,1373,0.1777346278317152,1259,0.16297734627831714,3811,0.49333333333333335,7725,1]
[null,7726,{"$f":"Urliste!C7729","v":2},1282,0.16593321252912244,1374,0.17784105617395807,1259,0.16295625161791355,3811,0.49326947967900597,7726,1]
[null,7731,{"$f":"Urliste!C7734","v":3},1282,0.16582589574440565,1374,0.17772603802871556,1262,0.16323890829129478,3813,0.49320915793558401,7731,1]
[null,7735,{"$f":"Urliste!C7738","v":5},1282,0.16574014221073044,1375,0.17776341305753071,1262,0.16315449256625728,3816,0.4933419521654816,7735,1]
[null,7740,{"$f":"Urliste!C7743","v":2},1282,0.16563307493540053,1377,0.17790697674418604,1262,0.16304909560723513,3819,0.49341085271317831,7740,1]
[null,7741,{"$f":"Urliste!C7744","v":6},1282,0.16561167807776772,1377,0.17788399431597984,1262,0.16302803255393361,3820,0.49347629505231883,7741,1]
[null,7746,{"$f":"Urliste!C7749","v":1},1283,0.16563387554867029,1378,0.17789827007487735,1262,0.16292279886392977,3823,0.49354505551252259,7746,1]
[null,7751,{"$f":"Urliste!C7754","v":3},1286,0.16591407560314797,1378,0.17778351180492841,1263,0.16294671655270287,3824,0.49335569603922075,7751,1]
[null,7755,{"$f":"Urliste!C7758","v":5},1286,0.16582849774339137,1379,0.1778207607994842,1263,0.16286266924564796,3827,0.49348807221147645,7755,0.99999999999999989]
[null,7756,{"$f":"Urliste!C7759","v":1},1287,0.16593604951005672,1379,0.17779783393501805,1263,0.16284167096441465,3827,0.49342444559051057,7756,1]
[null,7761,{"$f":"Urliste!C7764","v":5},1287,0.16582914572864321,1381,0.17794098698621311,1263,0.16273676072671048,3830,0.4934931065584332,7761,1]
[null,7766,{"$f":"Urliste!C7769","v":5},1288,0.1658511460211177,1381,0.17782642286891578,1264,0.16276075199587947,3833,0.49356167911408705,7766,1]
[null,7769,{"$f":"Urliste!C7772","v":3},1288,0.16578710258720555,1381,0.17775775518084697,1265,0.16282661861243403,3835,0.49362852361951343,7769,1]
[null,7771,{"$f":"Urliste!C7774","v":4},1288,0.16574443443572257,1381,0.17771200617681121,1265,0.16278471239222753,3837,0.4937588469952387,7771,1]
[null,7776,{"$f":"Urliste!C7779","v":5},1289,0.1657664609053498,1382,0.17772633744855967,1266,0.16280864197530864,3839,0.49369855967078191,7776,1]
[null,7781,{"$f":"Urliste!C7784","v":6},1289,0.16565994088163474,1383,0.17774065030201774,1267,0.16283254080452383,3842,0.49376686801182368,7781,0.99999999999999989]
[null,7786,{"$f":"Urliste!C7789","v":6},1290,0.165681993321346,1384,0.1777549447726689,1269,0.16298484459285897,3843,0.49357821731312612,7786,1]
[null,7787,{"$f":"Urliste!C7790","v":5},1290,0.16566071657891357,1384,0.17773211763195068,1269,0.16296391421600104,3844,0.49364325157313471,7787,0.99999999999999989]
[null,7792,{"$f":"Urliste!C7795","v":3},1290,0.16555441478439425,1384,0.17761806981519507,1271,0.16311601642710472,3847,0.49371149897330596,7792,0.99999999999999989]
[null,7796,{"$f":"Urliste!C7799","v":3},1290,0.16546947152385838,1385,0.17765520779887123,1273,0.16328886608517187,3848,0.49358645459209849,7796,1]
[null,7801,{"$f":"Urliste!C7804","v":4},1290,0.16536341494680168,1386,0.1776695295474939,1275,0.16344058454044352,3850,0.49352647096526087,7801,1]
[null,7802,{"$f":"Urliste!C7805","v":5},1290,0.16534221994360421,1386,0.1776467572417329,1275,0.16341963599077158,3851,0.49359138682389131,7802,0.99999999999999989]
[null,7807,{"$f":"Urliste!C7810","v":3},1290,0.16523632637376715,1387,0.17766107339567055,1277,0.1635711540924811,3853,0.4935314461380812,7807,1]
[null,7810,{"$f":"Urliste!C7813","v":2},1290,0.16517285531370038,1388,0.17772087067861717,1278,0.16363636363636364,3854,0.49346991037131882,7810,1]
[null,7816,{"$f":"Urliste!C7819","v":2},1292,0.1653019447287615,1390,0.17784032753326509,1278,0.16351074718526101,3856,0.49334698055271237,7816,0.99999999999999989]
[null,7817,{"$f":"Urliste!C7820","v":3},1292,0.16528079826020212,1390,0.17781757707560444,1279,0.16361775617244467,3856,0.49328386849174877,7817,1]
[null,7822,{"$f":"Urliste!C7825","v":3},1293,0.1653029915622603,1391,0.17783175658399386,1281,0.16376885706980313,3857,0.49309639478394274,7822,1]
[null,7827,{"$f":"Urliste!C7830","v":3},1295,0.16545291938162771,1391,0.17771815510412675,1282,0.16379200204420596,3859,0.49303692347003963,7827,1]
[null,7830,{"$f":"Urliste!C7833","v":5},1296,0.16551724137931034,1391,0.17765006385696042,1282,0.16372924648786719,3861,0.49310344827586206,7830,1]
[null,7832,{"$f":"Urliste!C7835","v":1},1298,0.16573033707865167,1391,0.1776046986721144,1282,0.16368743615934628,3861,0.49297752808988765,7832,1]
[null,7837,{"$f":"Urliste!C7840","v":4},1299,0.16575220109735869,1391,0.17749138701033559,1282,0.16358300370039555,3865,0.49317340819191019,7837,1]
[null,7842,{"$f":"Urliste!C7845","v":6},1300,0.16577403723539913,1391,0.17737821984187707,1282,0.16347870441213977,3869,0.49336903851058406,7842,1]
[null,7847,{"$f":"Urliste!C7850","v":3},1300,0.16566840830890786,1393,0.17752007136485282,1283,0.163501975277176,3871,0.49330954504906332,7847,1]
[null,7848,{"$f":"Urliste!C7851","v":4},1300,0.16564729867482161,1393,0.17749745158002039,1283,0.16348114169215086,3872,0.49337410805300713,7848,1]
[null,7853,{"$f":"Urliste!C7856","v":3},1301,0.16566917101744555,1395,0.17763911880809882,1284,0.16350439322551891,3873,0.49318731694893669,7853,1]
[null,7857,{"$f":"Urliste!C7860","v":3},1301,0.16558482881506936,1395,0.17754868270332189,1286,0.16367570319460353,3875,0.49319078528700522,7857,1]
[null,7862,{"$f":"Urliste!C7865","v":5},1301,0.16547952175019079,1395,0.17743576698041211,1287,0.16369880437547699,3879,0.49338590689392015,7862,1]
[null,7863,{"$f":"Urliste!C7866","v":1},1302,0.16558565433040823,1395,0.17741320106829456,1287,0.16367798550171689,3879,0.4933231590995803,7863,1]
[null,7868,{"$f":"Urliste!C7871","v":6},1303,0.16560752414844943,1395,0.17730045754956786,1288,0.16370106761565836,3882,0.49339095068632433,7868,1]
[null,7871,{"$f":"Urliste!C7874","v":6},1303,0.16554440350654301,1395,0.17723288019311395,1289,0.16376572227163003,3884,0.49345699402871301,7871,1]
[null,7877,{"$f":"Urliste!C7880","v":1},1304,0.16554525834708644,1397,0.17735178367398755,1289,0.16364098006855402,3887,0.493461977910372,7877,1]
[null,7878,{"$f":"Urliste!C7881","v":3},1304,0.16552424473216554,1397,0.17732927138867732,1290,0.16374714394516374,3887,0.49339933993399337,7878,0.99999999999999989]
[null,7883,{"$f":"Urliste!C7886","v":5},1305,0.16554611188633769,1398,0.17734365089432957,1290,0.16364328301408093,3890,0.49346695420525183,7883,1]
[null,7888,{"$f":"Urliste!C7891","v":6},1306,0.16556795131845842,1398,0.17723123732251522,1290,0.16353955375253551,3894,0.49366125760649088,7888,1]
[null,7892,{"$f":"Urliste!C7895","v":5},1306,0.16548403446528129,1398,0.17714140902179423,1290,0.16345666497719211,3898,0.4939178915357324,7892,1]
[null,7893,{"$f":"Urliste!C7896","v":5},1306,0.16546306854174586,1398,0.17711896617255796,1290,0.16343595591030027,3899,0.49398200937539594,7893,1]
[null,7898,{"$f":"Urliste!C7901","v":4},1307,0.16548493289440364,1399,0.17713345150671056,1290,0.16333248923778171,3902,0.4940491263611041,7898,1]
[null,7903,{"$f":"Urliste!C7906","v":4},1308,0.16550676958117172,1399,0.17702138428444894,1290,0.16322915348601796,3906,0.4942426926483614,7903,1]
[null,7908,{"$f":"Urliste!C7911","v":2},1308,0.165402124430956,1402,0.17728882144663632,1292,0.16337885685381892,3906,0.49393019726858878,7908,1]
[null,7909,{"$f":"Urliste!C7912","v":4},1308,0.16538121127829056,1402,0.17726640536098115,1292,0.1633581995195347,3907,0.49399418384119359,7909,1]
[null,7914,{"$f":"Urliste!C7917","v":6},1308,0.16527672479150871,1404,0.177407126611069,1292,0.16325499115491535,3910,0.49406115744250695,7914,0.99999999999999989]
[null,7918,{"$f":"Urliste!C7921","v":3},1309,0.16531952513260925,1404,0.17731750442030816,1294,0.16342510735034099,3911,0.49393786309674159,7918,1]
[null,7923,{"$f":"Urliste!C7926","v":4},1310,0.16534141108166098,1404,0.1772056039379023,1294,0.16332197399974757,3915,0.49413101098068912,7923,1]
[null,7924,{"$f":"Urliste!C7927","v":5},1310,0.16532054517920242,1404,0.17718324078748107,1294,0.16330136294800607,3916,0.49419485108531047,7924,1]
[null,7929,{"$f":"Urliste!C7932","v":4},1310,0.16521629461470552,1404,0.17707150964812712,1294,0.1631983856728465,3921,0.49451381006432082,7929,1]
[null,7932,{"$f":"Urliste!C7935","v":6},1310,0.16515380736258195,1405,0.17713061018658599,1294,0.16313666162380233,3923,0.49457892082702976,7932,1]
[null,7938,{"$f":"Urliste!C7941","v":2},1311,0.16515495086923659,1406,0.17712270093222474,1296,0.16326530612244897,3925,0.4944570420760897,7938,1]
[null,7939,{"$f":"Urliste!C7942","v":2},1311,0.16513414787756645,1407,0.1772263509258093,1296,0.16324474115127849,3925,0.49439476004534577,7939,1]
[null,7944,{"$f":"Urliste!C7947","v":3},1311,0.16503021148036254,1407,0.17711480362537765,1298,0.16339375629405842,3928,0.49446122860020142,7944,1]
[null,7949,{"$f":"Urliste!C7952","v":1},1313,0.16517800981255504,1409,0.17725500062900995,1298,0.16329097999748396,3929,0.49427600956095108,7949,1]
[null,7953,{"$f":"Urliste!C7956","v":5},1313,0.16509493272978751,1410,0.17729158807996984,1299,0.16333459072048284,3931,0.49427888846975981,7953,0.99999999999999989]
[null,7954,{"$f":"Urliste!C7957","v":4},1313,0.16507417651496104,1410,0.17726929846618053,1299,0.16331405582097058,3932,0.49434246919788788,7954,1]
[null,7959,{"$f":"Urliste!C7962","v":1},1315,0.16522176152783014,1411,0.17728357833898731,1299,0.16321145872597059,3934,0.49428320140721194,7959,1]
[null,7964,{"$f":"Urliste!C7967","v":4},1315,0.1651180311401306,1412,0.17729784028126569,1299,0.16310899045705676,3938,0.49447513812154698,7964,1]
[null,7969,{"$f":"Urliste!C7972","v":2},1316,0.1651399171790689,1413,0.17731208432676621,1300,0.16313213703099511,3940,0.49441586146316979,7969,1]
[null,7970,{"$f":"Urliste!C7973","v":6},1316,0.16511919698870767,1413,0.17728983688833125,1300,0.16311166875784192,3941,0.4944792973651192,7970,1]
[null,7975,{"$f":"Urliste!C7978","v":6},1319,0.16539184952978056,1413,0.17717868338557993,1300,0.16300940438871472,3943,0.49442006269592476,7975,1]
[null,7979,{"$f":"Urliste!C7982","v":3},1320,0.16543426494548188,1413,0.17708986088482265,1301,0.16305301416217571,3945,0.49442286000751973,7979,1]
[null,7984,{"$f":"Urliste!C7987","v":4},1322,0.16558116232464931,1414,0.17710420841683366,1301,0.16295090180360722,3947,0.49436372745490981,7984,1]
[null,7985,{"$f":"Urliste!C7988","v":6},1322,0.16556042579837194,1414,0.1770820288040075,1301,0.16293049467752035,3948,0.49442705072010018,7985,1]
[null,7990,{"$f":"Urliste!C7993","v":6},1322,0.16545682102628284,1416,0.1772215269086358,1302,0.16295369211514393,3950,0.49436795994993743,7990,1]
[null,7993,{"$f":"Urliste!C7996","v":4},1322,0.16539472038033279,1416,0.17715501063430503,1303,0.16301764043538094,3952,0.49443262854998121,7993,1]
[null,7999,{"$f":"Urliste!C8002","v":4},1323,0.16539567445930742,1417,0.17714714339292412,1303,0.16289536192024004,3956,0.49456182022752843,7999,1]
[null,8000,{"$f":"Urliste!C8003","v":5},1323,0.16537499999999999,1417,0.177125,1303,0.16287499999999999,3957,0.49462499999999998,8000,1]
[null,8005,{"$f":"Urliste!C8008","v":6},1324,0.16539662710805747,1418,0.17713928794503436,1303,0.1627732667083073,3960,0.49469081823860089,8005,1]
[null,8010,{"$f":"Urliste!C8013","v":1},1326,0.16554307116104869,1418,0.17702871410736579,1304,0.16279650436953808,3962,0.49463171036204745,8010,1]
[null,8014,{"$f":"Urliste!C8017","v":4},1327,0.16558522585475419,1418,0.1769403543798353,1304,0.16271524831544795,3965,0.49475917144996256,8014,1]
[null,8015,{"$f":"Urliste!C8018","v":6},1327,0.16556456643792888,1418,0.1769182782283219,1304,0.16269494697442297,3966,0.49482220835932628,8015,1]
[null,8020,{"$f":"Urliste!C8023","v":6},1329,0.16571072319201996,1419,0.17693266832917706,1304,0.16259351620947632,3968,0.49476309226932669,8020,1]
[null,8025,{"$f":"Urliste!C8028","v":6},1331,0.16585669781931464,1421,0.17707165109034267,1304,0.16249221183800622,3969,0.49457943925233644,8025,1]
[null,8030,{"$f":"Urliste!C8033","v":4},1331,0.16575342465753426,1421,0.17696139476961395,1306,0.162640099626401,3972,0.49464508094645082,8030,1]
[null,8031,{"$f":"Urliste!C8034","v":3},1331,0.16573278545635661,1421,0.1769393599800772,1307,0.16274436558336447,3972,0.49458348898020171,8031,1]
[null,8036,{"$f":"Urliste!C8039","v":6},1334,0.16600298656047785,1422,0.17695370831259333,1307,0.16264310602289697,3973,0.49440019910403188,8036,1]
[null,8040,{"$f":"Urliste!C8043","v":4},1335,0.16604477611940299,1423,0.17699004975124377,1307,0.16256218905472636,3975,0.49440298507462688,8040,1]
[null,8045,{"$f":"Urliste!C8048","v":1},1337,0.16619018023617155,1423,0.17688004972032317,1307,0.16246115599751398,3978,0.49446861404599129,8045,1]
[null,8046,{"$f":"Urliste!C8049","v":6},1337,0.16616952522992792,1423,0.17685806611981109,1307,0.16244096445438727,3979,0.49453144419587375,8046,1.0000000000000002]
[null,8051,{"$f":"Urliste!C8054","v":1},1340,0.16643895168302075,1424,0.17687243820643397,1307,0.16234008197739411,3980,0.49434852813315117,8051,1]
[null,8054,{"$f":"Urliste!C8057","v":2},1340,0.16637695555003726,1425,0.17693071765582319,1308,0.16240377452197666,3981,0.4942885522721629,8054,1]
[null,8060,{"$f":"Urliste!C8063","v":5},1343,0.16662531017369728,1427,0.1770471464019851,1308,0.16228287841191066,3982,0.49404466501240696,8060,1]
[null,8061,{"$f":"Urliste!C8064","v":6},1343,0.16660463962287558,1427,0.17702518297977918,1308,0.16226274655749906,3983,0.49410743083984615,8061,1]
[null,8066,{"$f":"Urliste!C8069","v":3},1344,0.16662534093726755,1427,0.1769154475576494,1310,0.16241011653855691,3985,0.49404909496652616,8066,1]
[null,8071,{"$f":"Urliste!C8074","v":2},1346,0.16676991698674265,1429,0.17705364886631147,1310,0.1623095031594598,3986,0.49386693098748607,8071,1]
[null,8075,{"$f":"Urliste!C8078","v":6},1346,0.16668730650154798,1429,0.17696594427244583,1311,0.16235294117647059,3989,0.49399380804953558,8075,1]
[null,8076,{"$f":"Urliste!C8079","v":4},1346,0.16666666666666666,1429,0.17694403169886083,1311,0.16233283803863299,3990,0.49405646359583955,8076,1]
[null,8081,{"$f":"Urliste!C8084","v":2},1348,0.16681103823784185,1430,0.17695829724044054,1311,0.16223239698057171,3992,0.4939982675411459,8081,1]
[null,8086,{"$f":"Urliste!C8089","v":4},1348,0.16670789018055898,1432,0.1770962156814247,1311,0.16213208013851102,3995,0.49406381399950533,8086,1]
[null,8091,{"$f":"Urliste!C8094","v":3},1348,0.16660486960820664,1434,0.17723396366332964,1312,0.16215548139908539,3997,0.49400568532937833,8091,1]
[null,8092,{"$f":"Urliste!C8095","v":6},1348,0.16658428077113199,1434,0.17721206129510628,1312,0.16213544241225902,3998,0.49406821552150271,8092,1]
[null,8097,{"$f":"Urliste!C8100","v":4},1349,0.16660491540076572,1434,0.17710263060392739,1313,0.16215882425589725,4001,0.49413362973940966,8097,1]
[null,8101,{"$f":"Urliste!C8104","v":1},1350,0.16664609307492903,1434,0.17701518331070237,1314,0.16220219725959759,4003,0.49413652635477101,8101,1]
[null,8106,{"$f":"Urliste!C8109","v":4},1350,0.16654330125832717,1435,0.1770293609671848,1314,0.16210214655810512,4007,0.49432519121638291,8106,1]
[null,8107,{"$f":"Urliste!C8110","v":3},1350,0.16652275811027506,1435,0.17700752436166275,1315,0.16220550141852719,4007,0.49426421610953497,8107,1]
[null,8112,{"$f":"Urliste!C8115","v":2},1350,0.16642011834319526,1436,0.17702169625246547,1316,0.16222879684418146,4010,0.49432938856015779,8112,0.99999999999999989]
[null,8115,{"$f":"Urliste!C8118","v":2},1350,0.16635859519408502,1438,0.17720271102895871,1317,0.16229205175600739,4010,0.49414664202094888,8115,1]
[null,8121,{"$f":"Urliste!C8124","v":3},1351,0.16635882280507328,1438,0.17707178918852359,1319,0.16241842137667775,4013,0.49415096662972541,8121,1]
[null,8122,{"$f":"Urliste!C8125","v":4},1351,0.1663383403102684,1438,0.17704998768776165,1319,0.16239842403348928,4014,0.49421324796848065,8122,0.99999999999999989]
[null,8127,{"$f":"Urliste!C8130","v":4},1351,0.16623600344530576,1439,0.17706410729666544,1320,0.16242155777039499,4017,0.49427833148763384,8127,1]
[null,8132,{"$f":"Urliste!C8135","v":2},1352,0.16625676340383669,1440,0.17707820954254797,1320,0.16232169208066896,4020,0.49434333497294636,8132,0.99999999999999989]
[null,8136,{"$f":"Urliste!C8139","v":2},1352,0.16617502458210423,1441,0.17711406096361848,1321,0.16236479842674534,4022,0.49434611602753198,8136,1]
[null,8137,{"$f":"Urliste!C8140","v":2},1352,0.16615460243332925,1442,0.17721518987341772,1321,0.16234484453729875,4022,0.49428536315595428,8137,1]
[null,8142,{"$f":"Urliste!C8145","v":5},1352,0.16605256693687054,1444,0.17735200196511913,1321,0.1622451486121346,4025,0.4943502824858757,8142,1]
[null,8147,{"$f":"Urliste!C8150","v":1},1353,0.1660734012519946,1444,0.17724315699030319,1322,0.16226831962685651,4028,0.49441512213084571,8147,1]
[null,8152,{"$f":"Urliste!C8155","v":3},1353,0.16597154072620215,1444,0.17713444553483806,1324,0.16241413150147202,4031,0.49447988223748773,8152,0.99999999999999989]
[null,8153,{"$f":"Urliste!C8156","v":5},1353,0.16595118361339384,1444,0.17711271924444991,1324,0.16239421071998036,4032,0.49454188642217589,8153,1]
[null,8158,{"$f":"Urliste!C8161","v":2},1354,0.16597205197352291,1446,0.17724932581515077,1325,0.16241725913214022,4033,0.4943613630791861,8158,1]
[null,8162,{"$f":"Urliste!C8165","v":2},1354,0.16589071306052439,1448,0.17740749816221515,1326,0.16246018132810586,4034,0.49424160744915463,8162,1]
[null,8167,{"$f":"Urliste!C8170","v":5},1354,0.16578915146320558,1448,0.17729888575976491,1328,0.16260560793437004,4037,0.4943063548426595,8167,1]
[null,8168,{"$f":"Urliste!C8171","v":5},1354,0.16576885406464251,1448,0.17727717923604311,1328,0.16258570029382957,4038,0.49436826640548481,8168,1]
[null,8173,{"$f":"Urliste!C8176","v":1},1356,0.16591214976140953,1450,0.17741343447938335,1329,0.16260858925731067,4038,0.49406582650189651,8173,1]
[null,8176,{"$f":"Urliste!C8179","v":5},1356,0.16585127201565558,1450,0.17734833659491195,1330,0.16267123287671234,4040,0.49412915851272016,8176,1]
[null,8182,{"$f":"Urliste!C8185","v":3},1357,0.16585186995844536,1450,0.17721828403813247,1333,0.16291860180884868,4042,0.49401124419457343,8182,0.99999999999999989]
[null,8183,{"$f":"Urliste!C8186","v":3},1357,0.16583160210191861,1450,0.17719662715385556,1334,0.16302089698154712,4042,0.49395087376267871,8183,1]
[null,8188,{"$f":"Urliste!C8191","v":1},1359,0.16597459697117734,1450,0.17708842208109429,1335,0.16304347826086957,4044,0.49389350268685883,8188,1]
[null,8193,{"$f":"Urliste!C8196","v":2},1359,0.16587330648114243,1451,0.17710240449163919,1337,0.16318808739167581,4046,0.49383620163554254,8193,0.99999999999999989]
[null,8198,{"$f":"Urliste!C8201","v":6},1359,0.1657721395462308,1452,0.17711636984630397,1338,0.16321053915589168,4049,0.49390095145157353,8198,1]
[null,8201,{"$f":"Urliste!C8204","v":6},1359,0.16571149859773199,1452,0.17705157907572247,1338,0.16315083526399218,4052,0.49408608706255336,8201,1]
[null,8203,{"$f":"Urliste!C8206","v":6},1360,0.16579300256003901,1452,0.17700841155674754,1338,0.16311105693039132,4053,0.49408752895282215,8203,1]
[null,8208,{"$f":"Urliste!C8211","v":5},1361,0.16581384015594541,1452,0.17690058479532164,1338,0.16301169590643275,4057,0.4942738791423002,8208,1]
[null,8213,{"$f":"Urliste!C8216","v":4},1362,0.16583465238037259,1454,0.17703640569828322,1338,0.16291245586265676,4059,0.49421648605868745,8213,1]
[null,8214,{"$f":"Urliste!C8217","v":3},1362,0.1658144631117604,1454,0.17701485269052836,1339,0.16301436571706843,4059,0.49415631848064279,8214,1]
[null,8219,{"$f":"Urliste!C8222","v":2},1363,0.16583525976396155,1455,0.17702883562477187,1340,0.16303686579875898,4061,0.49409903881250761,8219,1]
[null,8223,{"$f":"Urliste!C8226","v":2},1364,0.16587620089991487,1456,0.1770643317524018,1340,0.16295755806883133,4063,0.494101909278852,8223,0.99999999999999989]
[null,8228,{"$f":"Urliste!C8231","v":6},1366,0.16601847350510451,1457,0.17707826932425863,1340,0.16285853184248905,4065,0.4940447253281478,8228,1]
[null,8229,{"$f":"Urliste!C8232","v":4},1366,0.16599829869972049,1457,0.17705675051646616,1340,0.16283874103779317,4066,0.49410620974602015,8229,1]
[null,8234,{"$f":"Urliste!C8237","v":5},1366,0.16589749817828517,1457,0.17694923487976683,1340,0.16273985912071898,4071,0.49441340782122906,8234,0.99999999999999989]
[null,8237,{"$f":"Urliste!C8240","v":4},1367,0.16595848002913682,1458,0.1770061915746024,1340,0.16268058759257012,4072,0.49435474080369068,8237,1]
[null,8243,{"$f":"Urliste!C8246","v":2},1368,0.16595899551134297,1459,0.17699866553439281,1340,0.16256217396578915,4076,0.49448016498847508,8243,1]
[null,8244,{"$f":"Urliste!C8247","v":1},1369,0.1660601649684619,1459,0.17697719553614749,1340,0.16254245511887433,4076,0.49442018437651625,8244,1]
[null,8249,{"$f":"Urliste!C8252","v":5},1371,0.16620196387440903,1459,0.17686992362710632,1341,0.16256515941326222,4078,0.49436295308522243,8249,1]
[null,8254,{"$f":"Urliste!C8257","v":5},1371,0.1661012842258299,1459,0.17676278168160892,1341,0.16246668282045068,4083,0.49466925127211048,8254,0.99999999999999989]
[null,8259,{"$f":"Urliste!C8262","v":3},1371,0.16600072648020342,1460,0.17677684949751785,1344,0.16273156556483837,4084,0.49449085845744034,8259,1]
[null,8260,{"$f":"Urliste!C8263","v":1},1372,0.16610169491525423,1460,0.17675544794188863,1344,0.16271186440677965,4084,0.49443099273607749,8260,1]
[null,8264,{"$f":"Urliste!C8267","v":3},1372,0.16602129719264277,1460,0.17666989351403678,1346,0.16287512100677637,4086,0.49443368828654405,8264,0.99999999999999989]
[null,8269,{"$f":"Urliste!C8272","v":3},1372,0.16592090942072801,1461,0.17668400048373442,1347,0.16289756923449025,4089,0.49449752086104731,8269,1]
[null,8274,{"$f":"Urliste!C8277","v":6},1372,0.16582064297800339,1461,0.17657722987672225,1348,0.16291999033115784,4093,0.49468213681411649,8274,1]
[null,8275,{"$f":"Urliste!C8278","v":4},1372,0.16580060422960724,1461,0.17655589123867069,1348,0.16290030211480364,4094,0.49474320241691844,8275,1]
[null,8281,{"$f":"Urliste!C8284","v":3},1374,0.16592199009781428,1462,0.17654872599927546,1350,0.16302378939741577,4095,0.49450549450549453,8281,1]
[null,8284,{"$f":"Urliste!C8287","v":3},1375,0.1659826170931917,1462,0.17648478995654274,1352,0.1632061805890874,4095,0.49432641236117819,8284,1]
[null,8289,{"$f":"Urliste!C8292","v":2},1376,0.16600313668717578,1464,0.17661961635903003,1352,0.16310773314030644,4097,0.49426951381348777,8289,1]
[null,8290,{"$f":"Urliste!C8293","v":1},1377,0.16610373944511458,1464,0.17659831121833536,1352,0.16308805790108566,4097,0.4942098914354644,8290,1]
[null,8295,{"$f":"Urliste!C8298","v":6},1377,0.16600361663652802,1464,0.17649186256781194,1353,0.16311030741410487,4101,0.49439421338155515,8295,1]
[null,8298,{"$f":"Urliste!C8301","v":3},1377,0.16594360086767895,1464,0.17642805495300073,1354,0.16317184863822609,4103,0.49445649554109422,8298,1]
[null,8304,{"$f":"Urliste!C8307","v":1},1378,0.16594412331406552,1465,0.17642100192678228,1356,0.16329479768786126,4105,0.49434007707129096,8304,1]
[null,8305,{"$f":"Urliste!C8308","v":3},1378,0.16592414208308248,1465,0.17639975918121614,1357,0.16339554485249849,4105,0.49428055388320291,8305,1]
[null,8310,{"$f":"Urliste!C8313","v":6},1378,0.1658243080625752,1465,0.17629362214199759,1358,0.16341756919374248,4109,0.49446450060168473,8310,1]
[null,8315,{"$f":"Urliste!C8318","v":1},1380,0.16596512327119664,1467,0.17642814191220685,1358,0.16331930246542392,4110,0.49428743235117256,8315,0.99999999999999989]
[null,8320,{"$f":"Urliste!C8323","v":3},1380,0.16586538461538461,1468,0.1764423076923077,1361,0.16358173076923077,4111,0.49411057692307692,8320,1]
[null,8321,{"$f":"Urliste!C8324","v":6},1380,0.16584545126787645,1468,0.17642110323278451,1361,0.16356207186636221,4112,0.49417137363297681,8321,0.99999999999999989]
[null,8325,{"$f":"Urliste!C8328","v":3},1381,0.16588588588588588,1468,0.17633633633633633,1363,0.16372372372372374,4113,0.49405405405405406,8325,1]
[null,8330,{"$f":"Urliste!C8333","v":1},1383,0.16602641056422568,1468,0.17623049219687875,1363,0.16362545018007202,4116,0.49411764705882355,8330,1]
[null,8335,{"$f":"Urliste!C8338","v":3},1384,0.16604679064187164,1469,0.17624475104979004,1365,0.16376724655068986,4117,0.49394121175764849,8335,1]
[null,8336,{"$f":"Urliste!C8339","v":1},1385,0.16614683301343569,1469,0.1762236084452975,1365,0.16374760076775433,4117,0.49388195777351246,8336,1]
[null,8342,{"$f":"Urliste!C8345","v":2},1387,0.16626708223447614,1470,0.17621673459602014,1367,0.163869575641333,4118,0.49364660752817069,8342,1]
[null,8345,{"$f":"Urliste!C8348","v":2},1387,0.16620730976632714,1471,0.17627321749550628,1369,0.1640503295386459,4118,0.49346914319952068,8345,1]
[null,8350,{"$f":"Urliste!C8353","v":4},1388,0.16622754491017963,1471,0.17616766467065867,1371,0.16419161676646707,4120,0.4934131736526946,8350,1]
[null,8351,{"$f":"Urliste!C8354","v":4},1388,0.16620763980361633,1471,0.17614656927314093,1371,0.16417195545443661,4121,0.49347383546880613,8351,1]
[null,8356,{"$f":"Urliste!C8359","v":3},1388,0.16610818573480135,1472,0.17616084250837721,1372,0.16419339396840593,4124,0.4935375777884155,8356,0.99999999999999989]
[null,8360,{"$f":"Urliste!C8363","v":5},1388,0.1660287081339713,1473,0.17619617224880382,1372,0.16411483253588516,4127,0.49366028708133969,8360,0.99999999999999989]
[null,8365,{"$f":"Urliste!C8368","v":6},1389,0.16604901374775852,1473,0.17609085475194261,1373,0.16413628212791392,4130,0.49372384937238495,8365,1]
[null,8366,{"$f":"Urliste!C8369","v":2},1389,0.16602916567057135,1474,0.17618933779584031,1373,0.16411666268228545,4130,0.49366483385130289,8366,1]
[null,8371,{"$f":"Urliste!C8374","v":4},1390,0.16604945645681521,1476,0.17632301994982677,1373,0.16401863576633616,4132,0.49360888782702184,8371,1]
[null,8376,{"$f":"Urliste!C8379","v":5},1392,0.166189111747851,1477,0.17633715377268386,1373,0.16392072588347659,4134,0.49355300859598855,8376,1]
[null,8381,{"$f":"Urliste!C8384","v":6},1395,0.16644791790955732,1477,0.17623195322753848,1373,0.16382293282424532,4136,0.49349719603865888,8381,1]
[null,8382,{"$f":"Urliste!C8385","v":1},1396,0.16654736339775711,1477,0.17621092817943212,1373,0.16380338821283702,4136,0.49343832020997375,8382,1]
[null,8386,{"$f":"Urliste!C8389","v":5},1397,0.16658716909134272,1477,0.17612687813021702,1374,0.16384450274266635,4138,0.49344145003577389,8386,1]
[null,8391,{"$f":"Urliste!C8394","v":2},1398,0.16660707901322847,1478,0.17614110356334167,1376,0.16398522226194731,4139,0.49326659516148252,8391,1]
[null,8396,{"$f":"Urliste!C8399","v":4},1399,0.16662696522153406,1478,0.17603620771796094,1379,0.16424487851357789,4140,0.49309194854692712,8396,1]
[null,8397,{"$f":"Urliste!C8400","v":3},1399,0.16660712159104443,1478,0.1760152435393593,1380,0.16434440871739908,4140,0.49303322615219719,8397,1]
[null,8403,{"$f":"Urliste!C8406","v":4},1399,0.1664881589908366,1479,0.17600856836843984,1381,0.16434606688087589,4144,0.49315720575984767,8403,0.99999999999999989]
[null,8406,{"$f":"Urliste!C8409","v":4},1399,0.16642874137520819,1479,0.17594575303354745,1382,0.16440637639781108,4146,0.49321912919343325,8406,1]
[null,8411,{"$f":"Urliste!C8414","v":5},1400,0.16644869813339674,1479,0.17584116038520983,1382,0.16430864344311022,4150,0.4934014980382832,8411,1]
[null,8412,{"$f":"Urliste!C8415","v":2},1400,0.16642891107941038,1480,0.1759391345696624,1382,0.16428911079410366,4150,0.49334284355682356,8412,1]
[null,8417,{"$f":"Urliste!C8420","v":1},1401,0.16644885351075206,1480,0.17583462041107284,1383,0.16431032434359036,4153,0.49340620173458477,8417,1]
[null,8421,{"$f":"Urliste!C8424","v":2},1402,0.16648854055337847,1481,0.1758698491865574,1384,0.16435102719391997,4154,0.49329058306614415,8421,1]
[null,8426,{"$f":"Urliste!C8429","v":4},1404,0.16662710657488725,1481,0.17576548777593165,1384,0.16425350106812248,4157,0.49335390458105866,8426,1]
[null,8427,{"$f":"Urliste!C8430","v":5},1404,0.16660733357066571,1481,0.17574463035481191,1384,0.16423400973062774,4158,0.49341402634389464,8427,1]
[null,8432,{"$f":"Urliste!C8435","v":6},1404,0.16650853889943074,1481,0.17564041745730549,1385,0.16425521821631878,4162,0.49359582542694497,8432,1]
[null,8437,{"$f":"Urliste!C8440","v":3},1405,0.16652838686736993,1481,0.17553632807870095,1386,0.16427640156453716,4165,0.49365888348939196,8437,1]
[null,8442,{"$f":"Urliste!C8445","v":6},1406,0.16654821132433073,1481,0.17543236199952617,1387,0.16429755981994787,4168,0.49372186685619524,8442,1]
[null,8443,{"$f":"Urliste!C8446","v":1},1407,0.16664692644794504,1481,0.17541158356034584,1387,0.16427810020135022,4168,0.4936633897903589,8443,1]
[null,8447,{"$f":"Urliste!C8450","v":4},1407,0.16656801231206345,1481,0.17532851900082869,1387,0.16420030780158637,4172,0.4939031608855215,8447,1]
[null,8452,{"$f":"Urliste!C8455","v":1},1408,0.16658778987221959,1483,0.17546142924751537,1387,0.16410317084713677,4174,0.49384761003312827,8452,1]
[null,8457,{"$f":"Urliste!C8460","v":6},1409,0.16660754404635214,1483,0.17535769185290292,1388,0.16412439399314177,4177,0.49391037010760319,8457,1]
[null,8458,{"$f":"Urliste!C8461","v":6},1409,0.16658784582643651,1483,0.17533695909198391,1388,0.16410498935918658,4178,0.49397020572239297,8458,0.99999999999999989]
[null,8464,{"$f":"Urliste!C8467","v":1},1410,0.16658790170132326,1484,0.17533081285444235,1388,0.16398865784499056,4182,0.49409262759924388,8464,1]
[null,8467,{"$f":"Urliste!C8470","v":5},1410,0.16652887681587339,1484,0.1752686902090469,1388,0.1639305539152002,4185,0.49427187905987952,8467,1]
[null,8472,{"$f":"Urliste!C8475","v":3},1411,0.16654863078375826,1485,0.17528328611898017,1390,0.16406987724268177,4186,0.49409820585457981,8472,1]
[null,8473,{"$f":"Urliste!C8476","v":1},1412,0.16664699634131949,1485,0.17526259884338488,1390,0.16405051339549157,4186,0.49403989141980409,8473,1]
[null,8478,{"$f":"Urliste!C8481","v":3},1414,0.16678461901391839,1485,0.1751592356687898,1391,0.16407171502712903,4188,0.49398443029016276,8478,0.99999999999999989]
[null,8482,{"$f":"Urliste!C8485","v":2},1415,0.16682386229662816,1486,0.17519452959207735,1392,0.16411223767979249,4189,0.49386937043150203,8482,1]
[null,8487,{"$f":"Urliste!C8490","v":1},1418,0.16707906209496878,1487,0.17520914339578178,1392,0.16401555319901026,4190,0.4936962413102392,8487,1]
[null,8488,{"$f":"Urliste!C8491","v":6},1418,0.1670593779453346,1487,0.17518850141376061,1392,0.16399622997172478,4191,0.49375589066918002,8488,1]
[null,8493,{"$f":"Urliste!C8496","v":1},1419,0.16707877075238431,1490,0.17543859649122806,1392,0.16389968209113387,4192,0.49358295066525376,8493,1]
[null,8498,{"$f":"Urliste!C8501","v":3},{"$f":"IF(C8519=1,D8518+1,D8518)","v":1420},{"$f":"D8519/B8519","v":0.16709814073899742},{"$f":"IF(C8519=2,F8518+1,F8518)","v":1490},{"$f":"F8519/B8519","v":0.175335373028948},{"$f":"IF(C8519=3,H8518+1,H8518)","v":1393},{"$f":"H8519/B8519","v":0.16392092257001648},{"$f":"IF(C8519>3,J8518+1,J8518)","v":4195},{"$f":"J8519/B8519","v":0.4936455636620381},{"$f":"SUM(D8519,J8519,H8519,F8519)","v":8498},{"$f":"SUM(K8519,I8519,G8519,E8519)","v":1}]
[null,8503,{"$f":"Urliste!C8506","v":4},1421,0.16711748794543102,1491,0.17534987651417147,1394,0.16394213806891686,4197,0.49359049747148065,8503,1]
[null,8504,{"$f":"Urliste!C8507","v":2},1421,0.16709783631232361,1492,0.17544684854186265,1394,0.16392285983066793,4197,0.49353245531514583,8504,1]
[null,8508,{"$f":"Urliste!C8511","v":2},1421,0.16701927597555241,1493,0.17548189938881054,1396,0.16408086506817113,4198,0.49341795956746592,8508,1]
[null,8513,{"$f":"Urliste!C8516","v":4},1421,0.16692117937272408,1493,0.17537883237401622,1397,0.16410196170562669,4202,0.49359802654763302,8513,1]
[null,8518,{"$f":"Urliste!C8521","v":1},1423,0.16705799483446818,1494,0.17539328480864053,1397,0.16400563512561633,4204,0.49354308523127494,8518,1]
[null,8519,{"$f":"Urliste!C8522","v":5},1423,0.16703838478694683,1494,0.17537269632585983,1397,0.1639863833783308,4205,0.49360253550886252,8519,1]
[null,8525,{"$f":"Urliste!C8528","v":6},1424,0.16703812316715544,1495,0.175366568914956,1397,0.16387096774193549,4209,0.49372434017595307,8525,1]
[null,8528,{"$f":"Urliste!C8531","v":4},1425,0.16709662288930582,1495,0.17530487804878048,1398,0.16393058161350843,4210,0.49366791744840527,8528,1]
[null,8533,{"$f":"Urliste!C8536","v":3},1426,0.16711590296495957,1497,0.17543654048986287,1399,0.16395171686394,4211,0.49349583968123756,8533,1]
[null,8534,{"$f":"Urliste!C8537","v":2},1426,0.16709632059995314,1498,0.17553316147176001,1399,0.16393250527302555,4211,0.49343801265526133,8534,1]
[null,8539,{"$f":"Urliste!C8542","v":1},1428,0.16723269703712379,1498,0.17543037826443378,1399,0.16383651481438108,4214,0.49350040988406135,8539,1]
[null,8543,{"$f":"Urliste!C8546","v":5},1428,0.16715439541144797,1499,0.17546529322252136,1400,0.16387685824651763,4216,0.49350345311951305,8543,1]
[null,8548,{"$f":"Urliste!C8551","v":4},1429,0.16717360786148808,1500,0.1754796443612541,1401,0.16389798783341133,4218,0.49344875994384652,8548,1]
[null,8549,{"$f":"Urliste!C8552","v":1},1430,0.16727102585097672,1500,0.17545911802550007,1401,0.16387881623581704,4218,0.49339103988770616,8549,1]
[null,8554,{"$f":"Urliste!C8557","v":2},1430,0.16717325227963525,1501,0.17547346270750527,1401,0.16378302548515314,4222,0.49357025952770633,8554,1]
[null,8559,{"$f":"Urliste!C8562","v":2},1430,0.16707559294310084,1502,0.17548779062974645,1402,0.16380418273162753,4225,0.49363243369552517,8559,0.99999999999999989]
[null,8564,{"$f":"Urliste!C8567","v":5},1431,0.16709481550677255,1503,0.17550210182157872,1403,0.16382531527323679,4227,0.49357776739841197,8564,1.0000000000000002]
[null,8565,{"$f":"Urliste!C8568","v":6},1431,0.16707530647985991,1503,0.1754816112084063,1403,0.16380618797431407,4228,0.49363689433741975,8565,1]
[null,8569,{"$f":"Urliste!C8572","v":5},1431,0.16699731590617342,1503,0.17539969658069787,1403,0.16372972342163614,4232,0.49387326409149257,8569,1]
[null,8574,{"$f":"Urliste!C8577","v":3},1432,0.16701656169815721,1503,0.17529741077676697,1405,0.16386750641474224,4234,0.49381852111033359,8574,1]
[null,8579,{"$f":"Urliste!C8582","v":2},1432,0.16691922135447021,1506,0.17554493530714535,1405,0.16377200139876444,4236,0.49376384193962003,8579,1]
[null,8580,{"$f":"Urliste!C8583","v":3},1432,0.1668997668997669,1506,0.17552447552447553,1406,0.16386946386946388,4236,0.49370629370629371,8580,1]
[null,8586,{"$f":"Urliste!C8589","v":6},1433,0.16689960400652223,1506,0.17540181691125087,1406,0.16375494991847192,4241,0.49394362916375495,8586,1]
[null,8589,{"$f":"Urliste!C8592","v":6},1433,0.1668413086505996,1506,0.17534055186866923,1408,0.16393060891838399,4242,0.49388753056234719,8589,1]
[null,8594,{"$f":"Urliste!C8597","v":6},1436,0.1670933209215732,1506,0.17523853851524318,1408,0.1638352338841052,4244,0.49383290667907842,8594,1]
[null,8595,{"$f":"Urliste!C8598","v":5},1436,0.16707388016288541,1506,0.17521815008726002,1408,0.16381617219313555,4245,0.49389179755671903,8595,1]
[null,8600,{"$f":"Urliste!C8603","v":1},1438,0.1672093023255814,1508,0.17534883720930233,1409,0.16383720930232559,4245,0.49360465116279068,8600,1]
[null,8604,{"$f":"Urliste!C8607","v":5},1438,0.16713156671315668,1508,0.17526731752673175,1409,0.16376104137610414,4249,0.49384007438400745,8604,1]
[null,8609,{"$f":"Urliste!C8612","v":2},1439,0.16715065628992914,1510,0.17539783947032175,1409,0.16366593100243931,4251,0.49378557323730982,8609,1]
[null,8610,{"$f":"Urliste!C8613","v":4},1439,0.16713124274099883,1510,0.17537746806039489,1409,0.16364692218350754,4252,0.49384436701509871,8610,1]
[null,8615,{"$f":"Urliste!C8618","v":2},1439,0.16703424260011607,1511,0.17539175856065004,1410,0.1636680208937899,4255,0.493905977945444,8615,1]
[null,8620,{"$f":"Urliste!C8623","v":2},1439,0.16693735498839907,1512,0.17540603248259862,1411,0.16368909512761021,4258,0.49396751740139211,8620,1]
[null,8625,{"$f":"Urliste!C8628","v":6},1441,0.16707246376811594,1514,0.17553623188405798,1411,0.16359420289855073,4259,0.49379710144927536,8625,1]
[null,8626,{"$f":"Urliste!C8629","v":5},{"$f":"IF(C8647=1,D8646+1,D8646)","v":1441},{"$f":"D8647/B8647","v":0.16705309529329931},{"$f":"IF(C8647=2,F8646+1,F8646)","v":1514},{"$f":"F8647/B8647","v":0.17551588221655459},{"$f":"IF(C8647=3,H8646+1,H8646)","v":1411},{"$f":"H8647/B8647","v":0.16357523765360538},{"$f":"IF(C8647>3,J8646+1,J8646)","v":4260},{"$f":"J8647/B8647","v":0.49385578483654069},{"$f":"SUM(D8647,J8647,H8647,F8647)","v":8626},{"$f":"SUM(K8647,I8647,G8647,E8647)","v":1}]
[null,8630,{"$f":"Urliste!C8633","v":2},1441,0.16697566628041716,1516,0.17566628041714949,1412,0.16361529548088066,4261,0.49374275782155275,8630,1]
[null,8635,{"$f":"Urliste!C8638","v":5},1442,0.16699478865083961,1516,0.17556456282570931,1414,0.16375217139548351,4263,0.4936884771279676,8635,1]
[null,8640,{"$f":"Urliste!C8643","v":3},1442,0.16689814814814816,1519,0.17581018518518518,1415,0.16377314814814814,4264,0.49351851851851852,8640,1]
[null,8641,{"$f":"Urliste!C8644","v":2},1442,0.16687883346834856,1520,0.17590556648536049,1415,0.16375419511630598,4264,0.49346140492998497,8641,1]
[null,8647,{"$f":"Urliste!C8650","v":3},1442,0.16676303920434832,1522,0.17601480282178791,1416,0.16375621602868046,4267,0.49346594194518328,8647,1]
[null,8650,{"$f":"Urliste!C8653","v":2},1442,0.16670520231213873,1523,0.17606936416184971,1416,0.16369942196531792,4269,0.49352601156069364,8650,1]
[null,8655,{"$f":"Urliste!C8658","v":2},1443,0.16672443674176776,1526,0.17631426920854998,1416,0.16360485268630851,4270,0.49335644136337375,8655,1]
[null,8656,{"$f":"Urliste!C8659","v":4},1443,0.16670517560073936,1526,0.17629390018484289,1416,0.16358595194085027,4271,0.49341497227356745,8656,1]
[null,8661,{"$f":"Urliste!C8664","v":2},1443,0.16660893661240042,1528,0.17642304583766308,1417,0.16360697379055536,4273,0.49336104375938111,8661,1]
[null,8666,{"$f":"Urliste!C8669","v":4},1443,0.16651280867759058,1529,0.17643664897299793,1418,0.16362797138241403,4276,0.49342257096699749,8666,1]
[null,8669,{"$f":"Urliste!C8672","v":5},1443,0.16645518514246163,1530,0.17649094474564539,1419,0.1636866997346868,4277,0.49336717037720612,8669,0.99999999999999989]
[null,8671,{"$f":"Urliste!C8674","v":1},1444,0.16653211855610656,1530,0.1764502364202514,1419,0.16364894475839004,4278,0.49336870026525198,8671,1]
[null,8676,{"$f":"Urliste!C8679","v":4},1444,0.16643614568925771,1531,0.17646380820654681,1420,0.16366989396035039,4281,0.49343015214384511,8676,1]
[null,8681,{"$f":"Urliste!C8684","v":4},1445,0.16645547747955305,1532,0.17647736435894482,1421,0.16369081903006566,4283,0.49337633913143647,8681,1]
[null,8686,{"$f":"Urliste!C8689","v":6},1446,0.16647478701358509,1532,0.17637577711259497,1421,0.16359659221736128,4287,0.49355284365645868,8686,1]
[null,8687,{"$f":"Urliste!C8690","v":3},1446,0.16645562334522851,1532,0.17635547369632784,1422,0.16369287441003799,4287,0.49349602854840569,8687,1]
[null,8691,{"$f":"Urliste!C8694","v":4},1447,0.16649407432976643,1532,0.17627430675411346,1423,0.16373259693936257,4289,0.49349902197675755,8691,1]
[null,8696,{"$f":"Urliste!C8699","v":3},1447,0.16639834406623735,1533,0.17628794848206072,1424,0.16375344986200552,4292,0.49356025758969641,8696,1]
[null,8701,{"$f":"Urliste!C8704","v":6},1447,0.16630272382484773,1534,0.17630157453166304,1425,0.1637742788185266,4295,0.49362142282496263,8701,1]
[null,8702,{"$f":"Urliste!C8705","v":2},1447,0.16628361296253735,1535,0.17639623075155136,1425,0.16375545851528384,4295,0.49356469777062745,8702,1]
[null,8708,{"$f":"Urliste!C8711","v":4},1449,0.16639871382636656,1536,0.17638952687184198,1426,0.16375746440055122,4297,0.49345429490124026,8708,1]
[null,8711,{"$f":"Urliste!C8714","v":2},1449,0.16634140741591091,1538,0.17655837446906211,1426,0.16370106761565836,4298,0.49339915049936861,8711,1]
[null,8716,{"$f":"Urliste!C8719","v":2},1450,0.16636071592473611,1539,0.17657182193666821,1426,0.16360715924736116,4301,0.49346030289123449,8716,1]
[null,8717,{"$f":"Urliste!C8720","v":2},1450,0.16634163129517035,1540,0.17666628427211198,1426,0.16358839050131926,4301,0.49340369393139843,8717,1]
[null,8722,{"$f":"Urliste!C8725","v":4},1450,0.16624627379041504,1541,0.17667966062829626,1426,0.16349461132767715,4305,0.49357945425361155,8722,0.99999999999999989]
[null,8727,{"$f":"Urliste!C8730","v":3},1452,0.16638019938123066,1542,0.17669302165692677,1427,0.16351552652687062,4306,0.49341125243497191,8727,1]
[null,8731,{"$f":"Urliste!C8734","v":2},1453,0.16641850876188294,1543,0.17672660634520673,1427,0.16344061390447828,4308,0.49341427098843205,8731,1]
[null,8732,{"$f":"Urliste!C8735","v":5},1453,0.16639945029775538,1543,0.17670636738433348,1427,0.16342189647274394,4309,0.49347228584516722,8732,1]
[null,8737,{"$f":"Urliste!C8740","v":6},1453,0.16630422341764908,1545,0.17683415359963375,1427,0.16332837358360994,4312,0.49353324939910725,8737,1]
[null,8742,{"$f":"Urliste!C8745","v":4},1453,0.16620910546785633,1546,0.17684740334019675,1427,0.1632349576755891,4316,0.49370853351635779,8742,1]
[null,8747,{"$f":"Urliste!C8750","v":6},1454,0.16622842117297359,1546,0.1767463130216074,1427,0.16314164856522237,4320,0.49388361724019664,8747,1]
[null,8748,{"$f":"Urliste!C8751","v":1},1455,0.16632373113854595,1546,0.17672610882487425,1427,0.16312299954275264,4320,0.49382716049382713,8748,1]
[null,8752,{"$f":"Urliste!C8755","v":5},1455,0.16624771480804387,1546,0.1766453382084095,1427,0.16304844606946983,4324,0.49405850091407677,8752,1]
[null,8757,{"$f":"Urliste!C8760","v":6},1457,0.16638118076966998,1547,0.17665867306155075,1427,0.16295535000570971,4326,0.49400479616306953,8757,1]
[null,8762,{"$f":"Urliste!C8765","v":2},1459,0.16651449440766949,1548,0.17667199269573156,1429,0.16309061858023283,4326,0.49372289431636612,8762,1]
[null,8763,{"$f":"Urliste!C8766","v":1},1460,0.16660960858153601,1548,0.17665183156453271,1429,0.16307200730343491,4326,0.49366655255049641,8763,1]
[null,8769,{"$f":"Urliste!C8772","v":3},1461,0.16660964762230585,1549,0.17664499942980955,1430,0.16307446687193522,4329,0.49367088607594939,8769,1]
[null,8772,{"$f":"Urliste!C8775","v":2},1461,0.16655266757865936,1550,0.1766985864113087,1430,0.16301869585043319,4331,0.4937300501595987,8772,0.99999999999999989]
[null,8777,{"$f":"Urliste!C8780","v":6},1461,0.16645778739888345,1551,0.17671186054460522,1430,0.16292582887091261,4335,0.49390452318559874,8777,1]
[null,8778,{"$f":"Urliste!C8781","v":1},1462,0.16655274550011392,1551,0.17669172932330826,1430,0.16290726817042606,4335,0.49384825700615176,8778,0.99999999999999989]
[null,8783,{"$f":"Urliste!C8786","v":6},1462,0.16645793009222362,1552,0.1767049982921553,1430,0.16281452806558125,4339,0.49402254355003983,8783,1]
[null,8788,{"$f":"Urliste!C8791","v":5},1464,0.16659080564406009,1552,0.17660446062812926,1430,0.16272189349112426,4342,0.49408284023668642,8788,1]
[null,8792,{"$f":"Urliste!C8795","v":1},1465,0.16662875341219291,1553,0.17663785259326661,1430,0.16264786169244769,4344,0.49408553230209279,8792,1]
[null,8793,{"$f":"Urliste!C8796","v":6},1465,0.16660980325258729,1553,0.17661776413055841,1430,0.16262936426703059,4345,0.49414306834982374,8793,1]
[null,8798,{"$f":"Urliste!C8801","v":2},1467,0.16674244146396908,1554,0.17663105251193453,1431,0.16265060240963855,4346,0.49397590361445781,8798,1]
[null,8803,{"$f":"Urliste!C8806","v":5},1469,0.16687492900147677,1555,0.17664432579802339,1431,0.16255821878904919,4348,0.49392252641145062,8803,1]
[null,8808,{"$f":"Urliste!C8811","v":4},1472,0.16712079927338783,1555,0.17654405086285196,1431,0.16246594005449591,4350,0.4938692098092643,8808,1]
[null,8810,{"$f":"Urliste!C8813","v":2},1473,0.16719636776390465,1556,0.17661748013620884,1431,0.16242905788876277,4350,0.49375709421112374,8810,1]
[null,8813,{"$f":"Urliste!C8816","v":5},1473,0.16713945308067626,1556,0.17655735844774764,1432,0.16248723476682175,4352,0.49381595370475434,8813,1]
[null,8818,{"$f":"Urliste!C8821","v":4},{"$f":"IF(C8839=1,D8838+1,D8838)","v":1473},{"$f":"D8839/B8839","v":0.16704468133363576},{"$f":"IF(C8839=2,F8838+1,F8838)","v":1557},{"$f":"F8839/B8839","v":0.17657065094125651},{"$f":"IF(C8839=3,H8838+1,H8838)","v":1434},{"$f":"H8839/B8839","v":0.16262190973009752},{"$f":"IF(C8839>3,J8838+1,J8838)","v":4354},{"$f":"J8839/B8839","v":0.49376275799501018},{"$f":"SUM(D8839,J8839,H8839,F8839)","v":8818},{"$f":"SUM(K8839,I8839,G8839,E8839)","v":1}]
[null,8823,{"$f":"Urliste!C8826","v":1},1475,0.16717669726850279,1558,0.17658392836903547,1434,0.16252975178510712,4356,0.49370962257735462,8823,1]
[null,8824,{"$f":"Urliste!C8827","v":6},1475,0.16715775158658205,1558,0.17656391659111514,1434,0.16251133272892113,4357,0.49376699909338168,8824,1]
[null,8828,{"$f":"Urliste!C8831","v":3},1476,0.1671952877208881,1559,0.17659719075668329,1436,0.16266425011327593,4357,0.49354327140915272,8828,1]
[null,8833,{"$f":"Urliste!C8836","v":3},1477,0.16721385712668402,1559,0.1764972263104268,1438,0.1627985961734405,4359,0.49349032038944868,8833,0.99999999999999989]
[null,8838,{"$f":"Urliste!C8841","v":3},1477,0.16711925775062231,1559,0.17639737497171307,1440,0.16293279022403259,4362,0.49355057705363203,8838,1]
[null,8839,{"$f":"Urliste!C8842","v":4},1477,0.16710035071840706,1559,0.17637741825998415,1440,0.16291435682769545,4363,0.49360787419391333,8839,1]
[null,8844,{"$f":"Urliste!C8847","v":3},1478,0.16711895070104024,1559,0.17627770239710538,1441,0.16293532338308458,4366,0.49366802351876976,8844,1]
[null,8849,{"$f":"Urliste!C8852","v":5},1479,0.16713752966436884,1561,0.17640411345914792,1441,0.16284325912532491,4368,0.4936150977511583,8849,1]
[null,8853,{"$f":"Urliste!C8856","v":4},1480,0.16717496893708347,1563,0.17655032192477127,1441,0.16276968259347113,4369,0.4935050265446741,8853,1]
[null,8854,{"$f":"Urliste!C8857","v":3},1480,0.16715608764400272,1563,0.17653038174836233,1442,0.16286424215044049,4369,0.49344928845719449,8854,1]
[null,8859,{"$f":"Urliste!C8862","v":5},1480,0.16706174511795913,1564,0.17654362794897843,1442,0.16277232193249802,4373,0.49362230500056442,8859,1]
[null,8864,{"$f":"Urliste!C8867","v":2},1482,0.16719314079422382,1566,0.17666967509025272,1443,0.162793321299639,4373,0.49334386281588449,8864,1]
[null,8869,{"$f":"Urliste!C8872","v":3},1482,0.16709888375239598,1566,0.17657007554402976,1444,0.16281429698951405,4377,0.49351674371406024,8869,1]
[null,8871,{"$f":"Urliste!C8874","v":5},1482,0.16706121068650659,1566,0.17653026716266487,1445,0.1628903167624845,4378,0.49351820538834407,8871,1]
[null,8874,{"$f":"Urliste!C8877","v":4},1482,0.16700473292765383,1568,0.17669596574261889,1445,0.16283524904214558,4379,0.49346405228758172,8874,1]
[null,8879,{"$f":"Urliste!C8882","v":2},1483,0.16702331343619778,1570,0.17682171415699965,1445,0.16274355220182454,4381,0.49341142020497802,8879,1]
[null,8884,{"$f":"Urliste!C8887","v":6},1485,0.16715443493921656,1571,0.17683475911751464,1445,0.16265195857721748,4383,0.49335884736605135,8884,1]
[null,8885,{"$f":"Urliste!C8888","v":2},1485,0.16713562183455261,1572,0.17692740574001126,1445,0.16263365222284751,4383,0.49330332020258866,8885,1]
[null,8889,{"$f":"Urliste!C8892","v":1},1486,0.16717291033862078,1572,0.17684778940263246,1448,0.16289796377545282,4383,0.49308133648329394,8889,1]
[null,8894,{"$f":"Urliste!C8897","v":2},1487,0.16719136496514503,1574,0.17697324038677761,1449,0.16291882167753541,4384,0.49291657297054192,8894,1]
[null,8899,{"$f":"Urliste!C8902","v":1},1489,0.16732217103045285,1574,0.17687380604562311,1450,0.16293965614113945,4386,0.49286436678278456,8899,1]
[null,8900,{"$f":"Urliste!C8903","v":4},1489,0.16730337078651686,1574,0.17685393258426965,1450,0.16292134831460675,4387,0.49292134831460677,8900,1]
[null,8905,{"$f":"Urliste!C8908","v":3},1490,0.16732172936552497,1574,0.17675463222908477,1451,0.16294216732172936,4390,0.49298147108366086,8905,1]
[null,8910,{"$f":"Urliste!C8913","v":2},1490,0.16722783389450055,1577,0.17699214365881033,1452,0.16296296296296298,4391,0.49281705948372617,8910,1]
[null,8914,{"$f":"Urliste!C8917","v":3},1491,0.16726497644155261,1577,0.17691272156158852,1454,0.16311420237828136,4392,0.49270809961857753,8914,1]
[null,8915,{"$f":"Urliste!C8918","v":6},1491,0.16724621424565339,1577,0.17689287717330343,1454,0.16309590577678071,4393,0.4927650028042625,8915,1]
[null,8920,{"$f":"Urliste!C8923","v":5},1493,0.16737668161434976,1578,0.17690582959641254,1455,0.16311659192825112,4394,0.49260089686098657,8920,1]
[null,8925,{"$f":"Urliste!C8928","v":5},1493,0.16728291316526611,1578,0.17680672268907563,1457,0.16324929971988794,4397,0.49266106442577029,8925,1]
[null,8930,{"$f":"Urliste!C8933","v":4},1493,0.16718924972004479,1580,0.1769316909294513,1457,0.16315789473684211,4400,0.49272116461366183,8930,1]
[null,8932,{"$f":"Urliste!C8935","v":3},1493,0.16715181370353785,1580,0.17689207344379759,1458,0.16323331840573219,4401,0.4927227944469324,8932,0.99999999999999989]
[null,8935,{"$f":"Urliste!C8938","v":5},1493,0.16709569110240627,1581,0.17694459988808059,1458,0.16317851147174034,4403,0.49278119753777283,8935,1]
[null,8940,{"$f":"Urliste!C8943","v":1},1494,0.16711409395973154,1581,0.17684563758389263,1459,0.16319910514541386,4406,0.49284116331096195,8940,0.99999999999999989]
[null,8945,{"$f":"Urliste!C8948","v":3},1495,0.16713247624371158,1581,0.1767467859139184,1461,0.16333147009502516,4408,0.49278926774734488,8945,1]
[null,8946,{"$f":"Urliste!C8949","v":6},{"$f":"IF(C8967=1,D8966+1,D8966)","v":1495},{"$f":"D8967/B8967","v":0.16711379387435726},{"$f":"IF(C8967=2,F8966+1,F8966)","v":1581},{"$f":"F8967/B8967","v":0.1767270288397049},{"$f":"IF(C8967=3,H8966+1,H8966)","v":1461},{"$f":"H8967/B8967","v":0.16331321260898726},{"$f":"IF(C8967>3,J8966+1,J8966)","v":4409},{"$f":"J8967/B8967","v":0.49284596467695058},{"$f":"SUM(D8967,J8967,H8967,F8967)","v":8946},{"$f":"SUM(K8967,I8967,G8967,E8967)","v":1}]
[null,8950,{"$f":"Urliste!C8953","v":2},1495,0.16703910614525139,1584,0.17698324022346368,1462,0.16335195530726257,4409,0.49262569832402237,8950,1]
[null,8955,{"$f":"Urliste!C8958","v":4},1495,0.16694584031267448,1586,0.17710776102735901,1462,0.16326074818537131,4412,0.49268565047459517,8955,1]
[null,8960,{"$f":"Urliste!C8963","v":3},1497,0.16707589285714286,1586,0.17700892857142858,1463,0.16328124999999999,4414,0.49263392857142857,8960,1]
[null,8961,{"$f":"Urliste!C8964","v":3},1497,0.16705724807499164,1586,0.17698917531525499,1464,0.16337462336792768,4414,0.49257895324182571,8961,1]
[null,8966,{"$f":"Urliste!C8969","v":1},1500,0.16729868391701985,1587,0.17700200758420701,1464,0.16328351550301137,4415,0.49241579299576177,8966,1]
[null,8971,{"$f":"Urliste!C8974","v":4},1500,0.16720543975030655,1588,0.1770148255489912,1464,0.16319250919629918,4419,0.49258722550440309,8971,1]
[null,8975,{"$f":"Urliste!C8978","v":5},1500,0.16713091922005571,1588,0.17693593314763231,1464,0.16311977715877438,4423,0.49281337047353763,8975,1]
[null,8976,{"$f":"Urliste!C8979","v":4},1500,0.16711229946524064,1588,0.17691622103386809,1464,0.16310160427807488,4424,0.49286987522281639,8976,1]
[null,8981,{"$f":"Urliste!C8984","v":1},1501,0.16713060906357866,1588,0.17681772631110121,1466,0.16323349292951786,4426,0.49281817169580228,8981,1]
[null,8986,{"$f":"Urliste!C8989","v":3},1502,0.16714889828622301,1588,0.17671934119741819,1468,0.163365234809704,4428,0.4927665257066548,8986,1]
[null,8991,{"$f":"Urliste!C8994","v":1},1503,0.16716716716716717,1589,0.17673228784339895,1468,0.16327438549660772,4431,0.49282615949282615,8991,1]
[null,8993,{"$f":"Urliste!C8996","v":5},1503,0.16712998999221618,1589,0.17669298343155787,1468,0.16323807405760035,4433,0.49293895251862557,8993,0.99999999999999989]
[null,8996,{"$f":"Urliste!C8999","v":4},1503,0.16707425522454425,1589,0.17663405958203646,1469,0.16329479768786126,4435,0.49299688750555803,8996,1]
[null,9001,{"$f":"Urliste!C9004","v":4},1504,0.16709254527274747,1590,0.17664703921786468,1469,0.16320408843461837,4438,0.49305632707476948,9001,1]
[null,9006,{"$f":"Urliste!C9009","v":4},1506,0.16722185209860094,1590,0.17654896735509659,1470,0.16322451698867421,4440,0.49300466355762823,9006,1]
[null,9007,{"$f":"Urliste!C9010","v":3},1506,0.16720328633285222,1590,0.17652936604862884,1471,0.16331741978461198,4440,0.49294992783390695,9007,0.99999999999999989]
[null,9011,{"$f":"Urliste!C9014","v":3},1507,0.16724003995117079,1590,0.1764510043280435,1472,0.16335589834646544,4442,0.49295305737432027,9011,1]
[null,9016,{"$f":"Urliste!C9019","v":4},1507,0.16714729370008874,1591,0.17646406388642413,1474,0.16348713398402839,4444,0.49290150842945873,9016,1]
[null,9021,{"$f":"Urliste!C9024","v":3},1508,0.16716550271588515,1592,0.17647710896796365,1476,0.16361822414366478,4445,0.49273916417248642,9021,1]
[null,9022,{"$f":"Urliste!C9025","v":5},1508,0.16714697406340057,1592,0.1764575482154733,1476,0.16360008867213477,4446,0.49279538904899134,9022,1]
[null,9027,{"$f":"Urliste!C9030","v":6},1508,0.16705439237842029,1592,0.17635980946050736,1479,0.16384180790960451,4448,0.49274399025146781,9027,1]
[null,9032,{"$f":"Urliste!C9035","v":2},1510,0.16718334809565988,1594,0.17648361381753763,1480,0.16386182462356066,4448,0.4924712134632418,9032,1]
[null,9036,{"$f":"Urliste!C9039","v":2},1510,0.16710934041611333,1595,0.17651615759185479,1480,0.1637892872952634,4451,0.49258521469676847,9036,1]
[null,9037,{"$f":"Urliste!C9040","v":3},1510,0.1670908487329866,1595,0.17649662498616797,1481,0.16388181918778355,4451,0.49253070709306185,9037,0.99999999999999989]
[null,9042,{"$f":"Urliste!C9045","v":3},1512,0.16721964167219641,1595,0.17639902676399027,1482,0.16390179163901791,4453,0.49247953992479537,9042,0.99999999999999989]
[null,9047,{"$f":"Urliste!C9050","v":3},1512,0.1671272244943075,1596,0.17641207029954681,1484,0.16403227589256106,4455,0.4924284293135846,9047,0.99999999999999989]
[null,9052,{"$f":"Urliste!C9055","v":3},1512,0.16703490941228458,1599,0.17664604507291207,1486,0.16416261599646487,4455,0.49215642951833849,9052,1]
[null,9054,{"$f":"Urliste!C9057","v":3},1512,0.16699801192842942,1599,0.17660702451954938,1487,0.16423680141373978,4456,0.4921581621382814,9054,1]
[null,9057,{"$f":"Urliste!C9060","v":6},1512,0.16694269625703875,1599,0.17654852600198742,1487,0.16418240035331788,4459,0.49232637738765594,9057,1]
[null,9062,{"$f":"Urliste!C9065","v":2},1513,0.16696093577576693,1601,0.17667181637607593,1487,0.16409181196203929,4461,0.49227543588611783,9062,1]
[null,9067,{"$f":"Urliste!C9070","v":1},1514,0.16697915517811845,1602,0.17668468071026799,1489,0.16422190360648506,4462,0.49211426050512846,9067,1]
[null,9068,{"$f":"Urliste!C9071","v":4},1514,0.16696074106749006,1602,0.17666519629466254,1489,0.16420379355977063,4463,0.49217026907807676,9068,1]
[null,9072,{"$f":"Urliste!C9075","v":6},1514,0.16688712522045857,1602,0.1765873015873016,1489,0.16413139329805995,4467,0.49239417989417988,9072,1]
[null,9077,{"$f":"Urliste!C9080","v":2},1516,0.167015533766663,1603,0.1766001983034042,1490,0.16415115126142998,4468,0.49223311666850283,9077,1]
[null,9082,{"$f":"Urliste!C9085","v":2},1516,0.16692358511341115,1604,0.17661308081920282,1491,0.16417088746972033,4471,0.49229244659766569,9082,1]
[null,9083,{"$f":"Urliste!C9086","v":3},1516,0.16690520753055157,1604,0.17659363646372345,1492,0.16426290873059562,4471,0.49223824727512938,9083,1]
[null,9088,{"$f":"Urliste!C9091","v":2},1516,0.16681338028169015,1607,0.17682658450704225,1493,0.16428257042253522,4472,0.49207746478873238,9088,1]
[null,9093,{"$f":"Urliste!C9096","v":5},1517,0.16683162872539317,1607,0.17672935224898273,1493,0.16419223578576927,4476,0.49224678323985482,9093,0.99999999999999989]
[null,9097,{"$f":"Urliste!C9100","v":5},1517,0.16675827195778828,1608,0.17676156974826865,1493,0.16412003957348575,4479,0.49236011872045732,9097,0.99999999999999989]
[null,9098,{"$f":"Urliste!C9101","v":6},1517,0.16673994284458124,1608,0.17674214112991865,1493,0.16410200043965706,4480,0.49241591558584302,9098,1]
[null,9103,{"$f":"Urliste!C9106","v":2},1519,0.16686806547292102,1609,0.17675491596177084,1494,0.16412171811490717,4481,0.49225530045040095,9103,1]
[null,9108,{"$f":"Urliste!C9111","v":5},1519,0.16677646025472112,1610,0.17676767676767677,1495,0.16414141414141414,4484,0.49231444883618797,9108,1]
[null,9113,{"$f":"Urliste!C9116","v":6},1519,0.16668495555799406,1610,0.17667069022275869,1496,0.16416108855481182,4488,0.4924832656644354,9113,1]
[null,9115,{"$f":"Urliste!C9118","v":2},1519,0.16664838178826111,1611,0.17674163466812945,1497,0.16423477783872736,4488,0.49237520570488208,9115,1]
[null,9118,{"$f":"Urliste!C9121","v":4},1519,0.16659355121737224,1611,0.17668348322000438,1498,0.1642904145645975,4490,0.49243255099802591,9118,1]
[null,9123,{"$f":"Urliste!C9126","v":1},1521,0.1667214731996054,1611,0.17658664912857613,1499,0.16430998575030142,4492,0.49238189192151705,9123,1]
[null,9128,{"$f":"Urliste!C9131","v":5},1522,0.16673970201577565,1612,0.17659947414548641,1499,0.1642199824715162,4495,0.49244084136722172,9128,1]
[null,9129,{"$f":"Urliste!C9132","v":2},1522,0.16672143717822324,1613,0.17668967028152044,1499,0.16420199364662066,4495,0.49238689889363568,9129,1]
[null,9134,{"$f":"Urliste!C9137","v":1},1523,0.16673965403985111,1613,0.17659294941975037,1501,0.16433107072476461,4497,0.49233632581563391,9134,1]
[null,9137,{"$f":"Urliste!C9140","v":1},1524,0.16679435263215497,1614,0.17664441282696727,1502,0.16438656014008973,4497,0.49217467440078799,9137,1]
[null,9143,{"$f":"Urliste!C9146","v":1},1525,0.16679426883954937,1615,0.17663786503335885,1505,0.16460680301870284,4498,0.49196106310838894,9143,1]
[null,9144,{"$f":"Urliste!C9147","v":2},1525,0.16677602799650043,1616,0.17672790901137359,1505,0.16458880139982501,4498,0.49190726159230097,9144,1]
[null,9149,{"$f":"Urliste!C9152","v":6},1525,0.1666848835938354,1617,0.17674062739097168,1506,0.16460815389660072,4501,0.49196633511859217,9149,0.99999999999999989]
[null,9154,{"$f":"Urliste!C9157","v":4},1525,0.16659383875901246,1618,0.17675333187677519,1506,0.16451824339086737,4505,0.49213458597334497,9154,1]
[null,9158,{"$f":"Urliste!C9161","v":1},1526,0.16663026861760211,1618,0.17667613015942346,1508,0.1646647739681153,4506,0.49202882725485914,9158,1]
[null,9159,{"$f":"Urliste!C9162","v":3},1526,0.16661207555409979,1618,0.17665684026640463,1509,0.16475597772682607,4506,0.49197510645266951,9159,1]
[null,9164,{"$f":"Urliste!C9167","v":4},1526,0.16652116979484941,1618,0.17656045395024006,1509,0.1646660846791794,4511,0.49225229157573114,9164,1]
[null,9169,{"$f":"Urliste!C9172","v":6},1528,0.16664848947540625,1618,0.17646417275602574,1509,0.16457628967171992,4514,0.49231104809684806,9169,1]
[null,9174,{"$f":"Urliste!C9177","v":2},1529,0.16666666666666666,1619,0.17647700021800741,1511,0.16470459995639852,4515,0.49215173315892741,9174,0.99999999999999989]
[null,9176,{"$f":"Urliste!C9179","v":4},1529,0.16663034001743679,1619,0.17643853530950304,1511,0.16466870095902353,4517,0.49226242371403661,9176,1]
[null,9179,{"$f":"Urliste!C9182","v":6},1530,0.16668482405490795,1620,0.17648981370519665,1511,0.16461488179540254,4518,0.49221048044449284,9179,1]
[null,9184,{"$f":"Urliste!C9187","v":2},1530,0.16659407665505227,1621,0.1765026132404181,1513,0.16474303135888502,4520,0.49216027874564461,9184,1]
[null,9189,{"$f":"Urliste!C9192","v":5},1530,0.16650342801175319,1622,0.17651539884644685,1513,0.16465338992273371,4524,0.49232778321906628,9189,1]
[null,9190,{"$f":"Urliste!C9193","v":6},1530,0.16648531011969533,1622,0.17649619151251361,1513,0.16463547334058759,4525,0.49238302502720349,9190,1]
[null,9195,{"$f":"Urliste!C9198","v":4},1530,0.16639477977161501,1622,0.17640021750951604,1515,0.16476345840130505,4528,0.49244154431756387,9195,1]
[null,9199,{"$f":"Urliste!C9202","v":2},1530,0.16632242635069031,1623,0.17643222089357538,1517,0.16490922926405044,4529,0.49233612349168387,9199,0.99999999999999989]
[null,9204,{"$f":"Urliste!C9207","v":1},1531,0.16634072142546719,1625,0.17655367231638419,1517,0.16481964363320295,4531,0.49228596262494567,9204,1]
[null,9205,{"$f":"Urliste!C9208","v":5},1531,0.16632265073329713,1625,0.17653449212384573,1517,0.1648017381857686,4532,0.49234111895708854,9205,1]
[null,9210,{"$f":"Urliste!C9213","v":6},1531,0.16623235613463627,1625,0.1764386536373507,1518,0.16482084690553747,4536,0.49250814332247556,9210,1]
[null,9215,{"$f":"Urliste!C9218","v":5},1532,0.16625067824199674,1625,0.17634291915355399,1519,0.1648399348887683,4539,0.49256646771568097,9215,1]
[null,9219,{"$f":"Urliste!C9222","v":6},1532,0.16617854431066276,1625,0.17626640633474347,1520,0.16487688469465234,4542,0.49267816465994141,9219,1]
[null,9220,{"$f":"Urliste!C9223","v":5},1532,0.16616052060737527,1625,0.1762472885032538,1520,0.16485900216919741,4543,0.49273318872017352,9220,1]
[null,9225,{"$f":"Urliste!C9228","v":6},1532,0.16607046070460704,1626,0.17626016260162602,1520,0.16476964769647698,4547,0.49289972899728995,9225,1]
[null,9230,{"$f":"Urliste!C9233","v":2},1532,0.16598049837486456,1627,0.17627302275189599,1520,0.1646803900325027,4551,0.49306608884073672,9230,1]
[null,9235,{"$f":"Urliste!C9238","v":2},1532,0.16589063345966432,1628,0.176285868976719,1521,0.16469951272333513,4554,0.49312398484028153,9235,1]
[null,9237,{"$f":"Urliste!C9240","v":4},1532,0.16585471473422106,1628,0.17624769946952473,1521,0.16466385189996752,4556,0.49323373389628666,9237,1]
[null,9240,{"$f":"Urliste!C9243","v":3},1533,0.16590909090909092,1628,0.1761904761904762,1522,0.16471861471861471,4557,0.49318181818181817,9240,1]
[null,9245,{"$f":"Urliste!C9248","v":6},1535,0.16603569497025419,1628,0.17609518658734452,1522,0.16462952947539211,4560,0.4932395889670092,9245,1]
[null,9250,{"$f":"Urliste!C9253","v":1},1536,0.16605405405405405,1630,0.17621621621621622,1523,0.16464864864864864,4561,0.49308108108108106,9250,1]
[null,9251,{"$f":"Urliste!C9254","v":6},1536,0.16603610420495082,1630,0.17619716787374337,1523,0.1646308507188412,4562,0.4931358772024646,9251,1]
[null,9256,{"$f":"Urliste!C9259","v":3},1536,0.16594641313742436,1631,0.17621002592912705,1524,0.16464995678478825,4565,0.49319360414866031,9256,1]
[null,9260,{"$f":"Urliste!C9263","v":6},1536,0.16587473002159828,1632,0.17624190064794817,1524,0.16457883369330453,4568,0.49330453563714904,9260,1]
[null,9265,{"$f":"Urliste!C9268","v":4},1538,0.1660010793308149,1632,0.1761467889908257,1525,0.16459794927145169,4570,0.49325418240690772,9265,1]
[null,9266,{"$f":"Urliste!C9269","v":3},{"$f":"IF(C9287=1,D9286+1,D9286)","v":1538},{"$f":"D9287/B9287","v":0.16598316425642132},{"$f":"IF(C9287=2,F9286+1,F9286)","v":1632},{"$f":"F9287/B9287","v":0.17612777897690482},{"$f":"IF(C9287=3,H9286+1,H9286)","v":1526},{"$f":"H9287/B9287","v":0.16468810705806172},{"$f":"IF(C9287>3,J9286+1,J9286)","v":4570},{"$f":"J9287/B9287","v":0.49320094970861211},{"$f":"SUM(D9287,J9287,H9287,F9287)","v":9266},{"$f":"SUM(K9287,I9287,G9287,E9287)","v":1}]
[null,9271,{"$f":"Urliste!C9274","v":5},1539,0.16600151008521194,1632,0.17603279042174522,1526,0.16459928810268579,4574,0.49336641139035703,9271,1]
[null,9276,{"$f":"Urliste!C9279","v":4},1540,0.16601983613626564,1632,0.17593790426908151,1526,0.16451056489866323,4578,0.49353169469598968,9276,1]
[null,9278,{"$f":"Urliste!C9281","v":4},1540,0.16598404828626859,1633,0.17600776029316664,1526,0.16447510239275706,4579,0.49353308902780774,9278,1]
[null,9281,{"$f":"Urliste!C9284","v":6},1540,0.16593039543152677,1633,0.17595086736343066,1527,0.16452968430126064,4581,0.49358905290378191,9281,1]
[null,9286,{"$f":"Urliste!C9289","v":4},1541,0.16594874003876803,1634,0.1759638164979539,1528,0.16454878311436572,4583,0.49353866034891236,9286,1]
[null,9291,{"$f":"Urliste!C9294","v":5},1541,0.16585943386072544,1634,0.17586912065439672,1530,0.16467549241201163,4586,0.49359595307286619,9291,1]
[null,9296,{"$f":"Urliste!C9299","v":2},1542,0.16587779690189328,1636,0.17598967297762477,1530,0.1645869191049914,4588,0.49354561101549055,9296,1]
[null,9298,{"$f":"Urliste!C9301","v":1},1543,0.16594966659496665,1637,0.17605936760593677,1530,0.16455151645515165,4588,0.49343944934394496,9298,1]
[null,9301,{"$f":"Urliste!C9304","v":2},1543,0.1658961401999785,1639,0.17621761100956887,1530,0.16449844102784647,4589,0.49338780776260616,9301,1]
[null,9306,{"$f":"Urliste!C9309","v":1},1544,0.16591446378680422,1639,0.17612293144208038,1530,0.16441005802707931,4593,0.49355254674403609,9306,0.99999999999999989]
[null,9311,{"$f":"Urliste!C9314","v":5},1545,0.16593276769412524,1640,0.17613575340994522,1530,0.16432176994952208,4596,0.49360970894640749,9311,1]
[null,9312,{"$f":"Urliste!C9315","v":3},1545,0.16591494845360824,1640,0.17611683848797252,1531,0.16441151202749141,4596,0.49355670103092786,9312,1]
[null,9317,{"$f":"Urliste!C9320","v":4},1546,0.16593324031340559,1641,0.17612965546849843,1532,0.16443061071160245,4598,0.4935064935064935,9317,1]
[null,9321,{"$f":"Urliste!C9324","v":4},1547,0.16596931659693165,1641,0.17605407145156099,1532,0.16436004720523548,4601,0.49361656474627186,9321,1]
[null,9326,{"$f":"Urliste!C9329","v":4},1547,0.16588033454857387,1641,0.17595968260776323,1533,0.16437915505039674,4605,0.49378082779326615,9326,0.99999999999999989]
[null,9327,{"$f":"Urliste!C9330","v":1},1548,0.16596976519781281,1641,0.17594081698295272,1533,0.16436153103891926,4605,0.49372788678031521,9327,1]
[null,9332,{"$f":"Urliste!C9335","v":6},1549,0.16598799828546934,1641,0.17584654950707243,1533,0.16427346763823403,4609,0.49389198456922417,9332,1]
[null,9337,{"$f":"Urliste!C9340","v":1},1552,0.16622041340901789,1643,0.17596658455606726,1533,0.16418549855413944,4609,0.49362750348077539,9337,1]
[null,9339,{"$f":"Urliste!C9342","v":5},1552,0.16618481636149482,1643,0.17592890031052574,1533,0.16415033729521361,4611,0.49373594603276583,9339,1]
[null,9342,{"$f":"Urliste!C9345","v":4},1553,0.1662384928280882,1643,0.17587240419610362,1533,0.16409762363519589,4613,0.49379147934061229,9342,1]
[null,9347,{"$f":"Urliste!C9350","v":1},1555,0.16636353910345567,1644,0.17588531079490746,1533,0.16400984273028779,4615,0.49374130737134908,9347,1]
[null,9352,{"$f":"Urliste!C9355","v":5},1555,0.16627459366980324,1645,0.17589820359281438,1534,0.16402908468776733,4618,0.49379811804961504,9352,1]
[null,9357,{"$f":"Urliste!C9360","v":1},1556,0.16629261515442983,1646,0.17591108261194827,1535,0.16404830608100887,4620,0.493747996152613,9357,0.99999999999999989]
[null,9360,{"$f":"Urliste!C9363","v":5},1556,0.16623931623931623,1646,0.17585470085470087,1535,0.1639957264957265,4623,0.49391025641025643,9360,1]
[null,9362,{"$f":"Urliste!C9365","v":1},1557,0.16631061738944669,1647,0.17592394787438581,1535,0.16396069215979492,4623,0.49380474257637258,9362,1]
[null,9367,{"$f":"Urliste!C9370","v":1},1558,0.16632860040567951,1648,0.17593679940215651,1535,0.16387317177324651,4626,0.4938614284189175,9367,1]
[null,9372,{"$f":"Urliste!C9375","v":4},1558,0.16623986342296201,1648,0.17584293640631668,1535,0.16378574477166027,4631,0.49413145539906106,9372,1]
[null,9373,{"$f":"Urliste!C9376","v":1},1559,0.16632881681425371,1648,0.17582417582417584,1535,0.16376827056438706,4631,0.49407873679718339,9373,1]
[null,9378,{"$f":"Urliste!C9381","v":1},1560,0.16634676903390916,1649,0.17583706547238218,1537,0.1638942205161015,4632,0.49392194497760716,9378,1]
[null,9382,{"$f":"Urliste!C9385","v":2},1562,0.1664890215305905,1650,0.1758686847154125,1537,0.16382434448944788,4633,0.49381794926454914,9382,1]
[null,9387,{"$f":"Urliste!C9390","v":5},1563,0.16650687120485777,1651,0.17588153829764569,1538,0.16384361350804305,4635,0.49376797698945352,9387,1.0000000000000002]
[null,9388,{"$f":"Urliste!C9391","v":4},1563,0.16648913506604177,1651,0.17586280357903708,1538,0.16382616105666808,4636,0.49382190029825307,9388,1]
[null,9393,{"$f":"Urliste!C9396","v":3},1563,0.16640051101884382,1652,0.17587565208133715,1541,0.16405834131800276,4637,0.49366549558181627,9393,1]
[null,9398,{"$f":"Urliste!C9401","v":6},1564,0.16641838689082783,1652,0.17578208129389231,1542,0.1640774632900617,4640,0.49372206852521811,9398,1]
[null,9400,{"$f":"Urliste!C9403","v":6},1564,0.16638297872340427,1652,0.17574468085106382,1542,0.16404255319148936,4642,0.49382978723404253,9400,0.99999999999999989]
[null,9403,{"$f":"Urliste!C9406","v":2},1566,0.16654259278953526,1653,0.17579495905562054,1542,0.1639902158885462,4642,0.49367223226629797,9403,1]
[null,9408,{"$f":"Urliste!C9411","v":1},1568,0.16666666666666666,1653,0.17570153061224489,1543,0.16400935374149661,4644,0.49362244897959184,9408,1]
[null,9413,{"$f":"Urliste!C9416","v":5},1568,0.16657813661956869,1653,0.17560820142356315,1543,0.16392223520662913,4649,0.493891426750239,9413,1]
[null,9418,{"$f":"Urliste!C9421","v":4},1570,0.16670205988532596,1653,0.17551497133149288,1544,0.1639413888299002,4651,0.49384157995328093,9418,0.99999999999999989]
[null,9421,{"$f":"Urliste!C9424","v":1},1572,0.16686126738138202,1653,0.17545908077698757,1544,0.16388918373845665,4652,0.49379046810317379,9421,1]
[null,9423,{"$f":"Urliste!C9426","v":4},1572,0.16682585163960523,1653,0.17542184017828716,1544,0.16385439881141886,4654,0.49389790937068873,9423,1]
[null,9428,{"$f":"Urliste!C9431","v":5},1572,0.16673737802291047,1653,0.17532880780653373,1544,0.16376750106067034,4659,0.49416631310988546,9428,0.99999999999999989]
[null,9433,{"$f":"Urliste!C9436","v":4},1574,0.16686101982402204,1653,0.17523587405915403,1545,0.16378670624403688,4661,0.49411639987278705,9433,0.99999999999999989]
[null,9434,{"$f":"Urliste!C9437","v":6},1574,0.1668433326266695,1653,0.17521729913080347,1545,0.1637693449226203,4662,0.49417002331990673,9434,0.99999999999999989]
[null,9439,{"$f":"Urliste!C9442","v":5},1574,0.16675495285517533,1653,0.17512448352579724,1545,0.16368259349507364,4667,0.4944379701239538,9439,1]
[null,9443,{"$f":"Urliste!C9446","v":4},1576,0.16689611352324474,1653,0.1750503018108652,1545,0.16361325849835856,4669,0.49444032616753153,9443,1]
[null,9448,{"$f":"Urliste!C9451","v":1},1577,0.16691363251481794,1653,0.17495766299745977,1546,0.16363251481795088,4672,0.49449618966977138,9448,0.99999999999999989]
[null,9449,{"$f":"Urliste!C9452","v":2},1577,0.1668959678272833,1654,0.17504497830458249,1546,0.16361519737538363,4672,0.49444385649275058,9449,1]
[null,9454,{"$f":"Urliste!C9457","v":6},1578,0.16691347577744869,1655,0.17505817643325577,1546,0.16352866511529512,4675,0.49449968267400041,9454,1]
[null,9459,{"$f":"Urliste!C9462","v":2},1578,0.16682524579765304,1659,0.17538851887091658,1546,0.16344222433661063,4676,0.49434401099481973,9459,0.99999999999999989]
[null,9461,{"$f":"Urliste!C9464","v":1},1579,0.16689567698974739,1659,0.17535144276503542,1546,0.16340767360744107,4677,0.49434520663777615,9461,1]
[null,9464,{"$f":"Urliste!C9467","v":5},1580,0.16694843617920541,1659,0.17529585798816569,1546,0.16335587489433642,4679,0.49439983093829248,9464,1]
[null,9469,{"$f":"Urliste!C9472","v":5},1580,0.16686028091667546,1660,0.1753089027352413,1547,0.16337522441651706,4682,0.49445559193156619,9469,1]
[null,9474,{"$f":"Urliste!C9477","v":4},1582,0.16698332277812961,1660,0.17521638167616635,1547,0.16328900147772851,4685,0.4945112940679755,9474,1]
[null,9479,{"$f":"Urliste!C9482","v":1},1584,0.1671062348348982,1661,0.17522945458381686,1548,0.16330836586137779,4686,0.49435594471990718,9479,1]
[null,9482,{"$f":"Urliste!C9485","v":3},1584,0.16705336426914152,1661,0.1751740139211137,1550,0.16346762286437461,4687,0.49430499894537017,9482,1]
[null,9484,{"$f":"Urliste!C9487","v":1},1585,0.16712357654997892,1662,0.17524251370729649,1550,0.16343315056938001,4687,0.49420075917334461,9484,1]
[null,9489,{"$f":"Urliste!C9492","v":3},1586,0.16714089998946149,1662,0.17515017388555168,1553,0.16366318895563284,4688,0.49404573716935402,9489,1]
[null,9494,{"$f":"Urliste!C9497","v":1},1587,0.16715820518222035,1662,0.17505793132504741,1554,0.16368232567937646,4691,0.49410153781335581,9494,1]
[null,9495,{"$f":"Urliste!C9498","v":6},1587,0.16714060031595576,1662,0.1750394944707741,1554,0.16366508688783571,4692,0.49415481832543445,9495,1]
[null,9500,{"$f":"Urliste!C9503","v":5},1588,0.16715789473684212,1664,0.1751578947368421,1555,0.16368421052631579,4693,0.49399999999999999,9500,1]
[null,9504,{"$f":"Urliste!C9507","v":4},1588,0.16708754208754209,1664,0.17508417508417509,1556,0.16372053872053871,4696,0.49410774410774411,9504,1]
[null,9509,{"$f":"Urliste!C9512","v":2},1590,0.16721001156798823,1665,0.17509727626459143,1556,0.16363445157219475,4698,0.49405826059522556,9509,1]
[null,9510,{"$f":"Urliste!C9513","v":3},1590,0.16719242902208201,1665,0.1750788643533123,1557,0.16372239747634068,4698,0.49400630914826499,9510,1]
[null,9515,{"$f":"Urliste!C9518","v":4},1591,0.16720966894377298,1665,0.17498686284813453,1559,0.16384655806621123,4700,0.49395691014188126,9515,1]
[null,9520,{"$f":"Urliste!C9523","v":1},1593,0.16733193277310923,1665,0.17489495798319327,1559,0.16376050420168067,4703,0.49401260504201683,9520,0.99999999999999989]
[null,9522,{"$f":"Urliste!C9525","v":6},{"$f":"IF(C9543=1,D9542+1,D9542)","v":1593},{"$f":"D9543/B9543","v":0.16729678638941398},{"$f":"IF(C9543=2,F9542+1,F9542)","v":1665},{"$f":"F9543/B9543","v":0.17485822306238186},{"$f":"IF(C9543=3,H9542+1,H9542)","v":1559},{"$f":"H9543/B9543","v":0.16372610796051248},{"$f":"IF(C9543>3,J9542+1,J9542)","v":4705},{"$f":"J9543/B9543","v":0.49411888258769165},{"$f":"SUM(D9543,J9543,H9543,F9543)","v":9522},{"$f":"SUM(K9543,I9543,G9543,E9543)","v":1}]
[null,9525,{"$f":"Urliste!C9528","v":6},1593,0.16724409448818897,1666,0.17490813648293962,1559,0.16367454068241469,4707,0.49417322834645672,9525,1]
[null,9530,{"$f":"Urliste!C9533","v":6},1593,0.1671563483735572,1667,0.17492130115424973,1561,0.16379853095487934,4709,0.49412381951731377,9530,1]
[null,9535,{"$f":"Urliste!C9538","v":4},1593,0.16706869428421606,1667,0.17482957524908233,1561,0.16371263765076036,4714,0.49438909281594129,9535,1]
[null,9540,{"$f":"Urliste!C9543","v":3},1594,0.16708595387840672,1670,0.1750524109014675,1562,0.16373165618448637,4714,0.49412997903563943,9540,1]
[null,9543,{"$f":"Urliste!C9546","v":4},1594,0.16703342764329876,1671,0.17510216912920465,1562,0.16368018442837681,4716,0.49418421879911978,9543,1]
[null,9545,{"$f":"Urliste!C9548","v":3},1594,0.16699842849659507,1671,0.1750654793085385,1563,0.1637506547930854,4717,0.49418543740178106,9545,1]
[null,9550,{"$f":"Urliste!C9553","v":6},1594,0.16691099476439791,1671,0.17497382198952879,1563,0.16366492146596859,4722,0.49445026178010471,9550,1]
[null,9555,{"$f":"Urliste!C9558","v":3},1595,0.16692830978545264,1671,0.17488226059654632,1565,0.16378859236002094,4724,0.49440083725798012,9555,1]
[null,9556,{"$f":"Urliste!C9559","v":6},1595,0.16691084135621598,1671,0.17486395981582251,1565,0.16377145249058184,4725,0.49445374633737965,9556,1]
[null,9561,{"$f":"Urliste!C9564","v":5},1595,0.16682355402154586,1671,0.17477251333542518,1566,0.16379039849388138,4729,0.4946135341491476,9561,1]
[null,9565,{"$f":"Urliste!C9568","v":6},1595,0.16675378985886044,1672,0.17480397281756405,1566,0.16372190277051751,4732,0.49472033455305803,9565,1]
[null,9570,{"$f":"Urliste!C9573","v":5},1595,0.16666666666666666,1673,0.1748171368861024,1567,0.16374085684430512,4735,0.4947753396029258,9570,0.99999999999999989]
[null,9571,{"$f":"Urliste!C9574","v":1},1596,0.16675373524187651,1673,0.17479887159126528,1567,0.16372374882457424,4735,0.494723644342284,9571,1]
[null,9576,{"$f":"Urliste!C9579","v":3},1596,0.16666666666666666,1673,0.17470760233918128,1570,0.1639515455304929,4737,0.49467418546365916,9576,1]
[null,9581,{"$f":"Urliste!C9584","v":6},1596,0.16657968896774866,1675,0.17482517482517482,1570,0.16386598476150716,4740,0.49472915144556934,9581,1]
[null,9583,{"$f":"Urliste!C9586","v":2},1596,0.16654492330168005,1676,0.17489303975790463,1571,0.16393613690910988,4740,0.49462590003130541,9583,0.99999999999999989]
[null,9586,{"$f":"Urliste!C9589","v":5},{"$f":"IF(C9607=1,D9606+1,D9606)","v":1596},{"$f":"D9607/B9607","v":0.16649280200292094},{"$f":"IF(C9607=2,F9606+1,F9606)","v":1676},{"$f":"F9607/B9607","v":0.17483830586271645},{"$f":"IF(C9607=3,H9606+1,H9606)","v":1571},{"$f":"H9607/B9607","v":0.16388483204673482},{"$f":"IF(C9607>3,J9606+1,J9606)","v":4743},{"$f":"J9607/B9607","v":0.49478406008762776},{"$f":"SUM(D9607,J9607,H9607,F9607)","v":9586},{"$f":"SUM(K9607,I9607,G9607,E9607)","v":1}]
[null,9591,{"$f":"Urliste!C9594","v":3},1596,0.16640600563027838,1679,0.1750599520383693,1572,0.16390365968095089,4744,0.49463038265040143,9591,1]
[null,9596,{"$f":"Urliste!C9599","v":1},1597,0.16642350979574821,1679,0.17496873697373905,1573,0.16392246769487287,4747,0.49468528553563984,9596,1]
[null,9601,{"$f":"Urliste!C9604","v":6},1598,0.16644099572961149,1679,0.17487761691490469,1574,0.16394125611915425,4750,0.49474013123632954,9601,0.99999999999999989]
[null,9602,{"$f":"Urliste!C9605","v":3},1598,0.1664236617371381,1679,0.17485940429077276,1575,0.16402832743178505,4750,0.49468860654030411,9602,1]
[null,9606,{"$f":"Urliste!C9609","v":6},1598,0.16635436185717259,1679,0.17478659171351238,1575,0.16396002498438475,4754,0.49489902144493025,9606,1]
[null,9607,{"$f":"Urliste!C9610","v":1},1599,0.16644113667117727,1679,0.17476839804309358,1575,0.16394295825960237,4754,0.49484750702612679,9607,1]
[null,9608,{"$f":"Urliste!C9611","v":6},1599,0.16642381348875937,1679,0.17475020815986678,1575,0.16392589508742714,4755,0.49490008326394669,9608,0.99999999999999989]
[null,9609,{"$f":"Urliste!C9612","v":2},1599,0.16640649391195755,1680,0.17483609116453325,1575,0.16390883546674992,4755,0.49484857945675931,9609,1]
[null,9610,{"$f":"Urliste!C9613","v":1},1600,0.16649323621227888,1680,0.17481789802289283,1575,0.16389177939646202,4755,0.49479708636836628,9610,1]
[null,9611,{"$f":"Urliste!C9614","v":6},1600,0.16647591301633544,1680,0.17479970866715222,1575,0.16387472687545521,4756,0.49484965144105714,9611,1]
[null,9612,{"$f":"Urliste!C9615","v":4},1600,0.16645859342488556,1680,0.17478152309612985,1575,0.16385767790262173,4757,0.49490220557636289,9612,1]
[null,9613,{"$f":"Urliste!C9616","v":1},1601,0.16654530323520234,1680,0.17476334130864454,1575,0.16384063247685426,4757,0.49485072297929888,9613,1]
[null,9614,{"$f":"Urliste!C9617","v":2},1601,0.1665279800291242,1681,0.17484917828167257,1575,0.16382359059704599,4757,0.49479925109215728,9614,1]
[null,9615,{"$f":"Urliste!C9618","v":3},1601,0.16651066042641705,1681,0.17483099323972959,1576,0.16391055642225688,4757,0.49474778991159646,9615,1]
[null,9616,{"$f":"Urliste!C9619","v":6},1601,0.16649334442595673,1681,0.17481281198003329,1576,0.16389351081530781,4758,0.49480033277870217,9616,1]
[null,9617,{"$f":"Urliste!C9620","v":4},1601,0.16647603202661954,1681,0.17479463450140376,1576,0.16387646875324946,4759,0.49485286471872725,9617,1]
[null,9618,{"$f":"Urliste!C9621","v":6},1601,0.16645872322728217,1681,0.17477646080266168,1576,0.16385943023497609,4760,0.49490538573508008,9618,1]
[null,9619,{"$f":"Urliste!C9622","v":4},1601,0.16644141802682191,1681,0.17475829088262812,1576,0.16384239525938246,4761,0.4949578958311675,9619,1]
[null,9620,{"$f":"Urliste!C9623","v":2},1601,0.16642411642411642,1682,0.17484407484407485,1576,0.16382536382536383,4761,0.49490644490644492,9620,1]
[null,9621,{"$f":"Urliste!C9624","v":3},1601,0.16640681841804386,1682,0.17482590167342271,1577,0.16391227523126495,4761,0.49485500467726845,9621,0.99999999999999989]
[null,9622,{"$f":"Urliste!C9625","v":6},1601,0.16638952400748286,1682,0.17480773228019122,1577,0.16389524007482853,4762,0.49490750363749741,9622,1]
[null,9623,{"$f":"Urliste!C9626","v":4},1601,0.16637223319131247,1682,0.17478956666320275,1577,0.16387820845890055,4763,0.49495999168658422,9623,1]
[null,9624,{"$f":"Urliste!C9627","v":4},1601,0.1663549459684123,1682,0.17477140482128015,1577,0.1638611803823774,4764,0.49501246882793015,9624,1]
[null,9625,{"$f":"Urliste!C9628","v":5},1601,0.16633766233766234,1682,0.17475324675324674,1577,0.16384415584415585,4765,0.49506493506493504,9625,1]
[null,9626,{"$f":"Urliste!C9629","v":2},1601,0.16632038229794308,1683,0.17483897776854354,1577,0.16382713484313319,4765,0.49501350509038022,9626,1]
[null,9627,{"$f":"Urliste!C9630","v":5},1601,0.16630310584813546,1683,0.17482081645372391,1577,0.16381011737820714,4766,0.4950659603199335,9627,1]
[null,9628,{"$f":"Urliste!C9631","v":5},1601,0.16628583298712091,1683,0.17480265891150809,1577,0.16379310344827586,4767,0.49511840465309515,9628,1]
[null,9629,{"$f":"Urliste!C9632","v":4},1601,0.16626856371378129,1683,0.17478450514072075,1577,0.16377609305223803,4768,0.49517083809325996,9629,1]
[null,9630,{"$f":"Urliste!C9633","v":4},1601,0.16625129802699895,1683,0.17476635514018693,1577,0.16375908618899274,4769,0.49522326064382138,9630,1]
[null,9631,{"$f":"Urliste!C9634","v":4},1601,0.16623403592565672,1683,0.17474820890873222,1577,0.16374208285743952,4770,0.49527567230817154,9631,1]
[null,9632,{"$f":"Urliste!C9635","v":3},1601,0.16621677740863788,1683,0.17473006644518271,1578,0.16382890365448505,4770,0.49522425249169433,9632,1]
[null,9633,{"$f":"Urliste!C9636","v":2},1601,0.16619952247482611,1684,0.174815737568774,1578,0.16381189660541887,4770,0.495172843350981,9633,1]
[null,9634,{"$f":"Urliste!C9637","v":5},1601,0.16618227112310566,1684,0.17479759186215488,1578,0.16379489308698361,4771,0.49522524392775585,9634,1]
[null,9635,{"$f":"Urliste!C9638","v":2},1601,0.16616502335236119,1685,0.17488323819408408,1578,0.16377789309807991,4771,0.49517384535547482,9635,0.99999999999999989]
[null,9636,{"$f":"Urliste!C9639","v":2},1601,0.1661477791614778,1686,0.17496886674968867,1578,0.16376089663760895,4771,0.49512245745122457,9636,1]
[null,9637,{"$f":"Urliste!C9640","v":2},1601,0.16613053854934109,1687,0.17505447753450243,1578,0.16374390370447234,4771,0.49507108021168411,9637,1]
[null,9638,{"$f":"Urliste!C9641","v":3},1601,0.16611330151483711,1687,0.17503631458808883,1579,0.16383067026354015,4771,0.49501971363353392,9638,1]
[null,9639,{"$f":"Urliste!C9642","v":2},1601,0.16609606805685237,1688,0.1751219006120967,1579,0.16381367361759519,4771,0.49496835771345576,9639,1]
[null,9640,{"$f":"Urliste!C9643","v":6},1601,0.16607883817427385,1688,0.17510373443983401,1579,0.16379668049792531,4772,0.49502074688796682,9640,0.99999999999999989]
[null,9641,{"$f":"Urliste!C9644","v":6},1601,0.166061611865989,1688,0.17508557203609584,1579,0.16377969090343325,4773,0.49507312519448188,9641,1]
[null,9642,{"$f":"Urliste!C9645","v":4},1601,0.16604438913088571,1688,0.1750674133997096,1579,0.16376270483302219,4774,0.4951254926363825,9642,1]
[null,9643,{"$f":"Urliste!C9646","v":5},1601,0.16602716996785233,1688,0.17504925852950326,1579,0.16374572228559578,4775,0.49517784921704866,9643,1]
[null,9644,{"$f":"Urliste!C9647","v":5},1601,0.16600995437577767,1688,0.17503110742430528,1579,0.16372874326005807,4776,0.49523019493985898,9644,1]
[null,9645,{"$f":"Urliste!C9648","v":6},1601,0.16599274235355108,1688,0.17501296008294454,1579,0.16371176775531363,4777,0.49528252980819076,9645,1]
[null,9646,{"$f":"Urliste!C9649","v":1},1602,0.16607920381505287,1688,0.17499481650425047,1579,0.16369479577026746,4777,0.4952311839104292,9646,1]
[null,9647,{"$f":"Urliste!C9650","v":5},1602,0.16606198818285478,1688,0.17497667668705297,1579,0.16367782730382502,4778,0.49528350782626723,9647,1]
[null,9648,{"$f":"Urliste!C9651","v":6},1602,0.16604477611940299,1688,0.17495854063018243,1579,0.16366086235489222,4779,0.49533582089552236,9648,1]
[null,9649,{"$f":"Urliste!C9652","v":3},1602,0.16602756762358795,1688,0.17494040833246968,1580,0.1637475386050368,4779,0.49528448543890558,9649,1]
[null,9650,{"$f":"Urliste!C9653","v":3},{"$f":"IF(C9671=1,D9670+1,D9670)","v":1602},{"$f":"D9671/B9671","v":0.16601036269430053},{"$f":"IF(C9671=2,F9670+1,F9670)","v":1688},{"$f":"F9671/B9671","v":0.1749222797927461},{"$f":"IF(C9671=3,H9670+1,H9670)","v":1581},{"$f":"H9671/B9671","v":0.16383419689119172},{"$f":"IF(C9671>3,J9670+1,J9670)","v":4779},{"$f":"J9671/B9671","v":0.49523316062176165},{"$f":"SUM(D9671,J9671,H9671,F9671)","v":9650},{"$f":"SUM(K9671,I9671,G9671,E9671)","v":1}]
[null,9651,{"$f":"Urliste!C9654","v":3},1602,0.16599316133043207,1688,0.17490415500984355,1582,0.16392083721894105,4779,0.49518184644078334,9651,1]
[null,9652,{"$f":"Urliste!C9655","v":4},1602,0.16597596353087443,1688,0.17488603398259428,1582,0.16390385412349773,4780,0.49523414836303359,9652,1]
[null,9653,{"$f":"Urliste!C9656","v":1},1603,0.16606236403190719,1688,0.17486791670983115,1582,0.16388687454677303,4780,0.49518284471148866,9653,1]
[null,9654,{"$f":"Urliste!C9657","v":1},1604,0.16614874663351978,1688,0.1748498031903874,1582,0.1638698984876735,4780,0.49513155168841932,9654,0.99999999999999989]
[null,9655,{"$f":"Urliste!C9658","v":6},1604,0.16613153806317971,1688,0.17483169342309685,1582,0.16385292594510617,4781,0.49518384256861731,9655,1]
[null,9656,{"$f":"Urliste!C9659","v":3},1604,0.16611433305716652,1688,0.1748135874067937,1583,0.16393951946975974,4781,0.49513256006628004,9656,0.99999999999999989]
[null,9657,{"$f":"Urliste!C9660","v":2},1604,0.16609713161437301,1689,0.17489903696800249,1583,0.16392254323288807,4781,0.49508128818473646,9657,1]
[null,9658,{"$f":"Urliste!C9661","v":1},1605,0.16618347483951129,1689,0.17488092772830813,1583,0.16390557051149307,4781,0.49503002692068754,9658,1]
[null,9659,{"$f":"Urliste!C9662","v":1},1606,0.1662698001863547,1689,0.17486282223832694,1583,0.16388860130448288,4781,0.49497877627083547,9659,1]
[null,9660,{"$f":"Urliste!C9663","v":3},1606,0.16625258799171844,1689,0.17484472049689442,1584,0.1639751552795031,4781,0.49492753623188407,9660,1]
[null,9661,{"$f":"Urliste!C9664","v":5},1606,0.16623537936031466,1689,0.1748266225028465,1584,0.1639581823827761,4782,0.49497981575406275,9661,1]
[null,9662,{"$f":"Urliste!C9665","v":3},1606,0.16621817429103705,1689,0.17480852825501966,1585,0.16404471123990891,4782,0.49492858621403435,9662,1]
[null,9663,{"$f":"Urliste!C9666","v":3},1606,0.16620097278277968,1689,0.17479043775225087,1586,0.16413122218772638,4782,0.49487736727724307,9663,1]
[null,9664,{"$f":"Urliste!C9667","v":4},1606,0.16618377483443708,1689,0.17477235099337748,1586,0.16411423841059603,4783,0.49492963576158938,9664,1]
[null,9665,{"$f":"Urliste!C9668","v":2},1606,0.16616658044490429,1690,0.17485773409208485,1586,0.16409725814795653,4783,0.49487842731505433,9665,1]
[null,9666,{"$f":"Urliste!C9669","v":6},1606,0.16614938961307676,1690,0.17483964411338712,1586,0.16408028139871716,4784,0.49493068487481895,9666,1]
[null,9667,{"$f":"Urliste!C9670","v":2},1606,0.16613220233785042,1691,0.17492500258611773,1586,0.16406330816178752,4784,0.49487948691424433,9667,1]
[null,9668,{"$f":"Urliste!C9671","v":2},1606,0.16611501861812164,1692,0.17501034340091021,1586,0.16404633843607777,4784,0.49482829954489038,9668,0.99999999999999989]
[null,9669,{"$f":"Urliste!C9672","v":2},1606,0.16609783845278725,1693,0.17509566656324335,1586,0.16402937222049849,4784,0.49477712276347091,9669,1]
[null,9670,{"$f":"Urliste!C9673","v":4},1606,0.16608066184074458,1693,0.1750775594622544,1586,0.16401240951396071,4785,0.49482936918304032,9670,0.99999999999999989]
[null,9671,{"$f":"Urliste!C9674","v":4},1606,0.16606348878089133,1693,0.17505945610588358,1586,0.16399545031537588,4786,0.49488160479784926,9671,1]
[null,9672,{"$f":"Urliste!C9675","v":6},1606,0.16604631927212574,1693,0.1750413564929694,1586,0.16397849462365591,4787,0.49493382961124899,9672,1]
[null,9673,{"$f":"Urliste!C9676","v":6},1606,0.16602915331334642,1693,0.17502326062235088,1586,0.16396154243771321,4788,0.49498604362658949,9673,1]
[null,9674,{"$f":"Urliste!C9677","v":1},1607,0.16611536076080216,1693,0.17500516849286749,1586,0.16394459375646062,4788,0.49493487698986977,9674,1]
[null,9675,{"$f":"Urliste!C9678","v":1},1608,0.1662015503875969,1693,0.17498708010335917,1586,0.16392764857881137,4788,0.49488372093023258,9675,1]
[null,9676,{"$f":"Urliste!C9679","v":6},1608,0.16618437370814387,1693,0.17496899545266639,1586,0.1639107069036792,4789,0.49493592393551056,9676,1]
[null,9677,{"$f":"Urliste!C9680","v":1},1609,0.16627053838999689,1693,0.17495091453963005,1586,0.1638937687299783,4789,0.49488477834039474,9677,1]
[null,9678,{"$f":"Urliste!C9681","v":6},1609,0.16625335813184541,1693,0.17493283736309154,1586,0.16387683405662326,4790,0.49493697044843976,9678,0.99999999999999989]
[null,9679,{"$f":"Urliste!C9682","v":2},1609,0.16623618142370081,1694,0.17501808038020455,1586,0.16385990288252919,4790,0.49488583531356545,9679,1]
[null,9680,{"$f":"Urliste!C9683","v":4},1609,0.16621900826446281,1694,0.17499999999999999,1586,0.16384297520661156,4791,0.49493801652892561,9680,1]
[null,9681,{"$f":"Urliste!C9684","v":2},1609,0.1662018386530317,1695,0.17508521846916641,1586,0.16382605102778638,4791,0.4948868918500155,9681,1]
[null,9682,{"$f":"Urliste!C9685","v":3},1609,0.16618467258830821,1695,0.17506713488948564,1587,0.16391241479033258,4791,0.49483577773187359,9682,1]
[null,9683,{"$f":"Urliste!C9686","v":1},1610,0.166270783847981,1695,0.1750490550449241,1587,0.16389548693586697,4791,0.4947846741712279,9683,1]
[null,9684,{"$f":"Urliste!C9687","v":1},1611,0.16635687732342008,1695,0.17503097893432465,1587,0.16387856257744735,4791,0.49473358116480792,9684,1]
[null,9685,{"$f":"Urliste!C9688","v":1},1612,0.16644295302013423,1695,0.17501290655653071,1587,0.1638616417139907,4791,0.49468249870934433,9685,0.99999999999999989]
[null,9686,{"$f":"Urliste!C9689","v":3},1612,0.16642576915135246,1695,0.17499483791038611,1588,0.16394796613669213,4791,0.4946314268015693,9686,1]
[null,9687,{"$f":"Urliste!C9690","v":4},1612,0.16640858883039125,1695,0.17497677299473521,1588,0.16393104160214722,4792,0.49468359657272631,9687,1]
[null,9688,{"$f":"Urliste!C9691","v":1},1613,0.16649463253509497,1695,0.17495871180842279,1588,0.16391412056151941,4792,0.49463253509496286,9688,1]
[null,9689,{"$f":"Urliste!C9692","v":4},1613,0.16647744865311179,1695,0.17494065435029416,1588,0.1638972030137269,4793,0.49468469398286719,9689,1]
[null,9690,{"$f":"Urliste!C9693","v":4},1613,0.16646026831785346,1695,0.17492260061919504,1588,0.16388028895768833,4794,0.49473684210526314,9690,1]
[null,9691,{"$f":"Urliste!C9694","v":6},1613,0.16644309152822206,1695,0.17490455061397173,1588,0.16386337839232276,4795,0.49478897946548345,9691,1]
[null,9692,{"$f":"Urliste!C9695","v":1},1614,0.16652909616178291,1695,0.17488650433347092,1588,0.16384647131654972,4795,0.49473792818819645,9692,1]
[null,9693,{"$f":"Urliste!C9696","v":1},1615,0.16661508304962344,1695,0.17486846177653978,1588,0.16382956772928917,4795,0.49468688744454758,9693,1]
[null,9694,{"$f":"Urliste!C9697","v":6},1615,0.16659789560552921,1695,0.17485042294202599,1588,0.16381266762946153,4796,0.4947390138229833,9694,1]
[null,9695,{"$f":"Urliste!C9698","v":4},1615,0.16658071170706551,1695,0.17483238782877772,1588,0.16379577101598763,4797,0.49479112944816916,9695,1]
[null,9696,{"$f":"Urliste!C9699","v":1},1616,0.16666666666666666,1695,0.17481435643564355,1588,0.16377887788778878,4797,0.49474009900990101,9696,1]
[null,9697,{"$f":"Urliste!C9700","v":3},1616,0.16664947922037743,1695,0.17479632876147261,1589,0.16386511292152212,4797,0.49468907909662785,9697,1]
[null,9698,{"$f":"Urliste!C9701","v":5},1616,0.16663229531862239,1695,0.17477830480511444,1589,0.16384821612703651,4798,0.49474118374922665,9698,1]
[null,9699,{"$f":"Urliste!C9702","v":1},1617,0.16671821837302814,1695,0.17476028456541912,1589,0.16383132281678522,4798,0.49469017424476752,9699,1]
[null,9700,{"$f":"Urliste!C9703","v":5},1617,0.16670103092783506,1695,0.1747422680412371,1589,0.16381443298969073,4799,0.49474226804123711,9700,1]
[null,9701,{"$f":"Urliste!C9704","v":2},1617,0.16668384702607977,1696,0.17482733738789816,1589,0.1637975466446758,4799,0.49469126894134624,9701,0.99999999999999989]
[null,9702,{"$f":"Urliste!C9705","v":1},1618,0.16676973819830962,1696,0.17480931766646052,1589,0.16378066378066378,4799,0.49464028035456609,9702,1]
[null,9703,{"$f":"Urliste!C9706","v":1},1619,0.1668556116664949,1696,0.17479130165928064,1589,0.16376378439657838,4799,0.49458930227764608,9703,0.99999999999999989]
[null,9704,{"$f":"Urliste!C9707","v":5},1619,0.166838417147568,1696,0.17477328936521022,1589,0.16374690849134377,4800,0.49464138499587801,9704,1]
[null,9705,{"$f":"Urliste!C9708","v":4},1619,0.16682122617207626,1696,0.17475528078310149,1589,0.16373003606388459,4801,0.49469345698093764,9705,1]
[null,9706,{"$f":"Urliste!C9709","v":1},1620,0.16690706779311765,1696,0.17473727591180713,1589,0.16371316711312589,4801,0.49464248918194931,9706,1]
[null,9707,{"$f":"Urliste!C9710","v":3},1620,0.16688987328731844,1696,0.17471927475018029,1590,0.16379932007829401,4801,0.49459153188420729,9707,0.99999999999999989]
[null,9708,{"$f":"Urliste!C9711","v":2},1620,0.1668726823238566,1697,0.17480428512566956,1590,0.16378244746600742,4801,0.49454058508446641,9708,1]
[null,9709,{"$f":"Urliste!C9712","v":2},1620,0.16685549490163765,1698,0.17488927798949427,1590,0.1637655783293851,4801,0.49448964877948293,9709,0.99999999999999989]
[null,9710,{"$f":"Urliste!C9713","v":2},1620,0.16683831101956745,1699,0.17497425334706487,1590,0.16374871266735325,4801,0.49443872296601443,9710,1]
[null,9711,{"$f":"Urliste!C9714","v":1},1621,0.16692410668314284,1699,0.17495623519719905,1590,0.16373185047883843,4801,0.49438780764081969,9711,1]
[null,9712,{"$f":"Urliste!C9715","v":5},1621,0.16690691927512355,1699,0.17493822075782536,1590,0.16371499176276771,4802,0.49443986820428337,9712,1]
[null,9713,{"$f":"Urliste!C9716","v":4},1621,0.1668897354061567,1699,0.17492021002779778,1590,0.16369813651806855,4803,0.49449191804797693,9713,1]
[null,9714,{"$f":"Urliste!C9717","v":4},{"$f":"IF(C9735=1,D9734+1,D9734)","v":1621},{"$f":"D9735/B9735","v":0.16687255507514928},{"$f":"IF(C9735=2,F9734+1,F9734)","v":1699},{"$f":"F9735/B9735","v":0.17490220300597076},{"$f":"IF(C9735=3,H9734+1,H9734)","v":1590},{"$f":"H9735/B9735","v":0.16368128474366894},{"$f":"IF(C9735>3,J9734+1,J9734)","v":4804},{"$f":"J9735/B9735","v":0.49454395717521105},{"$f":"SUM(D9735,J9735,H9735,F9735)","v":9714},{"$f":"SUM(K9735,I9735,G9735,E9735)","v":1}]
[null,9715,{"$f":"Urliste!C9718","v":1},1622,0.1669583118888317,1699,0.17488419969119917,1590,0.16366443643849718,4804,0.49449305198147198,9715,1]
[null,9716,{"$f":"Urliste!C9719","v":4},1622,0.1669411280362289,1699,0.17486620008233841,1590,0.1636475916014821,4805,0.49454508027995059,9716,1]
[null,9717,{"$f":"Urliste!C9720","v":4},1622,0.16692394772048985,1699,0.17484820417824432,1590,0.16363075023155293,4806,0.4945970978697129,9717,1]
[null,9718,{"$f":"Urliste!C9721","v":6},1622,0.16690677094052275,1699,0.17483021197777321,1590,0.16361391232763944,4807,0.49464910475406459,9718,1]
[null,9719,{"$f":"Urliste!C9722","v":4},1622,0.16688959769523615,1699,0.17481222347978187,1590,0.16359707788867167,4808,0.49470110093631031,9719,1]
[null,9720,{"$f":"Urliste!C9723","v":4},1622,0.1668724279835391,1699,0.17479423868312757,1590,0.16358024691358025,4809,0.49475308641975307,9720,1]
[null,9721,{"$f":"Urliste!C9724","v":6},1622,0.16685526180434113,1699,0.17477625758666804,1590,0.16356341940129615,4810,0.49480506120769469,9721,1]
[null,9722,{"$f":"Urliste!C9725","v":2},1622,0.16683809915655215,1700,0.17486113968319275,1590,0.16354659535075086,4810,0.49475416580950421,9722,0.99999999999999989]
[null,9723,{"$f":"Urliste!C9726","v":4},1622,0.1668209400390826,1700,0.17484315540471049,1590,0.16352977476087627,4811,0.49480612979533067,9723,1]
[null,9724,{"$f":"Urliste!C9727","v":4},1622,0.16680378445084326,1700,0.17482517482517482,1590,0.16351295763060469,4812,0.4948580830933772,9724,1]
[null,9725,{"$f":"Urliste!C9728","v":6},1622,0.16678663239074551,1700,0.17480719794344474,1590,0.16349614395886888,4813,0.49491002570694087,9725,1]
[null,9726,{"$f":"Urliste!C9729","v":6},1622,0.16676948385770102,1700,0.1747892247583796,1590,0.16347933374460211,4814,0.49496195763931727,9726,1]
[null,9727,{"$f":"Urliste!C9730","v":3},1622,0.16675233885062199,1700,0.17477125526883933,1591,0.16356533360748432,4814,0.49491107227305436,9727,1]
[null,9728,{"$f":"Urliste!C9731","v":3},1622,0.16673519736842105,1700,0.17475328947368421,1592,0.16365131578947367,4814,0.49486019736842107,9728,0.99999999999999989]
[null,9729,{"$f":"Urliste!C9732","v":4},1622,0.1667180594100113,1700,0.17473532737177511,1592,0.16363449480933293,4815,0.49491211840888066,9729,1]
[null,9730,{"$f":"Urliste!C9733","v":2},1622,0.16670092497430627,1701,0.17482014388489209,1592,0.16361767728674204,4815,0.4948612538540596,9730,1]
[null,9731,{"$f":"Urliste!C9734","v":2},1622,0.16668379406021991,1702,0.17490494296577946,1592,0.16360086322063508,4815,0.49481039975336555,9731,1]
[null,9732,{"$f":"Urliste!C9735","v":4},1622,0.16666666666666666,1702,0.17488697081792026,1592,0.16358405260994657,4816,0.49486230990546648,9732,1]
[null,9733,{"$f":"Urliste!C9736","v":3},1622,0.16664954279256139,1702,0.17486900236309463,1593,0.16366998869824309,4816,0.49481146614610089,9733,1]
[null,9734,{"$f":"Urliste!C9737","v":2},1622,0.16663242243681939,1703,0.17495377028970618,1593,0.16365317444010685,4816,0.49476063283336758,9734,1]
[null,9735,{"$f":"Urliste!C9738","v":6},1622,0.16661530559835644,1703,0.17493579866461223,1593,0.16363636363636364,4817,0.49481253210066767,9735,1]
[null,9736,{"$f":"Urliste!C9739","v":6},1622,0.16659819227608874,1703,0.17491783073130648,1593,0.16361955628594904,4818,0.49486442070665571,9736,1]
[null,9737,{"$f":"Urliste!C9740","v":6},1622,0.16658108246893294,1703,0.17489986648865152,1593,0.16360275238779912,4819,0.49491629865461639,9737,1]
[null,9738,{"$f":"Urliste!C9741","v":3},1622,0.16656397617580612,1703,0.17488190593551037,1594,0.16368864243171083,4819,0.49486547545697268,9738,1]
[null,9739,{"$f":"Urliste!C9742","v":4},1622,0.16654687339562582,1703,0.17486394907074648,1594,0.16367183489064585,4820,0.49491734264298182,9739,0.99999999999999989]
[null,9740,{"$f":"Urliste!C9743","v":4},1622,0.16652977412731007,1703,0.17484599589322383,1594,0.16365503080082136,4821,0.49496919917864474,9740,1]
[null,9741,{"$f":"Urliste!C9744","v":2},1622,0.16651267836977723,1704,0.17493070526639976,1594,0.16363823016117443,4821,0.49491838620264861,9741,1]
[null,9742,{"$f":"Urliste!C9745","v":1},1623,0.1665982344487785,1704,0.17491274892219258,1594,0.16362143297064258,4821,0.49486758365838635,9742,1]
[null,9743,{"$f":"Urliste!C9746","v":5},1623,0.16658113517397105,1704,0.17489479626398441,1594,0.16360463922816382,4822,0.49491942933388072,9743,1]
[null,9744,{"$f":"Urliste!C9747","v":3},1623,0.16656403940886699,1704,0.1748768472906404,1595,0.16369047619047619,4822,0.49486863711001644,9744,1]
[null,9745,{"$f":"Urliste!C9748","v":4},1623,0.16654694715238583,1704,0.17485890200102616,1595,0.16367367880964598,4823,0.49492047203694201,9745,1]
[null,9746,{"$f":"Urliste!C9749","v":3},1623,0.16652985840344756,1704,0.17484096039400779,1596,0.16375949107326082,4823,0.49486969012928383,9746,1]
[null,9747,{"$f":"Urliste!C9750","v":3},1623,0.1665127731609726,1704,0.17482302246845183,1597,0.16384528572894225,4823,0.4948189186416333,9747,0.99999999999999989]
[null,9748,{"$f":"Urliste!C9751","v":5},1623,0.16649569142388182,1704,0.17480508822322527,1597,0.16382847763643824,4824,0.49487074271645465,9748,1]
[null,9749,{"$f":"Urliste!C9752","v":3},1623,0.16647861319109653,1704,0.1747871576571956,1598,0.16391424761514001,4824,0.49481998153656787,9749,1]
[null,9750,{"$f":"Urliste!C9753","v":4},1623,0.16646153846153847,1704,0.17476923076923076,1598,0.16389743589743588,4825,0.49487179487179489,9750,1]
[null,9751,{"$f":"Urliste!C9754","v":6},1623,0.16644446723412984,1704,0.17475130755819915,1598,0.16388062762793559,4826,0.49492359757973542,9751,1]
[null,9752,{"$f":"Urliste!C9755","v":3},1623,0.16642739950779328,1704,0.17473338802296964,1599,0.16396636587366695,4826,0.49487284659557013,9752,1]
[null,9753,{"$f":"Urliste!C9756","v":2},1623,0.16641033528145185,1705,0.1748180047164975,1599,0.16394955398338973,4826,0.49482210601866095,9753,1]
[null,9754,{"$f":"Urliste!C9757","v":5},1623,0.16639327455402911,1705,0.17480008201763378,1599,0.16393274554029116,4827,0.49487389788804592,9754,0.99999999999999989]
[null,9755,{"$f":"Urliste!C9758","v":5},1623,0.16637621732444899,1705,0.17478216299333674,1599,0.16391594054331113,4828,0.49492567913890312,9755,0.99999999999999989]
[null,9756,{"$f":"Urliste!C9759","v":6},1623,0.16635916359163591,1705,0.17476424764247642,1599,0.16389913899138991,4829,0.49497744977449776,9756,1]
[null,9757,{"$f":"Urliste!C9760","v":1},1624,0.16644460387414164,1705,0.17474633596392333,1599,0.16388234088346829,4829,0.49492671927846676,9757,1]
[null,9758,{"$f":"Urliste!C9761","v":2},1624,0.16642754662840745,1706,0.17483090797294529,1599,0.1638655462184874,4829,0.49487599918015984,9758,1]
[null,9759,{"$f":"Urliste!C9762","v":5},1624,0.16641049287836868,1706,0.17481299313454246,1599,0.16384875499538887,4830,0.4949277589917,9759,1]
[null,9760,{"$f":"Urliste!C9763","v":5},1624,0.16639344262295083,1706,0.17479508196721311,1599,0.16383196721311474,4831,0.49497950819672132,9760,1]
[null,9761,{"$f":"Urliste!C9764","v":5},1624,0.1663763958610798,1706,0.17477717446982891,1599,0.16381518287060751,4832,0.49503124679848376,9761,0.99999999999999989]
[null,9762,{"$f":"Urliste!C9765","v":3},1624,0.16635935259168202,1706,0.17475927064126204,1600,0.16390083999180496,4832,0.49498053677525095,9762,1]
[null,9763,{"$f":"Urliste!C9766","v":5},1624,0.16634231281368431,1706,0.17474137048038513,1600,0.16388405203318651,4833,0.49503226467274403,9763,1]
[null,9764,{"$f":"Urliste!C9767","v":4},1624,0.16632527652601392,1706,0.17472347398607127,1600,0.16386726751331421,4834,0.49508398197460057,9764,1]
[null,9765,{"$f":"Urliste!C9768","v":3},1624,0.16630824372759856,1706,0.17470558115719406,1601,0.16395289298515106,4834,0.49503328213005632,9765,1]
[null,9766,{"$f":"Urliste!C9769","v":2},1624,0.16629121441736638,1707,0.17479008806061846,1601,0.16393610485357363,4834,0.49498259266844152,9766,1]
[null,9767,{"$f":"Urliste!C9770","v":3},1624,0.16627418859424592,1707,0.1747721920753558,1602,0.16402170574383126,4834,0.49493191358656702,9767,1]
[null,9768,{"$f":"Urliste!C9771","v":2},1624,0.16625716625716624,1708,0.17485667485667486,1602,0.16400491400491402,4834,0.49488124488124491,9768,1]
[null,9769,{"$f":"Urliste!C9772","v":6},1624,0.16624014740505683,1708,0.17483877571911147,1602,0.16398812570375679,4835,0.49493295117207492,9769,1]
[null,9770,{"$f":"Urliste!C9773","v":1},1625,0.16632548618219037,1708,0.17482088024564996,1602,0.16397134083930398,4835,0.49488229273285567,9770,1]
[null,9771,{"$f":"Urliste!C9774","v":5},1625,0.16630846382151265,1708,0.17480298843516529,1602,0.16395455941050047,4836,0.49493398833282159,9771,1]
[null,9772,{"$f":"Urliste!C9775","v":6},1625,0.16629144494474007,1708,0.17478510028653296,1602,0.16393778141629145,4837,0.49498567335243554,9772,1]
[null,9773,{"$f":"Urliste!C9776","v":5},1625,0.16627442955080324,1708,0.17476721579862889,1602,0.16392100685562264,4838,0.49503734779494524,9773,1]
[null,9774,{"$f":"Urliste!C9777","v":6},1625,0.16625741763863311,1708,0.17474933497032943,1602,0.16390423572744015,4839,0.49508901166359731,9774,1]
[null,9775,{"$f":"Urliste!C9778","v":4},1625,0.16624040920716113,1708,0.1747314578005115,1602,0.16388746803069054,4840,0.49514066496163683,9775,0.99999999999999989]
[null,9776,{"$f":"Urliste!C9779","v":3},1625,0.16622340425531915,1708,0.17471358428805236,1603,0.16397299509001637,4840,0.4950900163666121,9776,1]
[null,9777,{"$f":"Urliste!C9780","v":1},1626,0.16630868364528997,1708,0.1746957144318298,1603,0.16395622379052879,4840,0.49503937813235144,9777,0.99999999999999989]
[null,9778,{"$f":"Urliste!C9781","v":3},{"$f":"IF(C9799=1,D9798+1,D9798)","v":1626},{"$f":"D9799/B9799","v":0.16629167518920024},{"$f":"IF(C9799=2,F9798+1,F9798)","v":1708},{"$f":"F9799/B9799","v":0.17467784823072202},{"$f":"IF(C9799=3,H9798+1,H9798)","v":1604},{"$f":"H9799/B9799","v":0.16404172632440173},{"$f":"IF(C9799>3,J9798+1,J9798)","v":4840},{"$f":"J9799/B9799","v":0.49498875025567601},{"$f":"SUM(D9799,J9799,H9799,F9799)","v":9778},{"$f":"SUM(K9799,I9799,G9799,E9799)","v":1}]
[null,9779,{"$f":"Urliste!C9782","v":6},1626,0.16627467021167808,1708,0.17465998568360774,1604,0.16402495142652623,4841,0.49504039267818795,9779,1]
[null,9780,{"$f":"Urliste!C9783","v":6},1626,0.16625766871165645,1708,0.17464212678936605,1604,0.16400817995910019,4842,0.49509202453987727,9780,1]
[null,9781,{"$f":"Urliste!C9784","v":6},1626,0.16624067068806869,1708,0.1746242715468766,1604,0.16399141192107147,4843,0.49514364584398324,9781,1]
[null,9782,{"$f":"Urliste!C9785","v":5},1626,0.1662236761398487,1708,0.17460641995501941,1604,0.16397464731138828,4844,0.49519525659374364,9782,1.0000000000000002]
[null,9783,{"$f":"Urliste!C9786","v":6},1626,0.1662066850659307,1708,0.17458857201267505,1604,0.16395788612899928,4845,0.495246856792395,9783,1]
[null,9784,{"$f":"Urliste!C9787","v":5},1626,0.16618969746524939,1708,0.17457072771872445,1604,0.16394112837285363,4846,0.4952984464431725,9784,0.99999999999999989]
[null,9785,{"$f":"Urliste!C9788","v":5},1626,0.16617271333673991,1708,0.17455288707204905,1604,0.16392437404190086,4847,0.49535002554931018,9785,1]
[null,9786,{"$f":"Urliste!C9789","v":6},1626,0.16615573267933784,1708,0.17453505007153075,1604,0.16390762313509094,4848,0.49540159411404044,9786,0.99999999999999989]
[null,9787,{"$f":"Urliste!C9790","v":5},1626,0.16613875549197915,1708,0.17451721671605191,1604,0.16389087565137428,4849,0.49545315214059465,9787,1]
[null,9788,{"$f":"Urliste!C9791","v":2},1626,0.16612178177360032,1709,0.17460155292194524,1604,0.16387413158970168,4849,0.49540253371475274,9788,1]
[null,9789,{"$f":"Urliste!C9792","v":3},1626,0.16610481152313822,1709,0.17458371641638573,1605,0.16395954642966595,4849,0.4953519256308101,9789,1]
[null,9790,{"$f":"Urliste!C9793","v":4},1626,0.16608784473953014,1709,0.17456588355464761,1605,0.16394279877425944,4850,0.49540347293156284,9790,1]
[null,9791,{"$f":"Urliste!C9794","v":5},1626,0.16607088142171381,1709,0.17454805433561435,1605,0.16392605453988357,4851,0.49545500970278827,9791,1]
[null,9792,{"$f":"Urliste!C9795","v":4},1626,0.16605392156862744,1709,0.17453022875816993,1605,0.1639093137254902,4852,0.49550653594771243,9792,1]
[null,9793,{"$f":"Urliste!C9796","v":5},1626,0.16603696517920963,1709,0.17451240682119881,1605,0.16389257633003165,4853,0.49555805166955991,9793,1]
[null,9794,{"$f":"Urliste!C9797","v":1},1627,0.16612211558096793,1709,0.17449458852358588,1605,0.16387584235246069,4853,0.49550745354298548,9794,1]
[null,9795,{"$f":"Urliste!C9798","v":6},1627,0.16610515569167944,1709,0.17447677386421645,1605,0.16385911179173049,4854,0.49555895865237365,9795,1]
[null,9796,{"$f":"Urliste!C9799","v":3},1627,0.16608819926500612,1709,0.17445896284197632,1606,0.16394446712944058,4854,0.49550837076357696,9796,1]
[null,9797,{"$f":"Urliste!C9800","v":5},1627,0.16607124629988773,1709,0.17444115545575176,1606,0.16392773297948351,4855,0.495559865264877,9797,1]
[null,9798,{"$f":"Urliste!C9801","v":1},1628,0.16615635844049806,1709,0.17442335170442946,1606,0.16391100224535621,4855,0.49550928760971624,9798,1]
[null,9799,{"$f":"Urliste!C9802","v":4},1628,0.16613940197979385,1709,0.17440555158689663,1606,0.16389427492601286,4856,0.49556077150729666,9799,1]
[null,9800,{"$f":"Urliste!C9803","v":5},1628,0.16612244897959183,1709,0.17438775510204083,1606,0.16387755102040816,4857,0.49561224489795919,9800,1]
[null,9801,{"$f":"Urliste!C9804","v":3},1628,0.16610549943883277,1709,0.17436996224875012,1607,0.16396286093255791,4857,0.49556167737985918,9801,1]
[null,9802,{"$f":"Urliste!C9805","v":3},1628,0.16608855335645786,1709,0.17435217302591308,1608,0.16404815343807386,4857,0.49551112017955518,9802,1]
[null,9803,{"$f":"Urliste!C9806","v":3},1628,0.16607161073140875,1709,0.17433438743241864,1609,0.16413342854228297,4857,0.49546057329388965,9803,0.99999999999999989]
[null,9804,{"$f":"Urliste!C9807","v":4},1628,0.16605467156262749,1709,0.17431660546715627,1609,0.16411668706650348,4858,0.49551203590371279,9804,1]
[null,9805,{"$f":"Urliste!C9808","v":2},1628,0.16603773584905659,1710,0.17440081591024986,1609,0.1640999490056094,4858,0.49546149923508415,9805,1]
[null,9806,{"$f":"Urliste!C9809","v":3},1628,0.166020803589639,1710,0.17438303079747094,1610,0.16418519273913931,4858,0.49541097287375074,9806,1]
[null,9807,{"$f":"Urliste!C9810","v":6},1628,0.16600387478331805,1710,0.17436524931171613,1610,0.16416845110635261,4859,0.49546242479861324,9807,1]
[null,9808,{"$f":"Urliste!C9811","v":4},1628,0.16598694942903752,1710,0.17434747145187601,1610,0.16415171288743882,4860,0.49551386623164762,9808,1]
[null,9809,{"$f":"Urliste!C9812","v":2},1628,0.16597002752574166,1711,0.17443164440819656,1610,0.16413497808135386,4860,0.49546334998470792,9809,1]
[null,9810,{"$f":"Urliste!C9813","v":5},1628,0.16595310907237512,1711,0.17441386340468909,1610,0.16411824668705402,4861,0.49551478083588174,9810,1]
[null,9811,{"$f":"Urliste!C9814","v":5},1628,0.16593619406788299,1711,0.1743960860258893,1610,0.16410151870349607,4862,0.49556620120273165,9811,1]
[null,9812,{"$f":"Urliste!C9815","v":5},1628,0.16591928251121077,1711,0.17437831227068895,1610,0.16408479412963717,4863,0.49561761108846308,9812,1]
[null,9813,{"$f":"Urliste!C9816","v":1},1629,0.16600428003668602,1711,0.17436054213798022,1610,0.16406807296443493,4863,0.49556710486089883,9813,1]
[null,9814,{"$f":"Urliste!C9817","v":1},1630,0.1660892602404728,1711,0.17434277562665579,1610,0.16405135520684735,4863,0.49551660892602406,9814,1]
[null,9815,{"$f":"Urliste!C9818","v":3},1630,0.16607233825776871,1711,0.17432501273560877,1611,0.16413652572592971,4863,0.49546612328069284,9815,1]
[null,9816,{"$f":"Urliste!C9819","v":4},1630,0.16605541972290139,1711,0.17430725346373269,1611,0.16411980440097801,4864,0.49551752241238795,9816,1]
[null,9817,{"$f":"Urliste!C9820","v":1},1631,0.16614036874809004,1711,0.17428949780992156,1611,0.16410308648263217,4864,0.49546704695935623,9817,0.99999999999999989]
[null,9818,{"$f":"Urliste!C9821","v":5},1631,0.16612344673049501,1711,0.17427174577306986,1611,0.16408637196985129,4865,0.49551843552658381,9818,1]
[null,9819,{"$f":"Urliste!C9822","v":6},1631,0.1661065281596904,1711,0.1742539973520725,1611,0.16406966086159486,4866,0.49556981362664221,9819,0.99999999999999989]
[null,9820,{"$f":"Urliste!C9823","v":6},1631,0.16608961303462322,1711,0.17423625254582484,1611,0.16405295315682281,4867,0.49562118126272914,9820,1]
[null,9821,{"$f":"Urliste!C9824","v":3},1631,0.1660727013542409,1711,0.17421851135322269,1612,0.16413807147948273,4867,0.49557071581305367,9821,1]
[null,9822,{"$f":"Urliste!C9825","v":4},1631,0.16605579311749136,1711,0.17420077377316229,1612,0.16412136021176948,4868,0.49562207289757687,9822,1]
[null,9823,{"$f":"Urliste!C9826","v":4},1631,0.16603888832332281,1711,0.17418303980454036,1612,0.16410465234653365,4869,0.49567341952560318,9823,1]
[null,9824,{"$f":"Urliste!C9827","v":1},1632,0.16612377850162866,1711,0.17416530944625408,1612,0.16408794788273615,4869,0.49562296416938112,9824,1]
[null,9825,{"$f":"Urliste!C9828","v":3},1632,0.16610687022900764,1711,0.17414758269720101,1613,0.16417302798982189,4869,0.49557251908396949,9825,1]
[null,9826,{"$f":"Urliste!C9829","v":1},1633,0.16619173621005495,1711,0.17412985955627927,1613,0.16415631996743335,4869,0.49552208426623245,9826,1]
[null,9827,{"$f":"Urliste!C9830","v":3},1633,0.16617482446321361,1711,0.17411214002238731,1614,0.16424137580136358,4869,0.49547165971303553,9827,1]
[null,9828,{"$f":"Urliste!C9831","v":2},1633,0.16615791615791617,1712,0.1741961741961742,1614,0.16422466422466422,4869,0.49542124542124544,9828,1]
[null,9829,{"$f":"Urliste!C9832","v":3},1633,0.16614101129311221,1712,0.17417845152100925,1615,0.16430969579814833,4869,0.49537084138773019,9829,0.99999999999999989]
[null,9830,{"$f":"Urliste!C9833","v":6},1633,0.16612410986775178,1712,0.17416073245167854,1615,0.16429298067141404,4870,0.49542217700915564,9830,1]
[null,9831,{"$f":"Urliste!C9834","v":6},1633,0.16610721188078528,1712,0.17414301698708168,1615,0.16427626894517344,4871,0.49547350218695962,9831,1]
[null,9832,{"$f":"Urliste!C9835","v":1},1634,0.1661920260374288,1712,0.17412530512611879,1615,0.16425956061838892,4871,0.49542310821806346,9832,0.99999999999999989]
[null,9833,{"$f":"Urliste!C9836","v":3},1634,0.16617512458049424,1712,0.17410759686769042,1616,0.16434455405267975,4871,0.49537272449913555,9833,0.99999999999999989]
[null,9834,{"$f":"Urliste!C9837","v":4},1634,0.16615822656091112,1712,0.17408989221069757,1616,0.16432784218019117,4872,0.49542403904820015,9834,1]
[null,9835,{"$f":"Urliste!C9838","v":6},1634,0.16614133197763092,1712,0.17407219115404168,1616,0.1643111337061515,4873,0.4954753431621759,9835,1]
[null,9836,{"$f":"Urliste!C9839","v":1},1635,0.1662261081740545,1712,0.17405449369662465,1616,0.1642944286295242,4873,0.49542496949979664,9836,0.99999999999999989]
[null,9837,{"$f":"Urliste!C9840","v":6},1635,0.16620921012503811,1712,0.17403679983734879,1616,0.16427772694927315,4874,0.49547626308833992,9837,0.99999999999999989]
[null,9838,{"$f":"Urliste!C9841","v":3},1635,0.16619231551128277,1712,0.1740191095751169,1617,0.16436267534051638,4874,0.49542589957308397,9838,1]
[null,9839,{"$f":"Urliste!C9842","v":3},1635,0.16617542433174104,1712,0.17400142290883219,1618,0.16444760646407156,4874,0.49537554629535524,9839,1]
[null,9840,{"$f":"Urliste!C9843","v":6},1635,0.16615853658536586,1712,0.17398373983739837,1618,0.16443089430894309,4875,0.49542682926829268,9840,1]
[null,9841,{"$f":"Urliste!C9844","v":3},1635,0.16614165227111066,1712,0.17396606035971954,1619,0.16451580123971141,4875,0.49537648612945839,9841,1]
[null,9842,{"$f":"Urliste!C9845","v":1},{"$f":"IF(C9863=1,D9862+1,D9862)","v":1636},{"$f":"D9863/B9863","v":0.16622637675269253},{"$f":"IF(C9863=2,F9862+1,F9862)","v":1712},{"$f":"F9863/B9863","v":0.17394838447470026},{"$f":"IF(C9863=3,H9862+1,H9862)","v":1619},{"$f":"H9863/B9863","v":0.16449908555171713},{"$f":"IF(C9863>3,J9862+1,J9862)","v":4875},{"$f":"J9863/B9863","v":0.49532615322089008},{"$f":"SUM(D9863,J9863,H9863,F9863)","v":9842},{"$f":"SUM(K9863,I9863,G9863,E9863)","v":1}]
[null,9843,{"$f":"Urliste!C9846","v":3},1636,0.16620948897693794,1712,0.17393071218124556,1620,0.16458396830234684,4875,0.49527583053946966,9843,1]
[null,9844,{"$f":"Urliste!C9847","v":3},1636,0.16619260463226332,1712,0.17391304347826086,1621,0.16466883380739536,4875,0.49522551808208043,9844,1]
[null,9845,{"$f":"Urliste!C9848","v":6},1636,0.16617572371762315,1712,0.1738953783646521,1621,0.16465210766886745,4876,0.49527679024885729,9845,0.99999999999999989]
[null,9846,{"$f":"Urliste!C9849","v":5},1636,0.16615884623197238,1712,0.17387771683932562,1621,0.16463538492788951,4877,0.49532805200081254,9846,1]
[null,9847,{"$f":"Urliste!C9850","v":1},1637,0.16624352594698893,1712,0.17386005890118819,1621,0.16461866558342642,4877,0.49527774956839649,9847,1]
[null,9848,{"$f":"Urliste!C9851","v":1},1638,0.16632818846466288,1712,0.17384240454914704,1621,0.16460194963444355,4877,0.49522745735174656,9848,1]
[null,9849,{"$f":"Urliste!C9852","v":4},1638,0.16631130063965885,1712,0.17382475378210985,1621,0.16458523707990658,4878,0.49527870849832473,9849,1]
[null,9850,{"$f":"Urliste!C9853","v":2},1638,0.16629441624365482,1713,0.17390862944162436,1621,0.16456852791878174,4878,0.49522842639593906,9850,1]
[null,9851,{"$f":"Urliste!C9854","v":3},1638,0.16627753527560654,1713,0.17389097553547864,1622,0.16465333468683382,4878,0.49517815450208102,9851,1]
[null,9852,{"$f":"Urliste!C9855","v":5},1638,0.16626065773447016,1713,0.17387332521315468,1622,0.16463662200568413,4879,0.495229395046691,9852,1]
[null,9853,{"$f":"Urliste!C9856","v":1},1639,0.16634527555059372,1713,0.17385567847356134,1622,0.16461991271693902,4879,0.49517913325890589,9853,1]
[null,9854,{"$f":"Urliste!C9857","v":1},1640,0.16642987619240918,1713,0.17383803531560788,1622,0.16460320681956567,4879,0.49512888167241731,9854,1]
[null,9855,{"$f":"Urliste!C9858","v":4},1640,0.16641298833079654,1713,0.17382039573820396,1622,0.16458650431253172,4880,0.49518011161846776,9855,1]
[null,9856,{"$f":"Urliste!C9859","v":4},1640,0.1663961038961039,1713,0.17380275974025974,1622,0.16456980519480519,4881,0.49523133116883117,9856,1]
[null,9857,{"$f":"Urliste!C9860","v":2},1640,0.16637922288728821,1714,0.1738865780663488,1622,0.16455310946535456,4881,0.49518108958100843,9857,1]
[null,9858,{"$f":"Urliste!C9861","v":1},1641,0.16646378575776019,1714,0.17386893893284641,1622,0.1645364171231487,4881,0.49513085818624469,9858,1]
[null,9859,{"$f":"Urliste!C9862","v":4},1641,0.16644690130844914,1714,0.1738513033776245,1622,0.1645197281671569,4882,0.49518206714676943,9859,1]
[null,9860,{"$f":"Urliste!C9863","v":2},1641,0.16643002028397566,1715,0.17393509127789047,1622,0.16450304259634888,4882,0.49513184584178499,9860,1]
[null,9861,{"$f":"Urliste!C9864","v":4},1641,0.16641314268329785,1715,0.1739174525910151,1622,0.16448636040969475,4883,0.4951830443159923,9861,1]
[null,9862,{"$f":"Urliste!C9865","v":2},1641,0.16639626850537417,1716,0.17400121679172581,1622,0.16446968160616507,4883,0.49513283309673495,9862,1]
[null,9863,{"$f":"Urliste!C9866","v":2},1641,0.16637939774916355,1717,0.17408496400689447,1622,0.1644530061847308,4883,0.49508263205921121,9863,1]
[null,9864,{"$f":"Urliste!C9867","v":4},1641,0.16636253041362531,1717,0.17406731549067314,1622,0.16443633414436334,4884,0.49513381995133821,9864,1]
[null,9865,{"$f":"Urliste!C9868","v":4},1641,0.1663456664977192,1717,0.17404967055245818,1622,0.16441966548403447,4885,0.49518499746578815,9865,1]
[null,9866,{"$f":"Urliste!C9869","v":6},1641,0.16632880600040542,1717,0.17403202919116156,1622,0.16440300020271639,4886,0.49523616460571662,9866,1]
[null,9867,{"$f":"Urliste!C9870","v":5},1641,0.16631194892064458,1717,0.17401439140569575,1622,0.16438633829938179,4887,0.49528732137427789,9867,1]
[null,9868,{"$f":"Urliste!C9871","v":3},1641,0.16629509525739766,1717,0.17399675719497365,1623,0.16447101743007703,4887,0.49523713011755166,9868,1]
[null,9869,{"$f":"Urliste!C9872","v":1},1642,0.1663795723984193,1717,0.17397912655790859,1623,0.16445435201134867,4887,0.49518694903232346,9869,1]
[null,9870,{"$f":"Urliste!C9873","v":6},1642,0.16636271529888552,1717,0.17396149949341438,1623,0.16443768996960487,4888,0.49523809523809526,9870,1]
[null,9871,{"$f":"Urliste!C9874","v":6},1642,0.16634586161483134,1717,0.17394387600040523,1623,0.16442103130381927,4889,0.49528923108094419,9871,1]
[null,9872,{"$f":"Urliste!C9875","v":1},1643,0.16643030794165317,1717,0.1739262560777958,1623,0.16440437601296595,4889,0.4952390599675851,9872,1]
[null,9873,{"$f":"Urliste!C9876","v":4},1643,0.16641345082548364,1717,0.17390863972450116,1623,0.16438772409601946,4890,0.49529018535399577,9873,1]
[null,9874,{"$f":"Urliste!C9877","v":1},1644,0.1664978732023496,1717,0.17389102693943689,1623,0.16437107555195463,4890,0.49524002430625885,9874,1]
[null,9875,{"$f":"Urliste!C9878","v":2},1644,0.16648101265822784,1718,0.17397468354430379,1623,0.16435443037974684,4890,0.49518987341772153,9875,1]
[null,9876,{"$f":"Urliste!C9879","v":5},1644,0.16646415552855406,1718,0.17395706763872013,1623,0.16433778857837181,4891,0.49524098825435398,9876,1]
[null,9877,{"$f":"Urliste!C9880","v":4},1644,0.16644730181229117,1718,0.17393945530019236,1623,0.16432115014680571,4892,0.49529209274071073,9877,1]
[null,9878,{"$f":"Urliste!C9881","v":6},1644,0.16643045150840252,1718,0.17392184652763718,1623,0.1643045150840251,4893,0.49534318687993523,9878,1]
[null,9879,{"$f":"Urliste!C9882","v":6},1644,0.16641360461585181,1718,0.17390424131997165,1623,0.16428788338900699,4894,0.49539427067516956,9879,1]
[null,9880,{"$f":"Urliste!C9883","v":3},1644,0.16639676113360324,1718,0.17388663967611337,1624,0.16437246963562754,4894,0.49534412955465584,9880,1]
[null,9881,{"$f":"Urliste!C9884","v":2},1644,0.16637992106062138,1719,0.17397024592652566,1624,0.1643558344297136,4894,0.49529399858313938,9881,1]
[null,9882,{"$f":"Urliste!C9885","v":1},1645,0.1664642784861364,1719,0.17395264116575593,1624,0.16433920259056872,4894,0.49524387775753898,9882,1]
[null,9883,{"$f":"Urliste!C9886","v":4},1645,0.1664474349893757,1719,0.17393503996762116,1624,0.16432257411717091,4895,0.49529495092583226,9883,1]
[null,9884,{"$f":"Urliste!C9887","v":5},1645,0.16643059490084985,1719,0.17391744233104006,1624,0.1643059490084986,4896,0.49534601375961151,9884,1]
[null,9885,{"$f":"Urliste!C9888","v":4},1645,0.16641375821952453,1719,0.17389984825493171,1624,0.1642893272635306,4897,0.49539706626201313,9885,0.99999999999999989]
[null,9886,{"$f":"Urliste!C9889","v":1},1646,0.1664980780902286,1719,0.17388225773821567,1624,0.1642727088812462,4897,0.49534695529030953,9886,1]
[null,9887,{"$f":"Urliste!C9890","v":6},1646,0.16648123798927886,1719,0.17386467077981188,1624,0.16425609386062506,4898,0.49539799737028423,9887,1]
[null,9888,{"$f":"Urliste!C9891","v":3},1646,0.16646440129449838,1719,0.17384708737864077,1625,0.16434061488673138,4898,0.49534789644012944,9888,0.99999999999999989]
[null,9889,{"$f":"Urliste!C9892","v":3},1646,0.16644756800485389,1719,0.17382950753362322,1626,0.16442511881888969,4898,0.4952978056426332,9889,1]
[null,9890,{"$f":"Urliste!C9893","v":3},1646,0.16643073811931244,1719,0.1738119312436805,1627,0.16450960566228515,4898,0.49524772497472191,9890,1]
[null,9891,{"$f":"Urliste!C9894","v":6},1646,0.16641391163684158,1719,0.17379435850773431,1627,0.16449297341017086,4899,0.49529875644525329,9891,1]
[null,9892,{"$f":"Urliste!C9895","v":2},1646,0.16639708855640922,1720,0.17387788111605337,1627,0.16447634452082491,4899,0.4952486858067125,9892,1]
[null,9893,{"$f":"Urliste!C9896","v":4},1646,0.16638026887698373,1720,0.17386030526634993,1627,0.16445971899322753,4900,0.49529970686343877,9893,1]
[null,9894,{"$f":"Urliste!C9897","v":3},1646,0.16636345259753385,1720,0.17384273296947644,1628,0.16454416818273701,4900,0.4952496462502527,9894,0.99999999999999989]
[null,9895,{"$f":"Urliste!C9898","v":4},1646,0.16634663971702882,1720,0.17382516422435573,1628,0.16452753916119253,4901,0.49530065689742292,9895,1]
[null,9896,{"$f":"Urliste!C9899","v":5},1646,0.16632983023443815,1720,0.17380759902991108,1628,0.1645109135004042,4902,0.49535165723524655,9896,0.99999999999999989]
[null,9897,{"$f":"Urliste!C9900","v":4},1646,0.16631302414873195,1720,0.17379003738506618,1628,0.16449429119935333,4903,0.49540264726684852,9897,1]
[null,9898,{"$f":"Urliste!C9901","v":1},1647,0.16639725197009497,1720,0.1737724792887452,1628,0.16447767225702162,4903,0.49535259648413821,9898,1]
[null,9899,{"$f":"Urliste!C9902","v":3},1647,0.16638044246893627,1720,0.17375492473987272,1629,0.16456207697747247,4903,0.49530255581371857,9899,1]
[null,9900,{"$f":"Urliste!C9903","v":6},1647,0.16636363636363635,1720,0.17373737373737375,1629,0.16454545454545455,4904,0.49535353535353538,9900,1]
[null,9901,{"$f":"Urliste!C9904","v":1},1648,0.16644783355216644,1720,0.17371982628017371,1629,0.16452883547116454,4904,0.49530350469649531,9901,0.99999999999999989]
[null,9902,{"$f":"Urliste!C9905","v":1},1649,0.16653201373459908,1720,0.17370228236719853,1629,0.16451221975358513,4904,0.49525348414461723,9902,1]
[null,9903,{"$f":"Urliste!C9906","v":1},1650,0.16661617691608605,1720,0.17368474199737452,1629,0.16449560739169949,4904,0.49520347369483997,9903,1]
[null,9904,{"$f":"Urliste!C9907","v":3},1650,0.16659935379644589,1720,0.17366720516962844,1630,0.1645799676898223,4904,0.49515347334410337,9904,1]
[null,9905,{"$f":"Urliste!C9908","v":1},1651,0.16668349318525996,1720,0.17364967188288744,1630,0.16456335184250379,4904,0.49510348308934882,9905,1]
[null,9906,{"$f":"Urliste!C9909","v":1},{"$f":"IF(C9927=1,D9926+1,D9926)","v":1652},{"$f":"D9927/B9927","v":0.16676761558651323},{"$f":"IF(C9927=2,F9926+1,F9926)","v":1720},{"$f":"F9927/B9927","v":0.17363214213607914},{"$f":"IF(C9927=3,H9926+1,H9926)","v":1630},{"$f":"H9927/B9927","v":0.16454673934988895},{"$f":"IF(C9927>3,J9926+1,J9926)","v":4904},{"$f":"J9927/B9927","v":0.49505350292751865},{"$f":"SUM(D9927,J9927,H9927,F9927)","v":9906},{"$f":"SUM(K9927,I9927,G9927,E9927)","v":1}]
[null,9907,{"$f":"Urliste!C9910","v":2},1652,0.16675078227515897,1721,0.17371555465832239,1630,0.16453013021096194,4904,0.49500353285555665,9907,0.99999999999999989]
[null,9908,{"$f":"Urliste!C9911","v":6},1652,0.16673395236172789,1721,0.17369802180056521,1630,0.16451352442470732,4905,0.49505450141299961,9908,1]
[null,9909,{"$f":"Urliste!C9912","v":5},1652,0.16671712584519124,1721,0.1736804924815824,1630,0.16449692199011001,4906,0.49510545968311637,9909,1]
[null,9910,{"$f":"Urliste!C9913","v":2},1652,0.16670030272452069,1722,0.17376387487386477,1630,0.16448032290615539,4906,0.49505549949545913,9910,1]
[null,9911,{"$f":"Urliste!C9914","v":3},1652,0.16668348299868832,1722,0.17374634244778528,1631,0.16456462516395923,4906,0.49500554938956715,9911,1]
[null,9912,{"$f":"Urliste!C9915","v":4},1652,0.16666666666666666,1722,0.17372881355932204,1631,0.16454802259887005,4907,0.49505649717514122,9912,0.99999999999999989]
[null,9913,{"$f":"Urliste!C9916","v":5},1652,0.16664985372742863,1722,0.17371128820740442,1631,0.1645314233834359,4908,0.49510743468173107,9913,1]
[null,9914,{"$f":"Urliste!C9917","v":1},1653,0.1667339116401049,1722,0.17369376639096226,1631,0.16451482751664312,4908,0.49505749445228969,9914,0.99999999999999989]
[null,9915,{"$f":"Urliste!C9918","v":4},1653,0.16671709531013615,1722,0.17367624810892587,1631,0.16449823499747857,4909,0.49510842158345941,9915,1]
[null,9916,{"$f":"Urliste!C9919","v":4},1653,0.16670028237192416,1722,0.17365873336022589,1631,0.16448164582492941,4910,0.49515933844292054,9916,0.99999999999999989]
[null,9917,{"$f":"Urliste!C9920","v":4},1653,0.16668347282444287,1722,0.17364122214379349,1631,0.16446505999798325,4911,0.49521024503378036,9917,1]
[null,9918,{"$f":"Urliste!C9921","v":3},1653,0.16666666666666666,1722,0.1736237144585602,1632,0.1645493042952208,4911,0.49516031457955234,9918,0.99999999999999989]
[null,9919,{"$f":"Urliste!C9922","v":6},1653,0.16664986389757033,1722,0.17360621030345802,1632,0.1645327149914306,4912,0.4952112108075411,9919,1]
[null,9920,{"$f":"Urliste!C9923","v":1},1654,0.16673387096774195,1722,0.17358870967741935,1632,0.16451612903225807,4912,0.49516129032258066,9920,1]
[null,9921,{"$f":"Urliste!C9924","v":5},1654,0.16671706481201493,1722,0.17357121257937708,1632,0.16449954641669187,4913,0.49521217619191615,9921,1]
[null,9922,{"$f":"Urliste!C9925","v":3},1654,0.16670026204394275,1722,0.17355371900826447,1633,0.16458375327554928,4913,0.49516226567224347,9922,0.99999999999999989]
[null,9923,{"$f":"Urliste!C9926","v":5},1654,0.16668346266250125,1722,0.17353622896301521,1633,0.16456716718734254,4914,0.49521314118714099,9923,1]
[null,9924,{"$f":"Urliste!C9927","v":5},1654,0.16666666666666666,1722,0.17351874244256349,1633,0.16455058444175735,4915,0.49526400644901247,9924,0.99999999999999989]
[null,9925,{"$f":"Urliste!C9928","v":1},1655,0.16675062972292193,1722,0.17350125944584383,1633,0.16453400503778337,4915,0.49521410579345088,9925,1]
[null,9926,{"$f":"Urliste!C9929","v":4},1655,0.16673383034454967,1722,0.17348377997179126,1633,0.16451742897441063,4916,0.49526496070924841,9926,0.99999999999999989]
[null,9927,{"$f":"Urliste!C9930","v":3},1655,0.16671703435076055,1722,0.17346630401934118,1634,0.16460159161881738,4916,0.49521507001108089,9927,1]
[null,9928,{"$f":"Urliste!C9931","v":5},1655,0.16670024174053183,1722,0.17344883158742949,1634,0.16458501208702658,4917,0.49526591458501207,9928,1]
[null,9929,{"$f":"Urliste!C9932","v":5},1655,0.16668345251284117,1722,0.17343136267499246,1634,0.16456843589485345,4918,0.49531674891731292,9929,1]
[null,9930,{"$f":"Urliste!C9933","v":1},1656,0.16676737160120847,1722,0.17341389728096676,1634,0.16455186304128902,4918,0.49526686807653575,9930,1]
[null,9931,{"$f":"Urliste!C9934","v":4},1656,0.16675057899506596,1722,0.17339643540428959,1634,0.16453529352532473,4919,0.49531769207531973,9931,1]
[null,9932,{"$f":"Urliste!C9935","v":2},1656,0.16673378977043898,1723,0.17347966169955698,1634,0.16451872734595246,4919,0.49526782118405155,9932,1]
[null,9933,{"$f":"Urliste!C9936","v":6},1656,0.16671700392630626,1723,0.17346219671801066,1634,0.16450216450216451,4920,0.49531863485351857,9933,1]
[null,9934,{"$f":"Urliste!C9937","v":2},1656,0.16670022146164687,1724,0.17354539963760821,1634,0.1644856049929535,4920,0.49526877390779145,9934,1]
[null,9935,{"$f":"Urliste!C9938","v":3},1656,0.16668344237544036,1724,0.17352793155510821,1635,0.16456970306995469,4920,0.49521892299949671,9935,1]
[null,9936,{"$f":"Urliste!C9939","v":6},1656,0.16666666666666666,1724,0.17351046698872785,1635,0.16455314009661837,4921,0.4952697262479871,9936,1]
[null,9937,{"$f":"Urliste!C9940","v":2},1656,0.16664989433430613,1725,0.17359363993156887,1635,0.16453658045687833,4921,0.49521988527724664,9937,0.99999999999999989]
[null,9938,{"$f":"Urliste!C9941","v":2},1656,0.16663312537733951,1726,0.17367679613604348,1635,0.16452002414972833,4921,0.49517005433688871,9938,1]
[null,9939,{"$f":"Urliste!C9942","v":2},1656,0.16661635979474795,1727,0.17375993560720393,1635,0.16450347117416239,4921,0.49512023342388572,9939,1]
[null,9940,{"$f":"Urliste!C9943","v":1},1657,0.16670020120724346,1727,0.17374245472837022,1635,0.16448692152917505,4921,0.49507042253521127,9940,1]
[null,9941,{"$f":"Urliste!C9944","v":6},1657,0.16668343225027663,1727,0.17372497736646211,1635,0.16447037521376118,4922,0.49512121516950003,9941,0.99999999999999989]
[null,9942,{"$f":"Urliste!C9945","v":3},1657,0.16666666666666666,1727,0.17370750352041842,1636,0.16455441561054113,4922,0.49507141420237377,9942,1]
[null,9943,{"$f":"Urliste!C9946","v":2},1657,0.16664990445539576,1728,0.17379060645680378,1636,0.16453786583526098,4922,0.49502162325253946,9943,1]
[null,9944,{"$f":"Urliste!C9947","v":4},1657,0.16663314561544651,1728,0.17377312952534191,1636,0.16452131938857603,4923,0.49507240547063558,9944,1]
[null,9945,{"$f":"Urliste!C9948","v":6},1657,0.1666163901458019,1728,0.17375565610859728,1636,0.16450477626948215,4924,0.49512317747611867,9945,0.99999999999999989]
[null,9946,{"$f":"Urliste!C9949","v":6},1657,0.16659963804544539,1728,0.17373818620550976,1636,0.16448823647697566,4925,0.49517393927206915,9946,1]
[null,9947,{"$f":"Urliste!C9950","v":1},1658,0.16668342213732784,1728,0.1737207198150196,1636,0.16447170001005329,4925,0.49512415803759929,9947,1]
[null,9948,{"$f":"Urliste!C9951","v":1},1659,0.16676718938480095,1728,0.17370325693606756,1636,0.16445516686771211,4925,0.49507438681141935,9948,1]
[null,9949,{"$f":"Urliste!C9952","v":2},1659,0.16675042717861091,1729,0.17378631018192783,1636,0.16443863704894965,4925,0.49502462559051164,9949,1]
[null,9950,{"$f":"Urliste!C9953","v":2},1659,0.16673366834170855,1730,0.17386934673366833,1636,0.16442211055276382,4925,0.49497487437185927,9950,0.99999999999999989]
[null,9951,{"$f":"Urliste!C9954","v":6},1659,0.16671691287307808,1730,0.17385187418349915,1636,0.16440558737815295,4926,0.4950256255652698,9951,1]
[null,9952,{"$f":"Urliste!C9955","v":1},1660,0.16680064308681672,1730,0.17383440514469453,1636,0.16438906752411575,4926,0.494975884244373,9952,1]
[null,9953,{"$f":"Urliste!C9956","v":4},1660,0.16678388425600321,1730,0.17381693961619613,1636,0.16437255098965137,4927,0.49502662513814932,9953,1]
[null,9954,{"$f":"Urliste!C9957","v":6},1660,0.16676712879244524,1730,0.17379947759694594,1636,0.16435603777375929,4928,0.49507735583684953,9954,1]
[null,9955,{"$f":"Urliste!C9958","v":3},1660,0.16675037669512807,1730,0.1737820190858865,1637,0.16443997990959316,4928,0.49502762430939229,9955,1]
[null,9956,{"$f":"Urliste!C9959","v":4},1660,0.16673362796303737,1730,0.17376456408196062,1637,0.1644234632382483,4929,0.49507834471675372,9956,1]
[null,9957,{"$f":"Urliste!C9960","v":1},1661,0.16681731445214423,1730,0.17374711258411168,1637,0.16440694988450336,4929,0.49502862307924073,9957,1]
[null,9958,{"$f":"Urliste!C9961","v":1},1662,0.1669009841333601,1730,0.17372966459128339,1637,0.1643904398473589,4929,0.4949789114279976,9958,0.99999999999999989]
[null,9959,{"$f":"Urliste!C9962","v":1},1663,0.16698463701174818,1730,0.17371222010241993,1637,0.16437393312581586,4929,0.49492920976001609,9959,1]
[null,9960,{"$f":"Urliste!C9963","v":6},1663,0.16696787148594378,1730,0.17369477911646586,1637,0.16435742971887551,4930,0.49497991967871485,9960,1]
[null,9961,{"$f":"Urliste!C9964","v":2},1663,0.16695110932637286,1731,0.17377773315932135,1637,0.16434092962553962,4930,0.49493022788876617,9961,1]
[null,9962,{"$f":"Urliste!C9965","v":4},1663,0.16693435053202169,1731,0.17376028909857458,1637,0.16432443284481027,4931,0.49498092752459344,9962,0.99999999999999989]
[null,9963,{"$f":"Urliste!C9966","v":1},1664,0.16701796647596107,1731,0.17374284853959651,1637,0.16430793937569005,4931,0.4949312456087524,9963,1]
[null,9964,{"$f":"Urliste!C9967","v":3},1664,0.16700120433560819,1731,0.1737254114813328,1638,0.16439181051786431,4931,0.4948815736651947,9964,1]
[null,9965,{"$f":"Urliste!C9968","v":3},1664,0.1669844455594581,1731,0.17370797792272955,1639,0.16447566482689413,4931,0.49483191169091822,9965,1]
[null,9966,{"$f":"Urliste!C9969","v":6},1664,0.16696769014649809,1731,0.1736905478627333,1639,0.16445916114790288,4932,0.49488260084286573,9966,1]
[null,9967,{"$f":"Urliste!C9970","v":3},1664,0.16695093809571587,1731,0.17367312130029097,1640,0.1645429918731815,4932,0.49483294873081168,9967,1]
[null,9968,{"$f":"Urliste!C9971","v":1},1665,0.16703451043338685,1731,0.17365569823434993,1640,0.16452648475120385,4932,0.4947833065810594,9968,1]
[null,9969,{"$f":"Urliste!C9972","v":2},1665,0.16701775504062594,1732,0.17373858962784633,1640,0.16450998094091684,4932,0.49473367439061089,9969,1]
[null,9970,{"$f":"Urliste!C9973","v":1},{"$f":"IF(C9991=1,D9990+1,D9990)","v":1666},{"$f":"D9991/B9991","v":0.16710130391173519},{"$f":"IF(C9991=2,F9990+1,F9990)","v":1732},{"$f":"F9991/B9991","v":0.17372116349047143},{"$f":"IF(C9991=3,H9990+1,H9990)","v":1640},{"$f":"H9991/B9991","v":0.16449348044132397},{"$f":"IF(C9991>3,J9990+1,J9990)","v":4932},{"$f":"J9991/B9991","v":0.49468405215646943},{"$f":"SUM(D9991,J9991,H9991,F9991)","v":9970},{"$f":"SUM(K9991,I9991,G9991,E9991)","v":1}]
[null,9971,{"$f":"Urliste!C9974","v":5},1666,0.16708454518102497,1732,0.17370374084846055,1640,0.16447698325142915,4933,0.49473473071908536,9971,1]
[null,9972,{"$f":"Urliste!C9975","v":3},1666,0.16706778981147213,1732,0.17368632170076215,1641,0.16456077015643802,4933,0.49468511833132772,9972,1]
[null,9973,{"$f":"Urliste!C9976","v":3},1666,0.16705103780206557,1732,0.17366890604632507,1642,0.16464454025869849,4933,0.49463551589291088,9973,1]
[null,9974,{"$f":"Urliste!C9977","v":5},1666,0.16703428915179466,1732,0.17365149388409865,1642,0.16462803288550232,4934,0.49468618407860437,9974,0.99999999999999989]
[null,9975,{"$f":"Urliste!C9978","v":6},1666,0.16701754385964912,1732,0.17363408521303259,1642,0.16461152882205513,4935,0.49473684210526314,9975,1]
[null,9976,{"$f":"Urliste!C9979","v":2},1666,0.16700080192461908,1733,0.1737169206094627,1642,0.16459502806736168,4935,0.49468724939855652,9976,0.99999999999999989]
[null,9977,{"$f":"Urliste!C9980","v":4},1666,0.1669840633456951,1733,0.17369950887040192,1642,0.16457853062042699,4936,0.49473789716347599,9977,1]
[null,9978,{"$f":"Urliste!C9981","v":6},1666,0.1669673281218681,1733,0.17368210062136702,1642,0.16456203648025655,4937,0.4947885347765083,9978,1]
[null,9979,{"$f":"Urliste!C9982","v":5},1666,0.16695059625212946,1733,0.17366469586130875,1642,0.1645455456458563,4938,0.49483916224070545,9979,1]
[null,9980,{"$f":"Urliste!C9983","v":6},1666,0.16693386773547095,1733,0.17364729458917835,1642,0.16452905811623247,4939,0.49488977955911823,9980,1]
[null,9981,{"$f":"Urliste!C9984","v":4},1666,0.16691714257088469,1733,0.17362989680392746,1642,0.16451257389039176,4940,0.49494038673479612,9981,1]
[null,9982,{"$f":"Urliste!C9985","v":4},1666,0.16690042075736325,1733,0.1736125025045081,1642,0.16449609296734122,4941,0.49499098377078743,9982,1]
[null,9983,{"$f":"Urliste!C9986","v":4},1666,0.16688370229389962,1733,0.17359511168987279,1642,0.16447961534608835,4942,0.49504157067013926,9983,1]
[null,9984,{"$f":"Urliste!C9987","v":3},1666,0.16686698717948717,1733,0.17357772435897437,1643,0.16456330128205129,4942,0.49499198717948717,9984,1]
[null,9985,{"$f":"Urliste!C9988","v":5},1666,0.16685027541311967,1733,0.17356034051076616,1643,0.16454682023034553,4943,0.49504256384576867,9985,1]
[null,9986,{"$f":"Urliste!C9989","v":3},1666,0.16683356699379132,1733,0.17354296014420187,1644,0.16463048267574604,4943,0.49499299018626075,9986,1]
[null,9987,{"$f":"Urliste!C9990","v":4},1666,0.16681686192049663,1733,0.17352558325823569,1644,0.16461399819765696,4944,0.49504355662361071,9987,1]
[null,9988,{"$f":"Urliste!C9991","v":1},1667,0.16690028033640369,1733,0.17350820985182219,1644,0.16459751702042452,4944,0.49499399279134965,9988,1]
[null,9989,{"$f":"Urliste!C9992","v":3},1667,0.16688357192912204,1733,0.17349083992391631,1645,0.16468114926419061,4944,0.49494443888277107,9989,1]
[null,9990,{"$f":"Urliste!C9993","v":6},1667,0.16686686686686686,1733,0.17347347347347347,1645,0.16466466466466467,4945,0.494994994994995,9990,1]
[null,9991,{"$f":"Urliste!C9994","v":6},1667,0.16685016514863377,1733,0.17345611049944951,1645,0.16464818336502854,4946,0.49504554098688819,9991,1]
[null,9992,{"$f":"Urliste!C9995","v":4},1667,0.16683346677341873,1733,0.17343875100080064,1645,0.16463170536429142,4947,0.49509607686148921,9992,1]
[null,9993,{"$f":"Urliste!C9996","v":5},1667,0.16681677174021814,1733,0.17342139497648354,1645,0.16461523066146302,4948,0.4951466026218353,9993,1]
[null,9994,{"$f":"Urliste!C9997","v":3},1667,0.16680008004802882,1733,0.17340404242545526,1646,0.16469881929157495,4948,0.49509705823494099,9994,1]
[null,9995,{"$f":"Urliste!C9998","v":3},1667,0.16678339169584791,1733,0.17338669334667334,1647,0.16478239119559779,4948,0.49504752376188094,9995,0.99999999999999989]
[null,9996,{"$f":"Urliste!C9999","v":4},1667,0.16676670668267307,1733,0.17336934773909563,1647,0.16476590636254501,4949,0.49509803921568629,9996,1]
[null,9997,{"$f":"Urliste!C10000","v":4},1667,0.16675002500750224,1733,0.17335200560168051,1647,0.16474942482744823,4950,0.49514854456336899,9997,1]
[null,9998,{"$f":"Urliste!C10001","v":6},1667,0.16673334666933387,1733,0.17333466693338667,1647,0.16473294658931786,4951,0.49519903980796159,9998,1]
[null,9999,{"$f":"Urliste!C10002","v":3},1667,0.16671667166716672,1733,0.17331733173317332,1648,0.16481648164816481,4951,0.49514951495149517,9999,1]
[null,10000,{"$f":"Urliste!C10003","v":2},1667,0.16669999999999999,1734,0.1734,1648,0.1648,4951,0.49509999999999998,10000,0.99999999999999989]
[null,10001,{"$f":"Urliste!C10004","v":0},1667,0.16668333166683333,1734,0.1733826617338266,1648,0.16478352164783522,4951,0.49505049495050496,10000,0.99990000999900019]
[null,10002,{"$f":"Urliste!C10005","v":0},1667,0.16666666666666666,1734,0.17336532693461307,1648,0.16476704659068186,4951,0.49500099980003998,10000,0.99980003999200151]
[null,10003,{"$f":"Urliste!C10006","v":0},1667,0.16665000499850044,1734,0.17334799560131961,1648,0.16475057482755173,4951,0.4949515145456363,10000,0.99970008997300808]
[null,10004,{"$f":"Urliste!C10007","v":0},1667,0.16663334666133547,1734,0.17333066773290684,1648,0.16473410635745703,4951,0.49490203918432629,10000,0.99960015993602558]
[null,10005,{"$f":"Urliste!C10008","v":0},1667,0.16661669165417292,1734,0.17331334332833584,1648,0.16471764117941029,4951,0.49485257371314345,10000,0.99950024987506247]
[null,10006,{"$f":"Urliste!C10009","v":0},1667,0.16660003997601439,1734,0.17329602238656805,1648,0.16470117929242453,4951,0.49480311812912253,10000,0.99940035978412944]
[null,10007,{"$f":"Urliste!C10010","v":0},1667,0.16658339162586189,1734,0.17327870490656541,1648,0.16468472069551315,4951,0.49475367242929952,10000,0.99930048965723994]
[null,10008,{"$f":"Urliste!C10011","v":0},1667,0.16656674660271784,1734,0.17326139088729017,1648,0.16466826538768986,4951,0.49470423661071145,10000,0.99920063948840943]
[null,10009,{"$f":"Urliste!C10012","v":0},1667,0.16655010490558497,1734,0.17324408032770505,1648,0.16465181336796883,4951,0.49465481067039663,10000,0.99910080927165545]
[null,10010,{"$f":"Urliste!C10013","v":0},1667,0.16653346653346654,1734,0.17322677322677324,1648,0.16463536463536463,4951,0.4946053946053946,10000,0.99900099900099903]
[null,10011,{"$f":"Urliste!C10014","v":0},1667,0.16651683148536608,1734,0.1732094695834582,1648,0.16461891918889221,4951,0.49455598841274601,10000,0.9989012086704625]
[null,10012,{"$f":"Urliste!C10015","v":0},1667,0.16650019976028765,1734,0.17319216939672394,1648,0.16460247702756692,4951,0.4945065920894926,10000,0.9988014382740712]
[null,10013,{"$f":"Urliste!C10016","v":0},1667,0.1664835713572356,1734,0.1731748726655348,1648,0.16458603815040448,4951,0.49445720563267753,10000,0.99870168780585233]
[null,10014,{"$f":"Urliste!C10017","v":0},1667,0.16646694627521469,1734,0.17315757938885559,1648,0.164569602556421,4951,0.49440782903934494,10000,0.99860195725983614]
[null,10015,{"$f":"Urliste!C10018","v":0},1667,0.16645032451323016,1734,0.17314028956565153,1648,0.16455317024463306,4951,0.49435846230654018,10000,0.99850224663005493]
[null,10016,{"$f":"Urliste!C10019","v":0},1667,0.16643370607028754,1734,0.17312300319488819,1648,0.16453674121405751,4951,0.4943091054313099,10000,0.99840255591054305]
[null,10017,{"$f":"Urliste!C10020","v":0},1667,0.16641709094539284,1734,0.17310572027553159,1648,0.16452031546371168,4951,0.4942597584107018,10000,0.99830288509533793]
[null,10018,{"$f":"Urliste!C10021","v":0},1667,0.1664004791375524,1734,0.1730884408065482,1648,0.16450389299261331,4951,0.49421042124176484,10000,0.99820323417847867]
[null,10019,{"$f":"Urliste!C10022","v":0},1667,0.16638387064577304,1734,0.17307116478690487,1648,0.1644874737997804,4951,0.49416109392154905,10000,0.99810360315400737]
[null,10020,{"$f":"Urliste!C10023","v":0},1667,0.16636726546906189,1734,0.17305389221556886,1648,0.16447105788423153,4951,0.4941117764471058,10000,0.99800399201596812]
[null,10021,{"$f":"Urliste!C10024","v":0},1667,0.1663506636064265,1734,0.17303662309150783,1648,0.16445464524498554,4951,0.49406246881548749,10000,0.99790440075840736]
[null,10022,{"$f":"Urliste!C10025","v":0},1667,0.16633406505687487,1734,0.17301935741368987,1648,0.16443823588106166,4951,0.49401317102374775,10000,0.99780482937537418]
[null,10023,{"$f":"Urliste!C10026","v":0},1667,0.16631746981941534,1734,0.1730020951810835,1648,0.1644218297914796,4951,0.49396388306894146,10000,0.99770527786091978]
[null,10024,{"$f":"Urliste!C10027","v":0},1667,0.16630087789305667,1734,0.17298483639265763,1648,0.16440542697525937,4951,0.4939146049481245,10000,0.99760574620909814]
[null,10025,{"$f":"Urliste!C10028","v":0},1667,0.16628428927680797,1734,0.17296758104738155,1648,0.16438902743142145,4951,0.49386533665835414,10000,0.99750623441396502]
[null,10026,{"$f":"Urliste!C10029","v":0},1667,0.16626770396967883,1734,0.17295032914422501,1648,0.16437263115898665,4951,0.4938160781966886,10000,0.99740674246957917]
[null,10027,{"$f":"Urliste!C10030","v":0},1667,0.16625112197067918,1734,0.17293308068215818,1648,0.16435623815697617,4951,0.49376682956018747,10000,0.997307270370001]
[null,10028,{"$f":"Urliste!C10031","v":0},1667,0.16623454327881931,1734,0.17291583566015156,1648,0.16433984842441166,4951,0.49371759074591143,10000,0.99720781810929404]
[null,10029,{"$f":"Urliste!C10032","v":0},1667,0.16621796789310997,1734,0.1728985940771762,1648,0.16432346196031508,4951,0.49366836175092232,10000,0.9971083856815236]
[null,10030,{"$f":"Urliste!C10033","v":0},1667,0.16620139581256232,1734,0.17288135593220338,1648,0.16430707876370887,4951,0.49361914257228318,10000,0.99700897308075764]
[null,10031,{"$f":"Urliste!C10034","v":0},1667,0.16618482703618781,1734,0.17286412122420497,1648,0.1642906988336158,4951,0.49356993320705811,10000,0.9969095803010668]
[null,10032,{"$f":"Urliste!C10035","v":0},1667,0.16616826156299841,1734,0.17284688995215311,1648,0.16427432216905902,4951,0.49352073365231258,10000,0.99681020733652326]
[null,10033,{"$f":"Urliste!C10036","v":0},1667,0.16615169939200639,1734,0.17282966211502043,1648,0.16425794876906211,4951,0.49347154390511311,10000,0.99671085418120209]
[null,10034,{"$f":"Urliste!C10037","v":0},{"$f":"IF(C10055=1,D10054+1,D10054)","v":1667},{"$f":"D10055/B10055","v":0.16613514052222444},{"$f":"IF(C10055=2,F10054+1,F10054)","v":1734},{"$f":"F10055/B10055","v":0.17281243771177995},{"$f":"IF(C10055=3,H10054+1,H10054)","v":1648},{"$f":"H10055/B10055","v":0.16424157863264899},{"$f":"IF(C10055>3,J10054+1,J10054)","v":4951},{"$f":"J10055/B10055","v":0.49342236396252742},{"$f":"SUM(D10055,J10055,H10055,F10055)","v":10000},{"$f":"SUM(K10055,I10055,G10055,E10055)","v":0.99661152082918081}]
[null,10035,{"$f":"Urliste!C10038","v":0},1667,0.16611858495266568,1734,0.17279521674140508,1648,0.16422521175884405,4951,0.49337319382162431,10000,0.99651220727453915]
[null,10036,{"$f":"Urliste!C10039","v":0},1667,0.16610203268234355,1734,0.17277799920286968,1648,0.16420884814667197,4951,0.4933240334794739,10000,0.99641291351135919]
[null,10037,{"$f":"Urliste!C10040","v":0},1667,0.16608548371027199,1734,0.17276078509514795,1648,0.16419248779515791,4951,0.49327488293314736,10000,0.9963136395337252]
[null,10038,{"$f":"Urliste!C10041","v":0},1667,0.16606893803546524,1734,0.17274357441721458,1648,0.16417613070332734,4951,0.4932257421797171,10000,0.99621438533572415]
[null,10039,{"$f":"Urliste!C10042","v":0},1667,0.16605239565693794,1734,0.17272636716804463,1648,0.16415977687020619,4951,0.49317661121625661,10000,0.99611515091144542]
[null,10040,{"$f":"Urliste!C10043","v":0},1667,0.16603585657370518,1734,0.17270916334661354,1648,0.1641434262948207,4951,0.49312749003984063,10000,0.99601593625498008]
[null,10041,{"$f":"Urliste!C10044","v":0},1667,0.1660193207847824,1734,0.17269196295189723,1648,0.16412707897619758,4951,0.49307837864754506,10000,0.9959167413604223]
[null,10042,{"$f":"Urliste!C10045","v":0},1667,0.16600278828918541,1734,0.17267476598287193,1648,0.16411073491336386,4951,0.49302927703644694,10000,0.99581756622186801]
[null,10043,{"$f":"Urliste!C10046","v":0},1667,0.16598625908593051,1734,0.1726575724385144,1648,0.16409439410534701,4951,0.49298018520362441,10000,0.99571841083341628]
[null,10044,{"$f":"Urliste!C10047","v":0},1667,0.16596973317403424,1734,0.17264038231780168,1648,0.16407805655117483,4951,0.4929311031461569,10000,0.99561927518916771]
[null,10045,{"$f":"Urliste!C10048","v":0},1667,0.16595321055251369,1734,0.17262319561971129,1648,0.16406172224987556,4951,0.49288203086112492,10000,0.99552015928322546]
[null,10046,{"$f":"Urliste!C10049","v":0},1667,0.16593669122038623,1734,0.17260601234322118,1648,0.16404539120047781,4951,0.49283296834561019,10000,0.99542106310969536]
[null,10047,{"$f":"Urliste!C10050","v":0},1667,0.16592017517666965,1734,0.17258883248730963,1648,0.16402906340201054,4951,0.49278391559669554,10000,0.99532198666268534]
[null,10048,{"$f":"Urliste!C10051","v":0},1667,0.16590366242038215,1734,0.17257165605095542,1648,0.16401273885350318,4951,0.49273487261146498,10000,0.99522292993630568]
[null,10049,{"$f":"Urliste!C10052","v":0},1667,0.16588715295054235,1734,0.17255448303313761,1648,0.16399641755398547,4951,0.49268583938700367,10000,0.99512389292466907]
[null,10050,{"$f":"Urliste!C10053","v":0},1667,0.16587064676616917,1734,0.17253731343283582,1648,0.16398009950248757,4951,0.49263681592039799,10000,0.99502487562189057]
[null,10051,{"$f":"Urliste!C10054","v":0},1667,0.16585414386628197,1734,0.17252014724902995,1648,0.16396378469803999,4951,0.49258780220873544,10000,0.99492587802208732]
[null,10052,{"$f":"Urliste!C10055","v":0},1667,0.16583764424990052,1734,0.17250298448070037,1648,0.1639474731396737,4951,0.49253879824910468,10000,0.99482690011937924]
[null,10053,{"$f":"Urliste!C10056","v":0},1667,0.16582114791604496,1734,0.17248582512682781,1648,0.16393116482641998,4951,0.49248980403859544,10000,0.99472794190788827]
[null,10054,{"$f":"Urliste!C10057","v":0},1667,0.16580465486373583,1734,0.17246866918639348,1648,0.16391485975731052,4951,0.4924408195742988,10000,0.99462900338173865]
[null,10055,{"$f":"Urliste!C10058","v":0},1667,0.16578816509199404,1734,0.17245151665837891,1648,0.16389855793137742,4951,0.49239184485330684,10000,0.9945300845350572]
[null,10056,{"$f":"Urliste!C10059","v":0},1667,0.1657716785998409,1734,0.17243436754176611,1648,0.16388225934765313,4951,0.4923428798727128,10000,0.99443118536197295]
[null,10057,{"$f":"Urliste!C10060","v":0},1667,0.1657551953862981,1734,0.17241722183553743,1648,0.16386596400517053,4951,0.49229392462961119,10000,0.99433230585661725]
[null,10058,{"$f":"Urliste!C10061","v":0},1667,0.16573871545038776,1734,0.17240007953867567,1648,0.16384967190296282,4951,0.49224497912109766,10000,0.99423344601312391]
[null,10059,{"$f":"Urliste!C10062","v":0},1667,0.16572223879113232,1734,0.17238294065016405,1648,0.16383338304006362,4951,0.49219604334426881,10000,0.99413460582562885]
[null,10060,{"$f":"Urliste!C10063","v":0},1667,0.16570576540755466,1734,0.17236580516898609,1648,0.16381709741550696,4951,0.49214711729622268,10000,0.99403578528827041]
[null,10061,{"$f":"Urliste!C10064","v":0},1667,0.16568929529867807,1734,0.17234867309412583,1648,0.16380081502832719,4951,0.49209820097405826,10000,0.99393698439518929]
[null,10062,{"$f":"Urliste!C10065","v":0},1667,0.16567282846352613,1734,0.17233154442456769,1648,0.16378453587755915,4951,0.49204929437487577,10000,0.99383820314052873]
[null,10063,{"$f":"Urliste!C10066","v":0},1667,0.16565636490112293,1734,0.17231441915929643,1648,0.1637682599622379,4951,0.49200039749577662,10000,0.99373944151843385]
[null,10064,{"$f":"Urliste!C10067","v":0},1667,0.16563990461049286,1734,0.17229729729729729,1648,0.16375198728139906,4951,0.49195151033386325,10000,0.99364069952305234]
[null,10065,{"$f":"Urliste!C10068","v":0},1667,0.16562344759066069,1734,0.17228017883755589,1648,0.1637357178340785,4951,0.49190263288623942,10000,0.99354197714853454]
[null,10066,{"$f":"Urliste!C10069","v":0},1667,0.1656069938406517,1734,0.17226306377905823,1648,0.16371945161931253,4951,0.49185376515000995,10000,0.99344327438903235]
[null,10067,{"$f":"Urliste!C10070","v":0},1667,0.16559054335949142,1734,0.17224595212079069,1648,0.16370318863613786,4951,0.4918049071222807,10000,0.99334459123870056]
[null,10068,{"$f":"Urliste!C10071","v":0},1667,0.1655740961462058,1734,0.17222884386174017,1648,0.16368692888359157,4951,0.49175605880015894,10000,0.99324592769169651]
[null,10069,{"$f":"Urliste!C10072","v":0},1667,0.16555765219982124,1734,0.17221173900089384,1648,0.16367067236071109,4951,0.4917072201807528,10000,0.99314728374217898]
[null,10070,{"$f":"Urliste!C10073","v":0},1667,0.16554121151936446,1734,0.17219463753723932,1648,0.16365441906653427,4951,0.49165839126117178,10000,0.99304865938430975]
[null,10071,{"$f":"Urliste!C10074","v":0},1667,0.16552477410386257,1734,0.17217753946976466,1648,0.16363816900009928,4951,0.49160957203852645,10000,0.99295005461225294]
[null,10072,{"$f":"Urliste!C10075","v":0},1667,0.16550833995234313,1734,0.17216044479745829,1648,0.1636219221604448,4951,0.49156076250992853,10000,0.99285146942017477]
[null,10073,{"$f":"Urliste!C10076","v":0},1667,0.16549190906383401,1734,0.17214335351930904,1648,0.16360567854660976,4951,0.49151196267249081,10000,0.99275290380224357]
[null,10074,{"$f":"Urliste!C10077","v":0},1667,0.16547548143736351,1734,0.17212626563430614,1648,0.16358943815763352,4951,0.49146317252332739,10000,0.99265435775263056]
[null,10075,{"$f":"Urliste!C10078","v":0},1667,0.16545905707196029,1734,0.17210918114143919,1648,0.16357320099255585,4951,0.49141439205955334,10000,0.99255583126550873]
[null,10076,{"$f":"Urliste!C10079","v":0},1667,0.16544263596665343,1734,0.1720921000396983,1648,0.16355696705041683,4951,0.49136562127828504,10000,0.99245732433505363]
[null,10077,{"$f":"Urliste!C10080","v":0},1667,0.16542621812047237,1734,0.17207502232807384,1648,0.16354073633025701,4951,0.49131686017663989,10000,0.99235883695544302]
[null,10078,{"$f":"Urliste!C10081","v":0},1667,0.16540980353244691,1734,0.17205794800555665,1648,0.1635245088311173,4951,0.49126810875173643,10000,0.99226036912085736]
[null,10079,{"$f":"Urliste!C10082","v":0},1667,0.16539339220160731,1734,0.17204087707113802,1648,0.16350828455203889,4951,0.49121936700069452,10000,0.99216192082547872]
[null,10080,{"$f":"Urliste!C10083","v":0},1667,0.16537698412698412,1734,0.17202380952380952,1648,0.16349206349206349,4951,0.4911706349206349,10000,0.99206349206349209]
[null,10081,{"$f":"Urliste!C10084","v":0},1667,0.16536057930760836,1734,0.17200674536256325,1648,0.1634758456502331,4951,0.4911219125086797,10000,0.99196508282908447]
[null,10082,{"$f":"Urliste!C10085","v":0},1667,0.16534417774251139,1734,0.17198968458639158,1648,0.16345963102559016,4951,0.49107319976195202,10000,0.99186669311644515]
[null,10083,{"$f":"Urliste!C10086","v":0},1667,0.16532777943072499,1734,0.17197262719428741,1648,0.16344341961717743,4951,0.49102449667757614,10000,0.99176832291976591]
[null,10084,{"$f":"Urliste!C10087","v":0},1667,0.16531138437128123,1734,0.17195557318524396,1648,0.16342721142403807,4951,0.49097580325267753,10000,0.99166997223324072]
[null,10085,{"$f":"Urliste!C10088","v":0},1667,0.1652949925632127,1734,0.17193852255825484,1648,0.16341100644521567,4951,0.49092711948438272,10000,0.99157164105106588]
[null,10086,{"$f":"Urliste!C10089","v":0},1667,0.16527860400555225,1734,0.17192147531231411,1648,0.16339480467975412,4951,0.49087844536981956,10000,0.99147332936744004]
[null,10087,{"$f":"Urliste!C10090","v":0},1667,0.16526221869733321,1734,0.17190443144641618,1648,0.16337860612669772,4951,0.49082978090611679,10000,0.99137503717656394]
[null,10088,{"$f":"Urliste!C10091","v":0},1667,0.16524583663758921,1734,0.17188739095955591,1648,0.1633624107850912,4951,0.49078112609040442,10000,0.99127676447264068]
[null,10089,{"$f":"Urliste!C10092","v":0},1667,0.16522945782535434,1734,0.17187035385072852,1648,0.16334621865397958,4951,0.49073248091981364,10000,0.9911785112498761]
[null,10090,{"$f":"Urliste!C10093","v":0},1667,0.16521308225966302,1734,0.17185332011892962,1648,0.16333002973240832,4951,0.49068384539147669,10000,0.99108027750247762]
[null,10091,{"$f":"Urliste!C10094","v":0},1667,0.1651967099395501,1734,0.17183628976315529,1648,0.16331384401942325,4951,0.49063521950252703,10000,0.99098206322465576]
[null,10092,{"$f":"Urliste!C10095","v":0},1667,0.16518034086405073,1734,0.17181926278240189,1648,0.16329766151407055,4951,0.49058660325009906,10000,0.99088386841062226]
[null,10093,{"$f":"Urliste!C10096","v":0},1667,0.16516397503220054,1734,0.17180223917566631,1648,0.16328148221539682,4951,0.49053799663132863,10000,0.99078569305459219]
[null,10094,{"$f":"Urliste!C10097","v":0},1667,0.16514761244303547,1734,0.17178521894194571,1648,0.16326530612244897,4951,0.49048939964335247,10000,0.9906875371507825]
[null,10095,{"$f":"Urliste!C10098","v":0},1667,0.16513125309559187,1734,0.17176820208023774,1648,0.1632491332342744,4951,0.49044081228330855,10000,0.9905894006934125]
[null,10096,{"$f":"Urliste!C10099","v":0},1667,0.1651148969889065,1734,0.17175118858954042,1648,0.16323296354992076,4951,0.49039223454833597,10000,0.99049128367670358]
[null,10097,{"$f":"Urliste!C10100","v":0},1667,0.16509854412201644,1734,0.17173417846885214,1648,0.16321679706843617,4951,0.49034366643557492,10000,0.9903931860948797]
[null,10098,{"$f":"Urliste!C10101","v":0},{"$f":"IF(C10119=1,D10118+1,D10118)","v":1667},{"$f":"D10119/B10119","v":0.16508219449395919},{"$f":"IF(C10119=2,F10118+1,F10118)","v":1734},{"$f":"F10119/B10119","v":0.17171717171717171},{"$f":"IF(C10119=3,H10118+1,H10118)","v":1648},{"$f":"H10119/B10119","v":0.16320063378886909},{"$f":"IF(C10119>3,J10118+1,J10118)","v":4951},{"$f":"J10119/B10119","v":0.49029510794216674},{"$f":"SUM(D10119,J10119,H10119,F10119)","v":10000},{"$f":"SUM(K10119,I10119,G10119,E10119)","v":0.9902951079421668}]
[null,10099,{"$f":"Urliste!C10102","v":0},1667,0.16506584810377264,1734,0.17170016833349835,1648,0.16318447371026834,4951,0.490246559065254,10000,0.99019704921279339]
[null,10100,{"$f":"Urliste!C10103","v":0},1667,0.16504950495049506,1734,0.1716831683168317,1648,0.16316831683168317,4951,0.49019801980198019,10000,0.9900990099009902]
[null,10101,{"$f":"Urliste!C10104","v":0},1667,0.16503316503316504,1734,0.17166617166617168,1648,0.16315216315216316,4951,0.49014949014949016,10000,0.99000099000099007]
[null,10102,{"$f":"Urliste!C10105","v":0},1667,0.16501682835082163,1734,0.17164917838051871,1648,0.16313601267075828,4951,0.4901009701049297,10000,0.98990298950702837]
[null,10103,{"$f":"Urliste!C10106","v":0},1667,0.16500049490250421,1734,0.1716321884588736,1648,0.16311986538651885,4951,0.49005245966544592,10000,0.98980500841334262]
[null,10104,{"$f":"Urliste!C10107","v":0},1667,0.16498416468725258,1734,0.17161520190023752,1648,0.16310372129849565,4951,0.49000395882818687,10000,0.98970704671417264]
[null,10105,{"$f":"Urliste!C10108","v":0},1667,0.16496783770410689,1734,0.17159821870361208,1648,0.16308758040573973,4951,0.48995546759030184,10000,0.98960910440376049]

{"sheet":"Urliste","index":1,"n_rows":10003,"n_cols":9,"rows_kept":10003,"cut":false,"hidden":false,"merged":[[10,8,39,18],[2,8,6,16]]}
[]
[]
[null,"n","Würfel-\nergebnis",null,"n","Würfel-\nergebnis",null,null,"Schritte 1. - 5. können per Makro durchgeführt werden mit Tastenkombination: STRG +N"]
[null,1,1,null,1,{"$f":"RANDBETWEEN(1,6)","v":4}]
[null,2,1,null,2,{"$f":"RANDBETWEEN(1,6)","v":2}]
[null,3,1,null,3,1]
[null,4,3,null,4,2]
[null,5,5,null,5,5]
[null,6,6,null,6,3]
[null,7,6,null,7,3]
[null,8,6,null,8,1]
[null,9,2,null,9,6]
[null,10,2,null,10,1]
[null,11,6,null,11,1]
[null,12,1,null,12,6]
[null,13,1,null,13,4]
[null,14,3,null,14,5]
[null,15,5,null,15,6]
[null,16,5,null,16,6]
[null,17,2,null,17,1]
[null,18,1,null,18,1]
[null,19,6,null,19,1]
[null,20,1,null,20,1]
[null,21,4,null,21,2]
[null,22,2,null,22,4]
[null,23,2,null,23,1]
[null,24,6,null,24,3]
[null,25,3,null,25,4]
[null,26,3,null,26,2]
[null,27,4,null,27,6]
[null,28,4,null,28,2]
[null,29,4,null,29,2]
[null,30,5,null,30,2]
[null,31,3,null,31,2]
[null,32,3,null,32,6]
[null,33,3,null,33,2]
[null,34,2,null,34,1]
[null,35,4,null,35,6]
[null,36,5,null,36,1]
[null,37,5,null,37,5]
[null,38,2,null,38,1]
[null,39,2,null,39,4]
[null,40,5,null,40,1]
[null,41,1,null,41,5]
[null,42,1,null,42,3]
[null,43,3,null,43,2]
[null,44,6,null,44,3]
[null,45,6,null,45,3]
[null,46,1,null,46,6]
[null,47,3,null,47,5]
[null,48,1,null,48,2]
[null,49,3,null,49,6]
[null,50,4,null,50,1]
[null,51,3,null,51,4]
[null,52,1,null,52,6]
[null,53,4,null,53,6]
[null,54,1,null,54,3]
[null,55,1,null,55,3]
[null,56,4,null,56,3]
[null,57,2,null,57,5]
[null,58,5,null,58,6]
[null,59,1,null,59,6]
[null,60,1,null,60,5]
[null,61,1,null,61,1]
[null,62,4,null,62,4]
[null,63,4,null,63,3]
[null,64,1,null,64,2]
[null,65,6,null,65,4]
[null,66,5,null,66,{"$f":"RANDBETWEEN(1,6)","v":2}]
[null,67,5,null,67,3]
[null,68,4,null,68,4]
[null,69,2,null,69,4]
[null,70,2,null,70,3]
[null,71,3,null,71,1]
[null,72,5,null,72,4]
[null,73,4,null,73,3]
[null,74,4,null,74,1]
[null,75,2,null,75,4]
[null,76,6,null,76,5]
[null,77,1,null,77,4]
[null,78,2,null,78,5]
[null,79,1,null,79,2]
[null,80,5,null,80,4]
[null,81,6,null,81,2]
[null,82,4,null,82,1]
[null,83,2,null,83,5]
[null,84,2,null,84,2]
[null,85,1,null,85,3]
[null,86,2,null,86,2]
[null,87,5,null,87,1]
[null,88,3,null,88,1]
[null,89,5,null,89,6]
[null,90,6,null,90,1]
[null,91,6,null,91,1]
[null,92,3,null,92,1]
[null,93,6,null,93,2]
[null,94,2,null,94,5]
[null,95,3,null,95,2]
[null,96,3,null,96,1]
[null,97,1,null,97,3]
[null,98,1,null,98,3]
[null,99,6,null,99,6]
[null,100,5,null,100,6]
[null,101,6,null,101,3]
[null,102,1,null,102,5]
[null,103,1,null,103,2]
[null,104,1,null,104,6]
[null,105,3,null,105,6]
[null,106,1,null,106,4]
[null,107,4,null,107,1]
[null,108,5,null,108,5]
[null,109,4,null,109,5]
[null,110,3,null,110,1]
[null,111,4,null,111,5]
[null,112,2,null,112,6]
[null,113,1,null,113,2]
[null,114,3,null,114,4]
[null,115,6,null,115,1]
[null,116,6,null,116,2]
[null,117,2,null,117,6]
[null,118,2,null,118,4]
[null,119,2,null,119,6]
[null,120,4,null,120,6]
[null,121,3,null,121,1]
[null,122,2,null,122,1]
[null,123,2,null,123,3]
[null,124,5,null,124,2]
[null,125,4,null,125,6]
[null,126,4,null,126,5]
[null,127,2,null,127,6]
[null,128,6,null,128,1]
[null,129,2,null,129,1]
[null,130,6,null,130,{"$f":"RANDBETWEEN(1,6)","v":5}]
[null,131,1,null,131,2]
[null,132,3,null,132,5]
[null,133,3,null,133,5]
[null,134,4,null,134,1]
[null,135,3,null,135,5]
[null,136,2,null,136,6]
[null,137,1,null,137,2]
[null,138,5,null,138,5]
[null,139,2,null,139,3]
[null,140,4,null,140,2]
[null,141,5,null,141,4]
[null,142,3,null,142,2]
[null,143,5,null,143,5]
[null,144,3,null,144,5]
[null,145,6,null,145,5]
[null,146,2,null,146,5]
[null,147,1,null,147,5]
[null,148,5,null,148,1]
[null,149,5,null,149,5]
[null,150,4,null,150,5]
[null,151,5,null,151,2]
[null,152,4,null,152,3]
[null,153,3,null,153,4]
[null,154,4,null,154,4]
[null,155,4,null,155,6]
[null,156,1,null,156,5]
[null,157,4,null,157,4]
[null,158,2,null,158,1]
[null,159,2,null,159,6]
[null,160,6,null,160,1]
[null,161,4,null,161,2]
[null,162,5,null,162,1]
[null,163,5,null,163,6]
[null,164,6,null,164,2]
[null,165,1,null,165,6]
[null,166,2,null,166,4]
[null,167,3,null,167,4]
[null,168,3,null,168,2]
[null,169,5,null,169,3]
[null,170,5,null,170,6]
[null,171,5,null,171,1]
[null,172,1,null,172,1]
[null,173,6,null,173,6]
[null,174,4,null,174,3]
[null,175,1,null,175,1]
[null,176,5,null,176,2]
[null,177,4,null,177,2]
[null,178,1,null,178,1]
[null,179,1,null,179,4]
[null,180,5,null,180,2]
[null,181,2,null,181,4]
[null,182,5,null,182,2]
[null,183,2,null,183,5]
[null,184,1,null,184,5]
[null,185,4,null,185,3]
[null,186,1,null,186,1]
[null,187,2,null,187,5]
[null,188,3,null,188,1]
[null,189,4,null,189,1]
[null,190,1,null,190,3]
[null,191,5,null,191,6]
[null,192,4,null,192,1]
[null,193,5,null,193,6]
[null,194,6,null,194,{"$f":"RANDBETWEEN(1,6)","v":1}]
[null,195,1,null,195,4]
[null,196,3,null,196,4]
[null,197,4,null,197,3]
[null,198,1,null,198,5]
[null,199,5,null,199,4]
[null,200,5,null,200,5]
[null,201,6,null,201,2]
[null,202,6,null,202,3]
[null,203,5,null,203,3]
[null,204,5,null,204,3]
[null,205,5,null,205,6]
[null,206,2,null,206,3]
[null,207,3,null,207,2]
[null,208,5,null,208,1]
[null,209,3,null,209,4]
[null,210,6,null,210,3]
[null,211,1,null,211,3]
[null,212,6,null,212,3]
[null,213,4,null,213,3]
[null,214,4,null,214,4]
[null,215,2,null,215,2]
[null,216,4,null,216,5]
[null,217,5,null,217,3]
[null,218,1,null,218,6]
[null,219,6,null,219,5]
[null,220,5,null,220,3]
[null,221,2,null,221,6]
[null,222,2,null,222,2]
[null,223,2,null,223,5]
[null,224,1,null,224,2]
[null,225,6,null,225,3]
[null,226,6,null,226,3]
[null,227,4,null,227,5]
[null,228,1,null,228,1]
[null,229,3,null,229,1]
[null,230,3,null,230,5]
[null,231,2,null,231,4]
[null,232,6,null,232,5]
[null,233,4,null,233,3]
[null,234,3,null,234,4]
[null,235,2,null,235,1]
[null,236,2,null,236,2]
[null,237,3,null,237,6]
[null,238,1,null,238,6]
[null,239,5,null,239,6]
[null,240,6,null,240,1]
[null,241,3,null,241,4]
[null,242,6,null,242,1]
[null,243,3,null,243,1]
[null,244,3,null,244,1]
[null,245,2,null,245,1]
[null,246,6,null,246,4]
[null,247,5,null,247,4]
[null,248,5,null,248,1]
[null,249,6,null,249,4]
[null,250,2,null,250,3]
[null,251,5,null,251,5]
[null,252,6,null,252,1]
[null,253,4,null,253,4]
[null,254,3,null,254,3]
[null,255,2,null,255,2]
[null,256,1,null,256,4]
[null,257,1,null,257,4]
[null,258,4,null,258,{"$f":"RANDBETWEEN(1,6)","v":4}]
[null,259,4,null,259,3]
[null,260,4,null,260,4]
[null,261,6,null,261,4]
[null,262,5,null,262,6]
[null,263,1,null,263,2]
[null,264,6,null,264,4]
[null,265,5,null,265,3]
[null,266,4,null,266,6]
[null,267,1,null,267,6]
[null,268,1,null,268,1]
[null,269,6,null,269,4]
[null,270,2,null,270,1]
[null,271,2,null,271,5]
[null,272,4,null,272,6]
[null,273,2,null,273,5]
[null,274,6,null,274,4]
[null,275,5,null,275,5]
[null,276,4,null,276,6]
[null,277,1,null,277,1]
[null,278,5,null,278,5]
[null,279,6,null,279,2]
[null,280,2,null,280,2]
[null,281,6,null,281,3]
[null,282,3,null,282,4]
[null,283,2,null,283,5]
[null,284,4,null,284,6]
[null,285,3,null,285,2]
[null,286,5,null,286,6]
[null,287,4,null,287,2]
[null,288,2,null,288,1]
[null,289,2,null,289,6]
[null,290,6,null,290,3]
[null,291,2,null,291,2]
[null,292,4,null,292,2]
[null,293,2,null,293,2]
[null,294,2,null,294,6]
[null,295,4,null,295,4]
[null,296,1,null,296,3]
[null,297,5,null,297,6]
[null,298,3,null,298,1]
[null,299,2,null,299,3]
[null,300,5,null,300,3]
[null,301,6,null,301,3]
[null,302,4,null,302,1]
[null,303,4,null,303,4]
[null,304,3,null,304,2]
[null,305,4,null,305,2]
[null,306,6,null,306,6]
[null,307,1,null,307,2]
[null,308,6,null,308,4]
[null,309,5,null,309,6]
[null,310,1,null,310,3]
[null,311,5,null,311,4]
[null,312,1,null,312,3]
[null,313,1,null,313,6]
[null,314,4,null,314,3]
[null,315,5,null,315,5]
[null,316,6,null,316,4]
[null,317,2,null,317,5]
[null,318,3,null,318,3]
[null,319,6,null,319,5]
[null,320,2,null,320,5]
[null,321,1,null,321,6]
[null,322,6,null,322,{"$f":"RANDBETWEEN(1,6)","v":4}]
[null,323,6,null,323,4]
[null,324,1,null,324,2]
[null,325,6,null,325,1]
[null,326,5,null,326,6]
[null,327,5,null,327,6]
[null,328,5,null,328,2]
[null,329,5,null,329,4]
[null,330,2,null,330,3]
[null,331,4,null,331,2]
[null,332,4,null,332,3]
[null,333,2,null,333,3]
[null,334,4,null,334,2]
[null,335,4,null,335,4]
[null,336,4,null,336,5]
[null,337,5,null,337,2]
[null,338,3,null,338,5]
[null,339,3,null,339,1]
[null,340,5,null,340,1]
[null,341,1,null,341,2]
[null,342,2,null,342,1]
[null,343,1,null,343,2]
[null,344,5,null,344,5]
[null,345,5,null,345,4]
[null,346,3,null,346,4]
[null,347,1,null,347,2]
[null,348,5,null,348,1]
[null,349,2,null,349,1]
[null,350,4,null,350,1]
[null,351,3,null,351,4]
[null,352,5,null,352,5]
[null,353,6,null,353,2]
[null,354,4,null,354,2]
[null,355,4,null,355,6]
[null,356,3,null,356,6]
[null,357,4,null,357,5]
[null,358,5,null,358,1]
[null,359,2,null,359,5]
[null,360,2,null,360,4]
[null,361,1,null,361,1]
[null,362,4,null,362,4]
[null,363,3,null,363,1]
[null,364,3,null,364,5]
[null,365,6,null,365,6]
[null,366,3,null,366,1]
[null,367,5,null,367,6]
[null,368,3,null,368,2]
[null,369,6,null,369,2]
[null,370,2,null,370,6]
[null,371,1,null,371,1]
[null,372,2,null,372,3]
[null,373,1,null,373,4]
[null,374,3,null,374,1]
[null,375,3,null,375,2]
[null,376,6,null,376,3]
[null,377,5,null,377,5]
[null,378,1,null,378,4]
[null,379,6,null,379,2]
[null,380,5,null,380,2]
[null,381,3,null,381,6]
[null,382,1,null,382,2]
[null,383,1,null,383,1]
[null,384,3,null,384,2]
[null,385,4,null,385,5]
[null,386,2,null,386,{"$f":"RANDBETWEEN(1,6)","v":5}]
[null,387,4,null,387,5]
[null,388,4,null,388,5]
[null,389,1,null,389,2]
[null,390,5,null,390,6]
[null,391,4,null,391,1]
[null,392,6,null,392,1]
[null,393,1,null,393,1]
[null,394,2,null,394,1]
[null,395,3,null,395,6]
[null,396,3,null,396,5]
[null,397,6,null,397,4]
[null,398,4,null,398,5]
[null,399,3,null,399,2]
[null,400,1,null,400,2]
[null,401,4,null,401,4]
[null,402,6,null,402,3]
[null,403,2,null,403,6]
[null,404,2,null,404,5]
[null,405,4,null,405,5]
[null,406,4,null,406,1]
[null,407,1,null,407,2]
[null,408,1,null,408,1]
[null,409,3,null,409,2]
[null,410,2,null,410,5]
[null,411,3,null,411,3]
[null,412,6,null,412,1]
[null,413,2,null,413,3]
[null,414,5,null,414,1]
[null,415,3,null,415,1]
[null,416,2,null,416,2]
[null,417,3,null,417,1]
[null,418,1,null,418,4]
[null,419,6,null,419,4]
[null,420,4,null,420,6]
[null,421,1,null,421,3]
[null,422,6,null,422,3]
[null,423,3,null,423,2]
[null,424,4,null,424,1]
[null,425,3,null,425,1]
[null,426,3,null,426,1]
[null,427,6,null,427,5]
[null,428,2,null,428,6]
[null,429,6,null,429,5]
[null,430,5,null,430,1]
[null,431,3,null,431,5]
[null,432,4,null,432,5]
[null,433,3,null,433,4]
[null,434,5,null,434,6]
[null,435,4,null,435,3]
[null,436,6,null,436,1]
[null,437,5,null,437,5]
[null,438,6,null,438,3]
[null,439,6,null,439,3]
[null,440,6,null,440,1]
[null,441,5,null,441,5]
[null,442,2,null,442,5]
[null,443,5,null,443,6]
[null,444,2,null,444,5]
[null,445,5,null,445,2]
[null,446,6,null,446,1]
[null,447,6,null,447,2]
[null,448,4,null,448,5]
[null,449,5,null,449,6]
[null,450,5,null,450,{"$f":"RANDBETWEEN(1,6)","v":5}]
[null,451,4,null,451,1]
[null,452,4,null,452,2]
[null,453,6,null,453,4]
[null,454,6,null,454,6]
[null,455,3,null,455,1]
[null,456,5,null,456,3]
[null,457,3,null,457,6]
[null,458,3,null,458,1]
[null,459,4,null,459,6]
[null,460,2,null,460,2]
[null,461,4,null,461,2]
[null,462,2,null,462,1]
[null,463,2,null,463,5]
[null,464,3,null,464,6]
[null,465,4,null,465,2]
[null,466,2,null,466,6]
[null,467,6,null,467,1]
[null,468,5,null,468,2]
[null,469,5,null,469,5]
[null,470,1,null,470,5]
[null,471,1,null,471,6]
[null,472,2,null,472,3]
[null,473,3,null,473,5]
[null,474,3,null,474,1]
[null,475,1,null,475,4]
[null,476,1,null,476,4]
[null,477,5,null,477,6]
[null,478,5,null,478,5]
[null,479,4,null,479,3]
[null,480,6,null,480,6]
[null,481,5,null,481,3]
[null,482,1,null,482,4]
[null,483,5,null,483,6]
[null,484,6,null,484,3]
[null,485,6,null,485,5]
[null,486,2,null,486,2]
[null,487,2,null,487,5]
[null,488,2,null,488,4]
[null,489,2,null,489,5]
[null,490,6,null,490,5]
[null,491,3,null,491,2]
[null,492,5,null,492,3]
[null,493,4,null,493,2]
[null,494,6,null,494,2]
[null,495,2,null,495,1]
[null,496,1,null,496,5]
[null,497,5,null,497,3]
[null,498,3,null,498,3]
[null,499,2,null,499,5]
[null,500,6,null,500,5]
[null,501,2,null,501,2]
[null,502,2,null,502,2]
[null,503,2,null,503,1]
[null,504,1,null,504,3]
[null,505,1,null,505,4]
[null,506,6,null,506,5]
[null,507,4,null,507,1]
[null,508,4,null,508,3]
[null,509,3,null,509,5]
[null,510,1,null,510,5]
[null,511,2,null,511,3]
[null,512,2,null,512,1]
[null,513,3,null,513,5]
[null,514,2,null,514,{"$f":"RANDBETWEEN(1,6)","v":5}]
[null,515,5,null,515,2]
[null,516,3,null,516,3]
[null,517,4,null,517,6]
[null,518,6,null,518,3]
[null,519,2,null,519,6]
[null,520,2,null,520,5]
[null,521,3,null,521,3]
[null,522,2,null,522,1]
[null,523,6,null,523,6]
[null,524,2,null,524,3]
[null,525,6,null,525,1]
[null,526,5,null,526,3]
[null,527,5,null,527,6]
[null,528,2,null,528,2]
[null,529,2,null,529,6]
[null,530,6,null,530,3]
[null,531,3,null,531,5]
[null,532,1,null,532,5]
[null,533,4,null,533,1]
[null,534,5,null,534,1]
[null,535,2,null,535,1]
[null,536,3,null,536,6]
[null,537,2,null,537,3]
[null,538,5,null,538,3]
[null,539,5,null,539,6]
[null,540,6,null,540,3]
[null,541,6,null,541,1]
[null,542,2,null,542,5]
[null,543,3,null,543,6]
[null,544,3,null,544,3]
[null,545,6,null,545,1]
[null,546,2,null,546,3]
[null,547,6,null,547,4]
[null,548,2,null,548,5]
[null,549,3,null,549,6]
[null,550,6,null,550,3]
[null,551,2,null,551,1]
[null,552,4,null,552,3]
[null,553,5,null,553,4]
[null,554,1,null,554,4]
[null,555,6,null,555,4]
[null,556,2,null,556,5]
[null,557,1,null,557,1]
[null,558,2,null,558,4]
[null,559,5,null,559,5]
[null,560,2,null,560,6]
[null,561,5,null,561,1]
[null,562,2,null,562,1]
[null,563,5,null,563,6]
[null,564,5,null,564,4]
[null,565,4,null,565,5]
[null,566,6,null,566,1]
[null,567,6,null,567,6]
[null,568,1,null,568,1]
[null,569,1,null,569,3]
[null,570,4,null,570,5]
[null,571,3,null,571,6]
[null,572,3,null,572,1]
[null,573,3,null,573,3]
[null,574,2,null,574,3]
[null,575,3,null,575,5]
[null,576,5,null,576,2]
[null,577,2,null,577,5]
[null,578,2,null,578,{"$f":"RANDBETWEEN(1,6)","v":3}]
[null,579,3,null,579,1]
[null,580,5,null,580,3]
[null,581,5,null,581,6]
[null,582,3,null,582,5]
[null,583,4,null,583,1]
[null,584,5,null,584,3]
[null,585,2,null,585,3]
[null,586,4,null,586,5]
[null,587,4,null,587,5]
[null,588,5,null,588,6]
[null,589,3,null,589,2]
[null,590,3,null,590,3]
[null,591,2,null,591,6]
[null,592,6,null,592,2]
[null,593,4,null,593,5]
[null,594,5,null,594,2]
[null,595,1,null,595,6]
[null,596,1,null,596,2]
[null,597,5,null,597,2]
[null,598,4,null,598,3]
[null,599,3,null,599,4]
[null,600,1,null,600,1]
[null,601,5,null,601,1]
[null,602,4,null,602,6]
[null,603,6,null,603,2]
[null,604,1,null,604,4]
[null,605,1,null,605,2]
[null,606,6,null,606,2]
[null,607,4,null,607,5]
[null,608,6,null,608,3]
[null,609,5,null,609,4]
[null,610,2,null,610,4]
[null,611,5,null,611,3]
[null,612,4,null,612,4]
[null,613,5,null,613,3]
[null,614,4,null,614,4]
[null,615,2,null,615,1]
[null,616,2,null,616,6]
[null,617,6,null,617,3]
[null,618,1,null,618,6]
[null,619,2,null,619,1]
[null,620,2,null,620,3]
[null,621,4,null,621,4]
[null,622,3,null,622,4]
[null,623,2,null,623,3]
[null,624,5,null,624,6]
[null,625,2,null,625,2]
[null,626,3,null,626,2]
[null,627,5,null,627,2]
[null,628,3,null,628,6]
[null,629,4,null,629,6]
[null,630,2,null,630,1]
[null,631,2,null,631,4]
[null,632,5,null,632,2]
[null,633,4,null,633,5]
[null,634,2,null,634,2]
[null,635,1,null,635,3]
[null,636,4,null,636,1]
[null,637,4,null,637,1]
[null,638,2,null,638,6]
[null,639,3,null,639,6]
[null,640,1,null,640,2]
[null,641,2,null,641,1]
[null,642,4,null,642,{"$f":"RANDBETWEEN(1,6)","v":5}]
[null,643,3,null,643,6]
[null,644,2,null,644,6]
[null,645,6,null,645,6]
[null,646,2,null,646,2]
[null,647,5,null,647,2]
[null,648,2,null,648,1]
[null,649,2,null,649,2]
[null,650,2,null,650,2]
[null,651,2,null,651,4]
[null,652,5,null,652,1]
[null,653,6,null,653,5]
[null,654,4,null,654,4]
[null,655,2,null,655,6]
[null,656,1,null,656,2]
[null,657,1,null,657,1]
[null,658,1,null,658,6]
[null,659,6,null,659,6]
[null,660,5,null,660,4]
[null,661,2,null,661,4]
[null,662,2,null,662,5]
[null,663,5,null,663,4]
[null,664,6,null,664,5]
[null,665,1,null,665,3]
[null,666,3,null,666,2]
[null,667,4,null,667,3]
[null,668,6,null,668,4]
[null,669,5,null,669,3]
[null,670,3,null,670,4]
[null,671,1,null,671,2]
[null,672,2,null,672,2]
[null,673,1,null,673,6]
[null,674,4,null,674,2]
[null,675,6,null,675,6]
[null,676,4,null,676,2]
[null,677,5,null,677,6]
[null,678,3,null,678,3]
[null,679,4,null,679,5]
[null,680,4,null,680,6]
[null,681,4,null,681,6]
[null,682,6,null,682,1]
[null,683,2,null,683,6]
[null,684,6,null,684,2]
[null,685,4,null,685,4]
[null,686,6,null,686,5]
[null,687,6,null,687,6]
[null,688,6,null,688,3]
[null,689,6,null,689,4]
[null,690,5,null,690,5]
[null,691,3,null,691,3]
[null,692,1,null,692,1]
[null,693,2,null,693,2]
[null,694,1,null,694,2]
[null,695,4,null,695,1]
[null,696,3,null,696,3]
[null,697,2,null,697,1]
[null,698,6,null,698,5]
[null,699,3,null,699,4]
[null,700,5,null,700,4]
[null,701,3,null,701,4]
[null,702,1,null,702,2]
[null,703,5,null,703,4]
[null,704,6,null,704,6]
[null,705,2,null,705,2]
[null,706,4,null,706,{"$f":"RANDBETWEEN(1,6)","v":6}]
[null,707,5,null,707,4]
[null,708,2,null,708,2]
[null,709,2,null,709,3]
[null,710,5,null,710,6]
[null,711,6,null,711,4]
[null,712,4,null,712,3]
[null,713,5,null,713,5]
[null,714,5,null,714,5]
[null,715,6,null,715,3]
[null,716,4,null,716,5]
[null,717,3,null,717,5]
[null,718,5,null,718,2]
[null,719,4,null,719,2]
[null,720,4,null,720,2]
[null,721,6,null,721,2]
[null,722,5,null,722,2]
[null,723,3,null,723,3]
[null,724,2,null,724,5]
[null,725,5,null,725,1]
[null,726,6,null,726,2]
[null,727,3,null,727,2]
[null,728,1,null,728,4]
[null,729,3,null,729,5]
[null,730,5,null,730,1]
[null,731,6,null,731,6]
[null,732,6,null,732,5]
[null,733,2,null,733,3]
[null,734,5,null,734,1]
[null,735,1,null,735,5]
[null,736,4,null,736,4]
[null,737,4,null,737,2]
[null,738,3,null,738,3]
[null,739,5,null,739,1]
[null,740,3,null,740,4]
[null,741,2,null,741,4]
[null,742,1,null,742,3]
[null,743,2,null,743,2]
[null,744,2,null,744,2]
[null,745,5,null,745,2]
[null,746,4,null,746,2]
[null,747,2,null,747,5]
[null,748,3,null,748,3]
[null,749,1,null,749,6]
[null,750,3,null,750,2]
[null,751,3,null,751,5]
[null,752,3,null,752,1]
[null,753,1,null,753,5]
[null,754,5,null,754,4]
[null,755,6,null,755,4]
[null,756,2,null,756,5]
[null,757,4,null,757,1]
[null,758,1,null,758,5]
[null,759,2,null,759,6]
[null,760,4,null,760,1]
[null,761,1,null,761,4]
[null,762,4,null,762,1]
[null,763,2,null,763,3]
[null,764,6,null,764,5]
[null,765,1,null,765,1]
[null,766,3,null,766,6]
[null,767,4,null,767,5]
[null,768,4,null,768,4]
[null,769,4,null,769,5]
[null,770,5,null,770,{"$f":"RANDBETWEEN(1,6)","v":4}]
[null,771,6,null,771,4]
[null,772,1,null,772,1]
[null,773,6,null,773,4]
[null,774,4,null,774,1]
[null,775,3,null,775,6]
[null,776,1,null,776,6]
[null,777,2,null,777,6]
[null,778,2,null,778,1]
[null,779,2,null,779,2]
[null,780,6,null,780,3]
[null,781,2,null,781,2]
[null,782,2,null,782,3]
[null,783,1,null,783,5]
[null,784,6,null,784,6]
[null,785,4,null,785,1]
[null,786,3,null,786,4]
[null,787,4,null,787,4]
[null,788,6,null,788,1]
[null,789,3,null,789,1]
[null,790,5,null,790,6]
[null,791,3,null,791,4]
[null,792,5,null,792,3]
[null,793,3,null,793,5]
[null,794,5,null,794,5]
[null,795,6,null,795,1]
[null,796,6,null,796,3]
[null,797,6,null,797,6]
[null,798,5,null,798,1]
[null,799,4,null,799,2]
[null,800,2,null,800,3]
[null,801,4,null,801,3]
[null,802,1,null,802,5]
[null,803,6,null,803,4]
[null,804,1,null,804,5]
[null,805,1,null,805,4]
[null,806,5,null,806,1]
[null,807,6,null,807,3]
[null,808,5,null,808,1]
[null,809,1,null,809,3]
[null,810,6,null,810,1]
[null,811,6,null,811,3]
[null,812,5,null,812,2]
[null,813,1,null,813,1]
[null,814,2,null,814,2]
[null,815,3,null,815,3]
[null,816,2,null,816,5]
[null,817,2,null,817,1]
[null,818,6,null,818,5]
[null,819,3,null,819,3]
[null,820,3,null,820,6]
[null,821,2,null,821,6]
[null,822,2,null,822,1]
[null,823,6,null,823,2]
[null,824,4,null,824,5]
[null,825,6,null,825,6]
[null,826,3,null,826,5]
[null,827,5,null,827,6]
[null,828,3,null,828,4]
[null,829,2,null,829,4]
[null,830,3,null,830,2]
[null,831,4,null,831,3]
[null,832,1,null,832,3]
[null,833,6,null,833,1]
[null,834,5,null,834,{"$f":"RANDBETWEEN(1,6)","v":3}]
[null,835,4,null,835,5]
[null,836,5,null,836,4]
[null,837,4,null,837,1]
[null,838,2,null,838,4]
[null,839,5,null,839,4]
[null,840,4,null,840,3]
[null,841,3,null,841,6]
[null,842,3,null,842,5]
[null,843,2,null,843,4]
[null,844,1,null,844,6]
[null,845,2,null,845,3]
[null,846,3,null,846,2]
[null,847,5,null,847,6]
[null,848,2,null,848,6]
[null,849,5,null,849,2]
[null,850,1,null,850,2]
[null,851,6,null,851,1]
[null,852,6,null,852,3]
[null,853,2,null,853,3]
[null,854,2,null,854,1]
[null,855,3,null,855,4]
[null,856,4,null,856,5]
[null,857,3,null,857,4]
[null,858,2,null,858,3]
[null,859,1,null,859,2]
[null,860,1,null,860,2]
[null,861,6,null,861,1]
[null,862,6,null,862,1]
[null,863,6,null,863,2]
[null,864,3,null,864,1]
[null,865,1,null,865,2]
[null,866,6,null,866,4]
[null,867,5,null,867,4]
[null,868,2,null,868,6]
[null,869,2,null,869,3]
[null,870,2,null,870,2]
[null,871,3,null,871,3]
[null,872,5,null,872,1]
[null,873,2,null,873,3]
[null,874,6,null,874,6]
[null,875,1,null,875,1]
[null,876,4,null,876,4]
[null,877,4,null,877,5]
[null,878,1,null,878,1]
[null,879,2,null,879,4]
[null,880,6,null,880,4]
[null,881,4,null,881,4]
[null,882,3,null,882,4]
[null,883,2,null,883,1]
[null,884,1,null,884,4]
[null,885,6,null,885,6]
[null,886,4,null,886,5]
[null,887,2,null,887,3]
[null,888,4,null,888,5]
[null,889,6,null,889,3]
[null,890,4,null,890,6]
[null,891,5,null,891,3]
[null,892,4,null,892,4]
[null,893,3,null,893,6]
[null,894,4,null,894,4]
[null,895,4,null,895,3]
[null,896,4,null,896,6]
[null,897,2,null,897,4]
[null,898,1,null,898,{"$f":"RANDBETWEEN(1,6)","v":3}]
[null,899,6,null,899,5]
[null,900,4,null,900,4]
[null,901,5,null,901,4]
[null,902,2,null,902,6]
[null,903,6,null,903,2]
[null,904,4,null,904,6]
[null,905,1,null,905,3]
[null,906,3,null,906,3]
[null,907,6,null,907,4]
[null,908,2,null,908,1]
[null,909,3,null,909,4]
[null,910,5,null,910,1]
[null,911,2,null,911,3]
[null,912,5,null,912,3]
[null,913,1,null,913,6]
[null,914,1,null,914,6]
[null,915,5,null,915,3]
[null,916,2,null,916,6]
[null,917,1,null,917,1]
[null,918,6,null,918,4]
[null,919,4,null,919,3]
[null,920,5,null,920,5]
[null,921,5,null,921,2]
[null,922,4,null,922,1]
[null,923,6,null,923,2]
[null,924,6,null,924,4]
[null,925,5,null,925,5]
[null,926,5,null,926,4]
[null,927,3,null,927,4]
[null,928,5,null,928,6]
[null,929,4,null,929,3]
[null,930,6,null,930,4]
[null,931,3,null,931,2]
[null,932,4,null,932,5]
[null,933,5,null,933,4]
[null,934,1,null,934,2]
[null,935,4,null,935,4]
[null,936,5,null,936,6]
[null,937,4,null,937,3]
[null,938,3,null,938,2]
[null,939,3,null,939,6]
[null,940,2,null,940,2]
[null,941,2,null,941,2]
[null,942,2,null,942,1]
[null,943,4,null,943,3]
[null,944,5,null,944,3]
[null,945,5,null,945,5]
[null,946,2,null,946,4]
[null,947,1,null,947,5]
[null,948,1,null,948,3]
[null,949,6,null,949,4]
[null,950,6,null,950,2]
[null,951,1,null,951,2]
[null,952,2,null,952,3]
[null,953,4,null,953,1]
[null,954,2,null,954,3]
[null,955,1,null,955,5]
[null,956,5,null,956,3]
[null,957,1,null,957,1]
[null,958,5,null,958,5]
[null,959,4,null,959,2]
[null,960,4,null,960,3]
[null,961,4,null,961,6]
[null,962,2,null,962,{"$f":"RANDBETWEEN(1,6)","v":3}]
[null,963,4,null,963,3]
[null,964,4,null,964,6]
[null,965,2,null,965,3]
[null,966,2,null,966,1]
[null,967,3,null,967,1]
[null,968,5,null,968,4]
[null,969,4,null,969,6]
[null,970,1,null,970,6]
[null,971,1,null,971,2]
[null,972,4,null,972,6]
[null,973,2,null,973,5]
[null,974,1,null,974,3]
[null,975,5,null,975,5]
[null,976,2,null,976,1]
[null,977,2,null,977,2]
[null,978,2,null,978,4]
[null,979,6,null,979,4]
[null,980,2,null,980,6]
[null,981,6,null,981,3]
[null,982,1,null,982,6]
[null,983,5,null,983,2]
[null,984,2,null,984,1]
[null,985,3,null,985,2]
[null,986,5,null,986,5]
[null,987,6,null,987,1]
[null,988,4,null,988,4]
[null,989,3,null,989,2]
[null,990,4,null,990,4]
[null,991,1,null,991,2]
[null,992,2,null,992,6]
[null,993,6,null,993,4]
[null,994,6,null,994,4]
[null,995,2,null,995,2]
[null,996,6,null,996,5]
[null,997,3,null,997,3]
[null,998,4,null,998,5]
[null,999,2,null,999,4]
[null,1000,4,null,1000,1]
[null,1001,5,null,1001,4]
[null,1002,5,null,1002,2]
[null,1003,2,null,1003,6]
[null,1004,5,null,1004,6]
[null,1005,6,null,1005,5]
[null,1006,4,null,1006,2]
[null,1007,4,null,1007,4]
[null,1008,5,null,1008,6]
[null,1009,2,null,1009,3]
[null,1010,3,null,1010,5]
[null,1011,2,null,1011,3]
[null,1012,6,null,1012,3]
[null,1013,2,null,1013,3]
[null,1014,6,null,1014,6]
[null,1015,6,null,1015,2]
[null,1016,2,null,1016,2]
[null,1017,6,null,1017,1]
[null,1018,5,null,1018,5]
[null,1019,6,null,1019,6]
[null,1020,5,null,1020,2]
[null,1021,5,null,1021,1]
[null,1022,4,null,1022,1]
[null,1023,5,null,1023,3]
[null,1024,2,null,1024,5]
[null,1025,6,null,1025,6]
[null,1026,1,null,1026,{"$f":"RANDBETWEEN(1,6)","v":2}]
[null,1027,2,null,1027,6]
[null,1028,4,null,1028,1]
[null,1029,2,null,1029,2]
[null,1030,2,null,1030,3]
[null,1031,2,null,1031,6]
[null,1032,6,null,1032,4]
[null,1033,3,null,1033,6]
[null,1034,3,null,1034,3]
[null,1035,6,null,1035,5]
[null,1036,2,null,1036,2]
[null,1037,2,null,1037,4]
[null,1038,1,null,1038,2]
[null,1039,5,null,1039,3]
[null,1040,5,null,1040,3]
[null,1041,1,null,1041,2]
[null,1042,2,null,1042,1]
[null,1043,3,null,1043,2]
[null,1044,3,null,1044,4]
[null,1045,1,null,1045,3]
[null,1046,3,null,1046,3]
[null,1047,2,null,1047,3]
[null,1048,4,null,1048,2]
[null,1049,3,null,1049,5]
[null,1050,2,null,1050,6]
[null,1051,2,null,1051,5]
[null,1052,3,null,1052,4]
[null,1053,6,null,1053,6]
[null,1054,2,null,1054,4]
[null,1055,6,null,1055,2]
[null,1056,4,null,1056,1]
[null,1057,6,null,1057,2]
[null,1058,4,null,1058,2]
[null,1059,1,null,1059,3]
[null,1060,2,null,1060,4]
[null,1061,5,null,1061,3]
[null,1062,4,null,1062,2]
[null,1063,4,null,1063,3]
[null,1064,6,null,1064,3]
[null,1065,3,null,1065,6]
[null,1066,2,null,1066,3]
[null,1067,3,null,1067,4]
[null,1068,6,null,1068,4]
[null,1069,6,null,1069,6]
[null,1070,2,null,1070,4]
[null,1071,4,null,1071,1]
[null,1072,5,null,1072,4]
[null,1073,4,null,1073,4]
[null,1074,2,null,1074,1]
[null,1075,3,null,1075,6]
[null,1076,4,null,1076,3]
[null,1077,4,null,1077,5]
[null,1078,6,null,1078,1]
[null,1079,3,null,1079,1]
[null,1080,5,null,1080,6]
[null,1081,1,null,1081,2]
[null,1082,6,null,1082,5]
[null,1083,5,null,1083,3]
[null,1084,5,null,1084,2]
[null,1085,2,null,1085,5]
[null,1086,1,null,1086,4]
[null,1087,6,null,1087,4]
[null,1088,3,null,1088,5]
[null,1089,3,null,1089,1]
[null,1090,6,null,1090,{"$f":"RANDBETWEEN(1,6)","v":5}]
[null,1091,3,null,1091,1]
[null,1092,4,null,1092,3]
[null,1093,2,null,1093,4]
[null,1094,3,null,1094,2]
[null,1095,2,null,1095,5]
[null,1096,3,null,1096,6]
[null,1097,3,null,1097,3]
[null,1098,2,null,1098,4]
[null,1099,5,null,1099,4]
[null,1100,5,null,1100,6]
[null,1101,6,null,1101,2]
[null,1102,4,null,1102,4]
[null,1103,6,null,1103,6]
[null,1104,2,null,1104,5]
[null,1105,3,null,1105,5]
[null,1106,4,null,1106,6]
[null,1107,4,null,1107,6]
[null,1108,5,null,1108,1]
[null,1109,4,null,1109,5]
[null,1110,6,null,1110,1]
[null,1111,2,null,1111,3]
[null,1112,1,null,1112,3]
[null,1113,6,null,1113,4]
[null,1114,4,null,1114,3]
[null,1115,3,null,1115,5]
[null,1116,6,null,1116,6]
[null,1117,2,null,1117,1]
[null,1118,4,null,1118,2]
[null,1119,6,null,1119,2]
[null,1120,4,null,1120,2]
[null,1121,2,null,1121,6]
[null,1122,6,null,1122,6]
[null,1123,2,null,1123,4]
[null,1124,2,null,1124,4]
[null,1125,1,null,1125,2]
[null,1126,6,null,1126,6]
[null,1127,6,null,1127,5]
[null,1128,4,null,1128,6]
[null,1129,2,null,1129,4]
[null,1130,5,null,1130,4]
[null,1131,6,null,1131,4]
[null,1132,2,null,1132,2]
[null,1133,2,null,1133,1]
[null,1134,3,null,1134,6]
[null,1135,4,null,1135,6]
[null,1136,4,null,1136,6]
[null,1137,3,null,1137,6]
[null,1138,5,null,1138,1]
[null,1139,5,null,1139,6]
[null,1140,6,null,1140,3]
[null,1141,5,null,1141,1]
[null,1142,4,null,1142,3]
[null,1143,6,null,1143,4]
[null,1144,4,null,1144,2]
[null,1145,5,null,1145,5]
[null,1146,6,null,1146,4]
[null,1147,4,null,1147,2]
[null,1148,2,null,1148,6]
[null,1149,2,null,1149,6]
[null,1150,5,null,1150,4]
[null,1151,3,null,1151,1]
[null,1152,6,null,1152,1]
[null,1153,2,null,1153,2]
[null,1154,4,null,1154,{"$f":"RANDBETWEEN(1,6)","v":3}]
[null,1155,3,null,1155,2]
[null,1156,6,null,1156,4]
[null,1157,1,null,1157,3]
[null,1158,2,null,1158,6]
[null,1159,6,null,1159,3]
[null,1160,2,null,1160,1]
[null,1161,2,null,1161,5]
[null,1162,4,null,1162,1]
[null,1163,6,null,1163,2]
[null,1164,3,null,1164,6]
[null,1165,5,null,1165,2]
[null,1166,6,null,1166,3]
[null,1167,2,null,1167,3]
[null,1168,2,null,1168,4]
[null,1169,4,null,1169,3]
[null,1170,5,null,1170,2]
[null,1171,1,null,1171,6]
[null,1172,6,null,1172,5]
[null,1173,2,null,1173,5]
[null,1174,5,null,1174,6]
[null,1175,3,null,1175,5]
[null,1176,6,null,1176,3]
[null,1177,5,null,1177,3]
[null,1178,3,null,1178,5]
[null,1179,6,null,1179,1]
[null,1180,5,null,1180,1]
[null,1181,5,null,1181,3]
[null,1182,4,null,1182,6]
[null,1183,5,null,1183,3]
[null,1184,6,null,1184,4]
[null,1185,3,null,1185,5]
[null,1186,3,null,1186,4]
[null,1187,3,null,1187,6]
[null,1188,3,null,1188,2]
[null,1189,4,null,1189,4]
[null,1190,3,null,1190,1]
[null,1191,1,null,1191,2]
[null,1192,5,null,1192,6]
[null,1193,4,null,1193,4]
[null,1194,4,null,1194,2]
[null,1195,6,null,1195,2]
[null,1196,6,null,1196,4]
[null,1197,4,null,1197,2]
[null,1198,3,null,1198,6]
[null,1199,1,null,1199,1]
[null,1200,1,null,1200,2]
[null,1201,4,null,1201,1]
[null,1202,1,null,1202,1]
[null,1203,5,null,1203,3]
[null,1204,6,null,1204,3]
[null,1205,5,null,1205,1]
[null,1206,5,null,1206,6]
[null,1207,5,null,1207,4]
[null,1208,6,null,1208,4]
[null,1209,5,null,1209,4]
[null,1210,3,null,1210,1]
[null,1211,3,null,1211,6]
[null,1212,4,null,1212,6]
[null,1213,6,null,1213,4]
[null,1214,3,null,1214,3]
[null,1215,6,null,1215,2]
[null,1216,4,null,1216,6]
[null,1217,1,null,1217,2]
[null,1218,4,null,1218,{"$f":"RANDBETWEEN(1,6)","v":4}]
[null,1219,4,null,1219,1]
[null,1220,3,null,1220,4]
[null,1221,3,null,1221,2]
[null,1222,2,null,1222,3]
[null,1223,6,null,1223,4]
[null,1224,2,null,1224,6]
[null,1225,4,null,1225,1]
[null,1226,1,null,1226,1]
[null,1227,6,null,1227,5]
[null,1228,4,null,1228,6]
[null,1229,6,null,1229,1]
[null,1230,2,null,1230,6]
[null,1231,3,null,1231,3]
[null,1232,1,null,1232,2]
[null,1233,4,null,1233,1]
[null,1234,1,null,1234,6]
[null,1235,2,null,1235,5]
[null,1236,2,null,1236,5]
[null,1237,1,null,1237,5]
[null,1238,5,null,1238,3]
[null,1239,1,null,1239,5]
[null,1240,2,null,1240,2]
[null,1241,2,null,1241,4]
[null,1242,1,null,1242,2]
[null,1243,5,null,1243,3]
[null,1244,1,null,1244,3]
[null,1245,3,null,1245,1]
[null,1246,2,null,1246,2]
[null,1247,6,null,1247,6]
[null,1248,5,null,1248,4]
[null,1249,2,null,1249,2]
[null,1250,5,null,1250,2]
[null,1251,3,null,1251,4]
[null,1252,2,null,1252,3]
[null,1253,5,null,1253,5]
[null,1254,5,null,1254,1]
[null,1255,5,null,1255,5]
[null,1256,6,null,1256,2]
[null,1257,4,null,1257,6]
[null,1258,6,null,1258,6]
[null,1259,3,null,1259,3]
[null,1260,3,null,1260,4]
[null,1261,2,null,1261,4]
[null,1262,5,null,1262,1]
[null,1263,4,null,1263,4]
[null,1264,6,null,1264,4]
[null,1265,1,null,1265,4]
[null,1266,5,null,1266,1]
[null,1267,4,null,1267,3]
[null,1268,1,null,1268,2]
[null,1269,2,null,1269,6]
[null,1270,6,null,1270,2]
[null,1271,2,null,1271,5]
[null,1272,4,null,1272,4]
[null,1273,2,null,1273,3]
[null,1274,4,null,1274,1]
[null,1275,2,null,1275,6]
[null,1276,2,null,1276,5]
[null,1277,1,null,1277,4]
[null,1278,1,null,1278,4]
[null,1279,2,null,1279,4]
[null,1280,2,null,1280,3]
[null,1281,6,null,1281,1]
[null,1282,6,null,1282,{"$f":"RANDBETWEEN(1,6)","v":6}]
[null,1283,1,null,1283,4]
[null,1284,1,null,1284,1]
[null,1285,2,null,1285,3]
[null,1286,6,null,1286,2]
[null,1287,6,null,1287,4]
[null,1288,5,null,1288,1]
[null,1289,1,null,1289,4]
[null,1290,1,null,1290,4]
[null,1291,1,null,1291,6]
[null,1292,3,null,1292,3]
[null,1293,4,null,1293,6]
[null,1294,1,null,1294,5]
[null,1295,6,null,1295,1]
[null,1296,2,null,1296,6]
[null,1297,2,null,1297,4]
[null,1298,1,null,1298,1]
[null,1299,4,null,1299,5]
[null,1300,1,null,1300,6]
[null,1301,4,null,1301,2]
[null,1302,2,null,1302,4]
[null,1303,4,null,1303,2]
[null,1304,1,null,1304,2]
[null,1305,2,null,1305,1]
[null,1306,3,null,1306,4]
[null,1307,1,null,1307,3]
[null,1308,5,null,1308,4]
[null,1309,6,null,1309,3]
[null,1310,6,null,1310,5]
[null,1311,6,null,1311,5]
[null,1312,4,null,1312,2]
[null,1313,2,null,1313,1]
[null,1314,6,null,1314,6]
[null,1315,4,null,1315,5]
[null,1316,1,null,1316,6]
[null,1317,4,null,1317,5]
[null,1318,6,null,1318,5]
[null,1319,2,null,1319,2]
[null,1320,6,null,1320,5]
[null,1321,6,null,1321,5]
[null,1322,4,null,1322,5]
[null,1323,4,null,1323,3]
[null,1324,3,null,1324,1]
[null,1325,3,null,1325,4]
[null,1326,1,null,1326,4]
[null,1327,1,null,1327,6]
[null,1328,3,null,1328,3]
[null,1329,6,null,1329,3]
[null,1330,6,null,1330,4]
[null,1331,4,null,1331,5]
[null,1332,5,null,1332,2]
[null,1333,4,null,1333,4]
[null,1334,5,null,1334,4]
[null,1335,1,null,1335,1]
[null,1336,4,null,1336,2]
[null,1337,5,null,1337,4]
[null,1338,5,null,1338,2]
[null,1339,2,null,1339,2]
[null,1340,5,null,1340,1]
[null,1341,5,null,1341,3]
[null,1342,6,null,1342,2]
[null,1343,3,null,1343,4]
[null,1344,3,null,1344,4]
[null,1345,3,null,1345,4]
[null,1346,1,null,1346,{"$f":"RANDBETWEEN(1,6)","v":4}]
[null,1347,6,null,1347,1]
[null,1348,1,null,1348,5]
[null,1349,1,null,1349,1]
[null,1350,4,null,1350,6]
[null,1351,5,null,1351,5]
[null,1352,4,null,1352,3]
[null,1353,1,null,1353,6]
[null,1354,4,null,1354,1]
[null,1355,3,null,1355,2]
[null,1356,3,null,1356,4]
[null,1357,3,null,1357,2]
[null,1358,6,null,1358,4]
[null,1359,5,null,1359,5]
[null,1360,4,null,1360,3]
[null,1361,6,null,1361,3]
[null,1362,1,null,1362,6]
[null,1363,2,null,1363,1]
[null,1364,5,null,1364,2]
[null,1365,2,null,1365,1]
[null,1366,5,null,1366,5]
[null,1367,3,null,1367,3]
[null,1368,6,null,1368,2]
[null,1369,3,null,1369,6]
[null,1370,4,null,1370,3]
[null,1371,6,null,1371,3]
[null,1372,4,null,1372,4]
[null,1373,3,null,1373,4]
[null,1374,1,null,1374,5]
[null,1375,4,null,1375,3]
[null,1376,1,null,1376,2]
[null,1377,3,null,1377,6]
[null,1378,6,null,1378,2]
[null,1379,5,null,1379,5]
[null,1380,6,null,1380,5]
[null,1381,2,null,1381,1]
[null,1382,3,null,1382,6]
[null,1383,3,null,1383,4]
[null,1384,1,null,1384,4]
[null,1385,4,null,1385,1]
[null,1386,3,null,1386,3]
[null,1387,5,null,1387,1]
[null,1388,3,null,1388,4]
[null,1389,3,null,1389,2]
[null,1390,6,null,1390,3]
[null,1391,3,null,1391,5]
[null,1392,3,null,1392,2]
[null,1393,4,null,1393,6]
[null,1394,4,null,1394,5]
[null,1395,5,null,1395,4]
[null,1396,4,null,1396,3]
[null,1397,3,null,1397,3]
[null,1398,1,null,1398,1]
[null,1399,4,null,1399,1]
[null,1400,2,null,1400,4]
[null,1401,2,null,1401,1]
[null,1402,6,null,1402,6]
[null,1403,1,null,1403,1]
[null,1404,4,null,1404,4]
[null,1405,3,null,1405,5]
[null,1406,2,null,1406,2]
[null,1407,6,null,1407,3]
[null,1408,2,null,1408,4]
[null,1409,3,null,1409,2]
[null,1410,1,null,1410,{"$f":"RANDBETWEEN(1,6)","v":5}]
[null,1411,3,null,1411,3]
[null,1412,2,null,1412,3]
[null,1413,4,null,1413,6]
[null,1414,4,null,1414,3]
[null,1415,5,null,1415,4]
[null,1416,4,null,1416,4]
[null,1417,3,null,1417,6]
[null,1418,2,null,1418,4]
[null,1419,6,null,1419,4]
[null,1420,6,null,1420,3]
[null,1421,1,null,1421,2]
[null,1422,6,null,1422,1]
[null,1423,1,null,1423,6]
[null,1424,5,null,1424,4]
[null,1425,4,null,1425,6]
[null,1426,3,null,1426,6]
[null,1427,1,null,1427,4]
[null,1428,5,null,1428,3]
[null,1429,6,null,1429,2]
[null,1430,3,null,1430,3]
[null,1431,1,null,1431,3]
[null,1432,5,null,1432,3]
[null,1433,2,null,1433,5]
[null,1434,6,null,1434,3]
[null,1435,6,null,1435,4]
[null,1436,1,null,1436,6]
[null,1437,1,null,1437,4]
[null,1438,4,null,1438,3]
[null,1439,5,null,1439,4]
[null,1440,6,null,1440,5]
[null,1441,6,null,1441,5]
[null,1442,5,null,1442,2]
[null,1443,6,null,1443,3]
[null,1444,1,null,1444,5]
[null,1445,1,null,1445,2]
[null,1446,6,null,1446,4]
[null,1447,6,null,1447,2]
[null,1448,3,null,1448,2]
[null,1449,2,null,1449,2]
[null,1450,1,null,1450,1]
[null,1451,1,null,1451,6]
[null,1452,2,null,1452,3]
[null,1453,2,null,1453,3]
[null,1454,2,null,1454,3]
[null,1455,2,null,1455,1]
[null,1456,2,null,1456,2]
[null,1457,1,null,1457,5]
[null,1458,4,null,1458,3]
[null,1459,1,null,1459,3]
[null,1460,6,null,1460,5]
[null,1461,4,null,1461,1]
[null,1462,3,null,1462,4]
[null,1463,1,null,1463,2]
[null,1464,6,null,1464,2]
[null,1465,5,null,1465,2]
[null,1466,4,null,1466,1]
[null,1467,6,null,1467,1]
[null,1468,6,null,1468,3]
[null,1469,5,null,1469,1]
[null,1470,5,null,1470,4]
[null,1471,3,null,1471,5]
[null,1472,3,null,1472,6]
[null,1473,1,null,1473,1]
[null,1474,1,null,1474,{"$f":"RANDBETWEEN(1,6)","v":2}]
[null,1475,6,null,1475,1]
[null,1476,3,null,1476,5]
[null,1477,3,null,1477,4]
[null,1478,5,null,1478,3]
[null,1479,1,null,1479,6]
[null,1480,4,null,1480,3]
[null,1481,1,null,1481,4]
[null,1482,1,null,1482,1]
[null,1483,4,null,1483,3]
[null,1484,3,null,1484,5]
[null,1485,4,null,1485,2]
[null,1486,1,null,1486,2]
[null,1487,6,null,1487,4]
[null,1488,5,null,1488,5]
[null,1489,4,null,1489,1]
[null,1490,4,null,1490,6]
[null,1491,6,null,1491,1]
[null,1492,1,null,1492,1]
[null,1493,4,null,1493,3]
[null,1494,5,null,1494,3]
[null,1495,3,null,1495,6]
[null,1496,5,null,1496,1]
[null,1497,4,null,1497,6]
[null,1498,2,null,1498,5]
[null,1499,2,null,1499,6]
[null,1500,6,null,1500,6]
[null,1501,2,null,1501,2]
[null,1502,1,null,1502,6]
[null,1503,3,null,1503,6]
[null,1504,2,null,1504,2]
[null,1505,3,null,1505,3]
[null,1506,6,null,1506,2]
[null,1507,3,null,1507,6]
[null,1508,6,null,1508,2]
[null,1509,2,null,1509,4]
[null,1510,6,null,1510,2]
[null,1511,2,null,1511,3]
[null,1512,5,null,1512,5]
[null,1513,3,null,1513,6]
[null,1514,2,null,1514,2]
[null,1515,3,null,1515,2]
[null,1516,1,null,1516,4]
[null,1517,1,null,1517,6]
[null,1518,6,null,1518,4]
[null,1519,6,null,1519,3]
[null,1520,5,null,1520,2]
[null,1521,2,null,1521,1]
[null,1522,1,null,1522,4]
[null,1523,4,null,1523,3]
[null,1524,4,null,1524,5]
[null,1525,2,null,1525,5]
[null,1526,6,null,1526,5]
[null,1527,1,null,1527,5]
[null,1528,1,null,1528,3]
[null,1529,2,null,1529,5]
[null,1530,2,null,1530,4]
[null,1531,2,null,1531,3]
[null,1532,1,null,1532,5]
[null,1533,4,null,1533,4]
[null,1534,3,null,1534,3]
[null,1535,5,null,1535,1]
[null,1536,4,null,1536,4]
[null,1537,5,null,1537,5]
[null,1538,1,null,1538,{"$f":"RANDBETWEEN(1,6)","v":4}]
[null,1539,3,null,1539,3]
[null,1540,4,null,1540,3]
[null,1541,1,null,1541,5]
[null,1542,2,null,1542,1]
[null,1543,3,null,1543,3]
[null,1544,6,null,1544,2]
[null,1545,1,null,1545,5]
[null,1546,1,null,1546,5]
[null,1547,5,null,1547,4]
[null,1548,3,null,1548,3]
[null,1549,1,null,1549,5]
[null,1550,5,null,1550,6]
[null,1551,5,null,1551,1]
[null,1552,6,null,1552,6]
[null,1553,3,null,1553,2]
[null,1554,2,null,1554,6]
[null,1555,6,null,1555,1]
[null,1556,1,null,1556,5]
[null,1557,4,null,1557,5]
[null,1558,2,null,1558,4]
[null,1559,1,null,1559,6]
[null,1560,1,null,1560,6]
[null,1561,2,null,1561,3]
[null,1562,4,null,1562,2]
[null,1563,5,null,1563,4]
[null,1564,6,null,1564,3]
[null,1565,2,null,1565,5]
[null,1566,5,null,1566,6]
[null,1567,2,null,1567,2]
[null,1568,1,null,1568,2]
[null,1569,2,null,1569,1]
[null,1570,2,null,1570,4]
[null,1571,4,null,1571,5]
[null,1572,6,null,1572,4]
[null,1573,2,null,1573,6]
[null,1574,3,null,1574,1]
[null,1575,1,null,1575,4]
[null,1576,1,null,1576,4]
[null,1577,6,null,1577,4]
[null,1578,1,null,1578,6]
[null,1579,3,null,1579,3]
[null,1580,4,null,1580,5]
[null,1581,4,null,1581,2]
[null,1582,2,null,1582,5]
[null,1583,3,null,1583,3]
[null,1584,6,null,1584,4]
[null,1585,4,null,1585,6]
[null,1586,3,null,1586,4]
[null,1587,1,null,1587,1]
[null,1588,5,null,1588,1]
[null,1589,6,null,1589,2]
[null,1590,5,null,1590,4]
[null,1591,6,null,1591,1]
[null,1592,6,null,1592,6]
[null,1593,6,null,1593,3]
[null,1594,3,null,1594,1]
[null,1595,5,null,1595,4]
[null,1596,3,null,1596,4]
[null,1597,6,null,1597,2]
[null,1598,3,null,1598,5]
[null,1599,5,null,1599,1]
[null,1600,2,null,1600,2]
[null,1601,2,null,1601,3]
[null,1602,2,null,1602,{"$f":"RANDBETWEEN(1,6)","v":2}]
[null,1603,3,null,1603,4]
[null,1604,1,null,1604,5]
[null,1605,2,null,1605,1]
[null,1606,3,null,1606,4]
[null,1607,6,null,1607,3]
[null,1608,6,null,1608,5]
[null,1609,2,null,1609,1]
[null,1610,2,null,1610,3]
[null,1611,2,null,1611,2]
[null,1612,5,null,1612,3]
[null,1613,5,null,1613,5]
[null,1614,6,null,1614,2]
[null,1615,1,null,1615,1]
[null,1616,4,null,1616,4]
[null,1617,5,null,1617,2]
[null,1618,3,null,1618,6]
[null,1619,6,null,1619,5]
[null,1620,2,null,1620,5]
[null,1621,2,null,1621,2]
[null,1622,3,null,1622,1]
[null,1623,6,null,1623,4]
[null,1624,1,null,1624,6]
[null,1625,3,null,1625,3]
[null,1626,6,null,1626,1]
[null,1627,1,null,1627,4]
[null,1628,3,null,1628,4]
[null,1629,6,null,1629,6]
[null,1630,2,null,1630,6]
[null,1631,3,null,1631,3]
[null,1632,6,null,1632,1]
[null,1633,2,null,1633,1]
[null,1634,6,null,1634,4]
[null,1635,5,null,1635,2]
[null,1636,2,null,1636,6]
[null,1637,3,null,1637,5]
[null,1638,3,null,1638,5]
[null,1639,2,null,1639,5]
[null,1640,5,null,1640,6]
[null,1641,6,null,1641,5]
[null,1642,5,null,1642,2]
[null,1643,1,null,1643,5]
[null,1644,5,null,1644,3]
[null,1645,5,null,1645,6]
[null,1646,6,null,1646,5]
[null,1647,5,null,1647,5]
[null,1648,3,null,1648,5]
[null,1649,2,null,1649,2]
[null,1650,6,null,1650,2]
[null,1651,4,null,1651,5]
[null,1652,4,null,1652,3]
[null,1653,3,null,1653,6]
[null,1654,4,null,1654,2]
[null,1655,4,null,1655,2]
[null,1656,1,null,1656,4]
[null,1657,5,null,1657,5]
[null,1658,2,null,1658,6]
[null,1659,4,null,1659,3]
[null,1660,3,null,1660,2]
[null,1661,2,null,1661,6]
[null,1662,2,null,1662,5]
[null,1663,3,null,1663,5]
[null,1664,4,null,1664,2]
[null,1665,6,null,1665,2]
[null,1666,1,null,1666,{"$f":"RANDBETWEEN(1,6)","v":6}]
[null,1667,4,null,1667,2]
[null,1668,5,null,1668,4]
[null,1669,5,null,1669,3]
[null,1670,5,null,1670,4]
[null,1671,1,null,1671,3]
[null,1672,1,null,1672,5]
[null,1673,1,null,1673,5]
[null,1674,4,null,1674,4]
[null,1675,3,null,1675,5]
[null,1676,2,null,1676,1]
[null,1677,4,null,1677,6]
[null,1678,6,null,1678,6]
[null,1679,4,null,1679,5]
[null,1680,3,null,1680,4]
[null,1681,3,null,1681,5]
[null,1682,1,null,1682,4]
[null,1683,6,null,1683,4]
[null,1684,1,null,1684,3]
[null,1685,6,null,1685,3]
[null,1686,4,null,1686,3]
[null,1687,3,null,1687,6]
[null,1688,3,null,1688,5]
[null,1689,1,null,1689,5]
[null,1690,6,null,1690,1]
[null,1691,2,null,1691,2]
[null,1692,5,null,1692,3]
[null,1693,1,null,1693,5]
[null,1694,1,null,1694,4]
[null,1695,1,null,1695,2]
[null,1696,3,null,1696,2]
[null,1697,6,null,1697,6]
[null,1698,5,null,1698,2]
[null,1699,1,null,1699,2]
[null,1700,1,null,1700,5]
[null,1701,5,null,1701,2]
[null,1702,4,null,1702,5]
[null,1703,4,null,1703,1]
[null,1704,6,null,1704,5]
[null,1705,2,null,1705,2]
[null,1706,3,null,1706,2]
[null,1707,1,null,1707,5]
[null,1708,4,null,1708,4]
[null,1709,1,null,1709,2]
[null,1710,2,null,1710,5]
[null,1711,6,null,1711,2]
[null,1712,1,null,1712,4]
[null,1713,5,null,1713,3]
[null,1714,5,null,1714,4]
[null,1715,4,null,1715,6]
[null,1716,1,null,1716,6]
[null,1717,4,null,1717,4]
[null,1718,2,null,1718,1]
[null,1719,4,null,1719,1]
[null,1720,5,null,1720,1]
[null,1721,6,null,1721,1]
[null,1722,3,null,1722,4]
[null,1723,1,null,1723,2]
[null,1724,3,null,1724,6]
[null,1725,4,null,1725,5]
[null,1726,3,null,1726,3]
[null,1727,1,null,1727,2]
[null,1728,2,null,1728,2]
[null,1729,5,null,1729,6]
[null,1730,6,null,1730,{"$f":"RANDBETWEEN(1,6)","v":4}]
[null,1731,1,null,1731,3]
[null,1732,1,null,1732,5]
[null,1733,5,null,1733,1]
[null,1734,3,null,1734,2]
[null,1735,3,null,1735,6]
[null,1736,2,null,1736,5]
[null,1737,5,null,1737,2]
[null,1738,5,null,1738,4]
[null,1739,6,null,1739,4]
[null,1740,1,null,1740,2]
[null,1741,5,null,1741,5]
[null,1742,3,null,1742,5]
[null,1743,3,null,1743,1]
[null,1744,2,null,1744,3]
[null,1745,5,null,1745,2]
[null,1746,2,null,1746,1]
[null,1747,6,null,1747,2]
[null,1748,3,null,1748,5]
[null,1749,5,null,1749,3]
[null,1750,1,null,1750,3]
[null,1751,5,null,1751,2]
[null,1752,4,null,1752,5]
[null,1753,6,null,1753,2]
[null,1754,6,null,1754,3]
[null,1755,4,null,1755,1]
[null,1756,6,null,1756,6]
[null,1757,3,null,1757,4]
[null,1758,6,null,1758,3]
[null,1759,3,null,1759,2]
[null,1760,2,null,1760,5]
[null,1761,6,null,1761,3]
[null,1762,6,null,1762,2]
[null,1763,5,null,1763,2]
[null,1764,4,null,1764,5]
[null,1765,6,null,1765,1]
[null,1766,1,null,1766,2]
[null,1767,6,null,1767,1]
[null,1768,3,null,1768,2]
[null,1769,4,null,1769,4]
[null,1770,6,null,1770,2]
[null,1771,4,null,1771,1]
[null,1772,1,null,1772,3]
[null,1773,4,null,1773,3]
[null,1774,6,null,1774,6]
[null,1775,1,null,1775,5]
[null,1776,5,null,1776,4]
[null,1777,3,null,1777,5]
[null,1778,4,null,1778,3]
[null,1779,3,null,1779,1]
[null,1780,3,null,1780,3]
[null,1781,6,null,1781,1]
[null,1782,5,null,1782,4]
[null,1783,5,null,1783,3]
[null,1784,1,null,1784,2]
[null,1785,5,null,1785,1]
[null,1786,5,null,1786,5]
[null,1787,4,null,1787,2]
[null,1788,6,null,1788,1]
[null,1789,5,null,1789,2]
[null,1790,4,null,1790,3]
[null,1791,5,null,1791,5]
[null,1792,5,null,1792,5]
[null,1793,5,null,1793,6]
[null,1794,2,null,1794,{"$f":"RANDBETWEEN(1,6)","v":5}]
[null,1795,1,null,1795,3]
[null,1796,6,null,1796,6]
[null,1797,3,null,1797,1]
[null,1798,6,null,1798,5]
[null,1799,6,null,1799,3]
[null,1800,1,null,1800,6]
[null,1801,3,null,1801,5]
[null,1802,5,null,1802,6]
[null,1803,6,null,1803,1]
[null,1804,4,null,1804,2]
[null,1805,2,null,1805,2]
[null,1806,6,null,1806,2]
[null,1807,2,null,1807,6]
[null,1808,6,null,1808,1]
[null,1809,4,null,1809,1]
[null,1810,5,null,1810,1]
[null,1811,6,null,1811,4]
[null,1812,1,null,1812,2]
[null,1813,5,null,1813,5]
[null,1814,1,null,1814,3]
[null,1815,1,null,1815,6]
[null,1816,3,null,1816,3]
[null,1817,6,null,1817,3]
[null,1818,3,null,1818,3]
[null,1819,5,null,1819,1]
[null,1820,6,null,1820,1]
[null,1821,3,null,1821,1]
[null,1822,5,null,1822,1]
[null,1823,6,null,1823,3]
[null,1824,5,null,1824,6]
[null,1825,6,null,1825,3]
[null,1826,2,null,1826,3]
[null,1827,6,null,1827,4]
[null,1828,3,null,1828,5]
[null,1829,2,null,1829,6]
[null,1830,4,null,1830,5]
[null,1831,1,null,1831,4]
[null,1832,3,null,1832,3]
[null,1833,4,null,1833,2]
[null,1834,2,null,1834,3]
[null,1835,5,null,1835,5]
[null,1836,6,null,1836,3]
[null,1837,3,null,1837,3]
[null,1838,4,null,1838,1]
[null,1839,3,null,1839,6]
[null,1840,3,null,1840,1]
[null,1841,1,null,1841,2]
[null,1842,3,null,1842,5]
[null,1843,5,null,1843,2]
[null,1844,6,null,1844,2]
[null,1845,2,null,1845,4]
[null,1846,6,null,1846,1]
[null,1847,2,null,1847,1]
[null,1848,1,null,1848,4]
[null,1849,1,null,1849,6]
[null,1850,1,null,1850,2]
[null,1851,5,null,1851,5]
[null,1852,3,null,1852,4]
[null,1853,3,null,1853,3]
[null,1854,5,null,1854,6]
[null,1855,3,null,1855,6]
[null,1856,1,null,1856,2]
[null,1857,1,null,1857,6]
[null,1858,5,null,1858,{"$f":"RANDBETWEEN(1,6)","v":1}]
[null,1859,4,null,1859,4]
[null,1860,3,null,1860,1]
[null,1861,1,null,1861,2]
[null,1862,5,null,1862,3]
[null,1863,6,null,1863,3]
[null,1864,5,null,1864,3]
[null,1865,6,null,1865,3]
[null,1866,3,null,1866,2]
[null,1867,4,null,1867,5]
[null,1868,6,null,1868,5]
[null,1869,3,null,1869,5]
[null,1870,3,null,1870,1]
[null,1871,6,null,1871,1]
[null,1872,3,null,1872,5]
[null,1873,5,null,1873,3]
[null,1874,1,null,1874,5]
[null,1875,6,null,1875,4]
[null,1876,6,null,1876,5]
[null,1877,2,null,1877,1]
[null,1878,2,null,1878,5]
[null,1879,4,null,1879,5]
[null,1880,3,null,1880,3]
[null,1881,6,null,1881,2]
[null,1882,6,null,1882,1]
[null,1883,1,null,1883,6]
[null,1884,2,null,1884,4]
[null,1885,2,null,1885,3]
[null,1886,5,null,1886,3]
[null,1887,3,null,1887,2]
[null,1888,3,null,1888,6]
[null,1889,3,null,1889,6]
[null,1890,3,null,1890,3]
[null,1891,4,null,1891,1]
[null,1892,1,null,1892,2]
[null,1893,3,null,1893,5]
[null,1894,2,null,1894,6]
[null,1895,5,null,1895,6]
[null,1896,6,null,1896,3]
[null,1897,4,null,1897,3]
[null,1898,2,null,1898,4]
[null,1899,3,null,1899,1]
[null,1900,2,null,1900,4]
[null,1901,1,null,1901,1]
[null,1902,3,null,1902,1]
[null,1903,5,null,1903,2]
[null,1904,3,null,1904,6]
[null,1905,4,null,1905,3]
[null,1906,4,null,1906,6]
[null,1907,4,null,1907,3]
[null,1908,5,null,1908,3]
[null,1909,4,null,1909,3]
[null,1910,6,null,1910,5]
[null,1911,2,null,1911,5]
[null,1912,2,null,1912,3]
[null,1913,1,null,1913,2]
[null,1914,6,null,1914,1]
[null,1915,5,null,1915,5]
[null,1916,1,null,1916,4]
[null,1917,6,null,1917,1]
[null,1918,6,null,1918,4]
[null,1919,4,null,1919,5]
[null,1920,1,null,1920,1]
[null,1921,3,null,1921,5]
[null,1922,5,null,1922,{"$f":"RANDBETWEEN(1,6)","v":4}]
[null,1923,6,null,1923,1]
[null,1924,3,null,1924,1]
[null,1925,3,null,1925,1]
[null,1926,2,null,1926,4]
[null,1927,3,null,1927,2]
[null,1928,4,null,1928,6]
[null,1929,5,null,1929,1]
[null,1930,5,null,1930,4]
[null,1931,2,null,1931,3]
[null,1932,1,null,1932,1]
[null,1933,1,null,1933,1]
[null,1934,4,null,1934,5]
[null,1935,6,null,1935,5]
[null,1936,5,null,1936,1]
[null,1937,2,null,1937,6]
[null,1938,1,null,1938,6]
[null,1939,1,null,1939,5]
[null,1940,2,null,1940,6]
[null,1941,5,null,1941,5]
[null,1942,2,null,1942,5]
[null,1943,1,null,1943,5]
[null,1944,3,null,1944,4]
[null,1945,2,null,1945,6]
[null,1946,1,null,1946,5]
[null,1947,6,null,1947,5]
[null,1948,3,null,1948,4]
[null,1949,3,null,1949,1]
[null,1950,4,null,1950,4]
[null,1951,4,null,1951,3]
[null,1952,6,null,1952,2]
[null,1953,5,null,1953,4]
[null,1954,2,null,1954,6]
[null,1955,3,null,1955,2]
[null,1956,5,null,1956,4]
[null,1957,1,null,1957,2]
[null,1958,5,null,1958,2]
[null,1959,5,null,1959,5]
[null,1960,5,null,1960,4]
[null,1961,5,null,1961,3]
[null,1962,5,null,1962,3]
[null,1963,6,null,1963,3]
[null,1964,3,null,1964,1]
[null,1965,2,null,1965,4]
[null,1966,2,null,1966,2]
[null,1967,5,null,1967,6]
[null,1968,6,null,1968,5]
[null,1969,3,null,1969,4]
[null,1970,3,null,1970,4]
[null,1971,5,null,1971,2]
[null,1972,3,null,1972,5]
[null,1973,6,null,1973,6]
[null,1974,2,null,1974,5]
[null,1975,3,null,1975,5]
[null,1976,5,null,1976,3]
[null,1977,6,null,1977,5]
[null,1978,5,null,1978,6]
[null,1979,1,null,1979,6]
[null,1980,3,null,1980,5]
[null,1981,3,null,1981,3]
[null,1982,5,null,1982,5]
[null,1983,5,null,1983,6]
[null,1984,6,null,1984,1]
[null,1985,4,null,1985,6]
[null,1986,3,null,1986,{"$f":"RANDBETWEEN(1,6)","v":4}]
[null,1987,5,null,1987,5]
[null,1988,3,null,1988,2]
[null,1989,5,null,1989,1]
[null,1990,2,null,1990,2]
[null,1991,3,null,1991,3]
[null,1992,5,null,1992,3]
[null,1993,3,null,1993,5]
[null,1994,6,null,1994,3]
[null,1995,5,null,1995,2]
[null,1996,1,null,1996,1]
[null,1997,2,null,1997,2]
[null,1998,3,null,1998,2]
[null,1999,3,null,1999,3]
[null,2000,2,null,2000,1]
[null,2001,6,null,2001,1]
[null,2002,3,null,2002,2]
[null,2003,5,null,2003,4]
[null,2004,1,null,2004,6]
[null,2005,3,null,2005,1]
[null,2006,3,null,2006,3]
[null,2007,6,null,2007,6]
[null,2008,5,null,2008,6]
[null,2009,5,null,2009,5]
[null,2010,2,null,2010,6]
[null,2011,5,null,2011,4]
[null,2012,5,null,2012,4]
[null,2013,2,null,2013,2]
[null,2014,5,null,2014,6]
[null,2015,2,null,2015,3]
[null,2016,2,null,2016,3]
[null,2017,1,null,2017,5]
[null,2018,2,null,2018,1]
[null,2019,1,null,2019,2]
[null,2020,3,null,2020,5]
[null,2021,4,null,2021,5]
[null,2022,1,null,2022,2]
[null,2023,2,null,2023,6]
[null,2024,4,null,2024,3]
[null,2025,5,null,2025,1]
[null,2026,5,null,2026,2]
[null,2027,3,null,2027,2]
[null,2028,2,null,2028,6]
[null,2029,3,null,2029,4]
[null,2030,3,null,2030,3]
[null,2031,6,null,2031,4]
[null,2032,5,null,2032,1]
[null,2033,6,null,2033,3]
[null,2034,5,null,2034,4]
[null,2035,2,null,2035,6]
[null,2036,6,null,2036,1]
[null,2037,2,null,2037,4]
[null,2038,1,null,2038,1]
[null,2039,3,null,2039,4]
[null,2040,3,null,2040,3]
[null,2041,3,null,2041,5]
[null,2042,5,null,2042,2]
[null,2043,6,null,2043,3]
[null,2044,3,null,2044,3]
[null,2045,6,null,2045,5]
[null,2046,1,null,2046,2]
[null,2047,2,null,2047,5]
[null,2048,5,null,2048,5]
[null,2049,4,null,2049,4]
[null,2050,4,null,2050,{"$f":"RANDBETWEEN(1,6)","v":2}]
[null,2051,3,null,2051,4]
[null,2052,5,null,2052,3]
[null,2053,5,null,2053,5]
[null,2054,6,null,2054,4]
[null,2055,6,null,2055,4]
[null,2056,3,null,2056,2]
[null,2057,5,null,2057,2]
[null,2058,1,null,2058,5]
[null,2059,2,null,2059,3]
[null,2060,3,null,2060,3]
[null,2061,2,null,2061,5]
[null,2062,1,null,2062,5]
[null,2063,6,null,2063,1]
[null,2064,1,null,2064,4]
[null,2065,3,null,2065,4]
[null,2066,1,null,2066,2]
[null,2067,2,null,2067,2]
[null,2068,1,null,2068,3]
[null,2069,4,null,2069,1]
[null,2070,5,null,2070,4]
[null,2071,6,null,2071,6]
[null,2072,1,null,2072,6]
[null,2073,3,null,2073,1]
[null,2074,4,null,2074,3]
[null,2075,5,null,2075,2]
[null,2076,4,null,2076,5]
[null,2077,3,null,2077,5]
[null,2078,1,null,2078,1]
[null,2079,2,null,2079,5]
[null,2080,5,null,2080,5]
[null,2081,1,null,2081,6]
[null,2082,2,null,2082,3]
[null,2083,2,null,2083,2]
[null,2084,5,null,2084,6]
[null,2085,3,null,2085,5]
[null,2086,6,null,2086,6]
[null,2087,6,null,2087,5]
[null,2088,6,null,2088,3]
[null,2089,4,null,2089,1]
[null,2090,1,null,2090,6]
[null,2091,3,null,2091,1]
[null,2092,5,null,2092,1]
[null,2093,6,null,2093,1]
[null,2094,2,null,2094,5]
[null,2095,4,null,2095,2]
[null,2096,4,null,2096,6]
[null,2097,1,null,2097,2]
[null,2098,5,null,2098,6]
[null,2099,3,null,2099,5]
[null,2100,3,null,2100,2]
[null,2101,3,null,2101,3]
[null,2102,2,null,2102,2]
[null,2103,3,null,2103,5]
[null,2104,5,null,2104,3]
[null,2105,2,null,2105,4]
[null,2106,3,null,2106,1]
[null,2107,2,null,2107,2]
[null,2108,1,null,2108,1]
[null,2109,5,null,2109,6]
[null,2110,6,null,2110,4]
[null,2111,3,null,2111,3]
[null,2112,6,null,2112,2]
[null,2113,4,null,2113,5]
[null,2114,2,null,2114,{"$f":"RANDBETWEEN(1,6)","v":3}]
[null,2115,3,null,2115,3]
[null,2116,4,null,2116,3]
[null,2117,3,null,2117,2]
[null,2118,1,null,2118,4]
[null,2119,4,null,2119,5]
[null,2120,2,null,2120,2]
[null,2121,2,null,2121,5]
[null,2122,5,null,2122,1]
[null,2123,6,null,2123,2]
[null,2124,2,null,2124,4]
[null,2125,4,null,2125,1]
[null,2126,2,null,2126,5]
[null,2127,1,null,2127,4]
[null,2128,6,null,2128,4]
[null,2129,6,null,2129,6]
[null,2130,5,null,2130,6]
[null,2131,2,null,2131,2]
[null,2132,2,null,2132,2]
[null,2133,2,null,2133,3]
[null,2134,2,null,2134,3]
[null,2135,3,null,2135,1]
[null,2136,6,null,2136,4]
[null,2137,2,null,2137,3]
[null,2138,6,null,2138,5]
[null,2139,3,null,2139,2]
[null,2140,3,null,2140,5]
[null,2141,2,null,2141,1]
[null,2142,3,null,2142,1]
[null,2143,4,null,2143,5]
[null,2144,5,null,2144,2]
[null,2145,2,null,2145,4]
[null,2146,1,null,2146,1]
[null,2147,1,null,2147,3]
[null,2148,6,null,2148,6]
[null,2149,3,null,2149,5]
[null,2150,3,null,2150,1]
[null,2151,2,null,2151,4]
[null,2152,3,null,2152,5]
[null,2153,6,null,2153,1]
[null,2154,5,null,2154,1]
[null,2155,1,null,2155,5]
[null,2156,2,null,2156,2]
[null,2157,1,null,2157,5]
[null,2158,4,null,2158,1]
[null,2159,5,null,2159,4]
[null,2160,2,null,2160,3]
[null,2161,5,null,2161,5]
[null,2162,4,null,2162,6]
[null,2163,1,null,2163,3]
[null,2164,2,null,2164,6]
[null,2165,2,null,2165,2]
[null,2166,3,null,2166,1]
[null,2167,1,null,2167,6]
[null,2168,4,null,2168,2]
[null,2169,2,null,2169,1]
[null,2170,6,null,2170,2]
[null,2171,1,null,2171,2]
[null,2172,1,null,2172,1]
[null,2173,3,null,2173,4]
[null,2174,1,null,2174,2]
[null,2175,4,null,2175,3]
[null,2176,6,null,2176,1]
[null,2177,4,null,2177,5]
[null,2178,5,null,2178,{"$f":"RANDBETWEEN(1,6)","v":5}]
[null,2179,2,null,2179,4]
[null,2180,6,null,2180,1]
[null,2181,1,null,2181,4]
[null,2182,1,null,2182,4]
[null,2183,1,null,2183,2]
[null,2184,6,null,2184,3]
[null,2185,4,null,2185,4]
[null,2186,6,null,2186,6]
[null,2187,1,null,2187,5]
[null,2188,5,null,2188,3]
[null,2189,3,null,2189,5]
[null,2190,6,null,2190,5]
[null,2191,6,null,2191,6]
[null,2192,3,null,2192,6]
[null,2193,6,null,2193,2]
[null,2194,4,null,2194,6]
[null,2195,3,null,2195,6]
[null,2196,3,null,2196,1]
[null,2197,6,null,2197,4]
[null,2198,4,null,2198,6]
[null,2199,1,null,2199,4]
[null,2200,6,null,2200,4]
[null,2201,1,null,2201,4]
[null,2202,4,null,2202,1]
[null,2203,1,null,2203,3]
[null,2204,3,null,2204,6]
[null,2205,2,null,2205,2]
[null,2206,2,null,2206,3]
[null,2207,1,null,2207,2]
[null,2208,4,null,2208,1]
[null,2209,3,null,2209,4]
[null,2210,1,null,2210,4]
[null,2211,4,null,2211,2]
[null,2212,2,null,2212,4]
[null,2213,6,null,2213,3]
[null,2214,3,null,2214,4]
[null,2215,5,null,2215,3]
[null,2216,1,null,2216,4]
[null,2217,1,null,2217,6]
[null,2218,6,null,2218,3]
[null,2219,1,null,2219,2]
[null,2220,1,null,2220,3]
[null,2221,2,null,2221,6]
[null,2222,6,null,2222,4]
[null,2223,5,null,2223,2]
[null,2224,1,null,2224,4]
[null,2225,5,null,2225,6]
[null,2226,2,null,2226,3]
[null,2227,3,null,2227,3]
[null,2228,6,null,2228,4]
[null,2229,1,null,2229,3]
[null,2230,5,null,2230,1]
[null,2231,5,null,2231,2]
[null,2232,6,null,2232,2]
[null,2233,2,null,2233,5]
[null,2234,1,null,2234,2]
[null,2235,5,null,2235,2]
[null,2236,1,null,2236,1]
[null,2237,3,null,2237,1]
[null,2238,5,null,2238,5]
[null,2239,3,null,2239,5]
[null,2240,6,null,2240,2]
[null,2241,5,null,2241,3]
[null,2242,6,null,2242,{"$f":"RANDBETWEEN(1,6)","v":2}]
[null,2243,2,null,2243,1]
[null,2244,6,null,2244,1]
[null,2245,4,null,2245,5]
[null,2246,6,null,2246,3]
[null,2247,2,null,2247,3]
[null,2248,4,null,2248,3]
[null,2249,1,null,2249,6]
[null,2250,3,null,2250,3]
[null,2251,2,null,2251,6]
[null,2252,4,null,2252,3]
[null,2253,6,null,2253,2]
[null,2254,5,null,2254,2]
[null,2255,3,null,2255,6]
[null,2256,6,null,2256,5]
[null,2257,3,null,2257,6]
[null,2258,3,null,2258,6]
[null,2259,2,null,2259,2]
[null,2260,4,null,2260,5]
[null,2261,4,null,2261,1]
[null,2262,5,null,2262,4]
[null,2263,3,null,2263,6]
[null,2264,6,null,2264,4]
[null,2265,4,null,2265,1]
[null,2266,2,null,2266,6]
[null,2267,2,null,2267,4]
[null,2268,5,null,2268,6]
[null,2269,5,null,2269,1]
[null,2270,5,null,2270,6]
[null,2271,3,null,2271,5]
[null,2272,1,null,2272,6]
[null,2273,4,null,2273,6]
[null,2274,4,null,2274,5]
[null,2275,1,null,2275,5]
[null,2276,2,null,2276,5]
[null,2277,2,null,2277,4]
[null,2278,2,null,2278,3]
[null,2279,1,null,2279,3]
[null,2280,6,null,2280,6]
[null,2281,3,null,2281,1]
[null,2282,6,null,2282,1]
[null,2283,5,null,2283,2]
[null,2284,4,null,2284,1]
[null,2285,4,null,2285,4]
[null,2286,4,null,2286,6]
[null,2287,2,null,2287,5]
[null,2288,5,null,2288,2]
[null,2289,3,null,2289,3]
[null,2290,6,null,2290,5]
[null,2291,3,null,2291,2]
[null,2292,6,null,2292,1]
[null,2293,3,null,2293,6]
[null,2294,4,null,2294,6]
[null,2295,6,null,2295,2]
[null,2296,4,null,2296,2]
[null,2297,3,null,2297,2]
[null,2298,4,null,2298,1]
[null,2299,1,null,2299,5]
[null,2300,1,null,2300,6]
[null,2301,1,null,2301,3]
[null,2302,5,null,2302,4]
[null,2303,5,null,2303,1]
[null,2304,6,null,2304,1]
[null,2305,4,null,2305,1]
[null,2306,4,null,2306,{"$f":"RANDBETWEEN(1,6)","v":3}]
[null,2307,6,null,2307,4]
[null,2308,1,null,2308,1]
[null,2309,4,null,2309,6]
[null,2310,5,null,2310,3]
[null,2311,5,null,2311,1]
[null,2312,2,null,2312,1]
[null,2313,3,null,2313,3]
[null,2314,2,null,2314,6]
[null,2315,3,null,2315,4]
[null,2316,3,null,2316,4]
[null,2317,2,null,2317,5]
[null,2318,1,null,2318,3]
[null,2319,1,null,2319,6]
[null,2320,4,null,2320,2]
[null,2321,2,null,2321,4]
[null,2322,2,null,2322,4]
[null,2323,3,null,2323,1]
[null,2324,1,null,2324,2]
[null,2325,2,null,2325,6]
[null,2326,3,null,2326,6]
[null,2327,5,null,2327,5]
[null,2328,4,null,2328,2]
[null,2329,1,null,2329,3]
[null,2330,3,null,2330,2]
[null,2331,1,null,2331,6]
[null,2332,6,null,2332,4]
[null,2333,2,null,2333,1]
[null,2334,6,null,2334,3]
[null,2335,3,null,2335,1]
[null,2336,5,null,2336,1]
[null,2337,4,null,2337,6]
[null,2338,1,null,2338,1]
[null,2339,1,null,2339,5]
[null,2340,1,null,2340,4]
[null,2341,4,null,2341,1]
[null,2342,6,null,2342,6]
[null,2343,4,null,2343,1]
[null,2344,3,null,2344,2]
[null,2345,2,null,2345,2]
[null,2346,2,null,2346,3]
[null,2347,6,null,2347,4]
[null,2348,1,null,2348,2]
[null,2349,5,null,2349,5]
[null,2350,6,null,2350,4]
[null,2351,1,null,2351,6]
[null,2352,2,null,2352,3]
[null,2353,2,null,2353,2]
[null,2354,3,null,2354,2]
[null,2355,1,null,2355,6]
[null,2356,4,null,2356,2]
[null,2357,6,null,2357,3]
[null,2358,2,null,2358,1]
[null,2359,4,null,2359,2]
[null,2360,1,null,2360,1]
[null,2361,1,null,2361,1]
[null,2362,3,null,2362,2]
[null,2363,2,null,2363,5]
[null,2364,3,null,2364,5]
[null,2365,1,null,2365,1]
[null,2366,1,null,2366,3]
[null,2367,3,null,2367,3]
[null,2368,4,null,2368,5]
[null,2369,5,null,2369,5]
[null,2370,4,null,2370,{"$f":"RANDBETWEEN(1,6)","v":5}]
[null,2371,6,null,2371,5]
[null,2372,4,null,2372,2]
[null,2373,5,null,2373,6]
[null,2374,3,null,2374,3]
[null,2375,6,null,2375,3]
[null,2376,4,null,2376,1]
[null,2377,4,null,2377,6]
[null,2378,3,null,2378,4]
[null,2379,1,null,2379,6]
[null,2380,6,null,2380,1]
[null,2381,1,null,2381,3]
[null,2382,4,null,2382,4]
[null,2383,3,null,2383,5]
[null,2384,4,null,2384,6]
[null,2385,3,null,2385,1]
[null,2386,1,null,2386,1]
[null,2387,6,null,2387,2]
[null,2388,3,null,2388,2]
[null,2389,2,null,2389,2]
[null,2390,2,null,2390,6]
[null,2391,2,null,2391,3]
[null,2392,3,null,2392,4]
[null,2393,4,null,2393,3]
[null,2394,2,null,2394,5]
[null,2395,3,null,2395,2]
[null,2396,5,null,2396,4]
[null,2397,2,null,2397,6]
[null,2398,6,null,2398,3]
[null,2399,1,null,2399,2]
[null,2400,6,null,2400,3]
[null,2401,5,null,2401,4]
[null,2402,5,null,2402,5]
[null,2403,4,null,2403,4]
[null,2404,6,null,2404,3]
[null,2405,1,null,2405,4]
[null,2406,5,null,2406,2]
[null,2407,4,null,2407,1]
[null,2408,3,null,2408,5]
[null,2409,3,null,2409,1]
[null,2410,5,null,2410,6]
[null,2411,6,null,2411,2]
[null,2412,5,null,2412,1]
[null,2413,2,null,2413,5]
[null,2414,2,null,2414,4]
[null,2415,4,null,2415,6]
[null,2416,6,null,2416,6]
[null,2417,3,null,2417,1]
[null,2418,5,null,2418,2]
[null,2419,6,null,2419,4]
[null,2420,5,null,2420,3]
[null,2421,2,null,2421,1]
[null,2422,6,null,2422,4]
[null,2423,2,null,2423,3]
[null,2424,6,null,2424,4]
[null,2425,3,null,2425,6]
[null,2426,6,null,2426,6]
[null,2427,1,null,2427,5]
[null,2428,1,null,2428,4]
[null,2429,5,null,2429,2]
[null,2430,3,null,2430,1]
[null,2431,4,null,2431,1]
[null,2432,5,null,2432,3]
[null,2433,2,null,2433,6]
[null,2434,1,null,2434,{"$f":"RANDBETWEEN(1,6)","v":4}]
[null,2435,3,null,2435,4]
[null,2436,1,null,2436,4]
[null,2437,4,null,2437,1]
[null,2438,5,null,2438,2]
[null,2439,2,null,2439,5]
[null,2440,2,null,2440,2]
[null,2441,1,null,2441,4]
[null,2442,1,null,2442,1]
[null,2443,4,null,2443,1]
[null,2444,2,null,2444,3]
[null,2445,3,null,2445,2]
[null,2446,3,null,2446,5]
[null,2447,1,null,2447,6]
[null,2448,5,null,2448,1]
[null,2449,3,null,2449,5]
[null,2450,3,null,2450,4]
[null,2451,6,null,2451,1]
[null,2452,3,null,2452,4]
[null,2453,6,null,2453,2]
[null,2454,3,null,2454,3]
[null,2455,4,null,2455,4]
[null,2456,4,null,2456,6]
[null,2457,3,null,2457,4]
[null,2458,3,null,2458,2]
[null,2459,6,null,2459,3]
[null,2460,5,null,2460,6]
[null,2461,2,null,2461,3]
[null,2462,3,null,2462,2]
[null,2463,5,null,2463,4]
[null,2464,1,null,2464,3]
[null,2465,2,null,2465,4]
[null,2466,1,null,2466,4]
[null,2467,6,null,2467,3]
[null,2468,4,null,2468,2]
[null,2469,6,null,2469,1]
[null,2470,2,null,2470,1]
[null,2471,6,null,2471,2]
[null,2472,6,null,2472,4]
[null,2473,3,null,2473,3]
[null,2474,5,null,2474,1]
[null,2475,3,null,2475,3]
[null,2476,1,null,2476,2]
[null,2477,2,null,2477,5]
[null,2478,2,null,2478,4]
[null,2479,3,null,2479,2]
[null,2480,5,null,2480,5]
[null,2481,5,null,2481,6]
[null,2482,4,null,2482,4]
[null,2483,1,null,2483,3]
[null,2484,6,null,2484,5]
[null,2485,6,null,2485,6]
[null,2486,2,null,2486,5]
[null,2487,6,null,2487,3]
[null,2488,1,null,2488,6]
[null,2489,1,null,2489,5]
[null,2490,5,null,2490,2]
[null,2491,3,null,2491,2]
[null,2492,3,null,2492,6]
[null,2493,6,null,2493,5]
[null,2494,2,null,2494,5]
[null,2495,6,null,2495,2]
[null,2496,1,null,2496,2]
[null,2497,1,null,2497,5]
[null,2498,4,null,2498,{"$f":"RANDBETWEEN(1,6)","v":4}]
[null,2499,6,null,2499,1]
[null,2500,1,null,2500,6]
[null,2501,5,null,2501,2]
[null,2502,3,null,2502,2]
[null,2503,3,null,2503,3]
[null,2504,1,null,2504,2]
[null,2505,1,null,2505,4]
[null,2506,2,null,2506,4]
[null,2507,3,null,2507,6]
[null,2508,2,null,2508,1]
[null,2509,4,null,2509,5]
[null,2510,3,null,2510,4]
[null,2511,3,null,2511,3]
[null,2512,1,null,2512,6]
[null,2513,3,null,2513,5]
[null,2514,5,null,2514,2]
[null,2515,4,null,2515,3]
[null,2516,1,null,2516,3]
[null,2517,4,null,2517,1]
[null,2518,2,null,2518,2]
[null,2519,5,null,2519,3]
[null,2520,3,null,2520,2]
[null,2521,3,null,2521,4]
[null,2522,1,null,2522,4]
[null,2523,5,null,2523,2]
[null,2524,3,null,2524,3]
[null,2525,6,null,2525,1]
[null,2526,6,null,2526,4]
[null,2527,1,null,2527,1]
[null,2528,6,null,2528,4]
[null,2529,3,null,2529,1]
[null,2530,5,null,2530,6]
[null,2531,4,null,2531,4]
[null,2532,1,null,2532,5]
[null,2533,2,null,2533,2]
[null,2534,3,null,2534,1]
[null,2535,4,null,2535,6]
[null,2536,2,null,2536,3]
[null,2537,4,null,2537,1]
[null,2538,5,null,2538,2]
[null,2539,5,null,2539,2]
[null,2540,4,null,2540,3]
[null,2541,5,null,2541,5]
[null,2542,4,null,2542,6]
[null,2543,4,null,2543,5]
[null,2544,3,null,2544,4]
[null,2545,2,null,2545,5]
[null,2546,3,null,2546,5]
[null,2547,1,null,2547,2]
[null,2548,2,null,2548,6]
[null,2549,1,null,2549,5]
[null,2550,1,null,2550,3]
[null,2551,1,null,2551,2]
[null,2552,3,null,2552,6]
[null,2553,5,null,2553,5]
[null,2554,2,null,2554,1]
[null,2555,6,null,2555,3]
[null,2556,3,null,2556,3]
[null,2557,5,null,2557,6]
[null,2558,1,null,2558,1]
[null,2559,5,null,2559,5]
[null,2560,4,null,2560,5]
[null,2561,3,null,2561,1]
[null,2562,1,null,2562,{"$f":"RANDBETWEEN(1,6)","v":4}]
[null,2563,6,null,2563,6]
[null,2564,5,null,2564,1]
[null,2565,6,null,2565,4]
[null,2566,1,null,2566,2]
[null,2567,2,null,2567,3]
[null,2568,2,null,2568,4]
[null,2569,1,null,2569,2]
[null,2570,4,null,2570,4]
[null,2571,4,null,2571,6]
[null,2572,4,null,2572,5]
[null,2573,4,null,2573,6]
[null,2574,4,null,2574,5]
[null,2575,5,null,2575,3]
[null,2576,2,null,2576,2]
[null,2577,2,null,2577,5]
[null,2578,4,null,2578,6]
[null,2579,3,null,2579,5]
[null,2580,4,null,2580,5]
[null,2581,4,null,2581,2]
[null,2582,3,null,2582,6]
[null,2583,1,null,2583,6]
[null,2584,4,null,2584,6]
[null,2585,1,null,2585,3]
[null,2586,2,null,2586,5]
[null,2587,4,null,2587,6]
[null,2588,6,null,2588,3]
[null,2589,1,null,2589,5]
[null,2590,3,null,2590,3]
[null,2591,4,null,2591,4]
[null,2592,2,null,2592,3]
[null,2593,4,null,2593,1]
[null,2594,3,null,2594,5]
[null,2595,2,null,2595,4]
[null,2596,6,null,2596,3]
[null,2597,2,null,2597,5]
[null,2598,4,null,2598,5]
[null,2599,6,null,2599,1]
[null,2600,2,null,2600,3]
[null,2601,2,null,2601,1]
[null,2602,1,null,2602,2]
[null,2603,1,null,2603,4]
[null,2604,2,null,2604,1]
[null,2605,4,null,2605,4]
[null,2606,3,null,2606,2]
[null,2607,1,null,2607,5]
[null,2608,3,null,2608,4]
[null,2609,4,null,2609,6]
[null,2610,4,null,2610,6]
[null,2611,6,null,2611,4]
[null,2612,4,null,2612,2]
[null,2613,2,null,2613,4]
[null,2614,1,null,2614,3]
[null,2615,2,null,2615,1]
[null,2616,4,null,2616,3]
[null,2617,6,null,2617,5]
[null,2618,3,null,2618,1]
[null,2619,1,null,2619,2]
[null,2620,3,null,2620,6]
[null,2621,5,null,2621,2]
[null,2622,1,null,2622,6]
[null,2623,1,null,2623,5]
[null,2624,5,null,2624,2]
[null,2625,1,null,2625,5]
[null,2626,5,null,2626,{"$f":"RANDBETWEEN(1,6)","v":4}]
[null,2627,3,null,2627,2]
[null,2628,6,null,2628,1]
[null,2629,5,null,2629,1]
[null,2630,3,null,2630,1]
[null,2631,5,null,2631,3]
[null,2632,6,null,2632,1]
[null,2633,6,null,2633,3]
[null,2634,5,null,2634,4]
[null,2635,4,null,2635,4]
[null,2636,4,null,2636,1]
[null,2637,6,null,2637,1]
[null,2638,1,null,2638,1]
[null,2639,6,null,2639,4]
[null,2640,1,null,2640,5]
[null,2641,4,null,2641,4]
[null,2642,4,null,2642,3]
[null,2643,1,null,2643,6]
[null,2644,4,null,2644,3]
[null,2645,2,null,2645,6]
[null,2646,6,null,2646,3]
[null,2647,5,null,2647,2]
[null,2648,6,null,2648,2]
[null,2649,2,null,2649,6]
[null,2650,3,null,2650,1]
[null,2651,5,null,2651,5]
[null,2652,2,null,2652,3]
[null,2653,3,null,2653,3]
[null,2654,4,null,2654,1]
[null,2655,5,null,2655,4]
[null,2656,2,null,2656,2]
[null,2657,3,null,2657,4]
[null,2658,4,null,2658,4]
[null,2659,4,null,2659,6]
[null,2660,2,null,2660,4]
[null,2661,4,null,2661,1]
[null,2662,1,null,2662,6]
[null,2663,2,null,2663,4]
[null,2664,2,null,2664,5]
[null,2665,5,null,2665,1]
[null,2666,1,null,2666,4]
[null,2667,3,null,2667,6]
[null,2668,1,null,2668,2]
[null,2669,1,null,2669,5]
[null,2670,6,null,2670,6]
[null,2671,6,null,2671,4]
[null,2672,4,null,2672,4]
[null,2673,6,null,2673,1]
[null,2674,5,null,2674,3]
[null,2675,6,null,2675,5]
[null,2676,3,null,2676,3]
[null,2677,4,null,2677,2]
[null,2678,6,null,2678,3]
[null,2679,2,null,2679,2]
[null,2680,1,null,2680,5]
[null,2681,6,null,2681,4]
[null,2682,2,null,2682,2]
[null,2683,3,null,2683,5]
[null,2684,4,null,2684,5]
[null,2685,5,null,2685,6]
[null,2686,3,null,2686,2]
[null,2687,3,null,2687,4]
[null,2688,6,null,2688,3]
[null,2689,2,null,2689,3]
[null,2690,2,null,2690,{"$f":"RANDBETWEEN(1,6)","v":5}]
[null,2691,6,null,2691,6]
[null,2692,6,null,2692,1]
[null,2693,4,null,2693,6]
[null,2694,3,null,2694,2]
[null,2695,1,null,2695,6]
[null,2696,6,null,2696,3]
[null,2697,1,null,2697,1]
[null,2698,1,null,2698,4]
[null,2699,3,null,2699,4]
[null,2700,5,null,2700,5]
[null,2701,4,null,2701,2]
[null,2702,2,null,2702,3]
[null,2703,1,null,2703,6]
[null,2704,1,null,2704,4]
[null,2705,6,null,2705,6]
[null,2706,2,null,2706,5]
[null,2707,5,null,2707,2]
[null,2708,2,null,2708,2]
[null,2709,2,null,2709,3]
[null,2710,6,null,2710,4]
[null,2711,3,null,2711,1]
[null,2712,2,null,2712,5]
[null,2713,5,null,2713,2]
[null,2714,2,null,2714,1]
[null,2715,6,null,2715,6]
[null,2716,6,null,2716,4]
[null,2717,5,null,2717,1]
[null,2718,6,null,2718,6]
[null,2719,5,null,2719,6]
[null,2720,5,null,2720,3]
[null,2721,5,null,2721,5]
[null,2722,1,null,2722,6]
[null,2723,3,null,2723,1]
[null,2724,1,null,2724,2]
[null,2725,2,null,2725,4]
[null,2726,2,null,2726,2]
[null,2727,5,null,2727,3]
[null,2728,1,null,2728,1]
[null,2729,3,null,2729,1]
[null,2730,2,null,2730,3]
[null,2731,6,null,2731,2]
[null,2732,4,null,2732,5]
[null,2733,2,null,2733,4]
[null,2734,5,null,2734,3]
[null,2735,6,null,2735,5]
[null,2736,1,null,2736,4]
[null,2737,4,null,2737,5]
[null,2738,6,null,2738,3]
[null,2739,1,null,2739,5]
[null,2740,5,null,2740,6]
[null,2741,4,null,2741,6]
[null,2742,6,null,2742,6]
[null,2743,6,null,2743,5]
[null,2744,5,null,2744,1]
[null,2745,2,null,2745,2]
[null,2746,3,null,2746,6]
[null,2747,3,null,2747,5]
[null,2748,5,null,2748,5]
[null,2749,1,null,2749,3]
[null,2750,2,null,2750,4]
[null,2751,1,null,2751,5]
[null,2752,1,null,2752,2]
[null,2753,1,null,2753,6]
[null,2754,6,null,2754,{"$f":"RANDBETWEEN(1,6)","v":2}]
[null,2755,2,null,2755,2]
[null,2756,1,null,2756,2]
[null,2757,6,null,2757,1]
[null,2758,1,null,2758,1]
[null,2759,1,null,2759,3]
[null,2760,2,null,2760,6]
[null,2761,1,null,2761,1]
[null,2762,4,null,2762,1]
[null,2763,2,null,2763,4]
[null,2764,1,null,2764,2]
[null,2765,4,null,2765,1]
[null,2766,1,null,2766,6]
[null,2767,4,null,2767,4]
[null,2768,4,null,2768,4]
[null,2769,2,null,2769,1]
[null,2770,3,null,2770,5]
[null,2771,4,null,2771,4]
[null,2772,3,null,2772,1]
[null,2773,2,null,2773,6]
[null,2774,6,null,2774,4]
[null,2775,1,null,2775,4]
[null,2776,6,null,2776,3]
[null,2777,1,null,2777,3]
[null,2778,5,null,2778,2]
[null,2779,2,null,2779,1]
[null,2780,2,null,2780,1]
[null,2781,1,null,2781,3]
[null,2782,2,null,2782,2]
[null,2783,6,null,2783,4]
[null,2784,2,null,2784,3]
[null,2785,4,null,2785,1]
[null,2786,4,null,2786,6]
[null,2787,4,null,2787,5]
[null,2788,2,null,2788,5]
[null,2789,5,null,2789,2]
[null,2790,4,null,2790,1]
[null,2791,3,null,2791,4]
[null,2792,1,null,2792,1]
[null,2793,6,null,2793,5]
[null,2794,5,null,2794,4]
[null,2795,2,null,2795,3]
[null,2796,5,null,2796,1]
[null,2797,5,null,2797,5]
[null,2798,2,null,2798,6]
[null,2799,2,null,2799,3]
[null,2800,4,null,2800,1]
[null,2801,2,null,2801,5]
[null,2802,4,null,2802,3]
[null,2803,2,null,2803,1]
[null,2804,4,null,2804,4]
[null,2805,5,null,2805,5]
[null,2806,5,null,2806,2]
[null,2807,5,null,2807,3]
[null,2808,4,null,2808,1]
[null,2809,1,null,2809,6]
[null,2810,4,null,2810,6]
[null,2811,3,null,2811,2]
[null,2812,5,null,2812,6]
[null,2813,5,null,2813,1]
[null,2814,4,null,2814,3]
[null,2815,1,null,2815,6]
[null,2816,3,null,2816,5]
[null,2817,3,null,2817,1]
[null,2818,6,null,2818,{"$f":"RANDBETWEEN(1,6)","v":5}]
[null,2819,1,null,2819,6]
[null,2820,1,null,2820,4]
[null,2821,2,null,2821,4]
[null,2822,5,null,2822,4]
[null,2823,5,null,2823,5]
[null,2824,3,null,2824,1]
[null,2825,1,null,2825,2]
[null,2826,1,null,2826,2]
[null,2827,1,null,2827,4]
[null,2828,3,null,2828,5]
[null,2829,6,null,2829,5]
[null,2830,1,null,2830,1]
[null,2831,5,null,2831,2]
[null,2832,6,null,2832,3]
[null,2833,4,null,2833,6]
[null,2834,6,null,2834,1]
[null,2835,2,null,2835,3]
[null,2836,3,null,2836,2]
[null,2837,6,null,2837,2]
[null,2838,3,null,2838,5]
[null,2839,6,null,2839,3]
[null,2840,1,null,2840,1]
[null,2841,3,null,2841,2]
[null,2842,1,null,2842,6]
[null,2843,1,null,2843,4]
[null,2844,1,null,2844,4]
[null,2845,1,null,2845,3]
[null,2846,5,null,2846,5]
[null,2847,1,null,2847,2]
[null,2848,4,null,2848,2]
[null,2849,1,null,2849,5]
[null,2850,5,null,2850,5]
[null,2851,3,null,2851,2]
[null,2852,6,null,2852,3]
[null,2853,6,null,2853,1]
[null,2854,2,null,2854,4]
[null,2855,5,null,2855,5]
[null,2856,6,null,2856,1]
[null,2857,5,null,2857,5]
[null,2858,6,null,2858,2]
[null,2859,4,null,2859,1]
[null,2860,5,null,2860,4]
[null,2861,2,null,2861,1]
[null,2862,2,null,2862,3]
[null,2863,6,null,2863,5]
[null,2864,3,null,2864,1]
[null,2865,5,null,2865,2]
[null,2866,4,null,2866,2]
[null,2867,2,null,2867,2]
[null,2868,1,null,2868,3]
[null,2869,5,null,2869,6]
[null,2870,1,null,2870,4]
[null,2871,6,null,2871,3]
[null,2872,6,null,2872,3]
[null,2873,5,null,2873,6]
[null,2874,1,null,2874,5]
[null,2875,5,null,2875,6]
[null,2876,1,null,2876,6]
[null,2877,2,null,2877,6]
[null,2878,4,null,2878,1]
[null,2879,2,null,2879,4]
[null,2880,1,null,2880,5]
[null,2881,5,null,2881,6]
[null,2882,1,null,2882,{"$f":"RANDBETWEEN(1,6)","v":6}]
[null,2883,6,null,2883,1]
[null,2884,4,null,2884,5]
[null,2885,3,null,2885,4]
[null,2886,5,null,2886,2]
[null,2887,5,null,2887,2]
[null,2888,4,null,2888,6]
[null,2889,6,null,2889,6]
[null,2890,1,null,2890,1]
[null,2891,6,null,2891,3]
[null,2892,3,null,2892,2]
[null,2893,5,null,2893,2]
[null,2894,5,null,2894,1]
[null,2895,6,null,2895,6]
[null,2896,5,null,2896,4]
[null,2897,3,null,2897,4]
[null,2898,6,null,2898,4]
[null,2899,3,null,2899,6]
[null,2900,6,null,2900,1]
[null,2901,2,null,2901,3]
[null,2902,1,null,2902,1]
[null,2903,6,null,2903,3]
[null,2904,5,null,2904,2]
[null,2905,3,null,2905,6]
[null,2906,4,null,2906,6]
[null,2907,4,null,2907,6]
[null,2908,4,null,2908,5]
[null,2909,6,null,2909,4]
[null,2910,6,null,2910,1]
[null,2911,5,null,2911,1]
[null,2912,3,null,2912,1]
[null,2913,5,null,2913,6]
[null,2914,4,null,2914,4]
[null,2915,6,null,2915,3]
[null,2916,5,null,2916,6]
[null,2917,6,null,2917,6]
[null,2918,4,null,2918,1]
[null,2919,2,null,2919,1]
[null,2920,2,null,2920,1]
[null,2921,1,null,2921,1]
[null,2922,3,null,2922,3]
[null,2923,4,null,2923,1]
[null,2924,4,null,2924,4]
[null,2925,5,null,2925,4]
[null,2926,2,null,2926,1]
[null,2927,2,null,2927,1]
[null,2928,4,null,2928,1]
[null,2929,6,null,2929,1]
[null,2930,2,null,2930,1]
[null,2931,3,null,2931,1]
[null,2932,2,null,2932,2]
[null,2933,6,null,2933,6]
[null,2934,4,null,2934,1]
[null,2935,1,null,2935,5]
[null,2936,1,null,2936,2]
[null,2937,5,null,2937,6]
[null,2938,3,null,2938,1]
[null,2939,6,null,2939,4]
[null,2940,2,null,2940,1]
[null,2941,5,null,2941,2]
[null,2942,2,null,2942,3]
[null,2943,1,null,2943,4]
[null,2944,4,null,2944,3]
[null,2945,6,null,2945,4]
[null,2946,3,null,2946,{"$f":"RANDBETWEEN(1,6)","v":6}]
[null,2947,1,null,2947,2]
[null,2948,2,null,2948,1]
[null,2949,2,null,2949,3]
[null,2950,2,null,2950,3]
[null,2951,1,null,2951,1]
[null,2952,5,null,2952,3]
[null,2953,1,null,2953,2]
[null,2954,2,null,2954,3]
[null,2955,1,null,2955,2]
[null,2956,4,null,2956,5]
[null,2957,2,null,2957,2]
[null,2958,1,null,2958,6]
[null,2959,3,null,2959,2]
[null,2960,5,null,2960,6]
[null,2961,4,null,2961,2]
[null,2962,3,null,2962,5]
[null,2963,5,null,2963,1]
[null,2964,5,null,2964,3]
[null,2965,3,null,2965,4]
[null,2966,4,null,2966,4]
[null,2967,2,null,2967,6]
[null,2968,5,null,2968,3]
[null,2969,4,null,2969,1]
[null,2970,4,null,2970,5]
[null,2971,4,null,2971,6]
[null,2972,4,null,2972,5]
[null,2973,3,null,2973,2]
[null,2974,1,null,2974,5]
[null,2975,6,null,2975,6]
[null,2976,6,null,2976,4]
[null,2977,5,null,2977,1]
[null,2978,1,null,2978,1]
[null,2979,6,null,2979,4]
[null,2980,4,null,2980,5]
[null,2981,6,null,2981,1]
[null,2982,3,null,2982,6]
[null,2983,6,null,2983,2]
[null,2984,4,null,2984,5]
[null,2985,3,null,2985,5]
[null,2986,2,null,2986,3]
[null,2987,2,null,2987,3]
[null,2988,3,null,2988,1]
[null,2989,3,null,2989,1]
[null,2990,2,null,2990,1]
[null,2991,3,null,2991,3]
[null,2992,3,null,2992,3]
[null,2993,4,null,2993,6]
[null,2994,6,null,2994,4]
[null,2995,6,null,2995,5]
[null,2996,1,null,2996,4]
[null,2997,1,null,2997,1]
[null,2998,1,null,2998,3]
[null,2999,1,null,2999,5]
[null,3000,4,null,3000,4]
[null,3001,5,null,3001,4]
[null,3002,1,null,3002,2]
[null,3003,6,null,3003,3]
[null,3004,5,null,3004,5]
[null,3005,3,null,3005,3]
[null,3006,1,null,3006,4]
[null,3007,3,null,3007,6]
[null,3008,5,null,3008,4]
[null,3009,6,null,3009,1]
[null,3010,1,null,3010,{"$f":"RANDBETWEEN(1,6)","v":4}]
[null,3011,1,null,3011,4]
[null,3012,2,null,3012,1]
[null,3013,6,null,3013,5]
[null,3014,5,null,3014,4]
[null,3015,4,null,3015,2]
[null,3016,5,null,3016,4]
[null,3017,1,null,3017,1]
[null,3018,4,null,3018,4]
[null,3019,3,null,3019,3]
[null,3020,4,null,3020,1]
[null,3021,5,null,3021,3]
[null,3022,4,null,3022,5]
[null,3023,6,null,3023,2]
[null,3024,5,null,3024,4]
[null,3025,2,null,3025,4]
[null,3026,2,null,3026,5]
[null,3027,3,null,3027,6]
[null,3028,3,null,3028,1]
[null,3029,3,null,3029,5]
[null,3030,1,null,3030,1]
[null,3031,1,null,3031,1]
[null,3032,5,null,3032,2]
[null,3033,6,null,3033,4]
[null,3034,2,null,3034,4]
[null,3035,1,null,3035,3]
[null,3036,1,null,3036,3]
[null,3037,6,null,3037,4]
[null,3038,3,null,3038,4]
[null,3039,4,null,3039,3]
[null,3040,3,null,3040,4]
[null,3041,1,null,3041,1]
[null,3042,2,null,3042,4]
[null,3043,6,null,3043,6]
[null,3044,6,null,3044,3]
[null,3045,4,null,3045,6]
[null,3046,3,null,3046,6]
[null,3047,2,null,3047,3]
[null,3048,1,null,3048,4]
[null,3049,4,null,3049,1]
[null,3050,6,null,3050,3]
[null,3051,1,null,3051,4]
[null,3052,2,null,3052,4]
[null,3053,1,null,3053,5]
[null,3054,5,null,3054,5]
[null,3055,5,null,3055,1]
[null,3056,1,null,3056,3]
[null,3057,5,null,3057,2]
[null,3058,6,null,3058,3]
[null,3059,1,null,3059,5]
[null,3060,6,null,3060,6]
[null,3061,4,null,3061,4]
[null,3062,4,null,3062,3]
[null,3063,4,null,3063,4]
[null,3064,4,null,3064,4]
[null,3065,3,null,3065,1]
[null,3066,2,null,3066,5]
[null,3067,6,null,3067,5]
[null,3068,6,null,3068,2]
[null,3069,1,null,3069,5]
[null,3070,1,null,3070,2]
[null,3071,4,null,3071,5]
[null,3072,1,null,3072,1]
[null,3073,4,null,3073,6]
[null,3074,6,null,3074,{"$f":"RANDBETWEEN(1,6)","v":6}]
[null,3075,1,null,3075,3]
[null,3076,4,null,3076,4]
[null,3077,2,null,3077,4]
[null,3078,2,null,3078,6]
[null,3079,5,null,3079,2]
[null,3080,1,null,3080,4]
[null,3081,2,null,3081,3]
[null,3082,4,null,3082,6]
[null,3083,3,null,3083,6]
[null,3084,1,null,3084,4]
[null,3085,3,null,3085,3]
[null,3086,2,null,3086,2]
[null,3087,2,null,3087,2]
[null,3088,5,null,3088,3]
[null,3089,2,null,3089,2]
[null,3090,3,null,3090,6]
[null,3091,1,null,3091,3]
[null,3092,6,null,3092,5]
[null,3093,2,null,3093,2]
[null,3094,6,null,3094,1]
[null,3095,6,null,3095,3]
[null,3096,1,null,3096,5]
[null,3097,1,null,3097,2]
[null,3098,3,null,3098,1]
[null,3099,2,null,3099,4]
[null,3100,5,null,3100,4]
[null,3101,2,null,3101,6]
[null,3102,2,null,3102,6]
[null,3103,4,null,3103,2]
[null,3104,5,null,3104,4]
[null,3105,1,null,3105,2]
[null,3106,2,null,3106,1]
[null,3107,1,null,3107,3]
[null,3108,2,null,3108,1]
[null,3109,5,null,3109,6]
[null,3110,2,null,3110,4]
[null,3111,1,null,3111,3]
[null,3112,2,null,3112,3]
[null,3113,4,null,3113,6]
[null,3114,5,null,3114,4]
[null,3115,1,null,3115,3]
[null,3116,5,null,3116,5]
[null,3117,5,null,3117,1]
[null,3118,4,null,3118,2]
[null,3119,1,null,3119,3]
[null,3120,5,null,3120,5]
[null,3121,5,null,3121,2]
[null,3122,2,null,3122,1]
[null,3123,5,null,3123,3]
[null,3124,4,null,3124,4]
[null,3125,2,null,3125,3]
[null,3126,3,null,3126,1]
[null,3127,5,null,3127,3]
[null,3128,1,null,3128,2]
[null,3129,1,null,3129,4]
[null,3130,4,null,3130,4]
[null,3131,3,null,3131,2]
[null,3132,4,null,3132,2]
[null,3133,2,null,3133,3]
[null,3134,4,null,3134,2]
[null,3135,5,null,3135,3]
[null,3136,2,null,3136,2]
[null,3137,4,null,3137,6]
[null,3138,4,null,3138,{"$f":"RANDBETWEEN(1,6)","v":3}]
[null,3139,1,null,3139,5]
[null,3140,6,null,3140,5]
[null,3141,2,null,3141,6]
[null,3142,3,null,3142,1]
[null,3143,5,null,3143,6]
[null,3144,1,null,3144,4]
[null,3145,5,null,3145,5]
[null,3146,5,null,3146,3]
[null,3147,3,null,3147,2]
[null,3148,5,null,3148,6]
[null,3149,6,null,3149,1]
[null,3150,3,null,3150,1]
[null,3151,6,null,3151,3]
[null,3152,1,null,3152,2]
[null,3153,3,null,3153,1]
[null,3154,5,null,3154,6]
[null,3155,2,null,3155,5]
[null,3156,2,null,3156,4]
[null,3157,2,null,3157,3]
[null,3158,3,null,3158,5]
[null,3159,1,null,3159,4]
[null,3160,4,null,3160,2]
[null,3161,3,null,3161,6]
[null,3162,6,null,3162,4]
[null,3163,2,null,3163,2]
[null,3164,2,null,3164,2]
[null,3165,6,null,3165,5]
[null,3166,1,null,3166,6]
[null,3167,2,null,3167,1]
[null,3168,6,null,3168,4]
[null,3169,4,null,3169,5]
[null,3170,2,null,3170,2]
[null,3171,1,null,3171,3]
[null,3172,2,null,3172,5]
[null,3173,4,null,3173,6]
[null,3174,6,null,3174,3]
[null,3175,4,null,3175,2]
[null,3176,4,null,3176,5]
[null,3177,1,null,3177,6]
[null,3178,5,null,3178,1]
[null,3179,6,null,3179,2]
[null,3180,6,null,3180,1]
[null,3181,2,null,3181,6]
[null,3182,2,null,3182,6]
[null,3183,5,null,3183,4]
[null,3184,3,null,3184,3]
[null,3185,1,null,3185,2]
[null,3186,2,null,3186,5]
[null,3187,4,null,3187,2]
[null,3188,4,null,3188,2]
[null,3189,5,null,3189,3]
[null,3190,1,null,3190,1]
[null,3191,2,null,3191,4]
[null,3192,3,null,3192,1]
[null,3193,6,null,3193,3]
[null,3194,5,null,3194,1]
[null,3195,1,null,3195,4]
[null,3196,6,null,3196,2]
[null,3197,1,null,3197,1]
[null,3198,4,null,3198,6]
[null,3199,4,null,3199,6]
[null,3200,6,null,3200,3]
[null,3201,5,null,3201,3]
[null,3202,3,null,3202,{"$f":"RANDBETWEEN(1,6)","v":3}]
[null,3203,3,null,3203,1]
[null,3204,1,null,3204,5]
[null,3205,6,null,3205,6]
[null,3206,4,null,3206,6]
[null,3207,5,null,3207,6]
[null,3208,5,null,3208,2]
[null,3209,1,null,3209,3]
[null,3210,2,null,3210,1]
[null,3211,5,null,3211,3]
[null,3212,6,null,3212,2]
[null,3213,3,null,3213,3]
[null,3214,1,null,3214,2]
[null,3215,3,null,3215,4]
[null,3216,1,null,3216,5]
[null,3217,6,null,3217,1]
[null,3218,4,null,3218,3]
[null,3219,6,null,3219,6]
[null,3220,3,null,3220,3]
[null,3221,3,null,3221,4]
[null,3222,4,null,3222,1]
[null,3223,3,null,3223,4]
[null,3224,6,null,3224,2]
[null,3225,6,null,3225,6]
[null,3226,5,null,3226,2]
[null,3227,5,null,3227,3]
[null,3228,4,null,3228,2]
[null,3229,5,null,3229,2]
[null,3230,2,null,3230,4]
[null,3231,6,null,3231,3]
[null,3232,5,null,3232,1]
[null,3233,3,null,3233,3]
[null,3234,4,null,3234,5]
[null,3235,2,null,3235,5]
[null,3236,3,null,3236,6]
[null,3237,4,null,3237,1]
[null,3238,2,null,3238,5]
[null,3239,6,null,3239,6]
[null,3240,1,null,3240,6]
[null,3241,1,null,3241,2]
[null,3242,1,null,3242,6]
[null,3243,5,null,3243,3]
[null,3244,4,null,3244,3]
[null,3245,2,null,3245,4]
[null,3246,2,null,3246,5]
[null,3247,2,null,3247,4]
[null,3248,1,null,3248,1]
[null,3249,1,null,3249,1]
[null,3250,2,null,3250,5]
[null,3251,2,null,3251,6]
[null,3252,2,null,3252,1]
[null,3253,1,null,3253,6]
[null,3254,5,null,3254,6]
[null,3255,5,null,3255,5]
[null,3256,2,null,3256,6]
[null,3257,5,null,3257,2]
[null,3258,4,null,3258,3]
[null,3259,4,null,3259,4]
[null,3260,4,null,3260,5]
[null,3261,6,null,3261,2]
[null,3262,3,null,3262,4]
[null,3263,6,null,3263,6]
[null,3264,4,null,3264,1]
[null,3265,6,null,3265,5]
[null,3266,3,null,3266,{"$f":"RANDBETWEEN(1,6)","v":4}]
[null,3267,1,null,3267,4]
[null,3268,2,null,3268,3]
[null,3269,2,null,3269,5]
[null,3270,4,null,3270,4]
[null,3271,2,null,3271,5]
[null,3272,6,null,3272,5]
[null,3273,2,null,3273,4]
[null,3274,4,null,3274,5]
[null,3275,2,null,3275,6]
[null,3276,4,null,3276,4]
[null,3277,6,null,3277,4]
[null,3278,6,null,3278,1]
[null,3279,4,null,3279,4]
[null,3280,5,null,3280,5]
[null,3281,2,null,3281,2]
[null,3282,4,null,3282,6]
[null,3283,2,null,3283,4]
[null,3284,5,null,3284,6]
[null,3285,2,null,3285,2]
[null,3286,5,null,3286,6]
[null,3287,5,null,3287,5]
[null,3288,3,null,3288,5]
[null,3289,5,null,3289,6]
[null,3290,3,null,3290,5]
[null,3291,5,null,3291,3]
[null,3292,3,null,3292,6]
[null,3293,4,null,3293,3]
[null,3294,4,null,3294,4]
[null,3295,1,null,3295,2]
[null,3296,1,null,3296,2]
[null,3297,2,null,3297,3]
[null,3298,4,null,3298,4]
[null,3299,3,null,3299,4]
[null,3300,5,null,3300,1]
[null,3301,6,null,3301,1]
[null,3302,5,null,3302,4]
[null,3303,3,null,3303,1]
[null,3304,3,null,3304,2]
[null,3305,2,null,3305,2]
[null,3306,1,null,3306,1]
[null,3307,1,null,3307,1]
[null,3308,2,null,3308,1]
[null,3309,6,null,3309,5]
[null,3310,2,null,3310,1]
[null,3311,1,null,3311,2]
[null,3312,4,null,3312,2]
[null,3313,4,null,3313,5]
[null,3314,6,null,3314,1]
[null,3315,6,null,3315,5]
[null,3316,6,null,3316,2]
[null,3317,6,null,3317,2]
[null,3318,5,null,3318,3]
[null,3319,3,null,3319,5]
[null,3320,3,null,3320,5]
[null,3321,1,null,3321,6]
[null,3322,2,null,3322,1]
[null,3323,4,null,3323,4]
[null,3324,2,null,3324,2]
[null,3325,6,null,3325,2]
[null,3326,3,null,3326,5]
[null,3327,5,null,3327,5]
[null,3328,3,null,3328,2]
[null,3329,6,null,3329,2]
[null,3330,2,null,3330,{"$f":"RANDBETWEEN(1,6)","v":3}]
[null,3331,4,null,3331,1]
[null,3332,4,null,3332,4]
[null,3333,6,null,3333,2]
[null,3334,2,null,3334,3]
[null,3335,1,null,3335,2]
[null,3336,2,null,3336,4]
[null,3337,3,null,3337,6]
[null,3338,3,null,3338,6]
[null,3339,2,null,3339,1]
[null,3340,1,null,3340,3]
[null,3341,3,null,3341,5]
[null,3342,6,null,3342,4]
[null,3343,2,null,3343,3]
[null,3344,4,null,3344,1]
[null,3345,3,null,3345,3]
[null,3346,3,null,3346,3]
[null,3347,1,null,3347,1]
[null,3348,4,null,3348,3]
[null,3349,6,null,3349,6]
[null,3350,2,null,3350,1]
[null,3351,6,null,3351,4]
[null,3352,6,null,3352,6]
[null,3353,3,null,3353,3]
[null,3354,6,null,3354,4]
[null,3355,2,null,3355,2]
[null,3356,1,null,3356,4]
[null,3357,6,null,3357,2]
[null,3358,2,null,3358,1]
[null,3359,4,null,3359,6]
[null,3360,5,null,3360,4]
[null,3361,6,null,3361,2]
[null,3362,5,null,3362,4]
[null,3363,4,null,3363,6]
[null,3364,6,null,3364,1]
[null,3365,5,null,3365,3]
[null,3366,1,null,3366,3]
[null,3367,2,null,3367,2]
[null,3368,2,null,3368,5]
[null,3369,3,null,3369,5]
[null,3370,6,null,3370,6]
[null,3371,1,null,3371,6]
[null,3372,5,null,3372,5]
[null,3373,5,null,3373,6]
[null,3374,4,null,3374,2]
[null,3375,3,null,3375,1]
[null,3376,2,null,3376,4]
[null,3377,5,null,3377,1]
[null,3378,3,null,3378,4]
[null,3379,6,null,3379,1]
[null,3380,3,null,3380,4]
[null,3381,1,null,3381,2]
[null,3382,4,null,3382,3]
[null,3383,3,null,3383,5]
[null,3384,5,null,3384,6]
[null,3385,3,null,3385,2]
[null,3386,3,null,3386,3]
[null,3387,3,null,3387,3]
[null,3388,5,null,3388,4]
[null,3389,1,null,3389,3]
[null,3390,3,null,3390,4]
[null,3391,6,null,3391,5]
[null,3392,6,null,3392,6]
[null,3393,6,null,3393,4]
[null,3394,5,null,3394,{"$f":"RANDBETWEEN(1,6)","v":3}]
[null,3395,2,null,3395,1]
[null,3396,3,null,3396,5]
[null,3397,6,null,3397,6]
[null,3398,1,null,3398,3]
[null,3399,1,null,3399,1]
[null,3400,4,null,3400,1]
[null,3401,3,null,3401,1]
[null,3402,2,null,3402,2]
[null,3403,2,null,3403,1]
[null,3404,2,null,3404,5]
[null,3405,4,null,3405,5]
[null,3406,5,null,3406,6]
[null,3407,1,null,3407,1]
[null,3408,5,null,3408,2]
[null,3409,3,null,3409,3]
[null,3410,3,null,3410,4]
[null,3411,4,null,3411,2]
[null,3412,2,null,3412,5]
[null,3413,6,null,3413,6]
[null,3414,1,null,3414,5]
[null,3415,5,null,3415,2]
[null,3416,3,null,3416,3]
[null,3417,4,null,3417,2]
[null,3418,3,null,3418,5]
[null,3419,1,null,3419,3]
[null,3420,4,null,3420,6]
[null,3421,6,null,3421,4]
[null,3422,1,null,3422,6]
[null,3423,5,null,3423,2]
[null,3424,3,null,3424,2]
[null,3425,3,null,3425,3]
[null,3426,6,null,3426,5]
[null,3427,3,null,3427,5]
[null,3428,6,null,3428,2]
[null,3429,2,null,3429,1]
[null,3430,4,null,3430,2]
[null,3431,4,null,3431,2]
[null,3432,4,null,3432,4]
[null,3433,3,null,3433,2]
[null,3434,5,null,3434,6]
[null,3435,4,null,3435,3]
[null,3436,1,null,3436,1]
[null,3437,4,null,3437,4]
[null,3438,3,null,3438,2]
[null,3439,3,null,3439,1]
[null,3440,6,null,3440,3]
[null,3441,3,null,3441,4]
[null,3442,4,null,3442,2]
[null,3443,6,null,3443,4]
[null,3444,1,null,3444,2]
[null,3445,6,null,3445,1]
[null,3446,1,null,3446,3]
[null,3447,4,null,3447,1]
[null,3448,3,null,3448,4]
[null,3449,1,null,3449,2]
[null,3450,2,null,3450,1]
[null,3451,2,null,3451,3]
[null,3452,6,null,3452,4]
[null,3453,4,null,3453,4]
[null,3454,5,null,3454,3]
[null,3455,2,null,3455,3]
[null,3456,1,null,3456,2]
[null,3457,1,null,3457,5]
[null,3458,3,null,3458,{"$f":"RANDBETWEEN(1,6)","v":2}]
[null,3459,6,null,3459,1]
[null,3460,1,null,3460,5]
[null,3461,5,null,3461,3]
[null,3462,4,null,3462,6]
[null,3463,2,null,3463,2]
[null,3464,6,null,3464,2]
[null,3465,3,null,3465,3]
[null,3466,5,null,3466,3]
[null,3467,3,null,3467,5]
[null,3468,4,null,3468,2]
[null,3469,1,null,3469,5]
[null,3470,2,null,3470,6]
[null,3471,6,null,3471,5]
[null,3472,3,null,3472,4]
[null,3473,2,null,3473,5]
[null,3474,3,null,3474,3]
[null,3475,5,null,3475,2]
[null,3476,4,null,3476,1]
[null,3477,2,null,3477,6]
[null,3478,1,null,3478,1]
[null,3479,6,null,3479,5]
[null,3480,1,null,3480,4]
[null,3481,5,null,3481,5]
[null,3482,6,null,3482,3]
[null,3483,5,null,3483,2]
[null,3484,4,null,3484,6]
[null,3485,2,null,3485,3]
[null,3486,3,null,3486,5]
[null,3487,6,null,3487,4]
[null,3488,2,null,3488,5]
[null,3489,1,null,3489,1]
[null,3490,1,null,3490,2]
[null,3491,5,null,3491,6]
[null,3492,4,null,3492,6]
[null,3493,4,null,3493,5]
[null,3494,2,null,3494,5]
[null,3495,3,null,3495,2]
[null,3496,4,null,3496,1]
[null,3497,5,null,3497,1]
[null,3498,3,null,3498,2]
[null,3499,5,null,3499,1]
[null,3500,6,null,3500,4]
[null,3501,6,null,3501,1]
[null,3502,3,null,3502,3]
[null,3503,5,null,3503,1]
[null,3504,5,null,3504,1]
[null,3505,6,null,3505,1]
[null,3506,5,null,3506,3]
[null,3507,2,null,3507,3]
[null,3508,6,null,3508,3]
[null,3509,1,null,3509,2]
[null,3510,3,null,3510,4]
[null,3511,5,null,3511,3]
[null,3512,2,null,3512,5]
[null,3513,6,null,3513,3]
[null,3514,2,null,3514,6]
[null,3515,5,null,3515,2]
[null,3516,5,null,3516,4]
[null,3517,2,null,3517,3]
[null,3518,5,null,3518,5]
[null,3519,1,null,3519,1]
[null,3520,2,null,3520,1]
[null,3521,2,null,3521,1]
[null,3522,2,null,3522,{"$f":"RANDBETWEEN(1,6)","v":4}]
[null,3523,6,null,3523,3]
[null,3524,2,null,3524,4]
[null,3525,4,null,3525,3]
[null,3526,2,null,3526,4]
[null,3527,3,null,3527,3]
[null,3528,1,null,3528,1]
[null,3529,5,null,3529,4]
[null,3530,3,null,3530,3]
[null,3531,2,null,3531,3]
[null,3532,5,null,3532,2]
[null,3533,5,null,3533,2]
[null,3534,5,null,3534,3]
[null,3535,5,null,3535,6]
[null,3536,2,null,3536,1]
[null,3537,4,null,3537,1]
[null,3538,1,null,3538,1]
[null,3539,2,null,3539,4]
[null,3540,3,null,3540,5]
[null,3541,5,null,3541,6]
[null,3542,5,null,3542,2]
[null,3543,6,null,3543,2]
[null,3544,1,null,3544,1]
[null,3545,5,null,3545,6]
[null,3546,4,null,3546,3]
[null,3547,4,null,3547,1]
[null,3548,2,null,3548,5]
[null,3549,6,null,3549,3]
[null,3550,4,null,3550,3]
[null,3551,6,null,3551,3]
[null,3552,6,null,3552,6]
[null,3553,1,null,3553,4]
[null,3554,3,null,3554,6]
[null,3555,4,null,3555,1]
[null,3556,3,null,3556,5]
[null,3557,5,null,3557,1]
[null,3558,2,null,3558,3]
[null,3559,6,null,3559,4]
[null,3560,2,null,3560,5]
[null,3561,4,null,3561,3]
[null,3562,6,null,3562,3]
[null,3563,1,null,3563,2]
[null,3564,1,null,3564,1]
[null,3565,1,null,3565,1]
[null,3566,2,null,3566,4]
[null,3567,3,null,3567,4]
[null,3568,3,null,3568,4]
[null,3569,2,null,3569,5]
[null,3570,1,null,3570,2]
[null,3571,5,null,3571,6]
[null,3572,6,null,3572,3]
[null,3573,6,null,3573,6]
[null,3574,2,null,3574,2]
[null,3575,2,null,3575,1]
[null,3576,4,null,3576,2]
[null,3577,2,null,3577,5]
[null,3578,5,null,3578,6]
[null,3579,4,null,3579,4]
[null,3580,5,null,3580,4]
[null,3581,6,null,3581,1]
[null,3582,3,null,3582,6]
[null,3583,2,null,3583,3]
[null,3584,1,null,3584,1]
[null,3585,5,null,3585,3]
[null,3586,2,null,3586,{"$f":"RANDBETWEEN(1,6)","v":5}]
[null,3587,4,null,3587,5]
[null,3588,3,null,3588,1]
[null,3589,5,null,3589,1]
[null,3590,3,null,3590,5]
[null,3591,4,null,3591,6]
[null,3592,2,null,3592,4]
[null,3593,3,null,3593,4]
[null,3594,1,null,3594,2]
[null,3595,1,null,3595,3]
[null,3596,4,null,3596,3]
[null,3597,5,null,3597,4]
[null,3598,2,null,3598,4]
[null,3599,2,null,3599,3]
[null,3600,4,null,3600,2]
[null,3601,4,null,3601,6]
[null,3602,4,null,3602,1]
[null,3603,6,null,3603,4]
[null,3604,5,null,3604,2]
[null,3605,2,null,3605,2]
[null,3606,2,null,3606,1]
[null,3607,3,null,3607,6]
[null,3608,3,null,3608,6]
[null,3609,4,null,3609,1]
[null,3610,6,null,3610,5]
[null,3611,5,null,3611,4]
[null,3612,6,null,3612,3]
[null,3613,2,null,3613,6]
[null,3614,1,null,3614,2]
[null,3615,3,null,3615,4]
[null,3616,5,null,3616,5]
[null,3617,3,null,3617,6]
[null,3618,6,null,3618,4]
[null,3619,6,null,3619,2]
[null,3620,6,null,3620,3]
[null,3621,5,null,3621,2]
[null,3622,5,null,3622,6]
[null,3623,3,null,3623,5]
[null,3624,2,null,3624,2]
[null,3625,4,null,3625,5]
[null,3626,5,null,3626,3]
[null,3627,6,null,3627,3]
[null,3628,1,null,3628,6]
[null,3629,5,null,3629,6]
[null,3630,4,null,3630,5]
[null,3631,2,null,3631,2]
[null,3632,6,null,3632,4]
[null,3633,6,null,3633,5]
[null,3634,4,null,3634,2]
[null,3635,4,null,3635,2]
[null,3636,3,null,3636,1]
[null,3637,3,null,3637,4]
[null,3638,2,null,3638,4]
[null,3639,4,null,3639,6]
[null,3640,6,null,3640,6]
[null,3641,4,null,3641,4]
[null,3642,5,null,3642,2]
[null,3643,3,null,3643,2]
[null,3644,6,null,3644,2]
[null,3645,1,null,3645,4]
[null,3646,1,null,3646,4]
[null,3647,2,null,3647,2]
[null,3648,1,null,3648,3]
[null,3649,6,null,3649,4]
[null,3650,6,null,3650,{"$f":"RANDBETWEEN(1,6)","v":2}]
[null,3651,6,null,3651,3]
[null,3652,3,null,3652,4]
[null,3653,4,null,3653,6]
[null,3654,2,null,3654,4]
[null,3655,5,null,3655,5]
[null,3656,4,null,3656,4]
[null,3657,3,null,3657,2]
[null,3658,5,null,3658,5]
[null,3659,6,null,3659,5]
[null,3660,6,null,3660,1]
[null,3661,1,null,3661,1]
[null,3662,4,null,3662,6]
[null,3663,4,null,3663,3]
[null,3664,1,null,3664,3]
[null,3665,4,null,3665,2]
[null,3666,1,null,3666,5]
[null,3667,5,null,3667,6]
[null,3668,3,null,3668,3]
[null,3669,1,null,3669,2]
[null,3670,2,null,3670,5]
[null,3671,4,null,3671,2]
[null,3672,4,null,3672,4]
[null,3673,6,null,3673,4]
[null,3674,2,null,3674,1]
[null,3675,6,null,3675,3]
[null,3676,2,null,3676,3]
[null,3677,4,null,3677,5]
[null,3678,2,null,3678,6]
[null,3679,6,null,3679,1]
[null,3680,4,null,3680,4]
[null,3681,3,null,3681,6]
[null,3682,5,null,3682,3]
[null,3683,5,null,3683,4]
[null,3684,2,null,3684,6]
[null,3685,1,null,3685,1]
[null,3686,2,null,3686,1]
[null,3687,2,null,3687,6]
[null,3688,4,null,3688,6]
[null,3689,6,null,3689,1]
[null,3690,6,null,3690,1]
[null,3691,6,null,3691,4]
[null,3692,3,null,3692,6]
[null,3693,4,null,3693,6]
[null,3694,6,null,3694,1]
[null,3695,5,null,3695,5]
[null,3696,1,null,3696,1]
[null,3697,6,null,3697,1]
[null,3698,4,null,3698,3]
[null,3699,4,null,3699,6]
[null,3700,4,null,3700,3]
[null,3701,3,null,3701,1]
[null,3702,1,null,3702,2]
[null,3703,6,null,3703,2]
[null,3704,1,null,3704,2]
[null,3705,5,null,3705,1]
[null,3706,4,null,3706,6]
[null,3707,3,null,3707,1]
[null,3708,2,null,3708,3]
[null,3709,5,null,3709,3]
[null,3710,2,null,3710,6]
[null,3711,6,null,3711,4]
[null,3712,1,null,3712,6]
[null,3713,3,null,3713,1]
[null,3714,3,null,3714,{"$f":"RANDBETWEEN(1,6)","v":3}]
[null,3715,5,null,3715,5]
[null,3716,3,null,3716,2]
[null,3717,3,null,3717,5]
[null,3718,6,null,3718,6]
[null,3719,4,null,3719,4]
[null,3720,3,null,3720,5]
[null,3721,6,null,3721,3]
[null,3722,3,null,3722,6]
[null,3723,4,null,3723,2]
[null,3724,2,null,3724,4]
[null,3725,6,null,3725,6]
[null,3726,5,null,3726,3]
[null,3727,5,null,3727,5]
[null,3728,5,null,3728,2]
[null,3729,6,null,3729,1]
[null,3730,5,null,3730,5]
[null,3731,5,null,3731,5]
[null,3732,4,null,3732,4]
[null,3733,5,null,3733,6]
[null,3734,2,null,3734,4]
[null,3735,4,null,3735,5]
[null,3736,2,null,3736,2]
[null,3737,6,null,3737,5]
[null,3738,5,null,3738,1]
[null,3739,6,null,3739,5]
[null,3740,2,null,3740,1]
[null,3741,3,null,3741,3]
[null,3742,3,null,3742,2]
[null,3743,1,null,3743,2]
[null,3744,6,null,3744,5]
[null,3745,5,null,3745,1]
[null,3746,1,null,3746,5]
[null,3747,4,null,3747,2]
[null,3748,1,null,3748,4]
[null,3749,5,null,3749,5]
[null,3750,6,null,3750,2]
[null,3751,6,null,3751,5]
[null,3752,1,null,3752,2]
[null,3753,3,null,3753,3]
[null,3754,5,null,3754,3]
[null,3755,2,null,3755,3]
[null,3756,5,null,3756,4]
[null,3757,4,null,3757,4]
[null,3758,3,null,3758,4]
[null,3759,4,null,3759,3]
[null,3760,3,null,3760,5]
[null,3761,4,null,3761,2]
[null,3762,3,null,3762,4]
[null,3763,2,null,3763,6]
[null,3764,1,null,3764,4]
[null,3765,3,null,3765,6]
[null,3766,2,null,3766,6]
[null,3767,2,null,3767,2]
[null,3768,2,null,3768,5]
[null,3769,1,null,3769,4]
[null,3770,5,null,3770,5]
[null,3771,6,null,3771,3]
[null,3772,4,null,3772,4]
[null,3773,1,null,3773,5]
[null,3774,5,null,3774,4]
[null,3775,1,null,3775,4]
[null,3776,5,null,3776,5]
[null,3777,3,null,3777,4]
[null,3778,5,null,3778,{"$f":"RANDBETWEEN(1,6)","v":2}]
[null,3779,4,null,3779,1]
[null,3780,5,null,3780,4]
[null,3781,4,null,3781,6]
[null,3782,6,null,3782,2]
[null,3783,1,null,3783,1]
[null,3784,5,null,3784,4]
[null,3785,6,null,3785,3]
[null,3786,6,null,3786,6]
[null,3787,3,null,3787,5]
[null,3788,1,null,3788,1]
[null,3789,3,null,3789,1]
[null,3790,1,null,3790,3]
[null,3791,2,null,3791,3]
[null,3792,3,null,3792,4]
[null,3793,3,null,3793,2]
[null,3794,1,null,3794,2]
[null,3795,1,null,3795,6]
[null,3796,1,null,3796,1]
[null,3797,2,null,3797,2]
[null,3798,2,null,3798,2]
[null,3799,3,null,3799,3]
[null,3800,4,null,3800,5]
[null,3801,4,null,3801,1]
[null,3802,1,null,3802,1]
[null,3803,5,null,3803,5]
[null,3804,5,null,3804,6]
[null,3805,1,null,3805,3]
[null,3806,3,null,3806,2]
[null,3807,5,null,3807,3]
[null,3808,4,null,3808,3]
[null,3809,2,null,3809,3]
[null,3810,1,null,3810,6]
[null,3811,6,null,3811,1]
[null,3812,1,null,3812,5]
[null,3813,2,null,3813,2]
[null,3814,6,null,3814,5]
[null,3815,5,null,3815,3]
[null,3816,4,null,3816,3]
[null,3817,1,null,3817,5]
[null,3818,5,null,3818,6]
[null,3819,5,null,3819,4]
[null,3820,2,null,3820,3]
[null,3821,5,null,3821,6]
[null,3822,4,null,3822,3]
[null,3823,2,null,3823,3]
[null,3824,5,null,3824,5]
[null,3825,1,null,3825,2]
[null,3826,2,null,3826,1]
[null,3827,3,null,3827,4]
[null,3828,3,null,3828,4]
[null,3829,5,null,3829,5]
[null,3830,6,null,3830,2]
[null,3831,4,null,3831,5]
[null,3832,4,null,3832,5]
[null,3833,2,null,3833,5]
[null,3834,6,null,3834,3]
[null,3835,3,null,3835,3]
[null,3836,2,null,3836,5]
[null,3837,3,null,3837,2]
[null,3838,2,null,3838,4]
[null,3839,5,null,3839,1]
[null,3840,4,null,3840,2]
[null,3841,1,null,3841,2]
[null,3842,3,null,3842,{"$f":"RANDBETWEEN(1,6)","v":3}]
[null,3843,3,null,3843,4]
[null,3844,3,null,3844,5]
[null,3845,5,null,3845,6]
[null,3846,4,null,3846,2]
[null,3847,1,null,3847,1]
[null,3848,6,null,3848,1]
[null,3849,1,null,3849,4]
[null,3850,4,null,3850,3]
[null,3851,4,null,3851,1]
[null,3852,2,null,3852,5]
[null,3853,3,null,3853,4]
[null,3854,5,null,3854,5]
[null,3855,4,null,3855,1]
[null,3856,1,null,3856,4]
[null,3857,6,null,3857,4]
[null,3858,1,null,3858,2]
[null,3859,6,null,3859,4]
[null,3860,2,null,3860,2]
[null,3861,1,null,3861,4]
[null,3862,6,null,3862,2]
[null,3863,3,null,3863,6]
[null,3864,1,null,3864,6]
[null,3865,4,null,3865,1]
[null,3866,3,null,3866,1]
[null,3867,2,null,3867,5]
[null,3868,2,null,3868,4]
[null,3869,6,null,3869,4]
[null,3870,3,null,3870,6]
[null,3871,6,null,3871,5]
[null,3872,1,null,3872,6]
[null,3873,4,null,3873,3]
[null,3874,5,null,3874,2]
[null,3875,5,null,3875,1]
[null,3876,1,null,3876,3]
[null,3877,6,null,3877,3]
[null,3878,6,null,3878,5]
[null,3879,5,null,3879,3]
[null,3880,1,null,3880,1]
[null,3881,1,null,3881,6]
[null,3882,3,null,3882,6]
[null,3883,6,null,3883,1]
[null,3884,3,null,3884,2]
[null,3885,4,null,3885,3]
[null,3886,6,null,3886,5]
[null,3887,4,null,3887,5]
[null,3888,1,null,3888,1]
[null,3889,2,null,3889,3]
[null,3890,1,null,3890,6]
[null,3891,4,null,3891,1]
[null,3892,5,null,3892,5]
[null,3893,4,null,3893,6]
[null,3894,1,null,3894,1]
[null,3895,4,null,3895,2]
[null,3896,1,null,3896,5]
[null,3897,5,null,3897,3]
[null,3898,5,null,3898,6]
[null,3899,4,null,3899,3]
[null,3900,2,null,3900,2]
[null,3901,4,null,3901,5]
[null,3902,6,null,3902,3]
[null,3903,5,null,3903,1]
[null,3904,1,null,3904,4]
[null,3905,2,null,3905,5]
[null,3906,1,null,3906,{"$f":"RANDBETWEEN(1,6)","v":6}]
[null,3907,3,null,3907,5]
[null,3908,5,null,3908,1]
[null,3909,2,null,3909,5]
[null,3910,5,null,3910,5]
[null,3911,5,null,3911,5]
[null,3912,2,null,3912,2]
[null,3913,5,null,3913,3]
[null,3914,4,null,3914,5]
[null,3915,3,null,3915,6]
[null,3916,2,null,3916,6]
[null,3917,3,null,3917,3]
[null,3918,4,null,3918,3]
[null,3919,2,null,3919,5]
[null,3920,1,null,3920,4]
[null,3921,2,null,3921,1]
[null,3922,5,null,3922,3]
[null,3923,5,null,3923,2]
[null,3924,4,null,3924,2]
[null,3925,4,null,3925,5]
[null,3926,4,null,3926,1]
[null,3927,6,null,3927,4]
[null,3928,1,null,3928,3]
[null,3929,3,null,3929,6]
[null,3930,3,null,3930,1]
[null,3931,5,null,3931,5]
[null,3932,6,null,3932,3]
[null,3933,5,null,3933,3]
[null,3934,4,null,3934,2]
[null,3935,6,null,3935,3]
[null,3936,2,null,3936,3]
[null,3937,1,null,3937,3]
[null,3938,3,null,3938,4]
[null,3939,1,null,3939,5]
[null,3940,5,null,3940,2]
[null,3941,3,null,3941,5]
[null,3942,3,null,3942,5]
[null,3943,6,null,3943,1]
[null,3944,3,null,3944,1]
[null,3945,3,null,3945,2]
[null,3946,4,null,3946,2]
[null,3947,3,null,3947,3]
[null,3948,3,null,3948,6]
[null,3949,3,null,3949,1]
[null,3950,3,null,3950,3]
[null,3951,1,null,3951,1]
[null,3952,4,null,3952,1]
[null,3953,5,null,3953,3]
[null,3954,2,null,3954,3]
[null,3955,5,null,3955,6]
[null,3956,1,null,3956,1]
[null,3957,1,null,3957,4]
[null,3958,2,null,3958,4]
[null,3959,5,null,3959,2]
[null,3960,2,null,3960,2]
[null,3961,1,null,3961,1]
[null,3962,6,null,3962,3]
[null,3963,6,null,3963,4]
[null,3964,6,null,3964,5]
[null,3965,2,null,3965,3]
[null,3966,5,null,3966,2]
[null,3967,2,null,3967,2]
[null,3968,2,null,3968,6]
[null,3969,4,null,3969,3]
[null,3970,6,null,3970,{"$f":"RANDBETWEEN(1,6)","v":3}]
[null,3971,5,null,3971,4]
[null,3972,6,null,3972,2]
[null,3973,6,null,3973,6]
[null,3974,2,null,3974,1]
[null,3975,2,null,3975,3]
[null,3976,3,null,3976,1]
[null,3977,4,null,3977,4]
[null,3978,2,null,3978,4]
[null,3979,5,null,3979,5]
[null,3980,2,null,3980,3]
[null,3981,1,null,3981,5]
[null,3982,3,null,3982,6]
[null,3983,6,null,3983,5]
[null,3984,1,null,3984,3]
[null,3985,6,null,3985,3]
[null,3986,3,null,3986,1]
[null,3987,4,null,3987,4]
[null,3988,4,null,3988,4]
[null,3989,3,null,3989,3]
[null,3990,4,null,3990,1]
[null,3991,5,null,3991,6]
[null,3992,4,null,3992,1]
[null,3993,3,null,3993,5]
[null,3994,4,null,3994,1]
[null,3995,2,null,3995,3]
[null,3996,5,null,3996,4]
[null,3997,2,null,3997,1]
[null,3998,3,null,3998,4]
[null,3999,5,null,3999,2]
[null,4000,5,null,4000,3]
[null,4001,5,null,4001,2]
[null,4002,2,null,4002,2]
[null,4003,4,null,4003,2]
[null,4004,2,null,4004,5]
[null,4005,6,null,4005,5]
[null,4006,2,null,4006,4]
[null,4007,1,null,4007,6]
[null,4008,1,null,4008,6]
[null,4009,1,null,4009,2]
[null,4010,1,null,4010,3]
[null,4011,4,null,4011,4]
[null,4012,5,null,4012,2]
[null,4013,5,null,4013,1]
[null,4014,3,null,4014,6]
[null,4015,6,null,4015,2]
[null,4016,4,null,4016,1]
[null,4017,6,null,4017,4]
[null,4018,6,null,4018,5]
[null,4019,6,null,4019,6]
[null,4020,4,null,4020,4]
[null,4021,3,null,4021,4]
[null,4022,3,null,4022,3]
[null,4023,3,null,4023,4]
[null,4024,6,null,4024,4]
[null,4025,5,null,4025,2]
[null,4026,5,null,4026,5]
[null,4027,2,null,4027,6]
[null,4028,4,null,4028,2]
[null,4029,4,null,4029,4]
[null,4030,2,null,4030,5]
[null,4031,3,null,4031,1]
[null,4032,5,null,4032,5]
[null,4033,5,null,4033,3]
[null,4034,1,null,4034,{"$f":"RANDBETWEEN(1,6)","v":3}]
[null,4035,3,null,4035,4]
[null,4036,3,null,4036,6]
[null,4037,1,null,4037,2]
[null,4038,5,null,4038,5]
[null,4039,3,null,4039,5]
[null,4040,3,null,4040,2]
[null,4041,1,null,4041,1]
[null,4042,2,null,4042,3]
[null,4043,4,null,4043,3]
[null,4044,5,null,4044,2]
[null,4045,3,null,4045,1]
[null,4046,6,null,4046,1]
[null,4047,6,null,4047,2]
[null,4048,6,null,4048,3]
[null,4049,1,null,4049,2]
[null,4050,4,null,4050,2]
[null,4051,3,null,4051,4]
[null,4052,2,null,4052,1]
[null,4053,4,null,4053,2]
[null,4054,4,null,4054,4]
[null,4055,1,null,4055,6]
[null,4056,2,null,4056,5]
[null,4057,1,null,4057,4]
[null,4058,6,null,4058,5]
[null,4059,6,null,4059,3]
[null,4060,5,null,4060,3]
[null,4061,5,null,4061,5]
[null,4062,3,null,4062,2]
[null,4063,3,null,4063,5]
[null,4064,1,null,4064,1]
[null,4065,1,null,4065,3]
[null,4066,5,null,4066,5]
[null,4067,1,null,4067,4]
[null,4068,3,null,4068,5]
[null,4069,4,null,4069,1]
[null,4070,4,null,4070,4]
[null,4071,2,null,4071,6]
[null,4072,2,null,4072,2]
[null,4073,1,null,4073,6]
[null,4074,6,null,4074,6]
[null,4075,3,null,4075,3]
[null,4076,4,null,4076,2]
[null,4077,6,null,4077,3]
[null,4078,5,null,4078,1]
[null,4079,2,null,4079,1]
[null,4080,5,null,4080,3]
[null,4081,6,null,4081,4]
[null,4082,1,null,4082,3]
[null,4083,2,null,4083,1]
[null,4084,6,null,4084,4]
[null,4085,5,null,4085,4]
[null,4086,6,null,4086,3]
[null,4087,6,null,4087,1]
[null,4088,6,null,4088,3]
[null,4089,1,null,4089,3]
[null,4090,3,null,4090,6]
[null,4091,1,null,4091,2]
[null,4092,5,null,4092,4]
[null,4093,6,null,4093,4]
[null,4094,1,null,4094,6]
[null,4095,2,null,4095,6]
[null,4096,6,null,4096,5]
[null,4097,6,null,4097,6]
[null,4098,3,null,4098,{"$f":"RANDBETWEEN(1,6)","v":4}]
[null,4099,5,null,4099,6]
[null,4100,6,null,4100,2]
[null,4101,2,null,4101,5]
[null,4102,2,null,4102,4]
[null,4103,3,null,4103,2]
[null,4104,5,null,4104,1]
[null,4105,6,null,4105,4]
[null,4106,3,null,4106,5]
[null,4107,6,null,4107,4]
[null,4108,5,null,4108,4]
[null,4109,1,null,4109,3]
[null,4110,4,null,4110,5]
[null,4111,4,null,4111,4]
[null,4112,5,null,4112,3]
[null,4113,6,null,4113,4]
[null,4114,2,null,4114,1]
[null,4115,1,null,4115,4]
[null,4116,6,null,4116,4]
[null,4117,3,null,4117,3]
[null,4118,3,null,4118,3]
[null,4119,1,null,4119,2]
[null,4120,5,null,4120,2]
[null,4121,4,null,4121,1]
[null,4122,3,null,4122,6]
[null,4123,1,null,4123,6]
[null,4124,5,null,4124,5]
[null,4125,1,null,4125,6]
[null,4126,6,null,4126,3]
[null,4127,3,null,4127,4]
[null,4128,1,null,4128,5]
[null,4129,3,null,4129,1]
[null,4130,1,null,4130,4]
[null,4131,6,null,4131,5]
[null,4132,2,null,4132,3]
[null,4133,2,null,4133,1]
[null,4134,5,null,4134,3]
[null,4135,2,null,4135,3]
[null,4136,3,null,4136,2]
[null,4137,6,null,4137,3]
[null,4138,4,null,4138,1]
[null,4139,1,null,4139,1]
[null,4140,3,null,4140,1]
[null,4141,6,null,4141,4]
[null,4142,1,null,4142,3]
[null,4143,2,null,4143,2]
[null,4144,2,null,4144,6]
[null,4145,4,null,4145,6]
[null,4146,4,null,4146,6]
[null,4147,5,null,4147,5]
[null,4148,2,null,4148,2]
[null,4149,6,null,4149,3]
[null,4150,2,null,4150,1]
[null,4151,2,null,4151,3]
[null,4152,4,null,4152,2]
[null,4153,4,null,4153,4]
[null,4154,6,null,4154,6]
[null,4155,1,null,4155,1]
[null,4156,6,null,4156,5]
[null,4157,5,null,4157,6]
[null,4158,4,null,4158,1]
[null,4159,5,null,4159,5]
[null,4160,1,null,4160,3]
[null,4161,2,null,4161,5]
[null,4162,1,null,4162,{"$f":"RANDBETWEEN(1,6)","v":4}]
[null,4163,3,null,4163,4]
[null,4164,6,null,4164,2]
[null,4165,4,null,4165,1]
[null,4166,6,null,4166,1]
[null,4167,2,null,4167,6]
[null,4168,1,null,4168,4]
[null,4169,3,null,4169,3]
[null,4170,3,null,4170,2]
[null,4171,3,null,4171,6]
[null,4172,4,null,4172,2]
[null,4173,6,null,4173,4]
[null,4174,3,null,4174,6]
[null,4175,1,null,4175,5]
[null,4176,4,null,4176,5]
[null,4177,1,null,4177,4]
[null,4178,5,null,4178,2]
[null,4179,5,null,4179,5]
[null,4180,5,null,4180,4]
[null,4181,6,null,4181,6]
[null,4182,1,null,4182,5]
[null,4183,5,null,4183,4]
[null,4184,5,null,4184,6]
[null,4185,4,null,4185,5]
[null,4186,4,null,4186,6]
[null,4187,4,null,4187,6]
[null,4188,5,null,4188,1]
[null,4189,1,null,4189,3]
[null,4190,3,null,4190,1]
[null,4191,1,null,4191,2]
[null,4192,6,null,4192,2]
[null,4193,4,null,4193,4]
[null,4194,3,null,4194,3]
[null,4195,2,null,4195,1]
[null,4196,4,null,4196,2]
[null,4197,1,null,4197,4]
[null,4198,5,null,4198,5]
[null,4199,4,null,4199,1]
[null,4200,4,null,4200,5]
[null,4201,2,null,4201,4]
[null,4202,5,null,4202,6]
[null,4203,4,null,4203,5]
[null,4204,6,null,4204,4]
[null,4205,5,null,4205,3]
[null,4206,1,null,4206,6]
[null,4207,5,null,4207,4]
[null,4208,5,null,4208,6]
[null,4209,6,null,4209,6]
[null,4210,1,null,4210,4]
[null,4211,2,null,4211,1]
[null,4212,4,null,4212,5]
[null,4213,2,null,4213,5]
[null,4214,2,null,4214,1]
[null,4215,1,null,4215,6]
[null,4216,2,null,4216,6]
[null,4217,2,null,4217,3]
[null,4218,4,null,4218,3]
[null,4219,2,null,4219,1]
[null,4220,5,null,4220,5]
[null,4221,5,null,4221,4]
[null,4222,1,null,4222,1]
[null,4223,2,null,4223,6]
[null,4224,2,null,4224,2]
[null,4225,2,null,4225,5]
[null,4226,6,null,4226,{"$f":"RANDBETWEEN(1,6)","v":3}]
[null,4227,1,null,4227,2]
[null,4228,4,null,4228,1]
[null,4229,2,null,4229,5]
[null,4230,6,null,4230,5]
[null,4231,6,null,4231,5]
[null,4232,6,null,4232,2]
[null,4233,3,null,4233,1]
[null,4234,6,null,4234,1]
[null,4235,6,null,4235,4]
[null,4236,1,null,4236,6]
[null,4237,6,null,4237,5]
[null,4238,6,null,4238,3]
[null,4239,3,null,4239,1]
[null,4240,3,null,4240,6]
[null,4241,2,null,4241,6]
[null,4242,5,null,4242,1]
[null,4243,6,null,4243,1]
[null,4244,6,null,4244,5]
[null,4245,6,null,4245,6]
[null,4246,3,null,4246,3]
[null,4247,6,null,4247,2]
[null,4248,5,null,4248,4]
[null,4249,4,null,4249,5]
[null,4250,1,null,4250,3]
[null,4251,4,null,4251,4]
[null,4252,2,null,4252,3]
[null,4253,5,null,4253,4]
[null,4254,2,null,4254,2]
[null,4255,6,null,4255,2]
[null,4256,1,null,4256,3]
[null,4257,4,null,4257,3]
[null,4258,5,null,4258,6]
[null,4259,3,null,4259,2]
[null,4260,2,null,4260,5]
[null,4261,3,null,4261,6]
[null,4262,4,null,4262,3]
[null,4263,2,null,4263,3]
[null,4264,3,null,4264,4]
[null,4265,6,null,4265,4]
[null,4266,6,null,4266,6]
[null,4267,6,null,4267,5]
[null,4268,2,null,4268,2]
[null,4269,2,null,4269,1]
[null,4270,5,null,4270,5]
[null,4271,5,null,4271,1]
[null,4272,1,null,4272,1]
[null,4273,6,null,4273,1]
[null,4274,1,null,4274,6]
[null,4275,5,null,4275,6]
[null,4276,5,null,4276,4]
[null,4277,5,null,4277,3]
[null,4278,3,null,4278,4]
[null,4279,6,null,4279,4]
[null,4280,4,null,4280,6]
[null,4281,6,null,4281,6]
[null,4282,1,null,4282,2]
[null,4283,3,null,4283,3]
[null,4284,1,null,4284,3]
[null,4285,2,null,4285,3]
[null,4286,1,null,4286,5]
[null,4287,4,null,4287,1]
[null,4288,1,null,4288,4]
[null,4289,1,null,4289,6]
[null,4290,4,null,4290,{"$f":"RANDBETWEEN(1,6)","v":2}]
[null,4291,4,null,4291,1]
[null,4292,4,null,4292,5]
[null,4293,2,null,4293,1]
[null,4294,3,null,4294,5]
[null,4295,4,null,4295,1]
[null,4296,2,null,4296,5]
[null,4297,5,null,4297,6]
[null,4298,4,null,4298,4]
[null,4299,1,null,4299,6]
[null,4300,4,null,4300,1]
[null,4301,4,null,4301,5]
[null,4302,4,null,4302,2]
[null,4303,2,null,4303,1]
[null,4304,5,null,4304,1]
[null,4305,6,null,4305,1]
[null,4306,3,null,4306,5]
[null,4307,4,null,4307,4]
[null,4308,1,null,4308,1]
[null,4309,4,null,4309,6]
[null,4310,5,null,4310,6]
[null,4311,6,null,4311,2]
[null,4312,4,null,4312,1]
[null,4313,2,null,4313,4]
[null,4314,2,null,4314,4]
[null,4315,2,null,4315,5]
[null,4316,6,null,4316,5]
[null,4317,5,null,4317,5]
[null,4318,3,null,4318,4]
[null,4319,5,null,4319,2]
[null,4320,6,null,4320,1]
[null,4321,1,null,4321,6]
[null,4322,2,null,4322,6]
[null,4323,4,null,4323,1]
[null,4324,1,null,4324,1]
[null,4325,5,null,4325,5]
[null,4326,4,null,4326,3]
[null,4327,5,null,4327,6]
[null,4328,2,null,4328,5]
[null,4329,4,null,4329,4]
[null,4330,2,null,4330,1]
[null,4331,3,null,4331,6]
[null,4332,5,null,4332,2]
[null,4333,2,null,4333,3]
[null,4334,1,null,4334,3]
[null,4335,3,null,4335,6]
[null,4336,3,null,4336,2]
[null,4337,1,null,4337,6]
[null,4338,6,null,4338,6]
[null,4339,2,null,4339,5]
[null,4340,4,null,4340,4]
[null,4341,3,null,4341,6]
[null,4342,3,null,4342,2]
[null,4343,1,null,4343,4]
[null,4344,6,null,4344,6]
[null,4345,5,null,4345,2]
[null,4346,1,null,4346,3]
[null,4347,3,null,4347,4]
[null,4348,2,null,4348,6]
[null,4349,5,null,4349,3]
[null,4350,3,null,4350,1]
[null,4351,6,null,4351,5]
[null,4352,1,null,4352,3]
[null,4353,6,null,4353,5]
[null,4354,2,null,4354,{"$f":"RANDBETWEEN(1,6)","v":6}]
[null,4355,1,null,4355,3]
[null,4356,6,null,4356,6]
[null,4357,4,null,4357,5]
[null,4358,6,null,4358,1]
[null,4359,2,null,4359,5]
[null,4360,4,null,4360,4]
[null,4361,1,null,4361,3]
[null,4362,5,null,4362,1]
[null,4363,3,null,4363,6]
[null,4364,5,null,4364,1]
[null,4365,5,null,4365,4]
[null,4366,1,null,4366,6]
[null,4367,5,null,4367,2]
[null,4368,4,null,4368,6]
[null,4369,2,null,4369,6]
[null,4370,2,null,4370,1]
[null,4371,3,null,4371,3]
[null,4372,5,null,4372,4]
[null,4373,4,null,4373,6]
[null,4374,2,null,4374,4]
[null,4375,6,null,4375,1]
[null,4376,5,null,4376,4]
[null,4377,4,null,4377,6]
[null,4378,5,null,4378,4]
[null,4379,2,null,4379,5]
[null,4380,6,null,4380,6]
[null,4381,5,null,4381,2]
[null,4382,2,null,4382,2]
[null,4383,3,null,4383,3]
[null,4384,1,null,4384,6]
[null,4385,5,null,4385,4]
[null,4386,2,null,4386,2]
[null,4387,3,null,4387,2]
[null,4388,1,null,4388,2]
[null,4389,2,null,4389,5]
[null,4390,5,null,4390,6]
[null,4391,3,null,4391,1]
[null,4392,3,null,4392,5]
[null,4393,3,null,4393,1]
[null,4394,4,null,4394,1]
[null,4395,2,null,4395,6]
[null,4396,2,null,4396,5]
[null,4397,5,null,4397,6]
[null,4398,4,null,4398,1]
[null,4399,2,null,4399,5]
[null,4400,5,null,4400,6]
[null,4401,3,null,4401,6]
[null,4402,6,null,4402,1]
[null,4403,6,null,4403,3]
[null,4404,4,null,4404,1]
[null,4405,2,null,4405,4]
[null,4406,3,null,4406,6]
[null,4407,4,null,4407,3]
[null,4408,6,null,4408,6]
[null,4409,5,null,4409,5]
[null,4410,3,null,4410,6]
[null,4411,6,null,4411,6]
[null,4412,2,null,4412,4]
[null,4413,1,null,4413,2]
[null,4414,3,null,4414,3]
[null,4415,3,null,4415,4]
[null,4416,5,null,4416,3]
[null,4417,1,null,4417,4]
[null,4418,2,null,4418,{"$f":"RANDBETWEEN(1,6)","v":1}]
[null,4419,1,null,4419,5]
[null,4420,6,null,4420,2]
[null,4421,2,null,4421,4]
[null,4422,6,null,4422,5]
[null,4423,2,null,4423,6]
[null,4424,4,null,4424,5]
[null,4425,2,null,4425,4]
[null,4426,3,null,4426,6]
[null,4427,1,null,4427,4]
[null,4428,5,null,4428,3]
[null,4429,5,null,4429,6]
[null,4430,2,null,4430,2]
[null,4431,5,null,4431,6]
[null,4432,4,null,4432,2]
[null,4433,5,null,4433,1]
[null,4434,5,null,4434,2]
[null,4435,5,null,4435,3]
[null,4436,1,null,4436,1]
[null,4437,6,null,4437,2]
[null,4438,3,null,4438,5]
[null,4439,6,null,4439,5]
[null,4440,5,null,4440,3]
[null,4441,6,null,4441,6]
[null,4442,4,null,4442,6]
[null,4443,6,null,4443,4]
[null,4444,5,null,4444,3]
[null,4445,6,null,4445,6]
[null,4446,2,null,4446,5]
[null,4447,6,null,4447,5]
[null,4448,1,null,4448,5]
[null,4449,1,null,4449,4]
[null,4450,2,null,4450,6]
[null,4451,5,null,4451,5]
[null,4452,1,null,4452,2]
[null,4453,1,null,4453,5]
[null,4454,3,null,4454,1]
[null,4455,1,null,4455,3]
[null,4456,2,null,4456,1]
[null,4457,4,null,4457,4]
[null,4458,6,null,4458,1]
[null,4459,5,null,4459,3]
[null,4460,6,null,4460,1]
[null,4461,1,null,4461,6]
[null,4462,5,null,4462,3]
[null,4463,2,null,4463,6]
[null,4464,5,null,4464,6]
[null,4465,1,null,4465,3]
[null,4466,4,null,4466,1]
[null,4467,3,null,4467,6]
[null,4468,6,null,4468,6]
[null,4469,2,null,4469,1]
[null,4470,5,null,4470,4]
[null,4471,4,null,4471,2]
[null,4472,4,null,4472,3]
[null,4473,1,null,4473,6]
[null,4474,3,null,4474,4]
[null,4475,6,null,4475,6]
[null,4476,1,null,4476,3]
[null,4477,1,null,4477,4]
[null,4478,3,null,4478,4]
[null,4479,4,null,4479,6]
[null,4480,1,null,4480,2]
[null,4481,6,null,4481,2]
[null,4482,2,null,4482,{"$f":"RANDBETWEEN(1,6)","v":1}]
[null,4483,5,null,4483,4]
[null,4484,1,null,4484,6]
[null,4485,5,null,4485,2]
[null,4486,6,null,4486,4]
[null,4487,5,null,4487,6]
[null,4488,3,null,4488,6]
[null,4489,6,null,4489,5]
[null,4490,3,null,4490,4]
[null,4491,5,null,4491,3]
[null,4492,1,null,4492,1]
[null,4493,4,null,4493,6]
[null,4494,1,null,4494,3]
[null,4495,1,null,4495,4]
[null,4496,5,null,4496,6]
[null,4497,6,null,4497,2]
[null,4498,6,null,4498,4]
[null,4499,2,null,4499,5]
[null,4500,6,null,4500,2]
[null,4501,5,null,4501,1]
[null,4502,5,null,4502,1]
[null,4503,3,null,4503,3]
[null,4504,3,null,4504,1]
[null,4505,3,null,4505,4]
[null,4506,5,null,4506,5]
[null,4507,5,null,4507,4]
[null,4508,5,null,4508,6]
[null,4509,1,null,4509,6]
[null,4510,1,null,4510,1]
[null,4511,2,null,4511,3]
[null,4512,3,null,4512,4]
[null,4513,3,null,4513,1]
[null,4514,2,null,4514,3]
[null,4515,4,null,4515,4]
[null,4516,4,null,4516,5]
[null,4517,3,null,4517,3]
[null,4518,2,null,4518,2]
[null,4519,2,null,4519,1]
[null,4520,5,null,4520,4]
[null,4521,4,null,4521,3]
[null,4522,6,null,4522,6]
[null,4523,4,null,4523,4]
[null,4524,5,null,4524,5]
[null,4525,4,null,4525,4]
[null,4526,2,null,4526,6]
[null,4527,4,null,4527,4]
[null,4528,2,null,4528,2]
[null,4529,1,null,4529,1]
[null,4530,6,null,4530,4]
[null,4531,2,null,4531,4]
[null,4532,2,null,4532,2]
[null,4533,6,null,4533,5]
[null,4534,6,null,4534,6]
[null,4535,3,null,4535,6]
[null,4536,5,null,4536,5]
[null,4537,2,null,4537,6]
[null,4538,5,null,4538,5]
[null,4539,2,null,4539,6]
[null,4540,3,null,4540,2]
[null,4541,3,null,4541,2]
[null,4542,6,null,4542,1]
[null,4543,6,null,4543,5]
[null,4544,5,null,4544,5]
[null,4545,6,null,4545,5]
[null,4546,2,null,4546,{"$f":"RANDBETWEEN(1,6)","v":4}]
[null,4547,1,null,4547,1]
[null,4548,4,null,4548,2]
[null,4549,1,null,4549,3]
[null,4550,2,null,4550,4]
[null,4551,3,null,4551,4]
[null,4552,2,null,4552,6]
[null,4553,4,null,4553,5]
[null,4554,3,null,4554,6]
[null,4555,4,null,4555,2]
[null,4556,3,null,4556,1]
[null,4557,4,null,4557,2]
[null,4558,3,null,4558,6]
[null,4559,1,null,4559,5]
[null,4560,5,null,4560,5]
[null,4561,5,null,4561,1]
[null,4562,2,null,4562,2]
[null,4563,1,null,4563,5]
[null,4564,2,null,4564,6]
[null,4565,3,null,4565,4]
[null,4566,5,null,4566,3]
[null,4567,3,null,4567,1]
[null,4568,6,null,4568,1]
[null,4569,2,null,4569,6]
[null,4570,2,null,4570,5]
[null,4571,1,null,4571,6]
[null,4572,6,null,4572,2]
[null,4573,1,null,4573,4]
[null,4574,1,null,4574,1]
[null,4575,1,null,4575,2]
[null,4576,6,null,4576,6]
[null,4577,5,null,4577,6]
[null,4578,3,null,4578,6]
[null,4579,4,null,4579,5]
[null,4580,2,null,4580,3]
[null,4581,6,null,4581,4]
[null,4582,5,null,4582,6]
[null,4583,2,null,4583,3]
[null,4584,6,null,4584,2]
[null,4585,5,null,4585,2]
[null,4586,1,null,4586,5]
[null,4587,6,null,4587,5]
[null,4588,2,null,4588,2]
[null,4589,5,null,4589,3]
[null,4590,6,null,4590,5]
[null,4591,1,null,4591,6]
[null,4592,3,null,4592,6]
[null,4593,2,null,4593,2]
[null,4594,4,null,4594,1]
[null,4595,2,null,4595,5]
[null,4596,4,null,4596,5]
[null,4597,4,null,4597,2]
[null,4598,4,null,4598,2]
[null,4599,6,null,4599,5]
[null,4600,2,null,4600,5]
[null,4601,6,null,4601,4]
[null,4602,2,null,4602,1]
[null,4603,5,null,4603,6]
[null,4604,4,null,4604,2]
[null,4605,5,null,4605,3]
[null,4606,6,null,4606,6]
[null,4607,4,null,4607,3]
[null,4608,2,null,4608,6]
[null,4609,4,null,4609,6]
[null,4610,6,null,4610,{"$f":"RANDBETWEEN(1,6)","v":2}]
[null,4611,3,null,4611,2]
[null,4612,5,null,4612,3]
[null,4613,6,null,4613,5]
[null,4614,5,null,4614,6]
[null,4615,3,null,4615,5]
[null,4616,1,null,4616,3]
[null,4617,1,null,4617,6]
[null,4618,5,null,4618,3]
[null,4619,6,null,4619,4]
[null,4620,6,null,4620,2]
[null,4621,3,null,4621,3]
[null,4622,2,null,4622,5]
[null,4623,3,null,4623,6]
[null,4624,1,null,4624,1]
[null,4625,1,null,4625,4]
[null,4626,3,null,4626,4]
[null,4627,1,null,4627,5]
[null,4628,3,null,4628,5]
[null,4629,5,null,4629,1]
[null,4630,2,null,4630,5]
[null,4631,5,null,4631,2]
[null,4632,4,null,4632,6]
[null,4633,4,null,4633,2]
[null,4634,3,null,4634,6]
[null,4635,5,null,4635,6]
[null,4636,1,null,4636,4]
[null,4637,2,null,4637,6]
[null,4638,5,null,4638,2]
[null,4639,4,null,4639,6]
[null,4640,2,null,4640,3]
[null,4641,4,null,4641,1]
[null,4642,6,null,4642,1]
[null,4643,4,null,4643,1]
[null,4644,6,null,4644,3]
[null,4645,6,null,4645,2]
[null,4646,4,null,4646,2]
[null,4647,3,null,4647,6]
[null,4648,3,null,4648,1]
[null,4649,2,null,4649,6]
[null,4650,6,null,4650,5]
[null,4651,1,null,4651,5]
[null,4652,3,null,4652,6]
[null,4653,2,null,4653,2]
[null,4654,1,null,4654,1]
[null,4655,4,null,4655,4]
[null,4656,2,null,4656,5]
[null,4657,4,null,4657,4]
[null,4658,6,null,4658,2]
[null,4659,1,null,4659,3]
[null,4660,6,null,4660,1]
[null,4661,4,null,4661,1]
[null,4662,1,null,4662,1]
[null,4663,3,null,4663,5]
[null,4664,6,null,4664,3]
[null,4665,6,null,4665,5]
[null,4666,2,null,4666,3]
[null,4667,3,null,4667,6]
[null,4668,4,null,4668,4]
[null,4669,5,null,4669,3]
[null,4670,4,null,4670,1]
[null,4671,4,null,4671,2]
[null,4672,1,null,4672,2]
[null,4673,4,null,4673,2]
[null,4674,1,null,4674,{"$f":"RANDBETWEEN(1,6)","v":3}]
[null,4675,2,null,4675,6]
[null,4676,6,null,4676,2]
[null,4677,1,null,4677,6]
[null,4678,1,null,4678,1]
[null,4679,1,null,4679,5]
[null,4680,3,null,4680,5]
[null,4681,6,null,4681,5]
[null,4682,1,null,4682,6]
[null,4683,5,null,4683,6]
[null,4684,5,null,4684,2]
[null,4685,1,null,4685,3]
[null,4686,6,null,4686,2]
[null,4687,4,null,4687,3]
[null,4688,2,null,4688,5]
[null,4689,2,null,4689,5]
[null,4690,5,null,4690,6]
[null,4691,2,null,4691,5]
[null,4692,2,null,4692,6]
[null,4693,2,null,4693,4]
[null,4694,2,null,4694,6]
[null,4695,1,null,4695,3]
[null,4696,3,null,4696,6]
[null,4697,5,null,4697,4]
[null,4698,2,null,4698,6]
[null,4699,4,null,4699,3]
[null,4700,1,null,4700,6]
[null,4701,4,null,4701,4]
[null,4702,2,null,4702,2]
[null,4703,5,null,4703,3]
[null,4704,1,null,4704,3]
[null,4705,5,null,4705,3]
[null,4706,5,null,4706,1]
[null,4707,6,null,4707,3]
[null,4708,2,null,4708,1]
[null,4709,5,null,4709,1]
[null,4710,5,null,4710,5]
[null,4711,1,null,4711,2]
[null,4712,6,null,4712,5]
[null,4713,1,null,4713,1]
[null,4714,1,null,4714,1]
[null,4715,6,null,4715,1]
[null,4716,3,null,4716,3]
[null,4717,4,null,4717,3]
[null,4718,4,null,4718,4]
[null,4719,2,null,4719,5]
[null,4720,3,null,4720,6]
[null,4721,5,null,4721,4]
[null,4722,2,null,4722,6]
[null,4723,2,null,4723,5]
[null,4724,6,null,4724,1]
[null,4725,2,null,4725,4]
[null,4726,6,null,4726,1]
[null,4727,1,null,4727,1]
[null,4728,3,null,4728,3]
[null,4729,2,null,4729,2]
[null,4730,4,null,4730,5]
[null,4731,6,null,4731,5]
[null,4732,4,null,4732,2]
[null,4733,4,null,4733,4]
[null,4734,1,null,4734,5]
[null,4735,1,null,4735,5]
[null,4736,5,null,4736,6]
[null,4737,4,null,4737,5]
[null,4738,5,null,4738,{"$f":"RANDBETWEEN(1,6)","v":6}]
[null,4739,2,null,4739,5]
[null,4740,4,null,4740,3]
[null,4741,2,null,4741,4]
[null,4742,5,null,4742,5]
[null,4743,2,null,4743,5]
[null,4744,5,null,4744,6]
[null,4745,2,null,4745,6]
[null,4746,6,null,4746,4]
[null,4747,1,null,4747,2]
[null,4748,4,null,4748,2]
[null,4749,4,null,4749,5]
[null,4750,5,null,4750,2]
[null,4751,3,null,4751,2]
[null,4752,1,null,4752,4]
[null,4753,5,null,4753,6]
[null,4754,5,null,4754,6]
[null,4755,1,null,4755,3]
[null,4756,1,null,4756,4]
[null,4757,2,null,4757,4]
[null,4758,2,null,4758,2]
[null,4759,4,null,4759,2]
[null,4760,2,null,4760,4]
[null,4761,2,null,4761,1]
[null,4762,4,null,4762,3]
[null,4763,1,null,4763,5]
[null,4764,2,null,4764,4]
[null,4765,1,null,4765,5]
[null,4766,2,null,4766,3]
[null,4767,5,null,4767,6]
[null,4768,5,null,4768,6]
[null,4769,1,null,4769,4]
[null,4770,5,null,4770,3]
[null,4771,1,null,4771,1]
[null,4772,4,null,4772,4]
[null,4773,6,null,4773,2]
[null,4774,5,null,4774,4]
[null,4775,2,null,4775,1]
[null,4776,3,null,4776,4]
[null,4777,2,null,4777,1]
[null,4778,4,null,4778,3]
[null,4779,6,null,4779,1]
[null,4780,3,null,4780,2]
[null,4781,4,null,4781,2]
[null,4782,6,null,4782,2]
[null,4783,4,null,4783,3]
[null,4784,4,null,4784,2]
[null,4785,6,null,4785,3]
[null,4786,2,null,4786,5]
[null,4787,5,null,4787,2]
[null,4788,6,null,4788,5]
[null,4789,4,null,4789,5]
[null,4790,2,null,4790,2]
[null,4791,4,null,4791,6]
[null,4792,5,null,4792,1]
[null,4793,6,null,4793,2]
[null,4794,2,null,4794,5]
[null,4795,1,null,4795,5]
[null,4796,1,null,4796,2]
[null,4797,5,null,4797,5]
[null,4798,4,null,4798,4]
[null,4799,6,null,4799,6]
[null,4800,6,null,4800,4]
[null,4801,3,null,4801,5]
[null,4802,6,null,4802,{"$f":"RANDBETWEEN(1,6)","v":2}]
[null,4803,5,null,4803,4]
[null,4804,2,null,4804,6]
[null,4805,1,null,4805,1]
[null,4806,1,null,4806,1]
[null,4807,4,null,4807,2]
[null,4808,1,null,4808,6]
[null,4809,6,null,4809,1]
[null,4810,5,null,4810,1]
[null,4811,5,null,4811,5]
[null,4812,2,null,4812,3]
[null,4813,2,null,4813,1]
[null,4814,1,null,4814,5]
[null,4815,2,null,4815,5]
[null,4816,5,null,4816,6]
[null,4817,6,null,4817,5]
[null,4818,2,null,4818,2]
[null,4819,5,null,4819,1]
[null,4820,6,null,4820,2]
[null,4821,6,null,4821,1]
[null,4822,4,null,4822,3]
[null,4823,4,null,4823,2]
[null,4824,2,null,4824,2]
[null,4825,6,null,4825,3]
[null,4826,2,null,4826,2]
[null,4827,3,null,4827,5]
[null,4828,4,null,4828,2]
[null,4829,5,null,4829,2]
[null,4830,3,null,4830,4]
[null,4831,4,null,4831,1]
[null,4832,4,null,4832,5]
[null,4833,4,null,4833,2]
[null,4834,1,null,4834,2]
[null,4835,3,null,4835,4]
[null,4836,6,null,4836,5]
[null,4837,1,null,4837,4]
[null,4838,1,null,4838,4]
[null,4839,3,null,4839,1]
[null,4840,5,null,4840,4]
[null,4841,1,null,4841,4]
[null,4842,5,null,4842,3]
[null,4843,2,null,4843,1]
[null,4844,5,null,4844,2]
[null,4845,4,null,4845,5]
[null,4846,3,null,4846,2]
[null,4847,1,null,4847,5]
[null,4848,4,null,4848,2]
[null,4849,5,null,4849,5]
[null,4850,4,null,4850,1]
[null,4851,4,null,4851,1]
[null,4852,6,null,4852,1]
[null,4853,1,null,4853,2]
[null,4854,4,null,4854,6]
[null,4855,4,null,4855,4]
[null,4856,1,null,4856,1]
[null,4857,4,null,4857,5]
[null,4858,1,null,4858,4]
[null,4859,1,null,4859,2]
[null,4860,3,null,4860,6]
[null,4861,6,null,4861,4]
[null,4862,6,null,4862,2]
[null,4863,4,null,4863,4]
[null,4864,3,null,4864,2]
[null,4865,2,null,4865,2]
[null,4866,6,null,4866,{"$f":"RANDBETWEEN(1,6)","v":6}]
[null,4867,4,null,4867,4]
[null,4868,6,null,4868,5]
[null,4869,4,null,4869,5]
[null,4870,1,null,4870,5]
[null,4871,3,null,4871,4]
[null,4872,6,null,4872,5]
[null,4873,1,null,4873,3]
[null,4874,3,null,4874,5]
[null,4875,6,null,4875,2]
[null,4876,5,null,4876,4]
[null,4877,5,null,4877,5]
[null,4878,5,null,4878,4]
[null,4879,1,null,4879,5]
[null,4880,6,null,4880,5]
[null,4881,1,null,4881,5]
[null,4882,6,null,4882,4]
[null,4883,6,null,4883,2]
[null,4884,3,null,4884,5]
[null,4885,3,null,4885,5]
[null,4886,6,null,4886,6]
[null,4887,5,null,4887,1]
[null,4888,6,null,4888,2]
[null,4889,1,null,4889,1]
[null,4890,4,null,4890,6]
[null,4891,2,null,4891,3]
[null,4892,3,null,4892,2]
[null,4893,4,null,4893,3]
[null,4894,6,null,4894,4]
[null,4895,6,null,4895,5]
[null,4896,5,null,4896,5]
[null,4897,5,null,4897,3]
[null,4898,1,null,4898,1]
[null,4899,6,null,4899,1]
[null,4900,4,null,4900,1]
[null,4901,2,null,4901,1]
[null,4902,3,null,4902,1]
[null,4903,5,null,4903,1]
[null,4904,4,null,4904,5]
[null,4905,4,null,4905,1]
[null,4906,2,null,4906,2]
[null,4907,5,null,4907,2]
[null,4908,6,null,4908,6]
[null,4909,4,null,4909,6]
[null,4910,2,null,4910,1]
[null,4911,1,null,4911,1]
[null,4912,2,null,4912,4]
[null,4913,5,null,4913,1]
[null,4914,3,null,4914,1]
[null,4915,4,null,4915,4]
[null,4916,1,null,4916,5]
[null,4917,3,null,4917,5]
[null,4918,5,null,4918,4]
[null,4919,3,null,4919,5]
[null,4920,2,null,4920,5]
[null,4921,5,null,4921,2]
[null,4922,2,null,4922,3]
[null,4923,6,null,4923,1]
[null,4924,3,null,4924,5]
[null,4925,4,null,4925,6]
[null,4926,5,null,4926,5]
[null,4927,4,null,4927,1]
[null,4928,3,null,4928,1]
[null,4929,2,null,4929,6]
[null,4930,4,null,4930,{"$f":"RANDBETWEEN(1,6)","v":2}]
[null,4931,2,null,4931,5]
[null,4932,3,null,4932,2]
[null,4933,5,null,4933,4]
[null,4934,1,null,4934,3]
[null,4935,1,null,4935,2]
[null,4936,5,null,4936,3]
[null,4937,1,null,4937,1]
[null,4938,4,null,4938,4]
[null,4939,3,null,4939,2]
[null,4940,4,null,4940,2]
[null,4941,1,null,4941,1]
[null,4942,4,null,4942,2]
[null,4943,5,null,4943,5]
[null,4944,3,null,4944,3]
[null,4945,2,null,4945,4]
[null,4946,1,null,4946,3]
[null,4947,2,null,4947,1]
[null,4948,5,null,4948,2]
[null,4949,4,null,4949,1]
[null,4950,5,null,4950,4]
[null,4951,2,null,4951,1]
[null,4952,6,null,4952,4]
[null,4953,3,null,4953,1]
[null,4954,4,null,4954,1]
[null,4955,6,null,4955,4]
[null,4956,1,null,4956,5]
[null,4957,4,null,4957,4]
[null,4958,4,null,4958,1]
[null,4959,5,null,4959,6]
[null,4960,6,null,4960,2]
[null,4961,3,null,4961,1]
[null,4962,2,null,4962,5]
[null,4963,1,null,4963,6]
[null,4964,5,null,4964,6]
[null,4965,1,null,4965,4]
[null,4966,4,null,4966,4]
[null,4967,4,null,4967,6]
[null,4968,4,null,4968,3]
[null,4969,5,null,4969,3]
[null,4970,6,null,4970,2]
[null,4971,2,null,4971,2]
[null,4972,5,null,4972,5]
[null,4973,5,null,4973,6]
[null,4974,5,null,4974,5]
[null,4975,3,null,4975,5]
[null,4976,2,null,4976,3]
[null,4977,4,null,4977,2]
[null,4978,4,null,4978,1]
[null,4979,3,null,4979,3]
[null,4980,3,null,4980,4]
[null,4981,4,null,4981,6]
[null,4982,2,null,4982,1]
[null,4983,6,null,4983,4]
[null,4984,6,null,4984,2]
[null,4985,1,null,4985,1]
[null,4986,3,null,4986,6]
[null,4987,6,null,4987,5]
[null,4988,3,null,4988,6]
[null,4989,4,null,4989,3]
[null,4990,2,null,4990,1]
[null,4991,1,null,4991,4]
[null,4992,4,null,4992,4]
[null,4993,3,null,4993,3]
[null,4994,4,null,4994,{"$f":"RANDBETWEEN(1,6)","v":4}]
[null,4995,6,null,4995,3]
[null,4996,6,null,4996,2]
[null,4997,6,null,4997,3]
[null,4998,1,null,4998,2]
[null,4999,5,null,4999,4]
[null,5000,6,null,5000,5]
[null,5001,5,null,5001,5]
[null,5002,6,null,5002,4]
[null,5003,2,null,5003,6]
[null,5004,4,null,5004,4]
[null,5005,3,null,5005,4]
[null,5006,2,null,5006,6]
[null,5007,1,null,5007,2]
[null,5008,5,null,5008,1]
[null,5009,6,null,5009,5]
[null,5010,4,null,5010,4]
[null,5011,2,null,5011,6]
[null,5012,5,null,5012,2]
[null,5013,6,null,5013,4]
[null,5014,2,null,5014,4]
[null,5015,5,null,5015,3]
[null,5016,5,null,5016,4]
[null,5017,3,null,5017,5]
[null,5018,6,null,5018,1]
[null,5019,3,null,5019,4]
[null,5020,5,null,5020,3]
[null,5021,3,null,5021,6]
[null,5022,2,null,5022,5]
[null,5023,2,null,5023,6]
[null,5024,4,null,5024,6]
[null,5025,6,null,5025,2]
[null,5026,1,null,5026,1]
[null,5027,1,null,5027,5]
[null,5028,4,null,5028,1]
[null,5029,2,null,5029,3]
[null,5030,6,null,5030,6]
[null,5031,3,null,5031,5]
[null,5032,3,null,5032,6]
[null,5033,1,null,5033,1]
[null,5034,5,null,5034,5]
[null,5035,3,null,5035,6]
[null,5036,1,null,5036,6]
[null,5037,3,null,5037,1]
[null,5038,6,null,5038,6]
[null,5039,4,null,5039,2]
[null,5040,1,null,5040,1]
[null,5041,4,null,5041,4]
[null,5042,2,null,5042,1]
[null,5043,2,null,5043,6]
[null,5044,5,null,5044,4]
[null,5045,2,null,5045,6]
[null,5046,4,null,5046,5]
[null,5047,1,null,5047,1]
[null,5048,4,null,5048,6]
[null,5049,1,null,5049,2]
[null,5050,1,null,5050,1]
[null,5051,1,null,5051,3]
[null,5052,1,null,5052,6]
[null,5053,2,null,5053,3]
[null,5054,1,null,5054,3]
[null,5055,4,null,5055,2]
[null,5056,4,null,5056,1]
[null,5057,5,null,5057,5]
[null,5058,2,null,5058,{"$f":"RANDBETWEEN(1,6)","v":5}]
[null,5059,1,null,5059,5]
[null,5060,3,null,5060,1]
[null,5061,4,null,5061,2]
[null,5062,6,null,5062,6]
[null,5063,3,null,5063,4]
[null,5064,2,null,5064,3]
[null,5065,6,null,5065,2]
[null,5066,6,null,5066,4]
[null,5067,3,null,5067,6]
[null,5068,1,null,5068,4]
[null,5069,1,null,5069,3]
[null,5070,6,null,5070,3]
[null,5071,1,null,5071,5]
[null,5072,4,null,5072,1]
[null,5073,2,null,5073,6]
[null,5074,6,null,5074,2]
[null,5075,3,null,5075,2]
[null,5076,3,null,5076,2]
[null,5077,1,null,5077,5]
[null,5078,4,null,5078,2]
[null,5079,5,null,5079,4]
[null,5080,5,null,5080,2]
[null,5081,4,null,5081,4]
[null,5082,2,null,5082,6]
[null,5083,3,null,5083,2]
[null,5084,6,null,5084,1]
[null,5085,4,null,5085,3]
[null,5086,2,null,5086,4]
[null,5087,4,null,5087,6]
[null,5088,6,null,5088,3]
[null,5089,5,null,5089,6]
[null,5090,6,null,5090,4]
[null,5091,5,null,5091,4]
[null,5092,3,null,5092,4]
[null,5093,6,null,5093,2]
[null,5094,1,null,5094,4]
[null,5095,1,null,5095,4]
[null,5096,2,null,5096,5]
[null,5097,6,null,5097,3]
[null,5098,5,null,5098,1]
[null,5099,2,null,5099,2]
[null,5100,1,null,5100,5]
[null,5101,2,null,5101,3]
[null,5102,4,null,5102,5]
[null,5103,2,null,5103,2]
[null,5104,4,null,5104,6]
[null,5105,6,null,5105,3]
[null,5106,3,null,5106,3]
[null,5107,2,null,5107,1]
[null,5108,5,null,5108,4]
[null,5109,2,null,5109,2]
[null,5110,2,null,5110,6]
[null,5111,5,null,5111,5]
[null,5112,6,null,5112,4]
[null,5113,5,null,5113,5]
[null,5114,3,null,5114,3]
[null,5115,3,null,5115,3]
[null,5116,5,null,5116,1]
[null,5117,2,null,5117,3]
[null,5118,1,null,5118,2]
[null,5119,2,null,5119,5]
[null,5120,3,null,5120,1]
[null,5121,6,null,5121,6]
[null,5122,5,null,5122,{"$f":"RANDBETWEEN(1,6)","v":4}]
[null,5123,1,null,5123,3]
[null,5124,6,null,5124,2]
[null,5125,4,null,5125,2]
[null,5126,6,null,5126,1]
[null,5127,5,null,5127,6]
[null,5128,3,null,5128,4]
[null,5129,2,null,5129,5]
[null,5130,2,null,5130,5]
[null,5131,2,null,5131,5]
[null,5132,6,null,5132,4]
[null,5133,2,null,5133,3]
[null,5134,6,null,5134,3]
[null,5135,5,null,5135,4]
[null,5136,2,null,5136,5]
[null,5137,1,null,5137,5]
[null,5138,1,null,5138,1]
[null,5139,6,null,5139,6]
[null,5140,4,null,5140,6]
[null,5141,4,null,5141,1]
[null,5142,5,null,5142,1]
[null,5143,2,null,5143,3]
[null,5144,6,null,5144,2]
[null,5145,1,null,5145,3]
[null,5146,5,null,5146,2]
[null,5147,5,null,5147,1]
[null,5148,3,null,5148,6]
[null,5149,2,null,5149,1]
[null,5150,6,null,5150,6]
[null,5151,5,null,5151,6]
[null,5152,2,null,5152,6]
[null,5153,6,null,5153,6]
[null,5154,5,null,5154,6]
[null,5155,4,null,5155,3]
[null,5156,3,null,5156,5]
[null,5157,3,null,5157,5]
[null,5158,1,null,5158,6]
[null,5159,5,null,5159,1]
[null,5160,4,null,5160,4]
[null,5161,1,null,5161,4]
[null,5162,6,null,5162,2]
[null,5163,2,null,5163,3]
[null,5164,2,null,5164,2]
[null,5165,1,null,5165,1]
[null,5166,3,null,5166,5]
[null,5167,3,null,5167,2]
[null,5168,2,null,5168,2]
[null,5169,5,null,5169,1]
[null,5170,4,null,5170,2]
[null,5171,4,null,5171,3]
[null,5172,1,null,5172,3]
[null,5173,4,null,5173,3]
[null,5174,6,null,5174,3]
[null,5175,3,null,5175,4]
[null,5176,2,null,5176,6]
[null,5177,6,null,5177,3]
[null,5178,4,null,5178,4]
[null,5179,6,null,5179,1]
[null,5180,3,null,5180,3]
[null,5181,5,null,5181,5]
[null,5182,5,null,5182,5]
[null,5183,5,null,5183,3]
[null,5184,6,null,5184,6]
[null,5185,1,null,5185,6]
[null,5186,3,null,5186,{"$f":"RANDBETWEEN(1,6)","v":6}]
[null,5187,2,null,5187,4]
[null,5188,1,null,5188,1]
[null,5189,3,null,5189,2]
[null,5190,1,null,5190,5]
[null,5191,2,null,5191,3]
[null,5192,3,null,5192,2]
[null,5193,4,null,5193,5]
[null,5194,3,null,5194,4]
[null,5195,5,null,5195,2]
[null,5196,5,null,5196,4]
[null,5197,6,null,5197,6]
[null,5198,3,null,5198,2]
[null,5199,6,null,5199,2]
[null,5200,4,null,5200,1]
[null,5201,6,null,5201,5]
[null,5202,3,null,5202,6]
[null,5203,6,null,5203,1]
[null,5204,4,null,5204,1]
[null,5205,3,null,5205,6]
[null,5206,6,null,5206,6]
[null,5207,5,null,5207,6]
[null,5208,5,null,5208,4]
[null,5209,1,null,5209,2]
[null,5210,2,null,5210,1]
[null,5211,6,null,5211,6]
[null,5212,3,null,5212,6]
[null,5213,1,null,5213,4]
[null,5214,3,null,5214,3]
[null,5215,6,null,5215,5]
[null,5216,1,null,5216,1]
[null,5217,4,null,5217,6]
[null,5218,6,null,5218,1]
[null,5219,6,null,5219,2]
[null,5220,1,null,5220,4]
[null,5221,4,null,5221,3]
[null,5222,5,null,5222,3]
[null,5223,4,null,5223,1]
[null,5224,1,null,5224,6]
[null,5225,3,null,5225,5]
[null,5226,2,null,5226,3]
[null,5227,5,null,5227,3]
[null,5228,2,null,5228,3]
[null,5229,5,null,5229,5]
[null,5230,2,null,5230,6]
[null,5231,3,null,5231,4]
[null,5232,4,null,5232,4]
[null,5233,2,null,5233,6]
[null,5234,3,null,5234,2]
[null,5235,1,null,5235,2]
[null,5236,6,null,5236,2]
[null,5237,4,null,5237,2]
[null,5238,6,null,5238,2]
[null,5239,4,null,5239,5]
[null,5240,1,null,5240,2]
[null,5241,1,null,5241,2]
[null,5242,5,null,5242,1]
[null,5243,1,null,5243,3]
[null,5244,3,null,5244,4]
[null,5245,1,null,5245,5]
[null,5246,4,null,5246,1]
[null,5247,4,null,5247,1]
[null,5248,1,null,5248,2]
[null,5249,1,null,5249,2]
[null,5250,1,null,5250,{"$f":"RANDBETWEEN(1,6)","v":4}]
[null,5251,1,null,5251,3]
[null,5252,3,null,5252,3]
[null,5253,6,null,5253,5]
[null,5254,5,null,5254,3]
[null,5255,2,null,5255,4]
[null,5256,5,null,5256,6]
[null,5257,1,null,5257,4]
[null,5258,2,null,5258,3]
[null,5259,1,null,5259,5]
[null,5260,1,null,5260,4]
[null,5261,4,null,5261,4]
[null,5262,2,null,5262,4]
[null,5263,2,null,5263,5]
[null,5264,3,null,5264,5]
[null,5265,5,null,5265,4]
[null,5266,2,null,5266,3]
[null,5267,3,null,5267,2]
[null,5268,2,null,5268,3]
[null,5269,6,null,5269,1]
[null,5270,2,null,5270,2]
[null,5271,3,null,5271,1]
[null,5272,2,null,5272,6]
[null,5273,1,null,5273,3]
[null,5274,4,null,5274,4]
[null,5275,1,null,5275,2]
[null,5276,1,null,5276,1]
[null,5277,3,null,5277,6]
[null,5278,4,null,5278,1]
[null,5279,4,null,5279,5]
[null,5280,3,null,5280,6]
[null,5281,3,null,5281,5]
[null,5282,4,null,5282,2]
[null,5283,3,null,5283,4]
[null,5284,3,null,5284,1]
[null,5285,2,null,5285,3]
[null,5286,4,null,5286,6]
[null,5287,3,null,5287,3]
[null,5288,2,null,5288,3]
[null,5289,5,null,5289,4]
[null,5290,3,null,5290,6]
[null,5291,4,null,5291,5]
[null,5292,4,null,5292,2]
[null,5293,5,null,5293,1]
[null,5294,4,null,5294,6]
[null,5295,2,null,5295,1]
[null,5296,2,null,5296,1]
[null,5297,1,null,5297,6]
[null,5298,5,null,5298,4]
[null,5299,4,null,5299,6]
[null,5300,6,null,5300,3]
[null,5301,3,null,5301,4]
[null,5302,4,null,5302,2]
[null,5303,1,null,5303,1]
[null,5304,2,null,5304,4]
[null,5305,5,null,5305,6]
[null,5306,4,null,5306,2]
[null,5307,5,null,5307,6]
[null,5308,2,null,5308,2]
[null,5309,5,null,5309,4]
[null,5310,2,null,5310,4]
[null,5311,3,null,5311,2]
[null,5312,4,null,5312,2]
[null,5313,2,null,5313,3]
[null,5314,3,null,5314,{"$f":"RANDBETWEEN(1,6)","v":4}]
[null,5315,4,null,5315,5]
[null,5316,2,null,5316,5]
[null,5317,3,null,5317,2]
[null,5318,4,null,5318,3]
[null,5319,3,null,5319,2]
[null,5320,3,null,5320,3]
[null,5321,1,null,5321,1]
[null,5322,6,null,5322,4]
[null,5323,6,null,5323,6]
[null,5324,4,null,5324,2]
[null,5325,5,null,5325,1]
[null,5326,6,null,5326,3]
[null,5327,2,null,5327,3]
[null,5328,5,null,5328,3]
[null,5329,6,null,5329,4]
[null,5330,3,null,5330,1]
[null,5331,4,null,5331,3]
[null,5332,4,null,5332,6]
[null,5333,2,null,5333,3]
[null,5334,5,null,5334,1]
[null,5335,2,null,5335,5]
[null,5336,5,null,5336,1]
[null,5337,3,null,5337,5]
[null,5338,5,null,5338,3]
[null,5339,2,null,5339,5]
[null,5340,6,null,5340,2]
[null,5341,3,null,5341,3]
[null,5342,3,null,5342,2]
[null,5343,4,null,5343,1]
[null,5344,2,null,5344,4]
[null,5345,3,null,5345,2]
[null,5346,6,null,5346,5]
[null,5347,1,null,5347,1]
[null,5348,6,null,5348,3]
[null,5349,3,null,5349,1]
[null,5350,5,null,5350,5]
[null,5351,4,null,5351,4]
[null,5352,1,null,5352,1]
[null,5353,4,null,5353,3]
[null,5354,1,null,5354,3]
[null,5355,4,null,5355,1]
[null,5356,4,null,5356,3]
[null,5357,2,null,5357,4]
[null,5358,2,null,5358,3]
[null,5359,1,null,5359,2]
[null,5360,4,null,5360,1]
[null,5361,4,null,5361,6]
[null,5362,2,null,5362,6]
[null,5363,6,null,5363,1]
[null,5364,5,null,5364,3]
[null,5365,3,null,5365,2]
[null,5366,6,null,5366,6]
[null,5367,2,null,5367,1]
[null,5368,2,null,5368,4]
[null,5369,5,null,5369,2]
[null,5370,1,null,5370,5]
[null,5371,3,null,5371,5]
[null,5372,5,null,5372,1]
[null,5373,6,null,5373,1]
[null,5374,4,null,5374,2]
[null,5375,5,null,5375,6]
[null,5376,5,null,5376,5]
[null,5377,6,null,5377,1]
[null,5378,1,null,5378,{"$f":"RANDBETWEEN(1,6)","v":3}]
[null,5379,6,null,5379,5]
[null,5380,6,null,5380,6]
[null,5381,5,null,5381,4]
[null,5382,5,null,5382,2]
[null,5383,5,null,5383,4]
[null,5384,5,null,5384,3]
[null,5385,2,null,5385,1]
[null,5386,2,null,5386,6]
[null,5387,2,null,5387,1]
[null,5388,1,null,5388,2]
[null,5389,3,null,5389,6]
[null,5390,1,null,5390,4]
[null,5391,2,null,5391,5]
[null,5392,4,null,5392,1]
[null,5393,2,null,5393,4]
[null,5394,2,null,5394,1]
[null,5395,2,null,5395,2]
[null,5396,1,null,5396,5]
[null,5397,1,null,5397,2]
[null,5398,2,null,5398,4]
[null,5399,5,null,5399,3]
[null,5400,6,null,5400,6]
[null,5401,1,null,5401,6]
[null,5402,5,null,5402,3]
[null,5403,3,null,5403,3]
[null,5404,6,null,5404,6]
[null,5405,3,null,5405,6]
[null,5406,4,null,5406,6]
[null,5407,5,null,5407,6]
[null,5408,4,null,5408,3]
[null,5409,5,null,5409,3]
[null,5410,4,null,5410,1]
[null,5411,6,null,5411,6]
[null,5412,5,null,5412,1]
[null,5413,4,null,5413,5]
[null,5414,2,null,5414,4]
[null,5415,3,null,5415,3]
[null,5416,3,null,5416,4]
[null,5417,4,null,5417,4]
[null,5418,2,null,5418,5]
[null,5419,5,null,5419,6]
[null,5420,1,null,5420,6]
[null,5421,6,null,5421,3]
[null,5422,4,null,5422,2]
[null,5423,6,null,5423,2]
[null,5424,6,null,5424,3]
[null,5425,3,null,5425,3]
[null,5426,6,null,5426,5]
[null,5427,3,null,5427,5]
[null,5428,1,null,5428,4]
[null,5429,6,null,5429,3]
[null,5430,3,null,5430,5]
[null,5431,3,null,5431,3]
[null,5432,1,null,5432,3]
[null,5433,3,null,5433,4]
[null,5434,6,null,5434,4]
[null,5435,4,null,5435,5]
[null,5436,1,null,5436,3]
[null,5437,4,null,5437,2]
[null,5438,3,null,5438,1]
[null,5439,1,null,5439,6]
[null,5440,6,null,5440,2]
[null,5441,1,null,5441,2]
[null,5442,6,null,5442,{"$f":"RANDBETWEEN(1,6)","v":6}]
[null,5443,3,null,5443,5]
[null,5444,2,null,5444,5]
[null,5445,6,null,5445,4]
[null,5446,5,null,5446,2]
[null,5447,2,null,5447,1]
[null,5448,5,null,5448,6]
[null,5449,6,null,5449,4]
[null,5450,1,null,5450,1]
[null,5451,4,null,5451,4]
[null,5452,1,null,5452,6]
[null,5453,1,null,5453,4]
[null,5454,4,null,5454,5]
[null,5455,1,null,5455,6]
[null,5456,5,null,5456,1]
[null,5457,5,null,5457,5]
[null,5458,6,null,5458,6]
[null,5459,1,null,5459,6]
[null,5460,5,null,5460,2]
[null,5461,2,null,5461,1]
[null,5462,3,null,5462,6]
[null,5463,5,null,5463,6]
[null,5464,1,null,5464,6]
[null,5465,2,null,5465,4]
[null,5466,4,null,5466,6]
[null,5467,3,null,5467,5]
[null,5468,2,null,5468,5]
[null,5469,4,null,5469,2]
[null,5470,4,null,5470,4]
[null,5471,4,null,5471,5]
[null,5472,3,null,5472,5]
[null,5473,1,null,5473,5]
[null,5474,1,null,5474,5]
[null,5475,3,null,5475,2]
[null,5476,2,null,5476,3]
[null,5477,4,null,5477,5]
[null,5478,6,null,5478,6]
[null,5479,5,null,5479,3]
[null,5480,2,null,5480,3]
[null,5481,6,null,5481,3]
[null,5482,1,null,5482,4]
[null,5483,5,null,5483,2]
[null,5484,1,null,5484,5]
[null,5485,4,null,5485,1]
[null,5486,4,null,5486,5]
[null,5487,1,null,5487,3]
[null,5488,2,null,5488,1]
[null,5489,2,null,5489,4]
[null,5490,3,null,5490,6]
[null,5491,1,null,5491,2]
[null,5492,4,null,5492,4]
[null,5493,2,null,5493,5]
[null,5494,2,null,5494,1]
[null,5495,3,null,5495,6]
[null,5496,1,null,5496,2]
[null,5497,4,null,5497,4]
[null,5498,6,null,5498,6]
[null,5499,2,null,5499,3]
[null,5500,1,null,5500,1]
[null,5501,5,null,5501,1]
[null,5502,2,null,5502,1]
[null,5503,4,null,5503,5]
[null,5504,3,null,5504,2]
[null,5505,5,null,5505,4]
[null,5506,2,null,5506,{"$f":"RANDBETWEEN(1,6)","v":2}]
[null,5507,3,null,5507,1]
[null,5508,2,null,5508,1]
[null,5509,4,null,5509,5]
[null,5510,4,null,5510,1]
[null,5511,4,null,5511,5]
[null,5512,1,null,5512,5]
[null,5513,2,null,5513,5]
[null,5514,3,null,5514,1]
[null,5515,1,null,5515,1]
[null,5516,6,null,5516,2]
[null,5517,1,null,5517,3]
[null,5518,6,null,5518,2]
[null,5519,1,null,5519,1]
[null,5520,2,null,5520,6]
[null,5521,1,null,5521,1]
[null,5522,2,null,5522,6]
[null,5523,2,null,5523,4]
[null,5524,4,null,5524,4]
[null,5525,3,null,5525,3]
[null,5526,5,null,5526,5]
[null,5527,6,null,5527,4]
[null,5528,2,null,5528,6]
[null,5529,1,null,5529,1]
[null,5530,4,null,5530,4]
[null,5531,5,null,5531,2]
[null,5532,3,null,5532,6]
[null,5533,4,null,5533,1]
[null,5534,3,null,5534,1]
[null,5535,1,null,5535,6]
[null,5536,4,null,5536,2]
[null,5537,6,null,5537,4]
[null,5538,3,null,5538,2]
[null,5539,6,null,5539,4]
[null,5540,2,null,5540,4]
[null,5541,4,null,5541,2]
[null,5542,1,null,5542,1]
[null,5543,2,null,5543,4]
[null,5544,1,null,5544,6]
[null,5545,3,null,5545,3]
[null,5546,1,null,5546,3]
[null,5547,1,null,5547,1]
[null,5548,4,null,5548,4]
[null,5549,2,null,5549,5]
[null,5550,4,null,5550,4]
[null,5551,3,null,5551,2]
[null,5552,1,null,5552,4]
[null,5553,1,null,5553,2]
[null,5554,5,null,5554,4]
[null,5555,1,null,5555,3]
[null,5556,5,null,5556,6]
[null,5557,2,null,5557,1]
[null,5558,3,null,5558,5]
[null,5559,4,null,5559,3]
[null,5560,3,null,5560,5]
[null,5561,2,null,5561,4]
[null,5562,4,null,5562,1]
[null,5563,4,null,5563,2]
[null,5564,6,null,5564,3]
[null,5565,6,null,5565,2]
[null,5566,1,null,5566,1]
[null,5567,6,null,5567,1]
[null,5568,2,null,5568,6]
[null,5569,3,null,5569,5]
[null,5570,3,null,5570,{"$f":"RANDBETWEEN(1,6)","v":3}]
[null,5571,2,null,5571,4]
[null,5572,6,null,5572,2]
[null,5573,6,null,5573,3]
[null,5574,5,null,5574,6]
[null,5575,6,null,5575,6]
[null,5576,6,null,5576,4]
[null,5577,6,null,5577,5]
[null,5578,2,null,5578,6]
[null,5579,5,null,5579,3]
[null,5580,4,null,5580,2]
[null,5581,6,null,5581,5]
[null,5582,4,null,5582,1]
[null,5583,2,null,5583,5]
[null,5584,6,null,5584,3]
[null,5585,3,null,5585,6]
[null,5586,6,null,5586,6]
[null,5587,1,null,5587,2]
[null,5588,3,null,5588,5]
[null,5589,1,null,5589,5]
[null,5590,2,null,5590,5]
[null,5591,1,null,5591,3]
[null,5592,1,null,5592,6]
[null,5593,3,null,5593,2]
[null,5594,4,null,5594,5]
[null,5595,6,null,5595,4]
[null,5596,2,null,5596,2]
[null,5597,2,null,5597,5]
[null,5598,4,null,5598,5]
[null,5599,5,null,5599,5]
[null,5600,3,null,5600,1]
[null,5601,4,null,5601,1]
[null,5602,5,null,5602,2]
[null,5603,3,null,5603,3]
[null,5604,4,null,5604,2]
[null,5605,6,null,5605,3]
[null,5606,2,null,5606,5]
[null,5607,4,null,5607,1]
[null,5608,5,null,5608,4]
[null,5609,4,null,5609,1]
[null,5610,4,null,5610,6]
[null,5611,1,null,5611,4]
[null,5612,2,null,5612,3]
[null,5613,6,null,5613,3]
[null,5614,4,null,5614,5]
[null,5615,5,null,5615,3]
[null,5616,6,null,5616,4]
[null,5617,3,null,5617,6]
[null,5618,4,null,5618,1]
[null,5619,2,null,5619,5]
[null,5620,4,null,5620,3]
[null,5621,1,null,5621,6]
[null,5622,4,null,5622,4]
[null,5623,1,null,5623,6]
[null,5624,3,null,5624,2]
[null,5625,4,null,5625,2]
[null,5626,1,null,5626,6]
[null,5627,5,null,5627,6]
[null,5628,5,null,5628,4]
[null,5629,5,null,5629,6]
[null,5630,1,null,5630,4]
[null,5631,2,null,5631,5]
[null,5632,2,null,5632,1]
[null,5633,5,null,5633,3]
[null,5634,3,null,5634,{"$f":"RANDBETWEEN(1,6)","v":1}]
[null,5635,5,null,5635,4]
[null,5636,4,null,5636,1]
[null,5637,2,null,5637,4]
[null,5638,4,null,5638,1]
[null,5639,3,null,5639,1]
[null,5640,1,null,5640,4]
[null,5641,5,null,5641,6]
[null,5642,4,null,5642,2]
[null,5643,5,null,5643,1]
[null,5644,5,null,5644,3]
[null,5645,2,null,5645,1]
[null,5646,6,null,5646,6]
[null,5647,3,null,5647,4]
[null,5648,5,null,5648,4]
[null,5649,3,null,5649,6]
[null,5650,2,null,5650,6]
[null,5651,3,null,5651,1]
[null,5652,4,null,5652,3]
[null,5653,4,null,5653,5]
[null,5654,4,null,5654,5]
[null,5655,3,null,5655,6]
[null,5656,1,null,5656,2]
[null,5657,5,null,5657,6]
[null,5658,1,null,5658,5]
[null,5659,2,null,5659,1]
[null,5660,5,null,5660,6]
[null,5661,4,null,5661,2]
[null,5662,5,null,5662,4]
[null,5663,4,null,5663,2]
[null,5664,1,null,5664,3]
[null,5665,4,null,5665,2]
[null,5666,3,null,5666,1]
[null,5667,3,null,5667,4]
[null,5668,1,null,5668,5]
[null,5669,1,null,5669,3]
[null,5670,3,null,5670,6]
[null,5671,4,null,5671,1]
[null,5672,2,null,5672,4]
[null,5673,3,null,5673,4]
[null,5674,1,null,5674,5]
[null,5675,3,null,5675,3]
[null,5676,5,null,5676,6]
[null,5677,6,null,5677,1]
[null,5678,2,null,5678,3]
[null,5679,5,null,5679,2]
[null,5680,2,null,5680,3]
[null,5681,5,null,5681,2]
[null,5682,2,null,5682,5]
[null,5683,3,null,5683,2]
[null,5684,2,null,5684,3]
[null,5685,6,null,5685,1]
[null,5686,1,null,5686,2]
[null,5687,3,null,5687,1]
[null,5688,3,null,5688,2]
[null,5689,1,null,5689,4]
[null,5690,2,null,5690,5]
[null,5691,2,null,5691,6]
[null,5692,4,null,5692,6]
[null,5693,4,null,5693,2]
[null,5694,5,null,5694,1]
[null,5695,1,null,5695,3]
[null,5696,4,null,5696,4]
[null,5697,5,null,5697,3]
[null,5698,6,null,5698,{"$f":"RANDBETWEEN(1,6)","v":5}]
[null,5699,1,null,5699,4]
[null,5700,5,null,5700,2]
[null,5701,6,null,5701,1]
[null,5702,4,null,5702,1]
[null,5703,2,null,5703,5]
[null,5704,3,null,5704,5]
[null,5705,4,null,5705,6]
[null,5706,2,null,5706,3]
[null,5707,2,null,5707,5]
[null,5708,5,null,5708,5]
[null,5709,4,null,5709,1]
[null,5710,3,null,5710,4]
[null,5711,4,null,5711,5]
[null,5712,3,null,5712,5]
[null,5713,4,null,5713,5]
[null,5714,5,null,5714,4]
[null,5715,2,null,5715,6]
[null,5716,3,null,5716,6]
[null,5717,6,null,5717,3]
[null,5718,1,null,5718,6]
[null,5719,4,null,5719,3]
[null,5720,1,null,5720,1]
[null,5721,4,null,5721,1]
[null,5722,6,null,5722,3]
[null,5723,6,null,5723,5]
[null,5724,6,null,5724,3]
[null,5725,3,null,5725,6]
[null,5726,4,null,5726,5]
[null,5727,4,null,5727,6]
[null,5728,5,null,5728,3]
[null,5729,3,null,5729,5]
[null,5730,5,null,5730,2]
[null,5731,3,null,5731,2]
[null,5732,4,null,5732,2]
[null,5733,1,null,5733,2]
[null,5734,1,null,5734,3]
[null,5735,3,null,5735,6]
[null,5736,5,null,5736,5]
[null,5737,4,null,5737,1]
[null,5738,1,null,5738,1]
[null,5739,3,null,5739,2]
[null,5740,3,null,5740,6]
[null,5741,2,null,5741,2]
[null,5742,6,null,5742,4]
[null,5743,6,null,5743,2]
[null,5744,4,null,5744,3]
[null,5745,6,null,5745,5]
[null,5746,6,null,5746,3]
[null,5747,4,null,5747,1]
[null,5748,1,null,5748,4]
[null,5749,6,null,5749,3]
[null,5750,3,null,5750,2]
[null,5751,2,null,5751,4]
[null,5752,4,null,5752,2]
[null,5753,4,null,5753,4]
[null,5754,5,null,5754,4]
[null,5755,3,null,5755,3]
[null,5756,5,null,5756,5]
[null,5757,3,null,5757,6]
[null,5758,6,null,5758,1]
[null,5759,5,null,5759,5]
[null,5760,6,null,5760,4]
[null,5761,1,null,5761,4]
[null,5762,3,null,5762,{"$f":"RANDBETWEEN(1,6)","v":1}]
[null,5763,4,null,5763,3]
[null,5764,1,null,5764,1]
[null,5765,1,null,5765,3]
[null,5766,2,null,5766,5]
[null,5767,2,null,5767,1]
[null,5768,3,null,5768,2]
[null,5769,6,null,5769,4]
[null,5770,6,null,5770,1]
[null,5771,2,null,5771,4]
[null,5772,6,null,5772,4]
[null,5773,2,null,5773,2]
[null,5774,2,null,5774,5]
[null,5775,4,null,5775,3]
[null,5776,5,null,5776,6]
[null,5777,1,null,5777,1]
[null,5778,6,null,5778,4]
[null,5779,1,null,5779,2]
[null,5780,2,null,5780,4]
[null,5781,3,null,5781,2]
[null,5782,4,null,5782,5]
[null,5783,1,null,5783,3]
[null,5784,5,null,5784,4]
[null,5785,1,null,5785,4]
[null,5786,4,null,5786,2]
[null,5787,3,null,5787,3]
[null,5788,1,null,5788,3]
[null,5789,1,null,5789,3]
[null,5790,4,null,5790,2]
[null,5791,5,null,5791,6]
[null,5792,2,null,5792,6]
[null,5793,4,null,5793,6]
[null,5794,3,null,5794,1]
[null,5795,1,null,5795,4]
[null,5796,6,null,5796,2]
[null,5797,5,null,5797,1]
[null,5798,3,null,5798,5]
[null,5799,5,null,5799,4]
[null,5800,6,null,5800,5]
[null,5801,6,null,5801,2]
[null,5802,3,null,5802,4]
[null,5803,1,null,5803,4]
[null,5804,4,null,5804,5]
[null,5805,1,null,5805,1]
[null,5806,2,null,5806,4]
[null,5807,6,null,5807,3]
[null,5808,2,null,5808,3]
[null,5809,1,null,5809,3]
[null,5810,4,null,5810,3]
[null,5811,4,null,5811,2]
[null,5812,6,null,5812,2]
[null,5813,4,null,5813,5]
[null,5814,4,null,5814,3]
[null,5815,1,null,5815,2]
[null,5816,4,null,5816,2]
[null,5817,5,null,5817,1]
[null,5818,4,null,5818,1]
[null,5819,3,null,5819,5]
[null,5820,1,null,5820,6]
[null,5821,3,null,5821,2]
[null,5822,2,null,5822,2]
[null,5823,2,null,5823,3]
[null,5824,1,null,5824,3]
[null,5825,2,null,5825,6]
[null,5826,2,null,5826,{"$f":"RANDBETWEEN(1,6)","v":2}]
[null,5827,6,null,5827,3]
[null,5828,6,null,5828,5]
[null,5829,1,null,5829,3]
[null,5830,3,null,5830,5]
[null,5831,5,null,5831,1]
[null,5832,1,null,5832,4]
[null,5833,1,null,5833,6]
[null,5834,1,null,5834,2]
[null,5835,5,null,5835,5]
[null,5836,3,null,5836,3]
[null,5837,3,null,5837,5]
[null,5838,6,null,5838,2]
[null,5839,4,null,5839,5]
[null,5840,2,null,5840,5]
[null,5841,2,null,5841,6]
[null,5842,2,null,5842,1]
[null,5843,1,null,5843,6]
[null,5844,1,null,5844,3]
[null,5845,5,null,5845,6]
[null,5846,5,null,5846,6]
[null,5847,5,null,5847,6]
[null,5848,2,null,5848,1]
[null,5849,2,null,5849,6]
[null,5850,2,null,5850,1]
[null,5851,4,null,5851,5]
[null,5852,4,null,5852,5]
[null,5853,2,null,5853,2]
[null,5854,2,null,5854,6]
[null,5855,5,null,5855,1]
[null,5856,4,null,5856,4]
[null,5857,3,null,5857,4]
[null,5858,2,null,5858,1]
[null,5859,4,null,5859,2]
[null,5860,1,null,5860,4]
[null,5861,1,null,5861,5]
[null,5862,2,null,5862,4]
[null,5863,2,null,5863,3]
[null,5864,5,null,5864,2]
[null,5865,3,null,5865,1]
[null,5866,5,null,5866,2]
[null,5867,6,null,5867,6]
[null,5868,5,null,5868,6]
[null,5869,3,null,5869,5]
[null,5870,6,null,5870,5]
[null,5871,1,null,5871,5]
[null,5872,3,null,5872,2]
[null,5873,2,null,5873,1]
[null,5874,1,null,5874,2]
[null,5875,3,null,5875,1]
[null,5876,4,null,5876,4]
[null,5877,6,null,5877,1]
[null,5878,1,null,5878,2]
[null,5879,4,null,5879,2]
[null,5880,4,null,5880,1]
[null,5881,1,null,5881,4]
[null,5882,4,null,5882,6]
[null,5883,5,null,5883,5]
[null,5884,3,null,5884,4]
[null,5885,1,null,5885,4]
[null,5886,1,null,5886,3]
[null,5887,1,null,5887,1]
[null,5888,6,null,5888,6]
[null,5889,3,null,5889,3]
[null,5890,2,null,5890,{"$f":"RANDBETWEEN(1,6)","v":2}]
[null,5891,2,null,5891,2]
[null,5892,5,null,5892,3]
[null,5893,2,null,5893,2]
[null,5894,4,null,5894,3]
[null,5895,3,null,5895,3]
[null,5896,1,null,5896,5]
[null,5897,4,null,5897,6]
[null,5898,3,null,5898,5]
[null,5899,6,null,5899,5]
[null,5900,5,null,5900,3]
[null,5901,3,null,5901,4]
[null,5902,1,null,5902,4]
[null,5903,3,null,5903,4]
[null,5904,3,null,5904,4]
[null,5905,1,null,5905,3]
[null,5906,3,null,5906,2]
[null,5907,3,null,5907,1]
[null,5908,2,null,5908,1]
[null,5909,5,null,5909,6]
[null,5910,1,null,5910,1]
[null,5911,2,null,5911,6]
[null,5912,6,null,5912,3]
[null,5913,1,null,5913,2]
[null,5914,2,null,5914,5]
[null,5915,4,null,5915,3]
[null,5916,6,null,5916,6]
[null,5917,1,null,5917,1]
[null,5918,6,null,5918,4]
[null,5919,3,null,5919,6]
[null,5920,4,null,5920,2]
[null,5921,2,null,5921,5]
[null,5922,1,null,5922,4]
[null,5923,1,null,5923,1]
[null,5924,1,null,5924,3]
[null,5925,2,null,5925,2]
[null,5926,2,null,5926,1]
[null,5927,6,null,5927,1]
[null,5928,6,null,5928,2]
[null,5929,2,null,5929,3]
[null,5930,5,null,5930,4]
[null,5931,2,null,5931,3]
[null,5932,4,null,5932,5]
[null,5933,3,null,5933,6]
[null,5934,4,null,5934,1]
[null,5935,3,null,5935,2]
[null,5936,3,null,5936,3]
[null,5937,5,null,5937,3]
[null,5938,3,null,5938,3]
[null,5939,5,null,5939,2]
[null,5940,1,null,5940,1]
[null,5941,3,null,5941,2]
[null,5942,4,null,5942,1]
[null,5943,2,null,5943,5]
[null,5944,1,null,5944,4]
[null,5945,4,null,5945,2]
[null,5946,6,null,5946,4]
[null,5947,4,null,5947,6]
[null,5948,4,null,5948,5]
[null,5949,5,null,5949,6]
[null,5950,6,null,5950,2]
[null,5951,2,null,5951,3]
[null,5952,5,null,5952,4]
[null,5953,5,null,5953,1]
[null,5954,3,null,5954,{"$f":"RANDBETWEEN(1,6)","v":3}]
[null,5955,4,null,5955,2]
[null,5956,2,null,5956,4]
[null,5957,4,null,5957,3]
[null,5958,6,null,5958,1]
[null,5959,6,null,5959,4]
[null,5960,1,null,5960,4]
[null,5961,2,null,5961,3]
[null,5962,1,null,5962,1]
[null,5963,6,null,5963,5]
[null,5964,6,null,5964,2]
[null,5965,2,null,5965,5]
[null,5966,2,null,5966,6]
[null,5967,6,null,5967,6]
[null,5968,5,null,5968,1]
[null,5969,2,null,5969,2]
[null,5970,5,null,5970,3]
[null,5971,6,null,5971,6]
[null,5972,3,null,5972,1]
[null,5973,4,null,5973,3]
[null,5974,4,null,5974,3]
[null,5975,5,null,5975,4]
[null,5976,2,null,5976,4]
[null,5977,5,null,5977,2]
[null,5978,5,null,5978,2]
[null,5979,4,null,5979,2]
[null,5980,2,null,5980,5]
[null,5981,5,null,5981,3]
[null,5982,3,null,5982,5]
[null,5983,6,null,5983,6]
[null,5984,1,null,5984,3]
[null,5985,6,null,5985,1]
[null,5986,5,null,5986,5]
[null,5987,1,null,5987,4]
[null,5988,6,null,5988,1]
[null,5989,5,null,5989,4]
[null,5990,6,null,5990,1]
[null,5991,1,null,5991,2]
[null,5992,2,null,5992,2]
[null,5993,2,null,5993,3]
[null,5994,1,null,5994,4]
[null,5995,2,null,5995,4]
[null,5996,2,null,5996,1]
[null,5997,2,null,5997,3]
[null,5998,6,null,5998,1]
[null,5999,2,null,5999,2]
[null,6000,2,null,6000,4]
[null,6001,5,null,6001,4]
[null,6002,5,null,6002,2]
[null,6003,5,null,6003,1]
[null,6004,2,null,6004,6]
[null,6005,3,null,6005,3]
[null,6006,6,null,6006,5]
[null,6007,4,null,6007,4]
[null,6008,3,null,6008,4]
[null,6009,5,null,6009,2]
[null,6010,2,null,6010,6]
[null,6011,2,null,6011,2]
[null,6012,3,null,6012,5]
[null,6013,6,null,6013,1]
[null,6014,6,null,6014,2]
[null,6015,3,null,6015,6]
[null,6016,2,null,6016,4]
[null,6017,6,null,6017,6]
[null,6018,2,null,6018,{"$f":"RANDBETWEEN(1,6)","v":1}]
[null,6019,2,null,6019,5]
[null,6020,1,null,6020,6]
[null,6021,5,null,6021,6]
[null,6022,6,null,6022,5]
[null,6023,1,null,6023,3]
[null,6024,5,null,6024,5]
[null,6025,6,null,6025,4]
[null,6026,5,null,6026,5]
[null,6027,3,null,6027,6]
[null,6028,3,null,6028,3]
[null,6029,5,null,6029,3]
[null,6030,6,null,6030,5]
[null,6031,5,null,6031,5]
[null,6032,4,null,6032,3]
[null,6033,4,null,6033,1]
[null,6034,5,null,6034,4]
[null,6035,4,null,6035,4]
[null,6036,4,null,6036,6]
[null,6037,6,null,6037,5]
[null,6038,1,null,6038,2]
[null,6039,5,null,6039,2]
[null,6040,3,null,6040,6]
[null,6041,1,null,6041,2]
[null,6042,6,null,6042,3]
[null,6043,1,null,6043,6]
[null,6044,2,null,6044,3]
[null,6045,1,null,6045,2]
[null,6046,2,null,6046,6]
[null,6047,2,null,6047,3]
[null,6048,6,null,6048,5]
[null,6049,1,null,6049,3]
[null,6050,1,null,6050,6]
[null,6051,4,null,6051,4]
[null,6052,1,null,6052,3]
[null,6053,5,null,6053,6]
[null,6054,3,null,6054,3]
[null,6055,4,null,6055,1]
[null,6056,4,null,6056,2]
[null,6057,2,null,6057,3]
[null,6058,3,null,6058,6]
[null,6059,3,null,6059,1]
[null,6060,1,null,6060,3]
[null,6061,6,null,6061,1]
[null,6062,4,null,6062,5]
[null,6063,4,null,6063,6]
[null,6064,2,null,6064,5]
[null,6065,2,null,6065,3]
[null,6066,4,null,6066,1]
[null,6067,1,null,6067,4]
[null,6068,4,null,6068,1]
[null,6069,1,null,6069,4]
[null,6070,2,null,6070,1]
[null,6071,1,null,6071,6]
[null,6072,1,null,6072,3]
[null,6073,4,null,6073,5]
[null,6074,4,null,6074,3]
[null,6075,5,null,6075,5]
[null,6076,3,null,6076,1]
[null,6077,2,null,6077,5]
[null,6078,6,null,6078,4]
[null,6079,3,null,6079,6]
[null,6080,1,null,6080,4]
[null,6081,5,null,6081,2]
[null,6082,3,null,6082,{"$f":"RANDBETWEEN(1,6)","v":4}]
[null,6083,5,null,6083,6]
[null,6084,3,null,6084,5]
[null,6085,6,null,6085,4]
[null,6086,5,null,6086,4]
[null,6087,5,null,6087,3]
[null,6088,4,null,6088,3]
[null,6089,4,null,6089,3]
[null,6090,4,null,6090,6]
[null,6091,5,null,6091,3]
[null,6092,4,null,6092,4]
[null,6093,1,null,6093,2]
[null,6094,2,null,6094,4]
[null,6095,1,null,6095,6]
[null,6096,5,null,6096,4]
[null,6097,6,null,6097,1]
[null,6098,3,null,6098,4]
[null,6099,3,null,6099,3]
[null,6100,5,null,6100,3]
[null,6101,3,null,6101,2]
[null,6102,3,null,6102,3]
[null,6103,3,null,6103,6]
[null,6104,2,null,6104,6]
[null,6105,5,null,6105,5]
[null,6106,5,null,6106,1]
[null,6107,4,null,6107,1]
[null,6108,3,null,6108,4]
[null,6109,2,null,6109,2]
[null,6110,5,null,6110,5]
[null,6111,4,null,6111,2]
[null,6112,3,null,6112,5]
[null,6113,6,null,6113,6]
[null,6114,4,null,6114,4]
[null,6115,4,null,6115,3]
[null,6116,4,null,6116,3]
[null,6117,6,null,6117,6]
[null,6118,6,null,6118,4]
[null,6119,2,null,6119,6]
[null,6120,2,null,6120,1]
[null,6121,1,null,6121,5]
[null,6122,3,null,6122,1]
[null,6123,2,null,6123,3]
[null,6124,6,null,6124,3]
[null,6125,6,null,6125,6]
[null,6126,6,null,6126,2]
[null,6127,3,null,6127,4]
[null,6128,3,null,6128,4]
[null,6129,6,null,6129,4]
[null,6130,3,null,6130,6]
[null,6131,1,null,6131,3]
[null,6132,5,null,6132,2]
[null,6133,6,null,6133,6]
[null,6134,2,null,6134,2]
[null,6135,3,null,6135,2]
[null,6136,4,null,6136,3]
[null,6137,2,null,6137,6]
[null,6138,1,null,6138,6]
[null,6139,4,null,6139,6]
[null,6140,2,null,6140,4]
[null,6141,2,null,6141,1]
[null,6142,2,null,6142,4]
[null,6143,4,null,6143,3]
[null,6144,1,null,6144,4]
[null,6145,6,null,6145,1]
[null,6146,6,null,6146,{"$f":"RANDBETWEEN(1,6)","v":1}]
[null,6147,2,null,6147,4]
[null,6148,6,null,6148,4]
[null,6149,4,null,6149,3]
[null,6150,2,null,6150,6]
[null,6151,4,null,6151,6]
[null,6152,2,null,6152,6]
[null,6153,6,null,6153,1]
[null,6154,1,null,6154,6]
[null,6155,3,null,6155,4]
[null,6156,1,null,6156,4]
[null,6157,2,null,6157,2]
[null,6158,1,null,6158,4]
[null,6159,1,null,6159,1]
[null,6160,3,null,6160,5]
[null,6161,1,null,6161,6]
[null,6162,4,null,6162,3]
[null,6163,4,null,6163,1]
[null,6164,2,null,6164,5]
[null,6165,5,null,6165,1]
[null,6166,4,null,6166,6]
[null,6167,4,null,6167,6]
[null,6168,5,null,6168,6]
[null,6169,2,null,6169,3]
[null,6170,6,null,6170,3]
[null,6171,5,null,6171,2]
[null,6172,4,null,6172,2]
[null,6173,2,null,6173,3]
[null,6174,6,null,6174,5]
[null,6175,4,null,6175,3]
[null,6176,3,null,6176,4]
[null,6177,3,null,6177,2]
[null,6178,1,null,6178,2]
[null,6179,3,null,6179,4]
[null,6180,6,null,6180,4]
[null,6181,3,null,6181,5]
[null,6182,5,null,6182,5]
[null,6183,5,null,6183,3]
[null,6184,5,null,6184,6]
[null,6185,3,null,6185,6]
[null,6186,6,null,6186,3]
[null,6187,4,null,6187,4]
[null,6188,5,null,6188,3]
[null,6189,6,null,6189,3]
[null,6190,1,null,6190,3]
[null,6191,6,null,6191,3]
[null,6192,4,null,6192,1]
[null,6193,3,null,6193,2]
[null,6194,3,null,6194,6]
[null,6195,5,null,6195,1]
[null,6196,1,null,6196,4]
[null,6197,6,null,6197,1]
[null,6198,6,null,6198,5]
[null,6199,5,null,6199,2]
[null,6200,2,null,6200,5]
[null,6201,3,null,6201,2]
[null,6202,2,null,6202,4]
[null,6203,5,null,6203,1]
[null,6204,5,null,6204,6]
[null,6205,1,null,6205,6]
[null,6206,4,null,6206,1]
[null,6207,6,null,6207,5]
[null,6208,3,null,6208,1]
[null,6209,1,null,6209,6]
[null,6210,5,null,6210,{"$f":"RANDBETWEEN(1,6)","v":1}]
[null,6211,6,null,6211,6]
[null,6212,2,null,6212,6]
[null,6213,2,null,6213,3]
[null,6214,6,null,6214,5]
[null,6215,2,null,6215,3]
[null,6216,2,null,6216,6]
[null,6217,4,null,6217,3]
[null,6218,6,null,6218,5]
[null,6219,4,null,6219,6]
[null,6220,1,null,6220,2]
[null,6221,2,null,6221,6]
[null,6222,4,null,6222,3]
[null,6223,4,null,6223,5]
[null,6224,3,null,6224,2]
[null,6225,3,null,6225,4]
[null,6226,5,null,6226,3]
[null,6227,4,null,6227,4]
[null,6228,5,null,6228,4]
[null,6229,1,null,6229,6]
[null,6230,1,null,6230,5]
[null,6231,3,null,6231,6]
[null,6232,6,null,6232,2]
[null,6233,2,null,6233,5]
[null,6234,6,null,6234,1]
[null,6235,6,null,6235,1]
[null,6236,2,null,6236,6]
[null,6237,6,null,6237,2]
[null,6238,1,null,6238,4]
[null,6239,4,null,6239,1]
[null,6240,4,null,6240,1]
[null,6241,1,null,6241,4]
[null,6242,5,null,6242,5]
[null,6243,2,null,6243,4]
[null,6244,1,null,6244,2]
[null,6245,4,null,6245,5]
[null,6246,5,null,6246,1]
[null,6247,4,null,6247,3]
[null,6248,4,null,6248,3]
[null,6249,5,null,6249,3]
[null,6250,1,null,6250,1]
[null,6251,3,null,6251,4]
[null,6252,1,null,6252,2]
[null,6253,3,null,6253,5]
[null,6254,3,null,6254,6]
[null,6255,5,null,6255,5]
[null,6256,6,null,6256,5]
[null,6257,1,null,6257,1]
[null,6258,5,null,6258,3]
[null,6259,5,null,6259,2]
[null,6260,4,null,6260,3]
[null,6261,4,null,6261,3]
[null,6262,1,null,6262,3]
[null,6263,2,null,6263,6]
[null,6264,4,null,6264,1]
[null,6265,6,null,6265,5]
[null,6266,4,null,6266,1]
[null,6267,1,null,6267,4]
[null,6268,5,null,6268,4]
[null,6269,5,null,6269,2]
[null,6270,1,null,6270,1]
[null,6271,5,null,6271,1]
[null,6272,4,null,6272,6]
[null,6273,5,null,6273,1]
[null,6274,6,null,6274,{"$f":"RANDBETWEEN(1,6)","v":3}]
[null,6275,3,null,6275,2]
[null,6276,1,null,6276,2]
[null,6277,3,null,6277,4]
[null,6278,2,null,6278,1]
[null,6279,6,null,6279,6]
[null,6280,1,null,6280,4]
[null,6281,5,null,6281,3]
[null,6282,4,null,6282,5]
[null,6283,5,null,6283,5]
[null,6284,3,null,6284,4]
[null,6285,3,null,6285,3]
[null,6286,6,null,6286,6]
[null,6287,1,null,6287,1]
[null,6288,5,null,6288,5]
[null,6289,6,null,6289,5]
[null,6290,6,null,6290,5]
[null,6291,1,null,6291,5]
[null,6292,4,null,6292,2]
[null,6293,2,null,6293,2]
[null,6294,5,null,6294,6]
[null,6295,3,null,6295,2]
[null,6296,6,null,6296,2]
[null,6297,5,null,6297,2]
[null,6298,2,null,6298,5]
[null,6299,6,null,6299,2]
[null,6300,6,null,6300,4]
[null,6301,5,null,6301,6]
[null,6302,4,null,6302,1]
[null,6303,4,null,6303,6]
[null,6304,2,null,6304,3]
[null,6305,5,null,6305,5]
[null,6306,3,null,6306,4]
[null,6307,2,null,6307,4]
[null,6308,6,null,6308,2]
[null,6309,2,null,6309,3]
[null,6310,2,null,6310,4]
[null,6311,3,null,6311,2]
[null,6312,1,null,6312,1]
[null,6313,1,null,6313,3]
[null,6314,5,null,6314,6]
[null,6315,3,null,6315,4]
[null,6316,2,null,6316,1]
[null,6317,5,null,6317,2]
[null,6318,1,null,6318,4]
[null,6319,2,null,6319,5]
[null,6320,4,null,6320,5]
[null,6321,1,null,6321,6]
[null,6322,4,null,6322,2]
[null,6323,1,null,6323,1]
[null,6324,3,null,6324,2]
[null,6325,2,null,6325,1]
[null,6326,1,null,6326,4]
[null,6327,1,null,6327,3]
[null,6328,6,null,6328,3]
[null,6329,1,null,6329,5]
[null,6330,3,null,6330,4]
[null,6331,6,null,6331,5]
[null,6332,5,null,6332,6]
[null,6333,2,null,6333,6]
[null,6334,1,null,6334,4]
[null,6335,3,null,6335,4]
[null,6336,1,null,6336,4]
[null,6337,2,null,6337,5]
[null,6338,5,null,6338,{"$f":"RANDBETWEEN(1,6)","v":3}]
[null,6339,6,null,6339,1]
[null,6340,2,null,6340,5]
[null,6341,3,null,6341,5]
[null,6342,5,null,6342,1]
[null,6343,5,null,6343,3]
[null,6344,1,null,6344,6]
[null,6345,4,null,6345,5]
[null,6346,2,null,6346,2]
[null,6347,4,null,6347,2]
[null,6348,6,null,6348,5]
[null,6349,5,null,6349,2]
[null,6350,1,null,6350,3]
[null,6351,3,null,6351,5]
[null,6352,3,null,6352,3]
[null,6353,5,null,6353,2]
[null,6354,5,null,6354,2]
[null,6355,3,null,6355,3]
[null,6356,6,null,6356,6]
[null,6357,1,null,6357,6]
[null,6358,1,null,6358,2]
[null,6359,3,null,6359,4]
[null,6360,1,null,6360,2]
[null,6361,4,null,6361,1]
[null,6362,1,null,6362,1]
[null,6363,5,null,6363,5]
[null,6364,4,null,6364,3]
[null,6365,6,null,6365,1]
[null,6366,6,null,6366,1]
[null,6367,6,null,6367,2]
[null,6368,4,null,6368,2]
[null,6369,6,null,6369,1]
[null,6370,1,null,6370,2]
[null,6371,2,null,6371,5]
[null,6372,3,null,6372,6]
[null,6373,2,null,6373,3]
[null,6374,4,null,6374,6]
[null,6375,3,null,6375,2]
[null,6376,5,null,6376,2]
[null,6377,5,null,6377,4]
[null,6378,3,null,6378,1]
[null,6379,3,null,6379,6]
[null,6380,4,null,6380,3]
[null,6381,1,null,6381,4]
[null,6382,5,null,6382,3]
[null,6383,5,null,6383,1]
[null,6384,4,null,6384,5]
[null,6385,3,null,6385,5]
[null,6386,5,null,6386,1]
[null,6387,5,null,6387,2]
[null,6388,2,null,6388,6]
[null,6389,2,null,6389,1]
[null,6390,2,null,6390,4]
[null,6391,5,null,6391,5]
[null,6392,1,null,6392,2]
[null,6393,6,null,6393,4]
[null,6394,6,null,6394,6]
[null,6395,2,null,6395,1]
[null,6396,3,null,6396,3]
[null,6397,5,null,6397,6]
[null,6398,3,null,6398,5]
[null,6399,6,null,6399,5]
[null,6400,1,null,6400,1]
[null,6401,1,null,6401,2]
[null,6402,1,null,6402,{"$f":"RANDBETWEEN(1,6)","v":1}]
[null,6403,1,null,6403,2]
[null,6404,5,null,6404,2]
[null,6405,2,null,6405,2]
[null,6406,4,null,6406,5]
[null,6407,3,null,6407,4]
[null,6408,5,null,6408,5]
[null,6409,6,null,6409,3]
[null,6410,6,null,6410,6]
[null,6411,6,null,6411,6]
[null,6412,1,null,6412,6]
[null,6413,5,null,6413,4]
[null,6414,2,null,6414,1]
[null,6415,1,null,6415,5]
[null,6416,6,null,6416,6]
[null,6417,2,null,6417,5]
[null,6418,4,null,6418,4]
[null,6419,5,null,6419,5]
[null,6420,6,null,6420,5]
[null,6421,5,null,6421,5]
[null,6422,4,null,6422,1]
[null,6423,1,null,6423,1]
[null,6424,4,null,6424,6]
[null,6425,4,null,6425,1]
[null,6426,4,null,6426,1]
[null,6427,4,null,6427,2]
[null,6428,1,null,6428,2]
[null,6429,3,null,6429,1]
[null,6430,3,null,6430,5]
[null,6431,6,null,6431,2]
[null,6432,2,null,6432,2]
[null,6433,4,null,6433,1]
[null,6434,4,null,6434,3]
[null,6435,4,null,6435,1]
[null,6436,5,null,6436,4]
[null,6437,1,null,6437,3]
[null,6438,1,null,6438,4]
[null,6439,3,null,6439,5]
[null,6440,6,null,6440,2]
[null,6441,1,null,6441,1]
[null,6442,1,null,6442,2]
[null,6443,4,null,6443,3]
[null,6444,5,null,6444,4]
[null,6445,4,null,6445,5]
[null,6446,6,null,6446,5]
[null,6447,3,null,6447,5]
[null,6448,6,null,6448,3]
[null,6449,1,null,6449,3]
[null,6450,1,null,6450,5]
[null,6451,2,null,6451,2]
[null,6452,1,null,6452,2]
[null,6453,6,null,6453,1]
[null,6454,4,null,6454,5]
[null,6455,5,null,6455,4]
[null,6456,5,null,6456,1]
[null,6457,5,null,6457,5]
[null,6458,2,null,6458,5]
[null,6459,3,null,6459,1]
[null,6460,2,null,6460,3]
[null,6461,3,null,6461,6]
[null,6462,2,null,6462,1]
[null,6463,4,null,6463,2]
[null,6464,6,null,6464,2]
[null,6465,4,null,6465,4]
[null,6466,2,null,6466,{"$f":"RANDBETWEEN(1,6)","v":2}]
[null,6467,1,null,6467,4]
[null,6468,2,null,6468,3]
[null,6469,6,null,6469,1]
[null,6470,3,null,6470,3]
[null,6471,4,null,6471,1]
[null,6472,3,null,6472,6]
[null,6473,5,null,6473,6]
[null,6474,1,null,6474,5]
[null,6475,5,null,6475,2]
[null,6476,4,null,6476,6]
[null,6477,6,null,6477,1]
[null,6478,3,null,6478,2]
[null,6479,6,null,6479,6]
[null,6480,3,null,6480,5]
[null,6481,5,null,6481,5]
[null,6482,6,null,6482,1]
[null,6483,2,null,6483,6]
[null,6484,3,null,6484,3]
[null,6485,4,null,6485,2]
[null,6486,2,null,6486,2]
[null,6487,5,null,6487,4]
[null,6488,1,null,6488,3]
[null,6489,1,null,6489,2]
[null,6490,6,null,6490,6]
[null,6491,1,null,6491,5]
[null,6492,3,null,6492,6]
[null,6493,4,null,6493,4]
[null,6494,1,null,6494,2]
[null,6495,5,null,6495,4]
[null,6496,2,null,6496,6]
[null,6497,2,null,6497,1]
[null,6498,2,null,6498,1]
[null,6499,2,null,6499,1]
[null,6500,5,null,6500,5]
[null,6501,3,null,6501,2]
[null,6502,4,null,6502,3]
[null,6503,2,null,6503,4]
[null,6504,4,null,6504,4]
[null,6505,3,null,6505,2]
[null,6506,4,null,6506,2]
[null,6507,4,null,6507,3]
[null,6508,1,null,6508,5]
[null,6509,1,null,6509,2]
[null,6510,6,null,6510,5]
[null,6511,3,null,6511,1]
[null,6512,1,null,6512,4]
[null,6513,2,null,6513,2]
[null,6514,2,null,6514,3]
[null,6515,5,null,6515,5]
[null,6516,5,null,6516,5]
[null,6517,1,null,6517,4]
[null,6518,5,null,6518,3]
[null,6519,3,null,6519,5]
[null,6520,2,null,6520,6]
[null,6521,6,null,6521,2]
[null,6522,4,null,6522,5]
[null,6523,1,null,6523,4]
[null,6524,5,null,6524,2]
[null,6525,4,null,6525,3]
[null,6526,5,null,6526,5]
[null,6527,5,null,6527,5]
[null,6528,2,null,6528,2]
[null,6529,6,null,6529,3]
[null,6530,4,null,6530,{"$f":"RANDBETWEEN(1,6)","v":3}]
[null,6531,1,null,6531,5]
[null,6532,2,null,6532,1]
[null,6533,1,null,6533,6]
[null,6534,4,null,6534,6]
[null,6535,6,null,6535,4]
[null,6536,4,null,6536,3]
[null,6537,3,null,6537,6]
[null,6538,3,null,6538,4]
[null,6539,3,null,6539,4]
[null,6540,6,null,6540,2]
[null,6541,6,null,6541,4]
[null,6542,4,null,6542,3]
[null,6543,2,null,6543,2]
[null,6544,2,null,6544,2]
[null,6545,2,null,6545,5]
[null,6546,2,null,6546,6]
[null,6547,1,null,6547,2]
[null,6548,3,null,6548,2]
[null,6549,3,null,6549,4]
[null,6550,4,null,6550,4]
[null,6551,6,null,6551,4]
[null,6552,5,null,6552,1]
[null,6553,5,null,6553,2]
[null,6554,3,null,6554,3]
[null,6555,3,null,6555,1]
[null,6556,1,null,6556,5]
[null,6557,3,null,6557,6]
[null,6558,2,null,6558,2]
[null,6559,5,null,6559,6]
[null,6560,1,null,6560,5]
[null,6561,2,null,6561,1]
[null,6562,2,null,6562,3]
[null,6563,5,null,6563,1]
[null,6564,6,null,6564,2]
[null,6565,5,null,6565,1]
[null,6566,6,null,6566,6]
[null,6567,3,null,6567,4]
[null,6568,3,null,6568,6]
[null,6569,5,null,6569,5]
[null,6570,5,null,6570,4]
[null,6571,4,null,6571,1]
[null,6572,3,null,6572,4]
[null,6573,3,null,6573,3]
[null,6574,4,null,6574,5]
[null,6575,6,null,6575,5]
[null,6576,4,null,6576,1]
[null,6577,1,null,6577,5]
[null,6578,1,null,6578,2]
[null,6579,1,null,6579,5]
[null,6580,4,null,6580,1]
[null,6581,2,null,6581,5]
[null,6582,4,null,6582,2]
[null,6583,5,null,6583,3]
[null,6584,6,null,6584,5]
[null,6585,1,null,6585,4]
[null,6586,2,null,6586,4]
[null,6587,1,null,6587,1]
[null,6588,5,null,6588,5]
[null,6589,6,null,6589,2]
[null,6590,5,null,6590,3]
[null,6591,2,null,6591,5]
[null,6592,6,null,6592,4]
[null,6593,5,null,6593,5]
[null,6594,4,null,6594,{"$f":"RANDBETWEEN(1,6)","v":6}]
[null,6595,3,null,6595,5]
[null,6596,2,null,6596,5]
[null,6597,1,null,6597,1]
[null,6598,6,null,6598,2]
[null,6599,3,null,6599,1]
[null,6600,3,null,6600,6]
[null,6601,1,null,6601,3]
[null,6602,6,null,6602,5]
[null,6603,5,null,6603,5]
[null,6604,4,null,6604,5]
[null,6605,1,null,6605,5]
[null,6606,2,null,6606,1]
[null,6607,1,null,6607,6]
[null,6608,5,null,6608,3]
[null,6609,5,null,6609,1]
[null,6610,6,null,6610,2]
[null,6611,6,null,6611,1]
[null,6612,2,null,6612,4]
[null,6613,3,null,6613,3]
[null,6614,5,null,6614,5]
[null,6615,3,null,6615,3]
[null,6616,3,null,6616,4]
[null,6617,4,null,6617,6]
[null,6618,4,null,6618,6]
[null,6619,3,null,6619,6]
[null,6620,6,null,6620,1]
[null,6621,1,null,6621,2]
[null,6622,5,null,6622,3]
[null,6623,1,null,6623,1]
[null,6624,3,null,6624,1]
[null,6625,4,null,6625,5]
[null,6626,6,null,6626,5]
[null,6627,1,null,6627,5]
[null,6628,1,null,6628,6]
[null,6629,3,null,6629,2]
[null,6630,1,null,6630,2]
[null,6631,5,null,6631,2]
[null,6632,3,null,6632,5]
[null,6633,3,null,6633,5]
[null,6634,4,null,6634,1]
[null,6635,1,null,6635,3]
[null,6636,5,null,6636,6]
[null,6637,6,null,6637,4]
[null,6638,3,null,6638,3]
[null,6639,2,null,6639,5]
[null,6640,2,null,6640,4]
[null,6641,6,null,6641,3]
[null,6642,1,null,6642,5]
[null,6643,6,null,6643,1]
[null,6644,1,null,6644,3]
[null,6645,1,null,6645,6]
[null,6646,5,null,6646,5]
[null,6647,5,null,6647,2]
[null,6648,1,null,6648,4]
[null,6649,1,null,6649,5]
[null,6650,3,null,6650,5]
[null,6651,1,null,6651,6]
[null,6652,4,null,6652,6]
[null,6653,6,null,6653,4]
[null,6654,1,null,6654,6]
[null,6655,6,null,6655,3]
[null,6656,4,null,6656,1]
[null,6657,3,null,6657,4]
[null,6658,2,null,6658,{"$f":"RANDBETWEEN(1,6)","v":4}]
[null,6659,5,null,6659,6]
[null,6660,2,null,6660,1]
[null,6661,4,null,6661,6]
[null,6662,3,null,6662,3]
[null,6663,1,null,6663,6]
[null,6664,1,null,6664,5]
[null,6665,2,null,6665,6]
[null,6666,2,null,6666,5]
[null,6667,2,null,6667,6]
[null,6668,1,null,6668,1]
[null,6669,2,null,6669,3]
[null,6670,5,null,6670,2]
[null,6671,6,null,6671,5]
[null,6672,6,null,6672,5]
[null,6673,3,null,6673,4]
[null,6674,3,null,6674,2]
[null,6675,2,null,6675,4]
[null,6676,1,null,6676,6]
[null,6677,4,null,6677,1]
[null,6678,6,null,6678,2]
[null,6679,1,null,6679,5]
[null,6680,6,null,6680,1]
[null,6681,6,null,6681,4]
[null,6682,6,null,6682,4]
[null,6683,4,null,6683,5]
[null,6684,1,null,6684,4]
[null,6685,3,null,6685,5]
[null,6686,1,null,6686,2]
[null,6687,2,null,6687,6]
[null,6688,2,null,6688,1]
[null,6689,6,null,6689,5]
[null,6690,2,null,6690,5]
[null,6691,5,null,6691,5]
[null,6692,4,null,6692,5]
[null,6693,1,null,6693,3]
[null,6694,2,null,6694,3]
[null,6695,1,null,6695,4]
[null,6696,4,null,6696,2]
[null,6697,6,null,6697,3]
[null,6698,3,null,6698,3]
[null,6699,4,null,6699,1]
[null,6700,6,null,6700,2]
[null,6701,1,null,6701,6]
[null,6702,4,null,6702,1]
[null,6703,4,null,6703,5]
[null,6704,2,null,6704,6]
[null,6705,1,null,6705,2]
[null,6706,6,null,6706,6]
[null,6707,3,null,6707,3]
[null,6708,6,null,6708,1]
[null,6709,4,null,6709,5]
[null,6710,3,null,6710,5]
[null,6711,4,null,6711,4]
[null,6712,3,null,6712,3]
[null,6713,1,null,6713,2]
[null,6714,2,null,6714,1]
[null,6715,2,null,6715,3]
[null,6716,5,null,6716,6]
[null,6717,1,null,6717,1]
[null,6718,4,null,6718,4]
[null,6719,4,null,6719,2]
[null,6720,2,null,6720,4]
[null,6721,5,null,6721,3]
[null,6722,2,null,6722,{"$f":"RANDBETWEEN(1,6)","v":6}]
[null,6723,1,null,6723,6]
[null,6724,3,null,6724,3]
[null,6725,6,null,6725,6]
[null,6726,5,null,6726,3]
[null,6727,6,null,6727,5]
[null,6728,3,null,6728,6]
[null,6729,3,null,6729,3]
[null,6730,4,null,6730,4]
[null,6731,2,null,6731,6]
[null,6732,2,null,6732,4]
[null,6733,4,null,6733,5]
[null,6734,2,null,6734,2]
[null,6735,5,null,6735,5]
[null,6736,1,null,6736,2]
[null,6737,5,null,6737,6]
[null,6738,5,null,6738,3]
[null,6739,4,null,6739,5]
[null,6740,2,null,6740,1]
[null,6741,1,null,6741,5]
[null,6742,2,null,6742,1]
[null,6743,2,null,6743,6]
[null,6744,3,null,6744,2]
[null,6745,3,null,6745,5]
[null,6746,3,null,6746,3]
[null,6747,4,null,6747,6]
[null,6748,3,null,6748,5]
[null,6749,2,null,6749,3]
[null,6750,3,null,6750,5]
[null,6751,4,null,6751,1]
[null,6752,2,null,6752,6]
[null,6753,1,null,6753,5]
[null,6754,2,null,6754,6]
[null,6755,2,null,6755,3]
[null,6756,5,null,6756,6]
[null,6757,2,null,6757,3]
[null,6758,5,null,6758,2]
[null,6759,4,null,6759,5]
[null,6760,5,null,6760,1]
[null,6761,6,null,6761,5]
[null,6762,2,null,6762,1]
[null,6763,6,null,6763,1]
[null,6764,3,null,6764,6]
[null,6765,2,null,6765,3]
[null,6766,5,null,6766,4]
[null,6767,2,null,6767,6]
[null,6768,5,null,6768,1]
[null,6769,2,null,6769,3]
[null,6770,1,null,6770,5]
[null,6771,6,null,6771,1]
[null,6772,4,null,6772,3]
[null,6773,6,null,6773,3]
[null,6774,5,null,6774,5]
[null,6775,3,null,6775,4]
[null,6776,4,null,6776,4]
[null,6777,4,null,6777,2]
[null,6778,2,null,6778,6]
[null,6779,1,null,6779,2]
[null,6780,6,null,6780,1]
[null,6781,2,null,6781,2]
[null,6782,3,null,6782,2]
[null,6783,3,null,6783,2]
[null,6784,4,null,6784,3]
[null,6785,3,null,6785,2]
[null,6786,6,null,6786,{"$f":"RANDBETWEEN(1,6)","v":4}]
[null,6787,1,null,6787,5]
[null,6788,5,null,6788,2]
[null,6789,2,null,6789,1]
[null,6790,5,null,6790,5]
[null,6791,4,null,6791,3]
[null,6792,2,null,6792,4]
[null,6793,5,null,6793,4]
[null,6794,2,null,6794,6]
[null,6795,3,null,6795,4]
[null,6796,1,null,6796,4]
[null,6797,5,null,6797,1]
[null,6798,1,null,6798,3]
[null,6799,2,null,6799,5]
[null,6800,2,null,6800,3]
[null,6801,1,null,6801,6]
[null,6802,6,null,6802,3]
[null,6803,4,null,6803,6]
[null,6804,2,null,6804,2]
[null,6805,2,null,6805,4]
[null,6806,6,null,6806,3]
[null,6807,3,null,6807,4]
[null,6808,4,null,6808,5]
[null,6809,4,null,6809,4]
[null,6810,2,null,6810,1]
[null,6811,3,null,6811,6]
[null,6812,2,null,6812,5]
[null,6813,2,null,6813,4]
[null,6814,3,null,6814,5]
[null,6815,5,null,6815,6]
[null,6816,6,null,6816,4]
[null,6817,6,null,6817,2]
[null,6818,5,null,6818,5]
[null,6819,4,null,6819,5]
[null,6820,2,null,6820,4]
[null,6821,4,null,6821,1]
[null,6822,3,null,6822,4]
[null,6823,5,null,6823,6]
[null,6824,1,null,6824,4]
[null,6825,6,null,6825,3]
[null,6826,4,null,6826,4]
[null,6827,6,null,6827,5]
[null,6828,4,null,6828,5]
[null,6829,2,null,6829,5]
[null,6830,6,null,6830,4]
[null,6831,3,null,6831,2]
[null,6832,3,null,6832,6]
[null,6833,5,null,6833,6]
[null,6834,4,null,6834,2]
[null,6835,1,null,6835,4]
[null,6836,5,null,6836,4]
[null,6837,1,null,6837,5]
[null,6838,1,null,6838,4]
[null,6839,5,null,6839,5]
[null,6840,5,null,6840,6]
[null,6841,1,null,6841,5]
[null,6842,6,null,6842,6]
[null,6843,3,null,6843,6]
[null,6844,3,null,6844,6]
[null,6845,6,null,6845,1]
[null,6846,3,null,6846,6]
[null,6847,6,null,6847,1]
[null,6848,2,null,6848,6]
[null,6849,2,null,6849,3]
[null,6850,1,null,6850,{"$f":"RANDBETWEEN(1,6)","v":6}]
[null,6851,6,null,6851,4]
[null,6852,6,null,6852,6]
[null,6853,4,null,6853,1]
[null,6854,1,null,6854,1]
[null,6855,3,null,6855,3]
[null,6856,3,null,6856,5]
[null,6857,5,null,6857,4]
[null,6858,3,null,6858,4]
[null,6859,4,null,6859,6]
[null,6860,5,null,6860,6]
[null,6861,4,null,6861,2]
[null,6862,1,null,6862,4]
[null,6863,6,null,6863,3]
[null,6864,1,null,6864,3]
[null,6865,2,null,6865,2]
[null,6866,3,null,6866,3]
[null,6867,1,null,6867,6]
[null,6868,5,null,6868,5]
[null,6869,3,null,6869,1]
[null,6870,6,null,6870,1]
[null,6871,2,null,6871,3]
[null,6872,1,null,6872,3]
[null,6873,4,null,6873,1]
[null,6874,3,null,6874,2]
[null,6875,3,null,6875,4]
[null,6876,6,null,6876,4]
[null,6877,2,null,6877,2]
[null,6878,1,null,6878,4]
[null,6879,1,null,6879,2]
[null,6880,1,null,6880,2]
[null,6881,2,null,6881,3]
[null,6882,2,null,6882,2]
[null,6883,4,null,6883,3]
[null,6884,6,null,6884,3]
[null,6885,3,null,6885,1]
[null,6886,3,null,6886,1]
[null,6887,6,null,6887,2]
[null,6888,5,null,6888,1]
[null,6889,5,null,6889,6]
[null,6890,2,null,6890,3]
[null,6891,3,null,6891,6]
[null,6892,2,null,6892,2]
[null,6893,6,null,6893,5]
[null,6894,1,null,6894,2]
[null,6895,1,null,6895,6]
[null,6896,1,null,6896,4]
[null,6897,5,null,6897,5]
[null,6898,1,null,6898,1]
[null,6899,5,null,6899,1]
[null,6900,6,null,6900,2]
[null,6901,6,null,6901,6]
[null,6902,1,null,6902,4]
[null,6903,6,null,6903,5]
[null,6904,1,null,6904,4]
[null,6905,4,null,6905,1]
[null,6906,3,null,6906,4]
[null,6907,5,null,6907,1]
[null,6908,1,null,6908,2]
[null,6909,5,null,6909,2]
[null,6910,2,null,6910,6]
[null,6911,5,null,6911,2]
[null,6912,3,null,6912,4]
[null,6913,1,null,6913,3]
[null,6914,4,null,6914,{"$f":"RANDBETWEEN(1,6)","v":5}]
[null,6915,6,null,6915,3]
[null,6916,6,null,6916,5]
[null,6917,2,null,6917,6]
[null,6918,3,null,6918,6]
[null,6919,2,null,6919,2]
[null,6920,6,null,6920,1]
[null,6921,6,null,6921,5]
[null,6922,2,null,6922,1]
[null,6923,6,null,6923,5]
[null,6924,5,null,6924,3]
[null,6925,4,null,6925,1]
[null,6926,2,null,6926,1]
[null,6927,3,null,6927,1]
[null,6928,5,null,6928,5]
[null,6929,3,null,6929,2]
[null,6930,2,null,6930,5]
[null,6931,2,null,6931,4]
[null,6932,1,null,6932,6]
[null,6933,5,null,6933,2]
[null,6934,6,null,6934,2]
[null,6935,6,null,6935,2]
[null,6936,6,null,6936,4]
[null,6937,4,null,6937,3]
[null,6938,5,null,6938,1]
[null,6939,6,null,6939,5]
[null,6940,5,null,6940,3]
[null,6941,2,null,6941,4]
[null,6942,1,null,6942,3]
[null,6943,5,null,6943,2]
[null,6944,5,null,6944,2]
[null,6945,2,null,6945,1]
[null,6946,4,null,6946,4]
[null,6947,1,null,6947,4]
[null,6948,3,null,6948,5]
[null,6949,3,null,6949,4]
[null,6950,3,null,6950,6]
[null,6951,2,null,6951,3]
[null,6952,4,null,6952,5]
[null,6953,6,null,6953,2]
[null,6954,1,null,6954,1]
[null,6955,2,null,6955,2]
[null,6956,5,null,6956,4]
[null,6957,5,null,6957,3]
[null,6958,3,null,6958,3]
[null,6959,5,null,6959,5]
[null,6960,4,null,6960,3]
[null,6961,2,null,6961,6]
[null,6962,6,null,6962,2]
[null,6963,3,null,6963,1]
[null,6964,5,null,6964,1]
[null,6965,4,null,6965,6]
[null,6966,2,null,6966,3]
[null,6967,5,null,6967,1]
[null,6968,1,null,6968,2]
[null,6969,5,null,6969,6]
[null,6970,3,null,6970,6]
[null,6971,4,null,6971,6]
[null,6972,4,null,6972,4]
[null,6973,4,null,6973,5]
[null,6974,5,null,6974,2]
[null,6975,5,null,6975,5]
[null,6976,4,null,6976,1]
[null,6977,3,null,6977,4]
[null,6978,4,null,6978,{"$f":"RANDBETWEEN(1,6)","v":4}]
[null,6979,5,null,6979,2]
[null,6980,4,null,6980,2]
[null,6981,2,null,6981,5]
[null,6982,5,null,6982,6]
[null,6983,3,null,6983,5]
[null,6984,6,null,6984,4]
[null,6985,1,null,6985,3]
[null,6986,2,null,6986,6]
[null,6987,3,null,6987,3]
[null,6988,2,null,6988,1]
[null,6989,1,null,6989,6]
[null,6990,4,null,6990,3]
[null,6991,5,null,6991,5]
[null,6992,3,null,6992,1]
[null,6993,4,null,6993,3]
[null,6994,5,null,6994,4]
[null,6995,1,null,6995,4]
[null,6996,2,null,6996,5]
[null,6997,5,null,6997,1]
[null,6998,6,null,6998,5]
[null,6999,3,null,6999,5]
[null,7000,2,null,7000,6]
[null,7001,1,null,7001,4]
[null,7002,2,null,7002,3]
[null,7003,6,null,7003,3]
[null,7004,4,null,7004,6]
[null,7005,3,null,7005,6]
[null,7006,5,null,7006,1]
[null,7007,6,null,7007,3]
[null,7008,2,null,7008,2]
[null,7009,3,null,7009,6]
[null,7010,6,null,7010,2]
[null,7011,1,null,7011,1]
[null,7012,2,null,7012,2]
[null,7013,1,null,7013,2]
[null,7014,6,null,7014,1]
[null,7015,5,null,7015,4]
[null,7016,2,null,7016,2]
[null,7017,6,null,7017,6]
[null,7018,5,null,7018,2]
[null,7019,1,null,7019,4]
[null,7020,3,null,7020,2]
[null,7021,2,null,7021,2]
[null,7022,2,null,7022,5]
[null,7023,4,null,7023,5]
[null,7024,6,null,7024,1]
[null,7025,5,null,7025,2]
[null,7026,3,null,7026,3]
[null,7027,5,null,7027,2]
[null,7028,5,null,7028,5]
[null,7029,1,null,7029,3]
[null,7030,2,null,7030,5]
[null,7031,6,null,7031,6]
[null,7032,6,null,7032,4]
[null,7033,4,null,7033,6]
[null,7034,3,null,7034,2]
[null,7035,2,null,7035,2]
[null,7036,2,null,7036,6]
[null,7037,5,null,7037,1]
[null,7038,4,null,7038,4]
[null,7039,3,null,7039,6]
[null,7040,6,null,7040,6]
[null,7041,1,null,7041,2]
[null,7042,2,null,7042,{"$f":"RANDBETWEEN(1,6)","v":5}]
[null,7043,6,null,7043,1]
[null,7044,5,null,7044,2]
[null,7045,3,null,7045,1]
[null,7046,5,null,7046,1]
[null,7047,6,null,7047,2]
[null,7048,1,null,7048,6]
[null,7049,2,null,7049,3]
[null,7050,3,null,7050,2]
[null,7051,5,null,7051,3]
[null,7052,2,null,7052,2]
[null,7053,6,null,7053,5]
[null,7054,5,null,7054,6]
[null,7055,6,null,7055,2]
[null,7056,6,null,7056,5]
[null,7057,3,null,7057,6]
[null,7058,3,null,7058,1]
[null,7059,3,null,7059,5]
[null,7060,4,null,7060,5]
[null,7061,4,null,7061,4]
[null,7062,5,null,7062,3]
[null,7063,1,null,7063,2]
[null,7064,2,null,7064,4]
[null,7065,6,null,7065,6]
[null,7066,3,null,7066,3]
[null,7067,6,null,7067,5]
[null,7068,1,null,7068,2]
[null,7069,3,null,7069,1]
[null,7070,1,null,7070,2]
[null,7071,1,null,7071,5]
[null,7072,3,null,7072,1]
[null,7073,2,null,7073,4]
[null,7074,5,null,7074,6]
[null,7075,2,null,7075,4]
[null,7076,5,null,7076,3]
[null,7077,3,null,7077,6]
[null,7078,2,null,7078,6]
[null,7079,2,null,7079,6]
[null,7080,3,null,7080,4]
[null,7081,5,null,7081,1]
[null,7082,4,null,7082,6]
[null,7083,1,null,7083,6]
[null,7084,3,null,7084,4]
[null,7085,5,null,7085,4]
[null,7086,1,null,7086,1]
[null,7087,3,null,7087,5]
[null,7088,5,null,7088,3]
[null,7089,4,null,7089,4]
[null,7090,2,null,7090,2]
[null,7091,5,null,7091,3]
[null,7092,5,null,7092,1]
[null,7093,4,null,7093,5]
[null,7094,3,null,7094,3]
[null,7095,4,null,7095,4]
[null,7096,3,null,7096,1]
[null,7097,2,null,7097,3]
[null,7098,6,null,7098,3]
[null,7099,4,null,7099,4]
[null,7100,4,null,7100,5]
[null,7101,4,null,7101,3]
[null,7102,1,null,7102,4]
[null,7103,5,null,7103,5]
[null,7104,2,null,7104,3]
[null,7105,5,null,7105,2]
[null,7106,6,null,7106,{"$f":"RANDBETWEEN(1,6)","v":6}]
[null,7107,3,null,7107,4]
[null,7108,1,null,7108,2]
[null,7109,2,null,7109,6]
[null,7110,4,null,7110,5]
[null,7111,3,null,7111,6]
[null,7112,4,null,7112,6]
[null,7113,4,null,7113,4]
[null,7114,4,null,7114,4]
[null,7115,1,null,7115,6]
[null,7116,1,null,7116,1]
[null,7117,4,null,7117,2]
[null,7118,4,null,7118,1]
[null,7119,6,null,7119,2]
[null,7120,3,null,7120,1]
[null,7121,5,null,7121,5]
[null,7122,6,null,7122,5]
[null,7123,2,null,7123,4]
[null,7124,3,null,7124,2]
[null,7125,2,null,7125,4]
[null,7126,3,null,7126,6]
[null,7127,1,null,7127,3]
[null,7128,4,null,7128,4]
[null,7129,4,null,7129,1]
[null,7130,3,null,7130,3]
[null,7131,1,null,7131,6]
[null,7132,3,null,7132,3]
[null,7133,4,null,7133,5]
[null,7134,5,null,7134,5]
[null,7135,6,null,7135,1]
[null,7136,1,null,7136,1]
[null,7137,5,null,7137,5]
[null,7138,2,null,7138,6]
[null,7139,3,null,7139,6]
[null,7140,2,null,7140,2]
[null,7141,4,null,7141,1]
[null,7142,1,null,7142,6]
[null,7143,4,null,7143,2]
[null,7144,1,null,7144,6]
[null,7145,1,null,7145,1]
[null,7146,3,null,7146,5]
[null,7147,3,null,7147,2]
[null,7148,1,null,7148,1]
[null,7149,6,null,7149,6]
[null,7150,4,null,7150,1]
[null,7151,2,null,7151,6]
[null,7152,5,null,7152,1]
[null,7153,1,null,7153,5]
[null,7154,5,null,7154,3]
[null,7155,3,null,7155,6]
[null,7156,6,null,7156,5]
[null,7157,6,null,7157,5]
[null,7158,1,null,7158,1]
[null,7159,5,null,7159,2]
[null,7160,3,null,7160,2]
[null,7161,1,null,7161,6]
[null,7162,4,null,7162,2]
[null,7163,4,null,7163,1]
[null,7164,5,null,7164,1]
[null,7165,2,null,7165,2]
[null,7166,4,null,7166,6]
[null,7167,2,null,7167,1]
[null,7168,4,null,7168,6]
[null,7169,2,null,7169,4]
[null,7170,2,null,7170,{"$f":"RANDBETWEEN(1,6)","v":3}]
[null,7171,2,null,7171,5]
[null,7172,4,null,7172,1]
[null,7173,2,null,7173,2]
[null,7174,5,null,7174,2]
[null,7175,6,null,7175,4]
[null,7176,4,null,7176,4]
[null,7177,3,null,7177,2]
[null,7178,1,null,7178,4]
[null,7179,3,null,7179,6]
[null,7180,2,null,7180,3]
[null,7181,1,null,7181,2]
[null,7182,1,null,7182,4]
[null,7183,6,null,7183,6]
[null,7184,6,null,7184,4]
[null,7185,1,null,7185,2]
[null,7186,1,null,7186,4]
[null,7187,5,null,7187,5]
[null,7188,1,null,7188,5]
[null,7189,3,null,7189,5]
[null,7190,5,null,7190,3]
[null,7191,1,null,7191,4]
[null,7192,5,null,7192,2]
[null,7193,3,null,7193,6]
[null,7194,4,null,7194,4]
[null,7195,2,null,7195,6]
[null,7196,1,null,7196,4]
[null,7197,4,null,7197,4]
[null,7198,3,null,7198,6]
[null,7199,3,null,7199,3]
[null,7200,1,null,7200,5]
[null,7201,4,null,7201,4]
[null,7202,4,null,7202,5]
[null,7203,3,null,7203,2]
[null,7204,5,null,7204,2]
[null,7205,4,null,7205,2]
[null,7206,6,null,7206,5]
[null,7207,3,null,7207,1]
[null,7208,3,null,7208,6]
[null,7209,4,null,7209,2]
[null,7210,1,null,7210,2]
[null,7211,3,null,7211,5]
[null,7212,2,null,7212,6]
[null,7213,6,null,7213,2]
[null,7214,3,null,7214,3]
[null,7215,2,null,7215,6]
[null,7216,1,null,7216,4]
[null,7217,4,null,7217,6]
[null,7218,5,null,7218,5]
[null,7219,6,null,7219,6]
[null,7220,6,null,7220,4]
[null,7221,6,null,7221,6]
[null,7222,3,null,7222,1]
[null,7223,6,null,7223,6]
[null,7224,3,null,7224,3]
[null,7225,1,null,7225,1]
[null,7226,4,null,7226,5]
[null,7227,6,null,7227,2]
[null,7228,2,null,7228,5]
[null,7229,3,null,7229,2]
[null,7230,4,null,7230,4]
[null,7231,5,null,7231,3]
[null,7232,2,null,7232,1]
[null,7233,3,null,7233,6]
[null,7234,1,null,7234,{"$f":"RANDBETWEEN(1,6)","v":1}]
[null,7235,5,null,7235,3]
[null,7236,5,null,7236,6]
[null,7237,4,null,7237,5]
[null,7238,2,null,7238,6]
[null,7239,3,null,7239,1]
[null,7240,6,null,7240,1]
[null,7241,1,null,7241,2]
[null,7242,3,null,7242,6]
[null,7243,4,null,7243,3]
[null,7244,4,null,7244,3]
[null,7245,2,null,7245,2]
[null,7246,1,null,7246,2]
[null,7247,6,null,7247,6]
[null,7248,3,null,7248,3]
[null,7249,3,null,7249,1]
[null,7250,2,null,7250,6]
[null,7251,6,null,7251,2]
[null,7252,3,null,7252,5]
[null,7253,1,null,7253,5]
[null,7254,5,null,7254,2]
[null,7255,3,null,7255,2]
[null,7256,1,null,7256,6]
[null,7257,4,null,7257,3]
[null,7258,6,null,7258,2]
[null,7259,5,null,7259,6]
[null,7260,4,null,7260,4]
[null,7261,1,null,7261,2]
[null,7262,4,null,7262,5]
[null,7263,4,null,7263,3]
[null,7264,6,null,7264,3]
[null,7265,3,null,7265,4]
[null,7266,2,null,7266,4]
[null,7267,6,null,7267,3]
[null,7268,3,null,7268,4]
[null,7269,4,null,7269,4]
[null,7270,4,null,7270,4]
[null,7271,5,null,7271,3]
[null,7272,2,null,7272,6]
[null,7273,2,null,7273,5]
[null,7274,1,null,7274,3]
[null,7275,2,null,7275,1]
[null,7276,1,null,7276,5]
[null,7277,5,null,7277,6]
[null,7278,3,null,7278,4]
[null,7279,3,null,7279,5]
[null,7280,2,null,7280,3]
[null,7281,4,null,7281,4]
[null,7282,1,null,7282,4]
[null,7283,5,null,7283,1]
[null,7284,3,null,7284,4]
[null,7285,2,null,7285,4]
[null,7286,5,null,7286,3]
[null,7287,3,null,7287,2]
[null,7288,6,null,7288,5]
[null,7289,3,null,7289,4]
[null,7290,3,null,7290,4]
[null,7291,5,null,7291,1]
[null,7292,1,null,7292,4]
[null,7293,2,null,7293,3]
[null,7294,1,null,7294,2]
[null,7295,1,null,7295,6]
[null,7296,4,null,7296,2]
[null,7297,4,null,7297,4]
[null,7298,1,null,7298,{"$f":"RANDBETWEEN(1,6)","v":1}]
[null,7299,6,null,7299,6]
[null,7300,6,null,7300,5]
[null,7301,2,null,7301,3]
[null,7302,1,null,7302,5]
[null,7303,5,null,7303,6]
[null,7304,6,null,7304,1]
[null,7305,2,null,7305,5]
[null,7306,3,null,7306,3]
[null,7307,1,null,7307,1]
[null,7308,6,null,7308,1]
[null,7309,5,null,7309,6]
[null,7310,2,null,7310,3]
[null,7311,3,null,7311,6]
[null,7312,5,null,7312,6]
[null,7313,4,null,7313,3]
[null,7314,1,null,7314,4]
[null,7315,5,null,7315,3]
[null,7316,3,null,7316,2]
[null,7317,1,null,7317,1]
[null,7318,2,null,7318,6]
[null,7319,5,null,7319,3]
[null,7320,2,null,7320,3]
[null,7321,6,null,7321,2]
[null,7322,6,null,7322,3]
[null,7323,1,null,7323,6]
[null,7324,4,null,7324,3]
[null,7325,4,null,7325,1]
[null,7326,6,null,7326,2]
[null,7327,1,null,7327,6]
[null,7328,2,null,7328,5]
[null,7329,6,null,7329,5]
[null,7330,1,null,7330,1]
[null,7331,4,null,7331,6]
[null,7332,2,null,7332,4]
[null,7333,5,null,7333,2]
[null,7334,2,null,7334,4]
[null,7335,4,null,7335,6]
[null,7336,1,null,7336,1]
[null,7337,4,null,7337,6]
[null,7338,5,null,7338,4]
[null,7339,1,null,7339,2]
[null,7340,4,null,7340,5]
[null,7341,2,null,7341,2]
[null,7342,6,null,7342,1]
[null,7343,4,null,7343,4]
[null,7344,2,null,7344,1]
[null,7345,3,null,7345,1]
[null,7346,4,null,7346,2]
[null,7347,2,null,7347,1]
[null,7348,2,null,7348,6]
[null,7349,5,null,7349,5]
[null,7350,5,null,7350,4]
[null,7351,4,null,7351,6]
[null,7352,3,null,7352,1]
[null,7353,1,null,7353,5]
[null,7354,2,null,7354,4]
[null,7355,4,null,7355,3]
[null,7356,5,null,7356,4]
[null,7357,1,null,7357,5]
[null,7358,3,null,7358,1]
[null,7359,3,null,7359,2]
[null,7360,2,null,7360,3]
[null,7361,3,null,7361,6]
[null,7362,1,null,7362,{"$f":"RANDBETWEEN(1,6)","v":3}]
[null,7363,4,null,7363,4]
[null,7364,5,null,7364,6]
[null,7365,6,null,7365,4]
[null,7366,5,null,7366,5]
[null,7367,5,null,7367,4]
[null,7368,5,null,7368,4]
[null,7369,2,null,7369,4]
[null,7370,1,null,7370,1]
[null,7371,6,null,7371,2]
[null,7372,3,null,7372,1]
[null,7373,5,null,7373,1]
[null,7374,1,null,7374,4]
[null,7375,1,null,7375,4]
[null,7376,2,null,7376,3]
[null,7377,1,null,7377,2]
[null,7378,5,null,7378,2]
[null,7379,5,null,7379,4]
[null,7380,1,null,7380,4]
[null,7381,4,null,7381,3]
[null,7382,1,null,7382,2]
[null,7383,5,null,7383,4]
[null,7384,5,null,7384,1]
[null,7385,4,null,7385,2]
[null,7386,5,null,7386,1]
[null,7387,6,null,7387,4]
[null,7388,2,null,7388,2]
[null,7389,6,null,7389,6]
[null,7390,5,null,7390,4]
[null,7391,3,null,7391,5]
[null,7392,3,null,7392,5]
[null,7393,6,null,7393,6]
[null,7394,2,null,7394,4]
[null,7395,2,null,7395,2]
[null,7396,3,null,7396,3]
[null,7397,5,null,7397,3]
[null,7398,2,null,7398,4]
[null,7399,5,null,7399,2]
[null,7400,6,null,7400,2]
[null,7401,5,null,7401,5]
[null,7402,3,null,7402,4]
[null,7403,2,null,7403,1]
[null,7404,1,null,7404,3]
[null,7405,2,null,7405,3]
[null,7406,2,null,7406,6]
[null,7407,4,null,7407,2]
[null,7408,1,null,7408,4]
[null,7409,3,null,7409,4]
[null,7410,3,null,7410,2]
[null,7411,5,null,7411,5]
[null,7412,2,null,7412,4]
[null,7413,6,null,7413,4]
[null,7414,1,null,7414,2]
[null,7415,6,null,7415,2]
[null,7416,4,null,7416,5]
[null,7417,6,null,7417,3]
[null,7418,2,null,7418,4]
[null,7419,4,null,7419,4]
[null,7420,6,null,7420,6]
[null,7421,6,null,7421,3]
[null,7422,3,null,7422,6]
[null,7423,4,null,7423,4]
[null,7424,5,null,7424,6]
[null,7425,4,null,7425,6]
[null,7426,6,null,7426,{"$f":"RANDBETWEEN(1,6)","v":2}]
[null,7427,6,null,7427,2]
[null,7428,5,null,7428,1]
[null,7429,4,null,7429,5]
[null,7430,4,null,7430,2]
[null,7431,6,null,7431,6]
[null,7432,4,null,7432,3]
[null,7433,6,null,7433,5]
[null,7434,2,null,7434,1]
[null,7435,4,null,7435,1]
[null,7436,2,null,7436,2]
[null,7437,6,null,7437,3]
[null,7438,3,null,7438,5]
[null,7439,1,null,7439,6]
[null,7440,5,null,7440,5]
[null,7441,3,null,7441,3]
[null,7442,6,null,7442,2]
[null,7443,6,null,7443,6]
[null,7444,1,null,7444,3]
[null,7445,6,null,7445,1]
[null,7446,3,null,7446,1]
[null,7447,2,null,7447,4]
[null,7448,1,null,7448,2]
[null,7449,4,null,7449,1]
[null,7450,1,null,7450,3]
[null,7451,6,null,7451,3]
[null,7452,1,null,7452,5]
[null,7453,5,null,7453,3]
[null,7454,4,null,7454,5]
[null,7455,4,null,7455,3]
[null,7456,3,null,7456,1]
[null,7457,3,null,7457,2]
[null,7458,4,null,7458,4]
[null,7459,2,null,7459,1]
[null,7460,5,null,7460,2]
[null,7461,5,null,7461,6]
[null,7462,5,null,7462,1]
[null,7463,3,null,7463,2]
[null,7464,6,null,7464,4]
[null,7465,2,null,7465,1]
[null,7466,6,null,7466,5]
[null,7467,3,null,7467,3]
[null,7468,1,null,7468,5]
[null,7469,4,null,7469,6]
[null,7470,1,null,7470,3]
[null,7471,3,null,7471,3]
[null,7472,1,null,7472,2]
[null,7473,5,null,7473,6]
[null,7474,4,null,7474,3]
[null,7475,6,null,7475,5]
[null,7476,3,null,7476,2]
[null,7477,2,null,7477,3]
[null,7478,3,null,7478,1]
[null,7479,2,null,7479,4]
[null,7480,4,null,7480,3]
[null,7481,2,null,7481,4]
[null,7482,3,null,7482,3]
[null,7483,3,null,7483,3]
[null,7484,2,null,7484,6]
[null,7485,5,null,7485,5]
[null,7486,3,null,7486,2]
[null,7487,4,null,7487,4]
[null,7488,5,null,7488,3]
[null,7489,5,null,7489,6]
[null,7490,5,null,7490,{"$f":"RANDBETWEEN(1,6)","v":2}]
[null,7491,3,null,7491,4]
[null,7492,2,null,7492,2]
[null,7493,6,null,7493,6]
[null,7494,3,null,7494,5]
[null,7495,4,null,7495,2]
[null,7496,3,null,7496,5]
[null,7497,1,null,7497,5]
[null,7498,4,null,7498,6]
[null,7499,5,null,7499,2]
[null,7500,5,null,7500,5]
[null,7501,6,null,7501,1]
[null,7502,1,null,7502,1]
[null,7503,6,null,7503,6]
[null,7504,6,null,7504,6]
[null,7505,3,null,7505,6]
[null,7506,2,null,7506,5]
[null,7507,5,null,7507,4]
[null,7508,2,null,7508,1]
[null,7509,2,null,7509,3]
[null,7510,1,null,7510,4]
[null,7511,2,null,7511,2]
[null,7512,2,null,7512,1]
[null,7513,2,null,7513,3]
[null,7514,4,null,7514,5]
[null,7515,3,null,7515,3]
[null,7516,3,null,7516,4]
[null,7517,4,null,7517,1]
[null,7518,2,null,7518,2]
[null,7519,6,null,7519,3]
[null,7520,1,null,7520,3]
[null,7521,1,null,7521,4]
[null,7522,4,null,7522,1]
[null,7523,4,null,7523,1]
[null,7524,5,null,7524,3]
[null,7525,4,null,7525,3]
[null,7526,2,null,7526,6]
[null,7527,5,null,7527,5]
[null,7528,1,null,7528,6]
[null,7529,1,null,7529,3]
[null,7530,1,null,7530,2]
[null,7531,2,null,7531,3]
[null,7532,1,null,7532,2]
[null,7533,1,null,7533,5]
[null,7534,1,null,7534,2]
[null,7535,6,null,7535,2]
[null,7536,3,null,7536,2]
[null,7537,2,null,7537,6]
[null,7538,6,null,7538,5]
[null,7539,6,null,7539,2]
[null,7540,4,null,7540,4]
[null,7541,2,null,7541,4]
[null,7542,5,null,7542,1]
[null,7543,3,null,7543,6]
[null,7544,1,null,7544,1]
[null,7545,5,null,7545,1]
[null,7546,3,null,7546,1]
[null,7547,4,null,7547,1]
[null,7548,2,null,7548,2]
[null,7549,2,null,7549,5]
[null,7550,6,null,7550,3]
[null,7551,6,null,7551,2]
[null,7552,4,null,7552,1]
[null,7553,6,null,7553,6]
[null,7554,6,null,7554,{"$f":"RANDBETWEEN(1,6)","v":3}]
[null,7555,6,null,7555,6]
[null,7556,5,null,7556,3]
[null,7557,5,null,7557,1]
[null,7558,1,null,7558,4]
[null,7559,3,null,7559,5]
[null,7560,3,null,7560,5]
[null,7561,4,null,7561,2]
[null,7562,3,null,7562,1]
[null,7563,4,null,7563,3]
[null,7564,6,null,7564,6]
[null,7565,3,null,7565,4]
[null,7566,1,null,7566,3]
[null,7567,3,null,7567,5]
[null,7568,3,null,7568,2]
[null,7569,4,null,7569,1]
[null,7570,1,null,7570,6]
[null,7571,5,null,7571,3]
[null,7572,2,null,7572,6]
[null,7573,2,null,7573,4]
[null,7574,4,null,7574,2]
[null,7575,6,null,7575,5]
[null,7576,2,null,7576,2]
[null,7577,2,null,7577,5]
[null,7578,3,null,7578,3]
[null,7579,3,null,7579,3]
[null,7580,3,null,7580,3]
[null,7581,1,null,7581,2]
[null,7582,5,null,7582,3]
[null,7583,2,null,7583,4]
[null,7584,2,null,7584,5]
[null,7585,2,null,7585,1]
[null,7586,5,null,7586,5]
[null,7587,5,null,7587,1]
[null,7588,5,null,7588,4]
[null,7589,4,null,7589,6]
[null,7590,3,null,7590,5]
[null,7591,4,null,7591,4]
[null,7592,1,null,7592,1]
[null,7593,6,null,7593,1]
[null,7594,2,null,7594,5]
[null,7595,5,null,7595,5]
[null,7596,1,null,7596,5]
[null,7597,6,null,7597,6]
[null,7598,6,null,7598,4]
[null,7599,1,null,7599,2]
[null,7600,2,null,7600,5]
[null,7601,2,null,7601,1]
[null,7602,3,null,7602,3]
[null,7603,6,null,7603,6]
[null,7604,1,null,7604,1]
[null,7605,4,null,7605,1]
[null,7606,6,null,7606,4]
[null,7607,2,null,7607,1]
[null,7608,2,null,7608,3]
[null,7609,6,null,7609,4]
[null,7610,4,null,7610,2]
[null,7611,6,null,7611,2]
[null,7612,4,null,7612,4]
[null,7613,4,null,7613,5]
[null,7614,2,null,7614,6]
[null,7615,3,null,7615,5]
[null,7616,1,null,7616,6]
[null,7617,4,null,7617,5]
[null,7618,6,null,7618,{"$f":"RANDBETWEEN(1,6)","v":2}]
[null,7619,4,null,7619,4]
[null,7620,2,null,7620,4]
[null,7621,4,null,7621,4]
[null,7622,4,null,7622,3]
[null,7623,4,null,7623,4]
[null,7624,6,null,7624,2]
[null,7625,6,null,7625,5]
[null,7626,3,null,7626,6]
[null,7627,5,null,7627,4]
[null,7628,5,null,7628,2]
[null,7629,5,null,7629,2]
[null,7630,1,null,7630,4]
[null,7631,4,null,7631,3]
[null,7632,6,null,7632,5]
[null,7633,4,null,7633,4]
[null,7634,6,null,7634,4]
[null,7635,5,null,7635,4]
[null,7636,6,null,7636,3]
[null,7637,1,null,7637,6]
[null,7638,1,null,7638,5]
[null,7639,6,null,7639,1]
[null,7640,3,null,7640,6]
[null,7641,2,null,7641,3]
[null,7642,1,null,7642,6]
[null,7643,6,null,7643,1]
[null,7644,4,null,7644,6]
[null,7645,5,null,7645,3]
[null,7646,1,null,7646,6]
[null,7647,6,null,7647,1]
[null,7648,3,null,7648,4]
[null,7649,1,null,7649,4]
[null,7650,6,null,7650,4]
[null,7651,6,null,7651,6]
[null,7652,1,null,7652,3]
[null,7653,1,null,7653,5]
[null,7654,6,null,7654,2]
[null,7655,4,null,7655,5]
[null,7656,2,null,7656,1]
[null,7657,4,null,7657,6]
[null,7658,5,null,7658,5]
[null,7659,1,null,7659,3]
[null,7660,1,null,7660,2]
[null,7661,2,null,7661,6]
[null,7662,3,null,7662,2]
[null,7663,2,null,7663,4]
[null,7664,4,null,7664,3]
[null,7665,5,null,7665,2]
[null,7666,6,null,7666,2]
[null,7667,3,null,7667,2]
[null,7668,5,null,7668,4]
[null,7669,4,null,7669,3]
[null,7670,2,null,7670,5]
[null,7671,1,null,7671,5]
[null,7672,1,null,7672,5]
[null,7673,2,null,7673,3]
[null,7674,4,null,7674,3]
[null,7675,1,null,7675,3]
[null,7676,1,null,7676,3]
[null,7677,2,null,7677,5]
[null,7678,6,null,7678,3]
[null,7679,3,null,7679,1]
[null,7680,6,null,7680,4]
[null,7681,6,null,7681,2]
[null,7682,6,null,7682,{"$f":"RANDBETWEEN(1,6)","v":3}]
[null,7683,1,null,7683,5]
[null,7684,3,null,7684,4]
[null,7685,1,null,7685,5]
[null,7686,3,null,7686,6]
[null,7687,2,null,7687,5]
[null,7688,6,null,7688,4]
[null,7689,2,null,7689,4]
[null,7690,4,null,7690,1]
[null,7691,4,null,7691,4]
[null,7692,3,null,7692,6]
[null,7693,2,null,7693,2]
[null,7694,5,null,7694,4]
[null,7695,5,null,7695,6]
[null,7696,2,null,7696,2]
[null,7697,2,null,7697,3]
[null,7698,6,null,7698,1]
[null,7699,2,null,7699,3]
[null,7700,2,null,7700,6]
[null,7701,1,null,7701,4]
[null,7702,4,null,7702,3]
[null,7703,4,null,7703,5]
[null,7704,1,null,7704,1]
[null,7705,3,null,7705,5]
[null,7706,6,null,7706,2]
[null,7707,4,null,7707,3]
[null,7708,1,null,7708,5]
[null,7709,1,null,7709,3]
[null,7710,4,null,7710,6]
[null,7711,3,null,7711,6]
[null,7712,6,null,7712,5]
[null,7713,3,null,7713,2]
[null,7714,2,null,7714,1]
[null,7715,5,null,7715,1]
[null,7716,1,null,7716,3]
[null,7717,4,null,7717,3]
[null,7718,5,null,7718,5]
[null,7719,4,null,7719,5]
[null,7720,3,null,7720,5]
[null,7721,3,null,7721,5]
[null,7722,2,null,7722,5]
[null,7723,4,null,7723,4]
[null,7724,3,null,7724,2]
[null,7725,3,null,7725,1]
[null,7726,2,null,7726,3]
[null,7727,6,null,7727,6]
[null,7728,6,null,7728,3]
[null,7729,3,null,7729,4]
[null,7730,3,null,7730,1]
[null,7731,3,null,7731,3]
[null,7732,6,null,7732,5]
[null,7733,2,null,7733,5]
[null,7734,5,null,7734,1]
[null,7735,5,null,7735,6]
[null,7736,4,null,7736,4]
[null,7737,6,null,7737,1]
[null,7738,2,null,7738,5]
[null,7739,5,null,7739,3]
[null,7740,2,null,7740,1]
[null,7741,6,null,7741,1]
[null,7742,4,null,7742,2]
[null,7743,6,null,7743,6]
[null,7744,4,null,7744,4]
[null,7745,2,null,7745,4]
[null,7746,1,null,7746,{"$f":"RANDBETWEEN(1,6)","v":2}]
[null,7747,1,null,7747,6]
[null,7748,1,null,7748,3]
[null,7749,1,null,7749,6]
[null,7750,5,null,7750,6]
[null,7751,3,null,7751,4]
[null,7752,4,null,7752,1]
[null,7753,2,null,7753,5]
[null,7754,4,null,7754,6]
[null,7755,5,null,7755,3]
[null,7756,1,null,7756,3]
[null,7757,4,null,7757,2]
[null,7758,2,null,7758,1]
[null,7759,2,null,7759,3]
[null,7760,5,null,7760,6]
[null,7761,5,null,7761,3]
[null,7762,3,null,7762,3]
[null,7763,4,null,7763,1]
[null,7764,5,null,7764,2]
[null,7765,1,null,7765,3]
[null,7766,5,null,7766,3]
[null,7767,6,null,7767,1]
[null,7768,6,null,7768,2]
[null,7769,3,null,7769,2]
[null,7770,4,null,7770,2]
[null,7771,4,null,7771,1]
[null,7772,2,null,7772,5]
[null,7773,4,null,7773,3]
[null,7774,3,null,7774,6]
[null,7775,1,null,7775,3]
[null,7776,5,null,7776,1]
[null,7777,3,null,7777,2]
[null,7778,6,null,7778,2]
[null,7779,6,null,7779,5]
[null,7780,2,null,7780,1]
[null,7781,6,null,7781,6]
[null,7782,2,null,7782,1]
[null,7783,1,null,7783,5]
[null,7784,3,null,7784,6]
[null,7785,3,null,7785,2]
[null,7786,6,null,7786,3]
[null,7787,5,null,7787,2]
[null,7788,5,null,7788,2]
[null,7789,5,null,7789,1]
[null,7790,3,null,7790,3]
[null,7791,4,null,7791,1]
[null,7792,3,null,7792,4]
[null,7793,5,null,7793,5]
[null,7794,3,null,7794,5]
[null,7795,2,null,7795,5]
[null,7796,3,null,7796,2]
[null,7797,4,null,7797,1]
[null,7798,3,null,7798,5]
[null,7799,2,null,7799,5]
[null,7800,3,null,7800,2]
[null,7801,4,null,7801,3]
[null,7802,5,null,7802,5]
[null,7803,3,null,7803,6]
[null,7804,2,null,7804,5]
[null,7805,4,null,7805,2]
[null,7806,4,null,7806,1]
[null,7807,3,null,7807,6]
[null,7808,3,null,7808,3]
[null,7809,6,null,7809,1]
[null,7810,2,null,7810,{"$f":"RANDBETWEEN(1,6)","v":3}]
[null,7811,6,null,7811,3]
[null,7812,5,null,7812,4]
[null,7813,1,null,7813,6]
[null,7814,1,null,7814,1]
[null,7815,2,null,7815,4]
[null,7816,2,null,7816,1]
[null,7817,3,null,7817,2]
[null,7818,2,null,7818,6]
[null,7819,5,null,7819,3]
[null,7820,1,null,7820,6]
[null,7821,3,null,7821,5]
[null,7822,3,null,7822,1]
[null,7823,5,null,7823,5]
[null,7824,5,null,7824,5]
[null,7825,1,null,7825,6]
[null,7826,1,null,7826,5]
[null,7827,3,null,7827,3]
[null,7828,1,null,7828,6]
[null,7829,5,null,7829,5]
[null,7830,5,null,7830,5]
[null,7831,1,null,7831,1]
[null,7832,1,null,7832,1]
[null,7833,4,null,7833,4]
[null,7834,1,null,7834,4]
[null,7835,5,null,7835,2]
[null,7836,6,null,7836,2]
[null,7837,4,null,7837,4]
[null,7838,5,null,7838,4]
[null,7839,1,null,7839,4]
[null,7840,4,null,7840,1]
[null,7841,6,null,7841,2]
[null,7842,6,null,7842,4]
[null,7843,2,null,7843,2]
[null,7844,6,null,7844,3]
[null,7845,6,null,7845,5]
[null,7846,2,null,7846,6]
[null,7847,3,null,7847,2]
[null,7848,4,null,7848,2]
[null,7849,1,null,7849,2]
[null,7850,2,null,7850,2]
[null,7851,6,null,7851,5]
[null,7852,2,null,7852,1]
[null,7853,3,null,7853,5]
[null,7854,6,null,7854,4]
[null,7855,5,null,7855,4]
[null,7856,3,null,7856,6]
[null,7857,3,null,7857,4]
[null,7858,5,null,7858,6]
[null,7859,4,null,7859,5]
[null,7860,3,null,7860,5]
[null,7861,5,null,7861,6]
[null,7862,5,null,7862,2]
[null,7863,1,null,7863,4]
[null,7864,6,null,7864,4]
[null,7865,3,null,7865,3]
[null,7866,5,null,7866,6]
[null,7867,1,null,7867,3]
[null,7868,6,null,7868,2]
[null,7869,6,null,7869,1]
[null,7870,3,null,7870,4]
[null,7871,6,null,7871,2]
[null,7872,5,null,7872,5]
[null,7873,2,null,7873,5]
[null,7874,5,null,7874,{"$f":"RANDBETWEEN(1,6)","v":5}]
[null,7875,2,null,7875,2]
[null,7876,4,null,7876,3]
[null,7877,1,null,7877,5]
[null,7878,3,null,7878,2]
[null,7879,6,null,7879,1]
[null,7880,1,null,7880,4]
[null,7881,2,null,7881,5]
[null,7882,5,null,7882,2]
[null,7883,5,null,7883,5]
[null,7884,4,null,7884,5]
[null,7885,6,null,7885,5]
[null,7886,1,null,7886,2]
[null,7887,6,null,7887,2]
[null,7888,6,null,7888,4]
[null,7889,4,null,7889,4]
[null,7890,6,null,7890,4]
[null,7891,5,null,7891,5]
[null,7892,5,null,7892,5]
[null,7893,5,null,7893,3]
[null,7894,2,null,7894,1]
[null,7895,1,null,7895,3]
[null,7896,6,null,7896,5]
[null,7897,6,null,7897,5]
[null,7898,4,null,7898,1]
[null,7899,6,null,7899,6]
[null,7900,6,null,7900,5]
[null,7901,4,null,7901,4]
[null,7902,1,null,7902,4]
[null,7903,4,null,7903,5]
[null,7904,2,null,7904,1]
[null,7905,3,null,7905,4]
[null,7906,2,null,7906,2]
[null,7907,3,null,7907,2]
[null,7908,2,null,7908,4]
[null,7909,4,null,7909,3]
[null,7910,5,null,7910,4]
[null,7911,2,null,7911,5]
[null,7912,2,null,7912,4]
[null,7913,4,null,7913,1]
[null,7914,6,null,7914,5]
[null,7915,6,null,7915,6]
[null,7916,1,null,7916,5]
[null,7917,3,null,7917,2]
[null,7918,3,null,7918,4]
[null,7919,5,null,7919,2]
[null,7920,1,null,7920,2]
[null,7921,6,null,7921,1]
[null,7922,5,null,7922,2]
[null,7923,4,null,7923,5]
[null,7924,5,null,7924,1]
[null,7925,5,null,7925,4]
[null,7926,4,null,7926,1]
[null,7927,6,null,7927,5]
[null,7928,5,null,7928,6]
[null,7929,4,null,7929,6]
[null,7930,2,null,7930,2]
[null,7931,4,null,7931,3]
[null,7932,6,null,7932,6]
[null,7933,3,null,7933,1]
[null,7934,3,null,7934,3]
[null,7935,5,null,7935,3]
[null,7936,4,null,7936,1]
[null,7937,1,null,7937,1]
[null,7938,2,null,7938,{"$f":"RANDBETWEEN(1,6)","v":4}]
[null,7939,2,null,7939,5]
[null,7940,5,null,7940,1]
[null,7941,4,null,7941,4]
[null,7942,4,null,7942,5]
[null,7943,3,null,7943,4]
[null,7944,3,null,7944,6]
[null,7945,6,null,7945,2]
[null,7946,2,null,7946,4]
[null,7947,1,null,7947,1]
[null,7948,2,null,7948,6]
[null,7949,1,null,7949,1]
[null,7950,6,null,7950,2]
[null,7951,2,null,7951,1]
[null,7952,3,null,7952,2]
[null,7953,5,null,7953,2]
[null,7954,4,null,7954,5]
[null,7955,1,null,7955,6]
[null,7956,2,null,7956,5]
[null,7957,5,null,7957,5]
[null,7958,5,null,7958,6]
[null,7959,1,null,7959,6]
[null,7960,6,null,7960,1]
[null,7961,2,null,7961,2]
[null,7962,4,null,7962,5]
[null,7963,4,null,7963,1]
[null,7964,4,null,7964,5]
[null,7965,3,null,7965,5]
[null,7966,4,null,7966,4]
[null,7967,1,null,7967,4]
[null,7968,6,null,7968,5]
[null,7969,2,null,7969,3]
[null,7970,6,null,7970,2]
[null,7971,5,null,7971,1]
[null,7972,1,null,7972,1]
[null,7973,1,null,7973,6]
[null,7974,1,null,7974,1]
[null,7975,6,null,7975,1]
[null,7976,6,null,7976,2]
[null,7977,1,null,7977,6]
[null,7978,6,null,7978,3]
[null,7979,3,null,7979,3]
[null,7980,5,null,7980,4]
[null,7981,1,null,7981,5]
[null,7982,2,null,7982,2]
[null,7983,1,null,7983,3]
[null,7984,4,null,7984,1]
[null,7985,6,null,7985,3]
[null,7986,3,null,7986,2]
[null,7987,2,null,7987,2]
[null,7988,2,null,7988,1]
[null,7989,4,null,7989,4]
[null,7990,6,null,7990,2]
[null,7991,5,null,7991,1]
[null,7992,3,null,7992,5]
[null,7993,4,null,7993,1]
[null,7994,1,null,7994,4]
[null,7995,4,null,7995,3]
[null,7996,4,null,7996,4]
[null,7997,6,null,7997,1]
[null,7998,2,null,7998,6]
[null,7999,4,null,7999,3]
[null,8000,5,null,8000,3]
[null,8001,6,null,8001,2]
[null,8002,6,null,8002,{"$f":"RANDBETWEEN(1,6)","v":1}]
[null,8003,1,null,8003,4]
[null,8004,2,null,8004,5]
[null,8005,6,null,8005,6]
[null,8006,3,null,8006,5]
[null,8007,5,null,8007,6]
[null,8008,6,null,8008,3]
[null,8009,1,null,8009,6]
[null,8010,1,null,8010,2]
[null,8011,6,null,8011,1]
[null,8012,4,null,8012,3]
[null,8013,1,null,8013,6]
[null,8014,4,null,8014,6]
[null,8015,6,null,8015,2]
[null,8016,1,null,8016,1]
[null,8017,2,null,8017,6]
[null,8018,1,null,8018,3]
[null,8019,6,null,8019,3]
[null,8020,6,null,8020,3]
[null,8021,2,null,8021,3]
[null,8022,1,null,8022,2]
[null,8023,1,null,8023,5]
[null,8024,2,null,8024,1]
[null,8025,6,null,8025,3]
[null,8026,5,null,8026,6]
[null,8027,6,null,8027,1]
[null,8028,3,null,8028,3]
[null,8029,3,null,8029,1]
[null,8030,4,null,8030,3]
[null,8031,3,null,8031,4]
[null,8032,1,null,8032,5]
[null,8033,1,null,8033,4]
[null,8034,2,null,8034,5]
[null,8035,1,null,8035,6]
[null,8036,6,null,8036,5]
[null,8037,1,null,8037,4]
[null,8038,5,null,8038,6]
[null,8039,2,null,8039,3]
[null,8040,4,null,8040,4]
[null,8041,1,null,8041,5]
[null,8042,5,null,8042,2]
[null,8043,5,null,8043,2]
[null,8044,4,null,8044,2]
[null,8045,1,null,8045,5]
[null,8046,6,null,8046,3]
[null,8047,6,null,8047,6]
[null,8048,1,null,8048,1]
[null,8049,1,null,8049,1]
[null,8050,2,null,8050,6]
[null,8051,1,null,8051,2]
[null,8052,3,null,8052,4]
[null,8053,6,null,8053,3]
[null,8054,2,null,8054,4]
[null,8055,1,null,8055,5]
[null,8056,1,null,8056,3]
[null,8057,1,null,8057,3]
[null,8058,2,null,8058,3]
[null,8059,2,null,8059,2]
[null,8060,5,null,8060,5]
[null,8061,6,null,8061,6]
[null,8062,5,null,8062,3]
[null,8063,3,null,8063,6]
[null,8064,5,null,8064,6]
[null,8065,1,null,8065,1]
[null,8066,3,null,8066,{"$f":"RANDBETWEEN(1,6)","v":6}]
[null,8067,1,null,8067,6]
[null,8068,1,null,8068,4]
[null,8069,4,null,8069,6]
[null,8070,2,null,8070,3]
[null,8071,2,null,8071,2]
[null,8072,3,null,8072,1]
[null,8073,5,null,8073,4]
[null,8074,4,null,8074,3]
[null,8075,6,null,8075,1]
[null,8076,4,null,8076,4]
[null,8077,1,null,8077,5]
[null,8078,1,null,8078,4]
[null,8079,5,null,8079,5]
[null,8080,6,null,8080,2]
[null,8081,2,null,8081,2]
[null,8082,5,null,8082,6]
[null,8083,2,null,8083,1]
[null,8084,6,null,8084,3]
[null,8085,2,null,8085,1]
[null,8086,4,null,8086,5]
[null,8087,4,null,8087,1]
[null,8088,6,null,8088,4]
[null,8089,2,null,8089,5]
[null,8090,2,null,8090,2]
[null,8091,3,null,8091,5]
[null,8092,6,null,8092,2]
[null,8093,5,null,8093,1]
[null,8094,5,null,8094,5]
[null,8095,3,null,8095,3]
[null,8096,1,null,8096,6]
[null,8097,4,null,8097,6]
[null,8098,5,null,8098,5]
[null,8099,3,null,8099,6]
[null,8100,4,null,8100,2]
[null,8101,1,null,8101,6]
[null,8102,4,null,8102,5]
[null,8103,4,null,8103,2]
[null,8104,2,null,8104,2]
[null,8105,6,null,8105,4]
[null,8106,4,null,8106,3]
[null,8107,3,null,8107,4]
[null,8108,4,null,8108,6]
[null,8109,3,null,8109,4]
[null,8110,4,null,8110,3]
[null,8111,4,null,8111,5]
[null,8112,2,null,8112,5]
[null,8113,2,null,8113,4]
[null,8114,3,null,8114,3]
[null,8115,2,null,8115,1]
[null,8116,3,null,8116,1]
[null,8117,6,null,8117,1]
[null,8118,1,null,8118,3]
[null,8119,5,null,8119,5]
[null,8120,4,null,8120,6]
[null,8121,3,null,8121,4]
[null,8122,4,null,8122,2]
[null,8123,3,null,8123,4]
[null,8124,4,null,8124,1]
[null,8125,6,null,8125,2]
[null,8126,2,null,8126,3]
[null,8127,4,null,8127,3]
[null,8128,1,null,8128,4]
[null,8129,6,null,8129,4]
[null,8130,6,null,8130,{"$f":"RANDBETWEEN(1,6)","v":6}]
[null,8131,5,null,8131,6]
[null,8132,2,null,8132,1]
[null,8133,4,null,8133,6]
[null,8134,3,null,8134,1]
[null,8135,6,null,8135,4]
[null,8136,2,null,8136,3]
[null,8137,2,null,8137,2]
[null,8138,2,null,8138,2]
[null,8139,2,null,8139,5]
[null,8140,6,null,8140,3]
[null,8141,5,null,8141,5]
[null,8142,5,null,8142,1]
[null,8143,4,null,8143,4]
[null,8144,4,null,8144,4]
[null,8145,6,null,8145,5]
[null,8146,3,null,8146,4]
[null,8147,1,null,8147,2]
[null,8148,6,null,8148,1]
[null,8149,3,null,8149,6]
[null,8150,4,null,8150,3]
[null,8151,5,null,8151,4]
[null,8152,3,null,8152,3]
[null,8153,5,null,8153,2]
[null,8154,4,null,8154,3]
[null,8155,1,null,8155,5]
[null,8156,3,null,8156,6]
[null,8157,2,null,8157,4]
[null,8158,2,null,8158,4]
[null,8159,3,null,8159,2]
[null,8160,2,null,8160,2]
[null,8161,6,null,8161,6]
[null,8162,2,null,8162,5]
[null,8163,3,null,8163,6]
[null,8164,3,null,8164,5]
[null,8165,6,null,8165,5]
[null,8166,6,null,8166,3]
[null,8167,5,null,8167,4]
[null,8168,5,null,8168,4]
[null,8169,1,null,8169,5]
[null,8170,2,null,8170,4]
[null,8171,3,null,8171,6]
[null,8172,2,null,8172,5]
[null,8173,1,null,8173,5]
[null,8174,3,null,8174,5]
[null,8175,6,null,8175,2]
[null,8176,5,null,8176,5]
[null,8177,3,null,8177,6]
[null,8178,5,null,8178,1]
[null,8179,3,null,8179,2]
[null,8180,4,null,8180,2]
[null,8181,1,null,8181,4]
[null,8182,3,null,8182,6]
[null,8183,3,null,8183,5]
[null,8184,6,null,8184,4]
[null,8185,1,null,8185,3]
[null,8186,5,null,8186,4]
[null,8187,3,null,8187,6]
[null,8188,1,null,8188,2]
[null,8189,4,null,8189,5]
[null,8190,3,null,8190,4]
[null,8191,4,null,8191,1]
[null,8192,3,null,8192,3]
[null,8193,2,null,8193,3]
[null,8194,5,null,8194,{"$f":"RANDBETWEEN(1,6)","v":3}]
[null,8195,3,null,8195,6]
[null,8196,4,null,8196,2]
[null,8197,2,null,8197,3]
[null,8198,6,null,8198,1]
[null,8199,5,null,8199,2]
[null,8200,6,null,8200,2]
[null,8201,6,null,8201,6]
[null,8202,1,null,8202,2]
[null,8203,6,null,8203,3]
[null,8204,6,null,8204,1]
[null,8205,4,null,8205,5]
[null,8206,5,null,8206,5]
[null,8207,1,null,8207,1]
[null,8208,5,null,8208,1]
[null,8209,2,null,8209,6]
[null,8210,2,null,8210,2]
[null,8211,4,null,8211,6]
[null,8212,1,null,8212,6]
[null,8213,4,null,8213,6]
[null,8214,3,null,8214,6]
[null,8215,6,null,8215,5]
[null,8216,3,null,8216,3]
[null,8217,4,null,8217,3]
[null,8218,1,null,8218,1]
[null,8219,2,null,8219,6]
[null,8220,1,null,8220,1]
[null,8221,4,null,8221,6]
[null,8222,5,null,8222,6]
[null,8223,2,null,8223,4]
[null,8224,2,null,8224,4]
[null,8225,4,null,8225,6]
[null,8226,1,null,8226,2]
[null,8227,1,null,8227,3]
[null,8228,6,null,8228,3]
[null,8229,4,null,8229,5]
[null,8230,6,null,8230,3]
[null,8231,5,null,8231,3]
[null,8232,4,null,8232,1]
[null,8233,5,null,8233,1]
[null,8234,5,null,8234,4]
[null,8235,2,null,8235,1]
[null,8236,1,null,8236,6]
[null,8237,4,null,8237,3]
[null,8238,5,null,8238,1]
[null,8239,6,null,8239,2]
[null,8240,5,null,8240,4]
[null,8241,1,null,8241,3]
[null,8242,5,null,8242,1]
[null,8243,2,null,8243,2]
[null,8244,1,null,8244,6]
[null,8245,1,null,8245,6]
[null,8246,3,null,8246,4]
[null,8247,1,null,8247,5]
[null,8248,4,null,8248,2]
[null,8249,5,null,8249,1]
[null,8250,4,null,8250,4]
[null,8251,5,null,8251,2]
[null,8252,6,null,8252,2]
[null,8253,5,null,8253,2]
[null,8254,5,null,8254,2]
[null,8255,3,null,8255,3]
[null,8256,2,null,8256,2]
[null,8257,4,null,8257,6]
[null,8258,3,null,8258,{"$f":"RANDBETWEEN(1,6)","v":4}]
[null,8259,3,null,8259,2]
[null,8260,1,null,8260,4]
[null,8261,3,null,8261,1]
[null,8262,5,null,8262,4]
[null,8263,4,null,8263,1]
[null,8264,3,null,8264,2]
[null,8265,5,null,8265,3]
[null,8266,6,null,8266,6]
[null,8267,2,null,8267,6]
[null,8268,4,null,8268,1]
[null,8269,3,null,8269,5]
[null,8270,5,null,8270,1]
[null,8271,3,null,8271,1]
[null,8272,6,null,8272,4]
[null,8273,6,null,8273,6]
[null,8274,6,null,8274,3]
[null,8275,4,null,8275,2]
[null,8276,3,null,8276,3]
[null,8277,2,null,8277,1]
[null,8278,1,null,8278,4]
[null,8279,4,null,8279,4]
[null,8280,1,null,8280,1]
[null,8281,3,null,8281,5]
[null,8282,1,null,8282,6]
[null,8283,3,null,8283,4]
[null,8284,3,null,8284,2]
[null,8285,1,null,8285,5]
[null,8286,6,null,8286,2]
[null,8287,2,null,8287,6]
[null,8288,4,null,8288,4]
[null,8289,2,null,8289,2]
[null,8290,1,null,8290,5]
[null,8291,4,null,8291,3]
[null,8292,3,null,8292,3]
[null,8293,4,null,8293,6]
[null,8294,6,null,8294,3]
[null,8295,6,null,8295,6]
[null,8296,5,null,8296,6]
[null,8297,4,null,8297,1]
[null,8298,3,null,8298,6]
[null,8299,2,null,8299,2]
[null,8300,6,null,8300,4]
[null,8301,3,null,8301,5]
[null,8302,5,null,8302,4]
[null,8303,3,null,8303,5]
[null,8304,1,null,8304,3]
[null,8305,3,null,8305,6]
[null,8306,3,null,8306,5]
[null,8307,4,null,8307,4]
[null,8308,4,null,8308,5]
[null,8309,5,null,8309,1]
[null,8310,6,null,8310,1]
[null,8311,2,null,8311,5]
[null,8312,2,null,8312,3]
[null,8313,1,null,8313,4]
[null,8314,4,null,8314,4]
[null,8315,1,null,8315,2]
[null,8316,2,null,8316,3]
[null,8317,6,null,8317,4]
[null,8318,3,null,8318,3]
[null,8319,3,null,8319,2]
[null,8320,3,null,8320,2]
[null,8321,6,null,8321,4]
[null,8322,3,null,8322,{"$f":"RANDBETWEEN(1,6)","v":6}]
[null,8323,4,null,8323,2]
[null,8324,1,null,8324,5]
[null,8325,3,null,8325,6]
[null,8326,5,null,8326,5]
[null,8327,1,null,8327,6]
[null,8328,6,null,8328,2]
[null,8329,4,null,8329,6]
[null,8330,1,null,8330,5]
[null,8331,2,null,8331,1]
[null,8332,3,null,8332,3]
[null,8333,1,null,8333,5]
[null,8334,6,null,8334,3]
[null,8335,3,null,8335,6]
[null,8336,1,null,8336,2]
[null,8337,1,null,8337,4]
[null,8338,3,null,8338,6]
[null,8339,1,null,8339,6]
[null,8340,3,null,8340,2]
[null,8341,4,null,8341,4]
[null,8342,2,null,8342,5]
[null,8343,3,null,8343,3]
[null,8344,3,null,8344,6]
[null,8345,2,null,8345,4]
[null,8346,1,null,8346,2]
[null,8347,5,null,8347,5]
[null,8348,3,null,8348,5]
[null,8349,3,null,8349,3]
[null,8350,4,null,8350,1]
[null,8351,4,null,8351,1]
[null,8352,4,null,8352,1]
[null,8353,2,null,8353,2]
[null,8354,5,null,8354,5]
[null,8355,6,null,8355,2]
[null,8356,3,null,8356,4]
[null,8357,5,null,8357,4]
[null,8358,6,null,8358,6]
[null,8359,2,null,8359,4]
[null,8360,5,null,8360,4]
[null,8361,1,null,8361,1]
[null,8362,5,null,8362,2]
[null,8363,3,null,8363,4]
[null,8364,5,null,8364,6]
[null,8365,6,null,8365,1]
[null,8366,2,null,8366,6]
[null,8367,1,null,8367,2]
[null,8368,2,null,8368,1]
[null,8369,2,null,8369,5]
[null,8370,6,null,8370,3]
[null,8371,4,null,8371,2]
[null,8372,2,null,8372,6]
[null,8373,1,null,8373,6]
[null,8374,5,null,8374,3]
[null,8375,1,null,8375,5]
[null,8376,5,null,8376,1]
[null,8377,1,null,8377,5]
[null,8378,5,null,8378,2]
[null,8379,1,null,8379,2]
[null,8380,1,null,8380,3]
[null,8381,6,null,8381,1]
[null,8382,1,null,8382,6]
[null,8383,1,null,8383,1]
[null,8384,3,null,8384,3]
[null,8385,6,null,8385,5]
[null,8386,5,null,8386,{"$f":"RANDBETWEEN(1,6)","v":3}]
[null,8387,6,null,8387,5]
[null,8388,3,null,8388,6]
[null,8389,1,null,8389,4]
[null,8390,3,null,8390,4]
[null,8391,2,null,8391,1]
[null,8392,1,null,8392,3]
[null,8393,3,null,8393,5]
[null,8394,3,null,8394,2]
[null,8395,3,null,8395,6]
[null,8396,4,null,8396,2]
[null,8397,3,null,8397,3]
[null,8398,4,null,8398,3]
[null,8399,3,null,8399,3]
[null,8400,5,null,8400,6]
[null,8401,4,null,8401,2]
[null,8402,2,null,8402,4]
[null,8403,4,null,8403,5]
[null,8404,5,null,8404,6]
[null,8405,3,null,8405,5]
[null,8406,4,null,8406,6]
[null,8407,4,null,8407,3]
[null,8408,4,null,8408,5]
[null,8409,1,null,8409,1]
[null,8410,6,null,8410,5]
[null,8411,5,null,8411,6]
[null,8412,2,null,8412,5]
[null,8413,6,null,8413,4]
[null,8414,5,null,8414,1]
[null,8415,4,null,8415,2]
[null,8416,3,null,8416,5]
[null,8417,1,null,8417,6]
[null,8418,6,null,8418,5]
[null,8419,3,null,8419,4]
[null,8420,1,null,8420,6]
[null,8421,2,null,8421,3]
[null,8422,1,null,8422,5]
[null,8423,6,null,8423,2]
[null,8424,1,null,8424,4]
[null,8425,4,null,8425,2]
[null,8426,4,null,8426,5]
[null,8427,5,null,8427,2]
[null,8428,6,null,8428,5]
[null,8429,4,null,8429,3]
[null,8430,6,null,8430,3]
[null,8431,3,null,8431,2]
[null,8432,6,null,8432,6]
[null,8433,4,null,8433,3]
[null,8434,6,null,8434,3]
[null,8435,5,null,8435,1]
[null,8436,1,null,8436,4]
[null,8437,3,null,8437,4]
[null,8438,4,null,8438,3]
[null,8439,1,null,8439,1]
[null,8440,3,null,8440,4]
[null,8441,4,null,8441,6]
[null,8442,6,null,8442,2]
[null,8443,1,null,8443,2]
[null,8444,5,null,8444,1]
[null,8445,5,null,8445,6]
[null,8446,6,null,8446,6]
[null,8447,4,null,8447,3]
[null,8448,4,null,8448,3]
[null,8449,6,null,8449,4]
[null,8450,2,null,8450,{"$f":"RANDBETWEEN(1,6)","v":5}]
[null,8451,2,null,8451,4]
[null,8452,1,null,8452,6]
[null,8453,5,null,8453,5]
[null,8454,5,null,8454,4]
[null,8455,3,null,8455,3]
[null,8456,1,null,8456,4]
[null,8457,6,null,8457,2]
[null,8458,6,null,8458,4]
[null,8459,4,null,8459,5]
[null,8460,6,null,8460,1]
[null,8461,6,null,8461,3]
[null,8462,5,null,8462,5]
[null,8463,2,null,8463,6]
[null,8464,1,null,8464,3]
[null,8465,5,null,8465,1]
[null,8466,6,null,8466,4]
[null,8467,5,null,8467,6]
[null,8468,1,null,8468,4]
[null,8469,2,null,8469,6]
[null,8470,3,null,8470,2]
[null,8471,4,null,8471,1]
[null,8472,3,null,8472,6]
[null,8473,1,null,8473,3]
[null,8474,5,null,8474,5]
[null,8475,1,null,8475,5]
[null,8476,1,null,8476,6]
[null,8477,6,null,8477,2]
[null,8478,3,null,8478,4]
[null,8479,1,null,8479,1]
[null,8480,3,null,8480,6]
[null,8481,6,null,8481,2]
[null,8482,2,null,8482,5]
[null,8483,1,null,8483,5]
[null,8484,1,null,8484,5]
[null,8485,6,null,8485,3]
[null,8486,2,null,8486,3]
[null,8487,1,null,8487,1]
[null,8488,6,null,8488,1]
[null,8489,2,null,8489,2]
[null,8490,2,null,8490,2]
[null,8491,2,null,8491,6]
[null,8492,6,null,8492,6]
[null,8493,1,null,8493,4]
[null,8494,1,null,8494,1]
[null,8495,4,null,8495,3]
[null,8496,5,null,8496,6]
[null,8497,5,null,8497,2]
[null,8498,3,null,8498,5]
[null,8499,5,null,8499,6]
[null,8500,2,null,8500,3]
[null,8501,1,null,8501,2]
[null,8502,3,null,8502,5]
[null,8503,4,null,8503,2]
[null,8504,2,null,8504,1]
[null,8505,3,null,8505,5]
[null,8506,6,null,8506,4]
[null,8507,3,null,8507,2]
[null,8508,2,null,8508,4]
[null,8509,5,null,8509,1]
[null,8510,3,null,8510,3]
[null,8511,5,null,8511,2]
[null,8512,6,null,8512,5]
[null,8513,4,null,8513,2]
[null,8514,6,null,8514,{"$f":"RANDBETWEEN(1,6)","v":4}]
[null,8515,2,null,8515,1]
[null,8516,4,null,8516,3]
[null,8517,1,null,8517,6]
[null,8518,1,null,8518,6]
[null,8519,5,null,8519,2]
[null,8520,5,null,8520,6]
[null,8521,6,null,8521,4]
[null,8522,2,null,8522,4]
[null,8523,5,null,8523,6]
[null,8524,1,null,8524,4]
[null,8525,6,null,8525,4]
[null,8526,1,null,8526,4]
[null,8527,3,null,8527,6]
[null,8528,4,null,8528,2]
[null,8529,2,null,8529,4]
[null,8530,2,null,8530,5]
[null,8531,1,null,8531,4]
[null,8532,4,null,8532,4]
[null,8533,3,null,8533,4]
[null,8534,2,null,8534,3]
[null,8535,6,null,8535,2]
[null,8536,5,null,8536,2]
[null,8537,1,null,8537,1]
[null,8538,4,null,8538,2]
[null,8539,1,null,8539,1]
[null,8540,3,null,8540,2]
[null,8541,4,null,8541,6]
[null,8542,2,null,8542,5]
[null,8543,5,null,8543,2]
[null,8544,6,null,8544,1]
[null,8545,1,null,8545,3]
[null,8546,2,null,8546,1]
[null,8547,3,null,8547,4]
[null,8548,4,null,8548,5]
[null,8549,1,null,8549,6]
[null,8550,5,null,8550,2]
[null,8551,6,null,8551,4]
[null,8552,6,null,8552,5]
[null,8553,6,null,8553,4]
[null,8554,2,null,8554,3]
[null,8555,3,null,8555,1]
[null,8556,5,null,8556,3]
[null,8557,4,null,8557,3]
[null,8558,4,null,8558,4]
[null,8559,2,null,8559,6]
[null,8560,3,null,8560,6]
[null,8561,6,null,8561,3]
[null,8562,2,null,8562,5]
[null,8563,1,null,8563,4]
[null,8564,5,null,8564,6]
[null,8565,6,null,8565,1]
[null,8566,5,null,8566,6]
[null,8567,4,null,8567,6]
[null,8568,4,null,8568,6]
[null,8569,5,null,8569,6]
[null,8570,4,null,8570,1]
[null,8571,1,null,8571,3]
[null,8572,3,null,8572,6]
[null,8573,4,null,8573,1]
[null,8574,3,null,8574,5]
[null,8575,2,null,8575,4]
[null,8576,6,null,8576,6]
[null,8577,5,null,8577,1]
[null,8578,2,null,8578,{"$f":"RANDBETWEEN(1,6)","v":3}]
[null,8579,2,null,8579,2]
[null,8580,3,null,8580,3]
[null,8581,5,null,8581,2]
[null,8582,5,null,8582,5]
[null,8583,5,null,8583,6]
[null,8584,1,null,8584,4]
[null,8585,5,null,8585,5]
[null,8586,6,null,8586,2]
[null,8587,3,null,8587,4]
[null,8588,3,null,8588,5]
[null,8589,6,null,8589,4]
[null,8590,1,null,8590,5]
[null,8591,4,null,8591,6]
[null,8592,1,null,8592,5]
[null,8593,1,null,8593,1]
[null,8594,6,null,8594,1]
[null,8595,5,null,8595,5]
[null,8596,3,null,8596,4]
[null,8597,2,null,8597,6]
[null,8598,2,null,8598,5]
[null,8599,1,null,8599,3]
[null,8600,1,null,8600,6]
[null,8601,4,null,8601,1]
[null,8602,6,null,8602,6]
[null,8603,6,null,8603,2]
[null,8604,5,null,8604,3]
[null,8605,2,null,8605,2]
[null,8606,6,null,8606,6]
[null,8607,1,null,8607,3]
[null,8608,5,null,8608,4]
[null,8609,2,null,8609,4]
[null,8610,4,null,8610,6]
[null,8611,3,null,8611,3]
[null,8612,6,null,8612,2]
[null,8613,6,null,8613,2]
[null,8614,6,null,8614,3]
[null,8615,2,null,8615,3]
[null,8616,3,null,8616,4]
[null,8617,4,null,8617,5]
[null,8618,6,null,8618,6]
[null,8619,5,null,8619,6]
[null,8620,2,null,8620,6]
[null,8621,1,null,8621,3]
[null,8622,2,null,8622,2]
[null,8623,2,null,8623,6]
[null,8624,1,null,8624,2]
[null,8625,6,null,8625,2]
[null,8626,5,null,8626,4]
[null,8627,2,null,8627,6]
[null,8628,3,null,8628,5]
[null,8629,4,null,8629,4]
[null,8630,2,null,8630,4]
[null,8631,1,null,8631,6]
[null,8632,6,null,8632,2]
[null,8633,3,null,8633,5]
[null,8634,3,null,8634,6]
[null,8635,5,null,8635,5]
[null,8636,2,null,8636,6]
[null,8637,2,null,8637,6]
[null,8638,4,null,8638,3]
[null,8639,2,null,8639,4]
[null,8640,3,null,8640,1]
[null,8641,2,null,8641,4]
[null,8642,5,null,8642,{"$f":"RANDBETWEEN(1,6)","v":4}]
[null,8643,6,null,8643,6]
[null,8644,2,null,8644,6]
[null,8645,2,null,8645,2]
[null,8646,4,null,8646,3]
[null,8647,3,null,8647,2]
[null,8648,4,null,8648,2]
[null,8649,6,null,8649,1]
[null,8650,2,null,8650,5]
[null,8651,6,null,8651,3]
[null,8652,2,null,8652,3]
[null,8653,1,null,8653,5]
[null,8654,2,null,8654,1]
[null,8655,2,null,8655,2]
[null,8656,4,null,8656,3]
[null,8657,5,null,8657,3]
[null,8658,4,null,8658,6]
[null,8659,2,null,8659,5]
[null,8660,3,null,8660,5]
[null,8661,2,null,8661,1]
[null,8662,2,null,8662,1]
[null,8663,6,null,8663,1]
[null,8664,3,null,8664,3]
[null,8665,4,null,8665,6]
[null,8666,4,null,8666,2]
[null,8667,2,null,8667,2]
[null,8668,3,null,8668,6]
[null,8669,5,null,8669,5]
[null,8670,5,null,8670,1]
[null,8671,1,null,8671,2]
[null,8672,5,null,8672,4]
[null,8673,2,null,8673,6]
[null,8674,6,null,8674,4]
[null,8675,3,null,8675,5]
[null,8676,4,null,8676,2]
[null,8677,3,null,8677,5]
[null,8678,2,null,8678,5]
[null,8679,1,null,8679,2]
[null,8680,6,null,8680,2]
[null,8681,4,null,8681,4]
[null,8682,1,null,8682,3]
[null,8683,6,null,8683,3]
[null,8684,4,null,8684,4]
[null,8685,5,null,8685,4]
[null,8686,6,null,8686,6]
[null,8687,3,null,8687,4]
[null,8688,1,null,8688,1]
[null,8689,5,null,8689,2]
[null,8690,3,null,8690,3]
[null,8691,4,null,8691,1]
[null,8692,6,null,8692,4]
[null,8693,2,null,8693,2]
[null,8694,6,null,8694,4]
[null,8695,5,null,8695,3]
[null,8696,3,null,8696,3]
[null,8697,3,null,8697,3]
[null,8698,5,null,8698,2]
[null,8699,6,null,8699,6]
[null,8700,2,null,8700,6]
[null,8701,6,null,8701,1]
[null,8702,2,null,8702,5]
[null,8703,1,null,8703,6]
[null,8704,3,null,8704,1]
[null,8705,4,null,8705,6]
[null,8706,1,null,8706,{"$f":"RANDBETWEEN(1,6)","v":4}]
[null,8707,2,null,8707,4]
[null,8708,4,null,8708,6]
[null,8709,2,null,8709,6]
[null,8710,4,null,8710,5]
[null,8711,2,null,8711,1]
[null,8712,1,null,8712,2]
[null,8713,5,null,8713,5]
[null,8714,4,null,8714,4]
[null,8715,4,null,8715,1]
[null,8716,2,null,8716,2]
[null,8717,2,null,8717,1]
[null,8718,6,null,8718,1]
[null,8719,2,null,8719,3]
[null,8720,6,null,8720,6]
[null,8721,5,null,8721,2]
[null,8722,4,null,8722,5]
[null,8723,2,null,8723,2]
[null,8724,1,null,8724,4]
[null,8725,6,null,8725,2]
[null,8726,1,null,8726,1]
[null,8727,3,null,8727,2]
[null,8728,5,null,8728,1]
[null,8729,4,null,8729,4]
[null,8730,1,null,8730,4]
[null,8731,2,null,8731,5]
[null,8732,5,null,8732,2]
[null,8733,6,null,8733,5]
[null,8734,2,null,8734,6]
[null,8735,2,null,8735,5]
[null,8736,6,null,8736,1]
[null,8737,6,null,8737,1]
[null,8738,5,null,8738,6]
[null,8739,4,null,8739,3]
[null,8740,5,null,8740,1]
[null,8741,2,null,8741,2]
[null,8742,4,null,8742,2]
[null,8743,5,null,8743,1]
[null,8744,5,null,8744,2]
[null,8745,4,null,8745,1]
[null,8746,1,null,8746,2]
[null,8747,6,null,8747,3]
[null,8748,1,null,8748,5]
[null,8749,6,null,8749,2]
[null,8750,6,null,8750,3]
[null,8751,6,null,8751,4]
[null,8752,5,null,8752,3]
[null,8753,5,null,8753,3]
[null,8754,2,null,8754,6]
[null,8755,1,null,8755,2]
[null,8756,1,null,8756,6]
[null,8757,6,null,8757,5]
[null,8758,3,null,8758,6]
[null,8759,3,null,8759,5]
[null,8760,1,null,8760,5]
[null,8761,1,null,8761,4]
[null,8762,2,null,8762,6]
[null,8763,1,null,8763,2]
[null,8764,4,null,8764,6]
[null,8765,4,null,8765,6]
[null,8766,1,null,8766,2]
[null,8767,2,null,8767,6]
[null,8768,6,null,8768,3]
[null,8769,3,null,8769,3]
[null,8770,4,null,8770,{"$f":"RANDBETWEEN(1,6)","v":4}]
[null,8771,5,null,8771,3]
[null,8772,2,null,8772,5]
[null,8773,2,null,8773,5]
[null,8774,4,null,8774,3]
[null,8775,6,null,8775,4]
[null,8776,5,null,8776,1]
[null,8777,6,null,8777,4]
[null,8778,1,null,8778,1]
[null,8779,5,null,8779,1]
[null,8780,2,null,8780,4]
[null,8781,6,null,8781,1]
[null,8782,5,null,8782,3]
[null,8783,6,null,8783,4]
[null,8784,1,null,8784,6]
[null,8785,1,null,8785,2]
[null,8786,5,null,8786,3]
[null,8787,6,null,8787,2]
[null,8788,5,null,8788,5]
[null,8789,6,null,8789,3]
[null,8790,2,null,8790,6]
[null,8791,6,null,8791,2]
[null,8792,1,null,8792,5]
[null,8793,6,null,8793,1]
[null,8794,1,null,8794,6]
[null,8795,1,null,8795,2]
[null,8796,6,null,8796,1]
[null,8797,3,null,8797,1]
[null,8798,2,null,8798,5]
[null,8799,1,null,8799,6]
[null,8800,4,null,8800,6]
[null,8801,1,null,8801,4]
[null,8802,2,null,8802,6]
[null,8803,5,null,8803,4]
[null,8804,5,null,8804,1]
[null,8805,1,null,8805,2]
[null,8806,1,null,8806,3]
[null,8807,1,null,8807,6]
[null,8808,4,null,8808,6]
[null,8809,1,null,8809,5]
[null,8810,2,null,8810,3]
[null,8811,3,null,8811,1]
[null,8812,5,null,8812,2]
[null,8813,5,null,8813,6]
[null,8814,3,null,8814,3]
[null,8815,2,null,8815,3]
[null,8816,3,null,8816,4]
[null,8817,6,null,8817,4]
[null,8818,4,null,8818,4]
[null,8819,6,null,8819,1]
[null,8820,6,null,8820,5]
[null,8821,1,null,8821,2]
[null,8822,2,null,8822,3]
[null,8823,1,null,8823,4]
[null,8824,6,null,8824,3]
[null,8825,1,null,8825,6]
[null,8826,3,null,8826,5]
[null,8827,2,null,8827,4]
[null,8828,3,null,8828,6]
[null,8829,1,null,8829,5]
[null,8830,5,null,8830,4]
[null,8831,6,null,8831,6]
[null,8832,3,null,8832,6]
[null,8833,3,null,8833,3]
[null,8834,5,null,8834,{"$f":"RANDBETWEEN(1,6)","v":2}]
[null,8835,3,null,8835,4]
[null,8836,4,null,8836,2]
[null,8837,6,null,8837,1]
[null,8838,3,null,8838,3]
[null,8839,4,null,8839,5]
[null,8840,6,null,8840,5]
[null,8841,6,null,8841,4]
[null,8842,1,null,8842,5]
[null,8843,4,null,8843,3]
[null,8844,3,null,8844,1]
[null,8845,2,null,8845,5]
[null,8846,2,null,8846,5]
[null,8847,4,null,8847,3]
[null,8848,1,null,8848,6]
[null,8849,5,null,8849,2]
[null,8850,2,null,8850,5]
[null,8851,1,null,8851,6]
[null,8852,2,null,8852,5]
[null,8853,4,null,8853,5]
[null,8854,3,null,8854,3]
[null,8855,2,null,8855,1]
[null,8856,4,null,8856,1]
[null,8857,4,null,8857,2]
[null,8858,4,null,8858,2]
[null,8859,5,null,8859,3]
[null,8860,3,null,8860,1]
[null,8861,2,null,8861,5]
[null,8862,1,null,8862,3]
[null,8863,1,null,8863,1]
[null,8864,2,null,8864,1]
[null,8865,6,null,8865,6]
[null,8866,5,null,8866,6]
[null,8867,6,null,8867,3]
[null,8868,5,null,8868,4]
[null,8869,3,null,8869,1]
[null,8870,3,null,8870,2]
[null,8871,5,null,8871,6]
[null,8872,2,null,8872,2]
[null,8873,2,null,8873,2]
[null,8874,4,null,8874,6]
[null,8875,1,null,8875,3]
[null,8876,6,null,8876,1]
[null,8877,4,null,8877,4]
[null,8878,2,null,8878,2]
[null,8879,2,null,8879,5]
[null,8880,6,null,8880,3]
[null,8881,2,null,8881,1]
[null,8882,1,null,8882,5]
[null,8883,1,null,8883,6]
[null,8884,6,null,8884,1]
[null,8885,2,null,8885,5]
[null,8886,3,null,8886,3]
[null,8887,3,null,8887,4]
[null,8888,3,null,8888,2]
[null,8889,1,null,8889,4]
[null,8890,3,null,8890,6]
[null,8891,6,null,8891,1]
[null,8892,2,null,8892,2]
[null,8893,1,null,8893,3]
[null,8894,2,null,8894,4]
[null,8895,3,null,8895,2]
[null,8896,6,null,8896,6]
[null,8897,1,null,8897,2]
[null,8898,5,null,8898,{"$f":"RANDBETWEEN(1,6)","v":2}]
[null,8899,1,null,8899,6]
[null,8900,4,null,8900,1]
[null,8901,5,null,8901,3]
[null,8902,4,null,8902,2]
[null,8903,1,null,8903,3]
[null,8904,4,null,8904,2]
[null,8905,3,null,8905,2]
[null,8906,2,null,8906,6]
[null,8907,2,null,8907,6]
[null,8908,5,null,8908,4]
[null,8909,3,null,8909,6]
[null,8910,2,null,8910,5]
[null,8911,3,null,8911,3]
[null,8912,5,null,8912,3]
[null,8913,1,null,8913,5]
[null,8914,3,null,8914,4]
[null,8915,6,null,8915,4]
[null,8916,2,null,8916,6]
[null,8917,1,null,8917,4]
[null,8918,1,null,8918,5]
[null,8919,3,null,8919,6]
[null,8920,5,null,8920,5]
[null,8921,4,null,8921,5]
[null,8922,3,null,8922,4]
[null,8923,3,null,8923,3]
[null,8924,5,null,8924,2]
[null,8925,5,null,8925,4]
[null,8926,2,null,8926,2]
[null,8927,6,null,8927,1]
[null,8928,6,null,8928,6]
[null,8929,2,null,8929,2]
[null,8930,4,null,8930,1]
[null,8931,4,null,8931,2]
[null,8932,3,null,8932,1]
[null,8933,2,null,8933,2]
[null,8934,5,null,8934,6]
[null,8935,5,null,8935,3]
[null,8936,3,null,8936,1]
[null,8937,5,null,8937,6]
[null,8938,5,null,8938,5]
[null,8939,4,null,8939,4]
[null,8940,1,null,8940,4]
[null,8941,1,null,8941,4]
[null,8942,3,null,8942,5]
[null,8943,6,null,8943,6]
[null,8944,5,null,8944,2]
[null,8945,3,null,8945,3]
[null,8946,6,null,8946,2]
[null,8947,3,null,8947,2]
[null,8948,2,null,8948,6]
[null,8949,2,null,8949,1]
[null,8950,2,null,8950,1]
[null,8951,4,null,8951,1]
[null,8952,2,null,8952,5]
[null,8953,2,null,8953,6]
[null,8954,6,null,8954,5]
[null,8955,4,null,8955,6]
[null,8956,1,null,8956,5]
[null,8957,1,null,8957,3]
[null,8958,6,null,8958,2]
[null,8959,6,null,8959,5]
[null,8960,3,null,8960,4]
[null,8961,3,null,8961,3]
[null,8962,2,null,8962,{"$f":"RANDBETWEEN(1,6)","v":3}]
[null,8963,1,null,8963,1]
[null,8964,5,null,8964,4]
[null,8965,1,null,8965,5]
[null,8966,1,null,8966,6]
[null,8967,5,null,8967,5]
[null,8968,2,null,8968,4]
[null,8969,5,null,8969,6]
[null,8970,5,null,8970,6]
[null,8971,4,null,8971,4]
[null,8972,4,null,8972,1]
[null,8973,5,null,8973,5]
[null,8974,6,null,8974,6]
[null,8975,5,null,8975,2]
[null,8976,4,null,8976,1]
[null,8977,6,null,8977,2]
[null,8978,6,null,8978,1]
[null,8979,3,null,8979,1]
[null,8980,3,null,8980,3]
[null,8981,1,null,8981,1]
[null,8982,3,null,8982,3]
[null,8983,1,null,8983,3]
[null,8984,4,null,8984,1]
[null,8985,5,null,8985,6]
[null,8986,3,null,8986,1]
[null,8987,5,null,8987,4]
[null,8988,6,null,8988,6]
[null,8989,2,null,8989,1]
[null,8990,5,null,8990,5]
[null,8991,1,null,8991,6]
[null,8992,5,null,8992,1]
[null,8993,5,null,8993,5]
[null,8994,4,null,8994,3]
[null,8995,3,null,8995,1]
[null,8996,4,null,8996,6]
[null,8997,2,null,8997,2]
[null,8998,4,null,8998,5]
[null,8999,1,null,8999,2]
[null,9000,4,null,9000,1]
[null,9001,4,null,9001,2]
[null,9002,1,null,9002,6]
[null,9003,3,null,9003,4]
[null,9004,1,null,9004,4]
[null,9005,6,null,9005,4]
[null,9006,4,null,9006,1]
[null,9007,3,null,9007,3]
[null,9008,4,null,9008,5]
[null,9009,4,null,9009,4]
[null,9010,1,null,9010,1]
[null,9011,3,null,9011,5]
[null,9012,2,null,9012,5]
[null,9013,4,null,9013,5]
[null,9014,3,null,9014,3]
[null,9015,3,null,9015,1]
[null,9016,4,null,9016,1]
[null,9017,6,null,9017,2]
[null,9018,1,null,9018,3]
[null,9019,2,null,9019,3]
[null,9020,3,null,9020,1]
[null,9021,3,null,9021,1]
[null,9022,5,null,9022,6]
[null,9023,3,null,9023,2]
[null,9024,3,null,9024,6]
[null,9025,3,null,9025,3]
[null,9026,4,null,9026,{"$f":"RANDBETWEEN(1,6)","v":5}]
[null,9027,6,null,9027,5]
[null,9028,2,null,9028,1]
[null,9029,3,null,9029,2]
[null,9030,1,null,9030,5]
[null,9031,1,null,9031,2]
[null,9032,2,null,9032,5]
[null,9033,4,null,9033,6]
[null,9034,5,null,9034,5]
[null,9035,4,null,9035,2]
[null,9036,2,null,9036,1]
[null,9037,3,null,9037,5]
[null,9038,1,null,9038,2]
[null,9039,1,null,9039,6]
[null,9040,6,null,9040,3]
[null,9041,6,null,9041,3]
[null,9042,3,null,9042,6]
[null,9043,6,null,9043,4]
[null,9044,3,null,9044,2]
[null,9045,6,null,9045,6]
[null,9046,2,null,9046,3]
[null,9047,3,null,9047,2]
[null,9048,3,null,9048,6]
[null,9049,2,null,9049,5]
[null,9050,2,null,9050,2]
[null,9051,2,null,9051,5]
[null,9052,3,null,9052,1]
[null,9053,4,null,9053,5]
[null,9054,3,null,9054,5]
[null,9055,6,null,9055,2]
[null,9056,4,null,9056,3]
[null,9057,6,null,9057,6]
[null,9058,2,null,9058,6]
[null,9059,6,null,9059,1]
[null,9060,6,null,9060,2]
[null,9061,1,null,9061,2]
[null,9062,2,null,9062,4]
[null,9063,3,null,9063,4]
[null,9064,2,null,9064,1]
[null,9065,3,null,9065,4]
[null,9066,4,null,9066,6]
[null,9067,1,null,9067,6]
[null,9068,4,null,9068,1]
[null,9069,6,null,9069,5]
[null,9070,4,null,9070,2]
[null,9071,6,null,9071,5]
[null,9072,6,null,9072,2]
[null,9073,1,null,9073,2]
[null,9074,1,null,9074,1]
[null,9075,3,null,9075,5]
[null,9076,6,null,9076,1]
[null,9077,2,null,9077,4]
[null,9078,4,null,9078,5]
[null,9079,6,null,9079,5]
[null,9080,6,null,9080,2]
[null,9081,3,null,9081,6]
[null,9082,2,null,9082,2]
[null,9083,3,null,9083,1]
[null,9084,3,null,9084,4]
[null,9085,2,null,9085,5]
[null,9086,6,null,9086,6]
[null,9087,2,null,9087,3]
[null,9088,2,null,9088,2]
[null,9089,4,null,9089,5]
[null,9090,5,null,9090,{"$f":"RANDBETWEEN(1,6)","v":5}]
[null,9091,5,null,9091,2]
[null,9092,1,null,9092,2]
[null,9093,5,null,9093,5]
[null,9094,2,null,9094,5]
[null,9095,5,null,9095,5]
[null,9096,4,null,9096,2]
[null,9097,5,null,9097,6]
[null,9098,6,null,9098,6]
[null,9099,5,null,9099,6]
[null,9100,3,null,9100,1]
[null,9101,1,null,9101,2]
[null,9102,1,null,9102,4]
[null,9103,2,null,9103,2]
[null,9104,2,null,9104,3]
[null,9105,3,null,9105,5]
[null,9106,6,null,9106,6]
[null,9107,6,null,9107,6]
[null,9108,5,null,9108,1]
[null,9109,4,null,9109,2]
[null,9110,6,null,9110,5]
[null,9111,5,null,9111,5]
[null,9112,3,null,9112,2]
[null,9113,6,null,9113,5]
[null,9114,3,null,9114,5]
[null,9115,2,null,9115,2]
[null,9116,4,null,9116,6]
[null,9117,3,null,9117,4]
[null,9118,4,null,9118,4]
[null,9119,4,null,9119,2]
[null,9120,1,null,9120,4]
[null,9121,3,null,9121,3]
[null,9122,5,null,9122,6]
[null,9123,1,null,9123,4]
[null,9124,6,null,9124,2]
[null,9125,2,null,9125,1]
[null,9126,6,null,9126,1]
[null,9127,1,null,9127,6]
[null,9128,5,null,9128,6]
[null,9129,2,null,9129,4]
[null,9130,4,null,9130,5]
[null,9131,3,null,9131,2]
[null,9132,3,null,9132,4]
[null,9133,5,null,9133,4]
[null,9134,1,null,9134,3]
[null,9135,3,null,9135,6]
[null,9136,2,null,9136,2]
[null,9137,1,null,9137,2]
[null,9138,2,null,9138,4]
[null,9139,3,null,9139,1]
[null,9140,3,null,9140,5]
[null,9141,3,null,9141,6]
[null,9142,5,null,9142,5]
[null,9143,1,null,9143,3]
[null,9144,2,null,9144,3]
[null,9145,4,null,9145,2]
[null,9146,5,null,9146,6]
[null,9147,2,null,9147,1]
[null,9148,3,null,9148,3]
[null,9149,6,null,9149,3]
[null,9150,5,null,9150,4]
[null,9151,6,null,9151,2]
[null,9152,5,null,9152,2]
[null,9153,2,null,9153,6]
[null,9154,4,null,9154,{"$f":"RANDBETWEEN(1,6)","v":6}]
[null,9155,6,null,9155,1]
[null,9156,3,null,9156,6]
[null,9157,3,null,9157,3]
[null,9158,1,null,9158,4]
[null,9159,3,null,9159,1]
[null,9160,4,null,9160,2]
[null,9161,6,null,9161,3]
[null,9162,6,null,9162,2]
[null,9163,4,null,9163,6]
[null,9164,4,null,9164,5]
[null,9165,1,null,9165,4]
[null,9166,6,null,9166,4]
[null,9167,4,null,9167,3]
[null,9168,1,null,9168,5]
[null,9169,6,null,9169,6]
[null,9170,4,null,9170,6]
[null,9171,1,null,9171,6]
[null,9172,3,null,9172,1]
[null,9173,3,null,9173,2]
[null,9174,2,null,9174,1]
[null,9175,4,null,9175,2]
[null,9176,4,null,9176,6]
[null,9177,1,null,9177,6]
[null,9178,2,null,9178,1]
[null,9179,6,null,9179,1]
[null,9180,3,null,9180,3]
[null,9181,3,null,9181,4]
[null,9182,5,null,9182,4]
[null,9183,5,null,9183,4]
[null,9184,2,null,9184,3]
[null,9185,6,null,9185,2]
[null,9186,5,null,9186,1]
[null,9187,2,null,9187,5]
[null,9188,6,null,9188,6]
[null,9189,5,null,9189,3]
[null,9190,6,null,9190,3]
[null,9191,3,null,9191,4]
[null,9192,3,null,9192,1]
[null,9193,6,null,9193,1]
[null,9194,6,null,9194,1]
[null,9195,4,null,9195,2]
[null,9196,3,null,9196,6]
[null,9197,4,null,9197,6]
[null,9198,3,null,9198,4]
[null,9199,2,null,9199,3]
[null,9200,4,null,9200,3]
[null,9201,2,null,9201,4]
[null,9202,5,null,9202,4]
[null,9203,2,null,9203,6]
[null,9204,1,null,9204,6]
[null,9205,5,null,9205,3]
[null,9206,4,null,9206,1]
[null,9207,4,null,9207,5]
[null,9208,5,null,9208,5]
[null,9209,3,null,9209,3]
[null,9210,6,null,9210,3]
[null,9211,1,null,9211,1]
[null,9212,5,null,9212,3]
[null,9213,3,null,9213,4]
[null,9214,5,null,9214,2]
[null,9215,5,null,9215,6]
[null,9216,3,null,9216,1]
[null,9217,5,null,9217,1]
[null,9218,4,null,9218,{"$f":"RANDBETWEEN(1,6)","v":5}]
[null,9219,6,null,9219,2]
[null,9220,5,null,9220,1]
[null,9221,5,null,9221,4]
[null,9222,2,null,9222,1]
[null,9223,4,null,9223,5]
[null,9224,6,null,9224,2]
[null,9225,6,null,9225,4]
[null,9226,6,null,9226,6]
[null,9227,4,null,9227,5]
[null,9228,5,null,9228,3]
[null,9229,5,null,9229,1]
[null,9230,2,null,9230,6]
[null,9231,3,null,9231,1]
[null,9232,6,null,9232,1]
[null,9233,6,null,9233,4]
[null,9234,6,null,9234,1]
[null,9235,2,null,9235,2]
[null,9236,4,null,9236,3]
[null,9237,4,null,9237,4]
[null,9238,1,null,9238,5]
[null,9239,5,null,9239,5]
[null,9240,3,null,9240,3]
[null,9241,4,null,9241,2]
[null,9242,1,null,9242,4]
[null,9243,6,null,9243,2]
[null,9244,1,null,9244,2]
[null,9245,6,null,9245,3]
[null,9246,2,null,9246,3]
[null,9247,2,null,9247,6]
[null,9248,5,null,9248,4]
[null,9249,3,null,9249,6]
[null,9250,1,null,9250,3]
[null,9251,6,null,9251,6]
[null,9252,6,null,9252,2]
[null,9253,2,null,9253,3]
[null,9254,6,null,9254,6]
[null,9255,5,null,9255,2]
[null,9256,3,null,9256,4]
[null,9257,4,null,9257,5]
[null,9258,6,null,9258,5]
[null,9259,2,null,9259,4]
[null,9260,6,null,9260,1]
[null,9261,1,null,9261,4]
[null,9262,3,null,9262,4]
[null,9263,1,null,9263,5]
[null,9264,4,null,9264,3]
[null,9265,4,null,9265,6]
[null,9266,3,null,9266,2]
[null,9267,4,null,9267,2]
[null,9268,6,null,9268,1]
[null,9269,1,null,9269,1]
[null,9270,5,null,9270,6]
[null,9271,5,null,9271,1]
[null,9272,5,null,9272,2]
[null,9273,1,null,9273,4]
[null,9274,6,null,9274,2]
[null,9275,4,null,9275,2]
[null,9276,4,null,9276,4]
[null,9277,2,null,9277,5]
[null,9278,4,null,9278,1]
[null,9279,6,null,9279,3]
[null,9280,3,null,9280,6]
[null,9281,6,null,9281,1]
[null,9282,2,null,9282,{"$f":"RANDBETWEEN(1,6)","v":3}]
[null,9283,1,null,9283,5]
[null,9284,4,null,9284,5]
[null,9285,3,null,9285,4]
[null,9286,4,null,9286,6]
[null,9287,3,null,9287,3]
[null,9288,3,null,9288,4]
[null,9289,5,null,9289,6]
[null,9290,4,null,9290,1]
[null,9291,5,null,9291,4]
[null,9292,5,null,9292,4]
[null,9293,2,null,9293,3]
[null,9294,1,null,9294,2]
[null,9295,5,null,9295,4]
[null,9296,2,null,9296,4]
[null,9297,2,null,9297,4]
[null,9298,1,null,9298,1]
[null,9299,5,null,9299,3]
[null,9300,2,null,9300,4]
[null,9301,2,null,9301,3]
[null,9302,5,null,9302,1]
[null,9303,6,null,9303,6]
[null,9304,6,null,9304,2]
[null,9305,5,null,9305,1]
[null,9306,1,null,9306,6]
[null,9307,2,null,9307,5]
[null,9308,6,null,9308,4]
[null,9309,1,null,9309,2]
[null,9310,4,null,9310,6]
[null,9311,5,null,9311,2]
[null,9312,3,null,9312,1]
[null,9313,2,null,9313,5]
[null,9314,3,null,9314,6]
[null,9315,4,null,9315,4]
[null,9316,1,null,9316,2]
[null,9317,4,null,9317,1]
[null,9318,6,null,9318,6]
[null,9319,1,null,9319,1]
[null,9320,5,null,9320,1]
[null,9321,4,null,9321,3]
[null,9322,6,null,9322,4]
[null,9323,6,null,9323,1]
[null,9324,3,null,9324,1]
[null,9325,5,null,9325,2]
[null,9326,4,null,9326,1]
[null,9327,1,null,9327,4]
[null,9328,5,null,9328,6]
[null,9329,1,null,9329,5]
[null,9330,5,null,9330,3]
[null,9331,6,null,9331,2]
[null,9332,6,null,9332,2]
[null,9333,2,null,9333,5]
[null,9334,2,null,9334,4]
[null,9335,1,null,9335,6]
[null,9336,1,null,9336,3]
[null,9337,1,null,9337,5]
[null,9338,4,null,9338,3]
[null,9339,5,null,9339,1]
[null,9340,5,null,9340,6]
[null,9341,1,null,9341,3]
[null,9342,4,null,9342,6]
[null,9343,1,null,9343,4]
[null,9344,4,null,9344,4]
[null,9345,5,null,9345,3]
[null,9346,2,null,9346,{"$f":"RANDBETWEEN(1,6)","v":4}]
[null,9347,1,null,9347,1]
[null,9348,3,null,9348,2]
[null,9349,4,null,9349,3]
[null,9350,5,null,9350,4]
[null,9351,2,null,9351,2]
[null,9352,5,null,9352,6]
[null,9353,3,null,9353,3]
[null,9354,2,null,9354,5]
[null,9355,6,null,9355,2]
[null,9356,6,null,9356,2]
[null,9357,1,null,9357,6]
[null,9358,4,null,9358,3]
[null,9359,4,null,9359,2]
[null,9360,5,null,9360,5]
[null,9361,2,null,9361,3]
[null,9362,1,null,9362,2]
[null,9363,6,null,9363,2]
[null,9364,5,null,9364,3]
[null,9365,6,null,9365,3]
[null,9366,2,null,9366,6]
[null,9367,1,null,9367,2]
[null,9368,6,null,9368,1]
[null,9369,4,null,9369,1]
[null,9370,5,null,9370,6]
[null,9371,6,null,9371,6]
[null,9372,4,null,9372,6]
[null,9373,1,null,9373,1]
[null,9374,4,null,9374,2]
[null,9375,3,null,9375,2]
[null,9376,3,null,9376,4]
[null,9377,2,null,9377,2]
[null,9378,1,null,9378,5]
[null,9379,1,null,9379,6]
[null,9380,1,null,9380,6]
[null,9381,5,null,9381,5]
[null,9382,2,null,9382,2]
[null,9383,1,null,9383,5]
[null,9384,3,null,9384,1]
[null,9385,6,null,9385,3]
[null,9386,2,null,9386,3]
[null,9387,5,null,9387,6]
[null,9388,4,null,9388,3]
[null,9389,2,null,9389,1]
[null,9390,3,null,9390,2]
[null,9391,3,null,9391,2]
[null,9392,5,null,9392,4]
[null,9393,3,null,9393,2]
[null,9394,3,null,9394,3]
[null,9395,6,null,9395,2]
[null,9396,4,null,9396,4]
[null,9397,1,null,9397,3]
[null,9398,6,null,9398,3]
[null,9399,4,null,9399,3]
[null,9400,6,null,9400,6]
[null,9401,1,null,9401,2]
[null,9402,1,null,9402,4]
[null,9403,2,null,9403,5]
[null,9404,6,null,9404,4]
[null,9405,4,null,9405,3]
[null,9406,1,null,9406,4]
[null,9407,3,null,9407,2]
[null,9408,1,null,9408,3]
[null,9409,6,null,9409,6]
[null,9410,4,null,9410,{"$f":"RANDBETWEEN(1,6)","v":4}]
[null,9411,5,null,9411,4]
[null,9412,5,null,9412,5]
[null,9413,5,null,9413,6]
[null,9414,1,null,9414,4]
[null,9415,3,null,9415,1]
[null,9416,6,null,9416,5]
[null,9417,1,null,9417,5]
[null,9418,4,null,9418,2]
[null,9419,5,null,9419,3]
[null,9420,1,null,9420,4]
[null,9421,1,null,9421,2]
[null,9422,4,null,9422,5]
[null,9423,4,null,9423,5]
[null,9424,4,null,9424,1]
[null,9425,6,null,9425,6]
[null,9426,4,null,9426,4]
[null,9427,6,null,9427,1]
[null,9428,5,null,9428,1]
[null,9429,3,null,9429,1]
[null,9430,5,null,9430,2]
[null,9431,1,null,9431,2]
[null,9432,1,null,9432,3]
[null,9433,4,null,9433,1]
[null,9434,6,null,9434,4]
[null,9435,6,null,9435,3]
[null,9436,6,null,9436,2]
[null,9437,6,null,9437,1]
[null,9438,4,null,9438,6]
[null,9439,5,null,9439,1]
[null,9440,5,null,9440,3]
[null,9441,1,null,9441,3]
[null,9442,1,null,9442,1]
[null,9443,4,null,9443,2]
[null,9444,5,null,9444,1]
[null,9445,5,null,9445,1]
[null,9446,5,null,9446,5]
[null,9447,3,null,9447,5]
[null,9448,1,null,9448,5]
[null,9449,2,null,9449,4]
[null,9450,6,null,9450,2]
[null,9451,6,null,9451,1]
[null,9452,1,null,9452,2]
[null,9453,2,null,9453,1]
[null,9454,6,null,9454,4]
[null,9455,5,null,9455,1]
[null,9456,2,null,9456,5]
[null,9457,2,null,9457,3]
[null,9458,2,null,9458,4]
[null,9459,2,null,9459,6]
[null,9460,4,null,9460,3]
[null,9461,1,null,9461,3]
[null,9462,1,null,9462,1]
[null,9463,4,null,9463,2]
[null,9464,5,null,9464,3]
[null,9465,6,null,9465,5]
[null,9466,2,null,9466,3]
[null,9467,3,null,9467,4]
[null,9468,5,null,9468,3]
[null,9469,5,null,9469,6]
[null,9470,1,null,9470,3]
[null,9471,6,null,9471,4]
[null,9472,1,null,9472,3]
[null,9473,4,null,9473,2]
[null,9474,4,null,9474,{"$f":"RANDBETWEEN(1,6)","v":2}]
[null,9475,4,null,9475,2]
[null,9476,1,null,9476,1]
[null,9477,3,null,9477,3]
[null,9478,2,null,9478,5]
[null,9479,1,null,9479,5]
[null,9480,3,null,9480,1]
[null,9481,5,null,9481,4]
[null,9482,3,null,9482,6]
[null,9483,2,null,9483,2]
[null,9484,1,null,9484,3]
[null,9485,6,null,9485,1]
[null,9486,3,null,9486,3]
[null,9487,1,null,9487,3]
[null,9488,3,null,9488,1]
[null,9489,3,null,9489,2]
[null,9490,3,null,9490,5]
[null,9491,6,null,9491,5]
[null,9492,5,null,9492,4]
[null,9493,5,null,9493,3]
[null,9494,1,null,9494,4]
[null,9495,6,null,9495,4]
[null,9496,2,null,9496,1]
[null,9497,2,null,9497,5]
[null,9498,1,null,9498,4]
[null,9499,3,null,9499,1]
[null,9500,5,null,9500,3]
[null,9501,6,null,9501,4]
[null,9502,5,null,9502,2]
[null,9503,3,null,9503,4]
[null,9504,4,null,9504,1]
[null,9505,5,null,9505,3]
[null,9506,1,null,9506,5]
[null,9507,1,null,9507,4]
[null,9508,5,null,9508,1]
[null,9509,2,null,9509,5]
[null,9510,3,null,9510,1]
[null,9511,1,null,9511,5]
[null,9512,5,null,9512,1]
[null,9513,3,null,9513,4]
[null,9514,3,null,9514,2]
[null,9515,4,null,9515,5]
[null,9516,6,null,9516,4]
[null,9517,6,null,9517,3]
[null,9518,6,null,9518,5]
[null,9519,1,null,9519,1]
[null,9520,1,null,9520,6]
[null,9521,4,null,9521,3]
[null,9522,6,null,9522,3]
[null,9523,2,null,9523,5]
[null,9524,5,null,9524,4]
[null,9525,6,null,9525,5]
[null,9526,5,null,9526,2]
[null,9527,2,null,9527,2]
[null,9528,3,null,9528,5]
[null,9529,3,null,9529,4]
[null,9530,6,null,9530,5]
[null,9531,5,null,9531,1]
[null,9532,4,null,9532,6]
[null,9533,5,null,9533,6]
[null,9534,4,null,9534,5]
[null,9535,4,null,9535,6]
[null,9536,2,null,9536,1]
[null,9537,2,null,9537,5]
[null,9538,2,null,9538,{"$f":"RANDBETWEEN(1,6)","v":4}]
[null,9539,1,null,9539,6]
[null,9540,3,null,9540,2]
[null,9541,4,null,9541,2]
[null,9542,2,null,9542,6]
[null,9543,4,null,9543,1]
[null,9544,4,null,9544,1]
[null,9545,3,null,9545,3]
[null,9546,4,null,9546,1]
[null,9547,4,null,9547,2]
[null,9548,5,null,9548,6]
[null,9549,4,null,9549,6]
[null,9550,6,null,9550,6]
[null,9551,1,null,9551,1]
[null,9552,3,null,9552,3]
[null,9553,4,null,9553,1]
[null,9554,6,null,9554,4]
[null,9555,3,null,9555,2]
[null,9556,6,null,9556,4]
[null,9557,5,null,9557,5]
[null,9558,4,null,9558,3]
[null,9559,3,null,9559,4]
[null,9560,4,null,9560,4]
[null,9561,5,null,9561,5]
[null,9562,6,null,9562,4]
[null,9563,2,null,9563,6]
[null,9564,5,null,9564,5]
[null,9565,6,null,9565,5]
[null,9566,3,null,9566,3]
[null,9567,2,null,9567,1]
[null,9568,4,null,9568,3]
[null,9569,6,null,9569,1]
[null,9570,5,null,9570,1]
[null,9571,1,null,9571,6]
[null,9572,6,null,9572,6]
[null,9573,3,null,9573,5]
[null,9574,6,null,9574,2]
[null,9575,3,null,9575,6]
[null,9576,3,null,9576,2]
[null,9577,6,null,9577,2]
[null,9578,4,null,9578,2]
[null,9579,2,null,9579,4]
[null,9580,2,null,9580,4]
[null,9581,6,null,9581,5]
[null,9582,3,null,9582,6]
[null,9583,2,null,9583,2]
[null,9584,4,null,9584,3]
[null,9585,6,null,9585,1]
[null,9586,5,null,9586,3]
[null,9587,2,null,9587,1]
[null,9588,4,null,9588,6]
[null,9589,2,null,9589,3]
[null,9590,2,null,9590,5]
[null,9591,3,null,9591,2]
[null,9592,5,null,9592,4]
[null,9593,3,null,9593,2]
[null,9594,6,null,9594,2]
[null,9595,4,null,9595,2]
[null,9596,1,null,9596,6]
[null,9597,3,null,9597,6]
[null,9598,4,null,9598,5]
[null,9599,1,null,9599,5]
[null,9600,5,null,9600,2]
[null,9601,6,null,9601,2]
[null,9602,3,null,9602,{"$f":"RANDBETWEEN(1,6)","v":3}]
[null,9603,4,null,9603,2]
[null,9604,4,null,9604,5]
[null,9605,5,null,9605,3]
[null,9606,6,null,9606,6]
[null,9607,1,null,9607,4]
[null,9608,6,null,9608,4]
[null,9609,2,null,9609,6]
[null,9610,1,null,9610,1]
[null,9611,6,null,9611,3]
[null,9612,4,null,9612,6]
[null,9613,1,null,9613,2]
[null,9614,2,null,9614,3]
[null,9615,3,null,9615,4]
[null,9616,6,null,9616,3]
[null,9617,4,null,9617,4]
[null,9618,6,null,9618,4]
[null,9619,4,null,9619,1]
[null,9620,2,null,9620,2]
[null,9621,3,null,9621,6]
[null,9622,6,null,9622,2]
[null,9623,4,null,9623,2]
[null,9624,4,null,9624,1]
[null,9625,5,null,9625,5]
[null,9626,2,null,9626,3]
[null,9627,5,null,9627,5]
[null,9628,5,null,9628,5]
[null,9629,4,null,9629,4]
[null,9630,4,null,9630,5]
[null,9631,4,null,9631,2]
[null,9632,3,null,9632,4]
[null,9633,2,null,9633,4]
[null,9634,5,null,9634,1]
[null,9635,2,null,9635,4]
[null,9636,2,null,9636,1]
[null,9637,2,null,9637,5]
[null,9638,3,null,9638,2]
[null,9639,2,null,9639,1]
[null,9640,6,null,9640,2]
[null,9641,6,null,9641,4]
[null,9642,4,null,9642,5]
[null,9643,5,null,9643,3]
[null,9644,5,null,9644,2]
[null,9645,6,null,9645,3]
[null,9646,1,null,9646,4]
[null,9647,5,null,9647,6]
[null,9648,6,null,9648,5]
[null,9649,3,null,9649,5]
[null,9650,3,null,9650,2]
[null,9651,3,null,9651,5]
[null,9652,4,null,9652,3]
[null,9653,1,null,9653,1]
[null,9654,1,null,9654,6]
[null,9655,6,null,9655,4]
[null,9656,3,null,9656,3]
[null,9657,2,null,9657,5]
[null,9658,1,null,9658,3]
[null,9659,1,null,9659,1]
[null,9660,3,null,9660,5]
[null,9661,5,null,9661,2]
[null,9662,3,null,9662,2]
[null,9663,3,null,9663,2]
[null,9664,4,null,9664,4]
[null,9665,2,null,9665,3]
[null,9666,6,null,9666,{"$f":"RANDBETWEEN(1,6)","v":3}]
[null,9667,2,null,9667,2]
[null,9668,2,null,9668,4]
[null,9669,2,null,9669,2]
[null,9670,4,null,9670,1]
[null,9671,4,null,9671,1]
[null,9672,6,null,9672,6]
[null,9673,6,null,9673,6]
[null,9674,1,null,9674,2]
[null,9675,1,null,9675,2]
[null,9676,6,null,9676,6]
[null,9677,1,null,9677,6]
[null,9678,6,null,9678,3]
[null,9679,2,null,9679,6]
[null,9680,4,null,9680,3]
[null,9681,2,null,9681,6]
[null,9682,3,null,9682,3]
[null,9683,1,null,9683,6]
[null,9684,1,null,9684,2]
[null,9685,1,null,9685,4]
[null,9686,3,null,9686,6]
[null,9687,4,null,9687,2]
[null,9688,1,null,9688,3]
[null,9689,4,null,9689,6]
[null,9690,4,null,9690,6]
[null,9691,6,null,9691,2]
[null,9692,1,null,9692,6]
[null,9693,1,null,9693,1]
[null,9694,6,null,9694,5]
[null,9695,4,null,9695,5]
[null,9696,1,null,9696,2]
[null,9697,3,null,9697,4]
[null,9698,5,null,9698,1]
[null,9699,1,null,9699,2]
[null,9700,5,null,9700,6]
[null,9701,2,null,9701,4]
[null,9702,1,null,9702,5]
[null,9703,1,null,9703,2]
[null,9704,5,null,9704,5]
[null,9705,4,null,9705,1]
[null,9706,1,null,9706,1]
[null,9707,3,null,9707,5]
[null,9708,2,null,9708,6]
[null,9709,2,null,9709,1]
[null,9710,2,null,9710,1]
[null,9711,1,null,9711,3]
[null,9712,5,null,9712,4]
[null,9713,4,null,9713,2]
[null,9714,4,null,9714,6]
[null,9715,1,null,9715,2]
[null,9716,4,null,9716,4]
[null,9717,4,null,9717,3]
[null,9718,6,null,9718,3]
[null,9719,4,null,9719,1]
[null,9720,4,null,9720,2]
[null,9721,6,null,9721,2]
[null,9722,2,null,9722,1]
[null,9723,4,null,9723,3]
[null,9724,4,null,9724,1]
[null,9725,6,null,9725,3]
[null,9726,6,null,9726,1]
[null,9727,3,null,9727,5]
[null,9728,3,null,9728,3]
[null,9729,4,null,9729,2]
[null,9730,2,null,9730,{"$f":"RANDBETWEEN(1,6)","v":5}]
[null,9731,2,null,9731,1]
[null,9732,4,null,9732,4]
[null,9733,3,null,9733,2]
[null,9734,2,null,9734,3]
[null,9735,6,null,9735,2]
[null,9736,6,null,9736,4]
[null,9737,6,null,9737,2]
[null,9738,3,null,9738,1]
[null,9739,4,null,9739,3]
[null,9740,4,null,9740,2]
[null,9741,2,null,9741,4]
[null,9742,1,null,9742,6]
[null,9743,5,null,9743,6]
[null,9744,3,null,9744,4]
[null,9745,4,null,9745,5]
[null,9746,3,null,9746,5]
[null,9747,3,null,9747,3]
[null,9748,5,null,9748,3]
[null,9749,3,null,9749,4]
[null,9750,4,null,9750,4]
[null,9751,6,null,9751,5]
[null,9752,3,null,9752,1]
[null,9753,2,null,9753,5]
[null,9754,5,null,9754,6]
[null,9755,5,null,9755,1]
[null,9756,6,null,9756,3]
[null,9757,1,null,9757,2]
[null,9758,2,null,9758,6]
[null,9759,5,null,9759,5]
[null,9760,5,null,9760,1]
[null,9761,5,null,9761,2]
[null,9762,3,null,9762,2]
[null,9763,5,null,9763,5]
[null,9764,4,null,9764,2]
[null,9765,3,null,9765,1]
[null,9766,2,null,9766,6]
[null,9767,3,null,9767,2]
[null,9768,2,null,9768,3]
[null,9769,6,null,9769,3]
[null,9770,1,null,9770,3]
[null,9771,5,null,9771,1]
[null,9772,6,null,9772,4]
[null,9773,5,null,9773,4]
[null,9774,6,null,9774,4]
[null,9775,4,null,9775,3]
[null,9776,3,null,9776,2]
[null,9777,1,null,9777,1]
[null,9778,3,null,9778,1]
[null,9779,6,null,9779,1]
[null,9780,6,null,9780,2]
[null,9781,6,null,9781,1]
[null,9782,5,null,9782,4]
[null,9783,6,null,9783,3]
[null,9784,5,null,9784,6]
[null,9785,5,null,9785,4]
[null,9786,6,null,9786,5]
[null,9787,5,null,9787,6]
[null,9788,2,null,9788,3]
[null,9789,3,null,9789,2]
[null,9790,4,null,9790,3]
[null,9791,5,null,9791,6]
[null,9792,4,null,9792,2]
[null,9793,5,null,9793,4]
[null,9794,1,null,9794,{"$f":"RANDBETWEEN(1,6)","v":3}]
[null,9795,6,null,9795,6]
[null,9796,3,null,9796,3]
[null,9797,5,null,9797,2]
[null,9798,1,null,9798,5]
[null,9799,4,null,9799,1]
[null,9800,5,null,9800,1]
[null,9801,3,null,9801,2]
[null,9802,3,null,9802,6]
[null,9803,3,null,9803,1]
[null,9804,4,null,9804,6]
[null,9805,2,null,9805,1]
[null,9806,3,null,9806,6]
[null,9807,6,null,9807,2]
[null,9808,4,null,9808,2]
[null,9809,2,null,9809,6]
[null,9810,5,null,9810,2]
[null,9811,5,null,9811,6]
[null,9812,5,null,9812,5]
[null,9813,1,null,9813,5]
[null,9814,1,null,9814,1]
[null,9815,3,null,9815,4]
[null,9816,4,null,9816,3]
[null,9817,1,null,9817,4]
[null,9818,5,null,9818,2]
[null,9819,6,null,9819,2]
[null,9820,6,null,9820,3]
[null,9821,3,null,9821,2]
[null,9822,4,null,9822,2]
[null,9823,4,null,9823,2]
[null,9824,1,null,9824,1]
[null,9825,3,null,9825,5]
[null,9826,1,null,9826,3]
[null,9827,3,null,9827,4]
[null,9828,2,null,9828,1]
[null,9829,3,null,9829,1]
[null,9830,6,null,9830,1]
[null,9831,6,null,9831,6]
[null,9832,1,null,9832,4]
[null,9833,3,null,9833,4]
[null,9834,4,null,9834,6]
[null,9835,6,null,9835,1]
[null,9836,1,null,9836,1]
[null,9837,6,null,9837,2]
[null,9838,3,null,9838,1]
[null,9839,3,null,9839,5]
[null,9840,6,null,9840,2]
[null,9841,3,null,9841,1]
[null,9842,1,null,9842,2]
[null,9843,3,null,9843,5]
[null,9844,3,null,9844,5]
[null,9845,6,null,9845,5]
[null,9846,5,null,9846,3]
[null,9847,1,null,9847,4]
[null,9848,1,null,9848,6]
[null,9849,4,null,9849,6]
[null,9850,2,null,9850,4]
[null,9851,3,null,9851,5]
[null,9852,5,null,9852,6]
[null,9853,1,null,9853,1]
[null,9854,1,null,9854,5]
[null,9855,4,null,9855,5]
[null,9856,4,null,9856,1]
[null,9857,2,null,9857,6]
[null,9858,1,null,9858,{"$f":"RANDBETWEEN(1,6)","v":4}]
[null,9859,4,null,9859,6]
[null,9860,2,null,9860,4]
[null,9861,4,null,9861,4]
[null,9862,2,null,9862,2]
[null,9863,2,null,9863,3]
[null,9864,4,null,9864,6]
[null,9865,4,null,9865,4]
[null,9866,6,null,9866,5]
[null,9867,5,null,9867,1]
[null,9868,3,null,9868,4]
[null,9869,1,null,9869,3]
[null,9870,6,null,9870,4]
[null,9871,6,null,9871,2]
[null,9872,1,null,9872,5]
[null,9873,4,null,9873,4]
[null,9874,1,null,9874,3]
[null,9875,2,null,9875,1]
[null,9876,5,null,9876,5]
[null,9877,4,null,9877,1]
[null,9878,6,null,9878,3]
[null,9879,6,null,9879,2]
[null,9880,3,null,9880,2]
[null,9881,2,null,9881,6]
[null,9882,1,null,9882,1]
[null,9883,4,null,9883,6]
[null,9884,5,null,9884,3]
[null,9885,4,null,9885,4]
[null,9886,1,null,9886,2]
[null,9887,6,null,9887,3]
[null,9888,3,null,9888,5]
[null,9889,3,null,9889,2]
[null,9890,3,null,9890,3]
[null,9891,6,null,9891,1]
[null,9892,2,null,9892,2]
[null,9893,4,null,9893,6]
[null,9894,3,null,9894,5]
[null,9895,4,null,9895,3]
[null,9896,5,null,9896,3]
[null,9897,4,null,9897,1]
[null,9898,1,null,9898,3]
[null,9899,3,null,9899,4]
[null,9900,6,null,9900,5]
[null,9901,1,null,9901,1]
[null,9902,1,null,9902,5]
[null,9903,1,null,9903,2]
[null,9904,3,null,9904,6]
[null,9905,1,null,9905,4]
[null,9906,1,null,9906,5]
[null,9907,2,null,9907,4]
[null,9908,6,null,9908,5]
[null,9909,5,null,9909,3]
[null,9910,2,null,9910,5]
[null,9911,3,null,9911,3]
[null,9912,4,null,9912,1]
[null,9913,5,null,9913,1]
[null,9914,1,null,9914,3]
[null,9915,4,null,9915,5]
[null,9916,4,null,9916,6]
[null,9917,4,null,9917,5]
[null,9918,3,null,9918,4]
[null,9919,6,null,9919,4]
[null,9920,1,null,9920,4]
[null,9921,5,null,9921,1]
[null,9922,3,null,9922,{"$f":"RANDBETWEEN(1,6)","v":2}]
[null,9923,5,null,9923,6]
[null,9924,5,null,9924,6]
[null,9925,1,null,9925,2]
[null,9926,4,null,9926,2]
[null,9927,3,null,9927,3]
[null,9928,5,null,9928,5]
[null,9929,5,null,9929,1]
[null,9930,1,null,9930,6]
[null,9931,4,null,9931,5]
[null,9932,2,null,9932,1]
[null,9933,6,null,9933,5]
[null,9934,2,null,9934,1]
[null,9935,3,null,9935,3]
[null,9936,6,null,9936,5]
[null,9937,2,null,9937,5]
[null,9938,2,null,9938,4]
[null,9939,2,null,9939,1]
[null,9940,1,null,9940,6]
[null,9941,6,null,9941,2]
[null,9942,3,null,9942,1]
[null,9943,2,null,9943,3]
[null,9944,4,null,9944,1]
[null,9945,6,null,9945,1]
[null,9946,6,null,9946,5]
[null,9947,1,null,9947,4]
[null,9948,1,null,9948,5]
[null,9949,2,null,9949,5]
[null,9950,2,null,9950,4]
[null,9951,6,null,9951,4]
[null,9952,1,null,9952,6]
[null,9953,4,null,9953,3]
[null,9954,6,null,9954,6]
[null,9955,3,null,9955,5]
[null,9956,4,null,9956,1]
[null,9957,1,null,9957,6]
[null,9958,1,null,9958,3]
[null,9959,1,null,9959,5]
[null,9960,6,null,9960,1]
[null,9961,2,null,9961,5]
[null,9962,4,null,9962,5]
[null,9963,1,null,9963,5]
[null,9964,3,null,9964,1]
[null,9965,3,null,9965,2]
[null,9966,6,null,9966,1]
[null,9967,3,null,9967,3]
[null,9968,1,null,9968,4]
[null,9969,2,null,9969,6]
[null,9970,1,null,9970,3]
[null,9971,5,null,9971,4]
[null,9972,3,null,9972,1]
[null,9973,3,null,9973,3]
[null,9974,5,null,9974,1]
[null,9975,6,null,9975,4]
[null,9976,2,null,9976,2]
[null,9977,4,null,9977,5]
[null,9978,6,null,9978,6]
[null,9979,5,null,9979,4]
[null,9980,6,null,9980,6]
[null,9981,4,null,9981,3]
[null,9982,4,null,9982,6]
[null,9983,4,null,9983,5]
[null,9984,3,null,9984,3]
[null,9985,5,null,9985,3]
[null,9986,3,null,9986,{"$f":"RANDBETWEEN(1,6)","v":2}]
[null,9987,4,null,9987,2]
[null,9988,1,null,9988,3]
[null,9989,3,null,9989,2]
[null,9990,6,null,9990,3]
[null,9991,6,null,9991,3]
[null,9992,4,null,9992,4]
[null,9993,5,null,9993,6]
[null,9994,3,null,9994,1]
[null,9995,3,null,9995,3]
[null,9996,4,null,9996,6]
[null,9997,4,null,9997,4]
[null,9998,6,null,9998,6]
[null,9999,3,null,9999,6]
[null,10000,2,null,10000,4]